{"text_format":"1","workbook":"xlsx","n_sheets":27,"sheets":["Main Page","Budget Check","Coordinated Consolidated Info.","Consolidated Budget","Consolidated Transferability","GEPA","Title I, Part A","35% and Above Low-Income","Below 35% Low-Income","TI Private School","School Improvement","Skipped School Provision","Neglected","Foster Care and Homeless","Early Childhood","Title I, Part C","Title I, Part D, Subpart 2","Title II, Part A","Title III, Part A","Title IV, Part A","Title V, Part B, Subpart 2","Expenditure Descriptions","General Assurances","Program Specific Assurances","Division Schools","Prefills","BdgtAndTrnsfrConfigs"],"not_rendered":{"charts":0,"images":4,"macros":1,"external_links":0,"defined_names":150,"comments":9,"pivot_tables":0},"unopened":[],"bounds":{"document_bytes":16777216,"sheet_cells":100000,"rows_first":2000,"rows_last":500,"rows_between":2000,"halvings":0,"cell_chars":16384,"cell_head_chars":4096},"cells_cut":0,"cells_raw":0,"read":"whole","date_system":"1900"}

{"sheet":"Main Page","index":0,"n_rows":341,"n_cols":19,"rows_kept":341,"cut":false,"hidden":false,"merged":[[74,10,74,13],[75,10,75,13],[68,10,68,13],[69,10,69,13],[70,10,70,13],[71,10,71,13],[72,10,72,13],[73,10,73,13],[67,10,67,13],[56,10,56,13],[57,10,57,13],[58,10,58,13],[59,10,59,13],[60,10,60,13],[61,10,61,13],[62,10,62,13],[63,10,63,13],[64,10,64,13],[65,10,65,13],[66,10,66,13],[55,10,55,13],[43,3,43,5],[44,10,44,13],[45,10,45,13],[47,10,47,13],[48,10,48,13],[49,10,49,13],[50,10,50,13],[51,10,51,13],[52,10,52,13],[53,10,53,13],[54,10,54,13],[40,10,40,13],[41,10,41,13],[42,10,42,13],[37,10,37,13],[38,10,38,13],[39,10,39,13],[34,10,34,13],[35,10,35,13],[36,10,36,13],[31,10,31,13],[32,10,32,13],[33,10,33,13],[28,10,28,13],[29,10,29,13],[30,10,30,13],[25,10,25,13],[26,10,26,13],[27,10,27,13],[22,10,22,13],[23,10,23,13],[24,10,24,13],[19,10,19,13],[20,10,20,13],[21,10,21,13],[17,10,17,13],[18,10,18,13],[3,1,3,17],[2,1,2,17],[1,1,1,17],[13,0,13,10],[14,0,14,10],[12,1,12,17],[15,10,15,17],[13,11,13,17],[14,11,14,17],[0,1,0,17],[11,1,11,17],[5,1,5,17],[4,1,4,17],[6,1,6,17],[9,1,9,17],[10,1,10,17],[7,11,7,12],[7,13,7,16],[8,13,8,16]]}
[0.5,"Virginia Department of Education",null,null,null,null,null,null,null,null,null,null,null,null,null,null,null,null,52]
["If using a screen reader and having problems with this application, please call 804-750-8626 for assistance. ","Office of ESEA Programs"]
[null,"P. O. Box 2120"]
[null,"Richmond, Virginia 23218-2120"]
[]
[null,"Local Consolidated Application"]
[]
[null,null,null,null,null,null,null,null,null,null,null,"Due by:",null,"2026-07-01"]
[null,null,null,null,null,null,null,null,null,null,null,null,null,{"$f":"YEAR(N8) & \"-\" & YEAR(N8)+1","v":"2026-2027"}]
[]
[]
[null,"Select the division name from the dropdown box.  The division number will auto populate."]
[]
["School Division:"]
["Division Number:",null,null,null,null,null,null,null,null,null,null,{"$f":"IF(ISBLANK(L14),\" \",VLOOKUP(L14,Prefills!A6:B144,2))","v":" "}]
[null,null,null,null,null,null,null,null,null,null,"Select the appropriate button to move to the desired section within the application."]
[null,null,"Select the appropriate tab(s) and press the \"Print\" button.",null,null,null,null,null,null,null,null,null,null,null,null,null,null,"Title I, Part A"]
[null,null,"Print Application",null,null,null,null,null,null,null,"Application Directory",null,null,null,null,58,"C5","Title I, Part A"]
[null,null,"Check Mark","Tab Name",null,null,null,null,"#","Cells","Push This Button to go to the Desired Page",null,null,null,null,15,"C11"]
[false,null,null,"Print All Tabs Below",null,null,null,null,1,"B6",null,null,null,null,null,16,"C18"]
[false,null,null,"Budget Check",null,null,null,null,2,"D10",null,null,null,null,null,17,"C24"]
[false,null,null,"Coordinated Consolidated Info.",null,null,null,null,3,"B100",null,null,null,null,null,18,"C32"]
[false,null,null,"Consolidated Budget",null,null,null,null,4,"B181",null,null,null,null,null,19,"C44"]
[true,null,null,"Consolidated Transferability",null,null,null,null,5,"B218",null,null,null,null,null,20,"C56"]
[false,null,null,"GEPA",null,null,null,null,6,"B235",null,null,null,null,null,21,"C62"]
[false,null,null,"Title I, Part A",null,null,null,null,7,"B2",null,null,null,null,null,22,"C69"]
[false,null,null,"35% and Above Low-Income",null,null,null,null,8,"B71",null,null,null,null,null,23,"C73"]
[false,null,null,"Below 35% Low-Income",null,null,null,null,9,"B2",null,null,null,null,null,24,"C78"]
[false,null,null,"TI Private School",null,null,null,null,10,"B74",null,null,null,null,null,25,"C2 "]
[false,null,null,"School Improvement",null,null,null,null,11,"B2",null,null,null,null,null,26,"C2 "]
[false,null,null,"Skipped School Provision",null,null,null,null,12,"B2",null,null,null,null,null,27,"C2 "]
[false,null,null,"Neglected",null,null,null,null,13,"B2",null,null,null,null,null,28,"C2 "]
[false,null,null,"Foster Care and Homeless",null,null,null,null,14,"B2",null,null,null,null,null,29,"C2 "]
[false,null,null,"Early Childhood",null,null,null,null,null,null,null,null,null,null,null,30,"C2 "]
[false,null,null,"Title I, Part C",null,null,null,null,null,null,"Title I, Part C",null,null,null,null,31,"C2 "]
[false,null,null,"Title I, Part D, Subpart 2",null,null,null,null,33,"C3",null,null,null,null,null,32,"C2 "]
[false,null,null,"Title II, Part A",null,null,null,null,34,"C56"]
[false,null,null,"Title III, Part A",null,null,null,null,35,"C67",null,null,null,null,null,null,null,"Title III, Part A"]
[false,null,null,"Title IV, Part A",null,null,null,null,36,"C76",null,null,null,null,null,46,"C3"]
[false,null,null,"Title V, Part B, Subpart 2",null,null,null,null,37,"C93",null,null,null,null,null,47,"C84"]
[false,null,null,"Expenditure Descriptions",null,null,null,null,38,"C101",null,null,null,null,null,48,"C99"]
[false,null,null,"General Assurances",null,null,null,null,39,"C113",null,null,null,null,null,49,"C134"]
[false,null,null,"Program Specific Assurances",null,null,null,null,40,"B150",null,null,null,null,null,50,"C161"]
[null,null,null,"Division Schools",null,null,null,null,null,null,null,null,null,null,null,51,"C187"]
[null,null,null,null,null,null,null,null,null,null,"Title I, Part D, Subpart 2"]
[null,null,null,null,null,null,null,null,41,"C3",null,null,null,null,null,null,null,"Title IV, Part A"]
[null,null,null,null,null,null,null,null,null,null,null,null,null,null,null,52,"C3"]
[null,null,null,null,null,null,null,null,null,null,"Title II, Part A",null,null,null,null,53,"C88"]
[null,null,null,null,null,null,null,null,42,"C3",null,null,null,null,null,54,"C125"]
[null,null,null,null,null,null,null,null,43,"C60",null,null,null,null,null,55,"B157"]
[null,null,null,null,null,null,null,null,44,"C99"]
[null,null,null,null,null,null,null,null,45,"B122"]
[null,null,null,null,null,null,null,null,null,null,null,null,null,null,null,56,"C3","Title V, Part B"]
[null,null,null,null,null,null,null,null,null,null,null,null,null,null,null,57,"C18"]
[]
[]
[]
[]
[]
[]
[]
[]
[]
[]
[]
[]
[]
[]
[]
[]
[]
[]
[]
[]
[]
[]
[]
[]
[]
[]
[]
[]
[]
[]
[]
[]
[]
[]
[]
[]
[]
[]
[]
[]
[]
[]
[]
[]
[]
[]
[]
[]
[]
[]
[]
[]
[]
[]
[]
[]
[]
[]
[]
[]
[]
[]
[]
[]
[]
[]
[]
[]
[]
[]
[]
[]
[]
[]
[]
[]
[]
[]
[]
[]
[]
[]
[]
[]
[]
[]
[]
[]
[]
[]
[]
[]
[]
[]
[]
[]
[]
[]
[]
[]
[]
[]
[]
[]
[]
[]
[]
[]
[]
[]
[]
[]
[]
[]
[]
[]
[]
[]
[]
[]
[]
[]
[]
[]
[]
[]
[]
[]
[]
[]
[]
[]
[]
[]
[]
[]
[]
[]
[]
[]
[]
[]
[]
[]
[]
[]
[]
[]
[]
[]
[]
[]
[]
[]
[]
[]
[]
[]
[]
[]
[]
[]
[]
[]
[]
[]
[]
[]
[]
[]
[]
[]
[]
[]
[]
[]
[]
[]
[]
[]
[]
[]
[]
[]
[]
[]
[]
[]
[]
[]
[]
[]
[]
[]
[]
[]
[]
[]
[]
[]
[]
[]
[]
[]
[]
[]
[]
[]
[]
[]
[]
[]
[]
[]
[]
[]
[]
[]
[]
[]
[]
[]
[]
[]
[]
[]
[]
[]
[]
[]
[]
[]
[]
[]
[]
[]
[]
[]
[]
[]
[]
[]
[]
[]
[]
[]
[]
[]
[]
[]
[]
[]
[]
[]
[]
[]
[]
[]
[]
[]
[]
[]
[]
[]
[]
[]
[]
[]
[]
[]
[]
[]
[]
[]
[]
[]
[]
[]
[]
[]
[]
[]
[]
[]
[]
[]
[true]

{"sheet":"Budget Check","index":1,"n_rows":66,"n_cols":4,"rows_kept":66,"cut":false,"hidden":false,"merged":[[11,1,11,2],[0,1,0,3],[1,1,1,3],[2,1,2,3],[3,1,3,3],[4,1,4,3],[5,1,5,3],[6,1,6,3],[7,1,7,3],[8,1,8,3],[9,1,9,3],[10,1,10,3],[52,1,52,3],[55,1,55,3],[64,1,64,3],[12,1,12,2],[13,1,13,3],[14,1,14,3],[29,1,29,3],[31,1,31,3],[32,1,32,3]]}
[null,"Virginia Department of Education"]
[null,"Office of ESEA Programs"]
[null,"P. O. Box 2120"]
[null,"Richmond, Virginia 23218-2120"]
[]
[null,"Local Consolidated Application"]
[]
[null,{"$f":"'Main Page'!N9","v":"2026-2027"}]
[null,"Autocalculated Budget Check"]
[null,"Note:  Only budget errors will display in column D.  If column D is blank after the Consolidated Budget, Consolidated Transferability and Title I, Part C tabs have been updated the budgets are balanced."]
[]
[null,"School Division:",null,{"$f":"'Main Page'!L14","v":0}]
[null,"Division Number:",null,{"$f":"'Main Page'!L15","v":" "}]
[]
[null,"Consolidated Budget Tab"]
[null,1000,"Total Personnel Services",{"$f":"IF('Consolidated Budget'!Q14=\"Yes\",\"\",\"Budget summary does not match the detailed budget breakdown\")","v":""}]
[null,2000,"Total Employee Benefits",{"$f":"IF('Consolidated Budget'!Q21=\"Yes\",\"\",\"Budget summary does not match the detailed budget breakdown\")","v":""}]
[null,3000,"Total Purchased/Contracted Services",{"$f":"IF('Consolidated Budget'!Q29=\"Yes\",\"\",\"Budget summary does not match the detailed budget breakdown\")","v":""}]
[null,4000,"Total Internal Services",{"$f":"IF('Consolidated Budget'!Q37=\"Yes\",\"\",\"Budget summary does not match the detailed budget breakdown\")","v":""}]
[null,5000,"Total Other Charges",{"$f":"IF('Consolidated Budget'!Q45=\"Yes\",\"\",\"Budget summary does not match the detailed budget breakdown\")","v":""}]
[null,6000,"Total Materials & Supplies",{"$f":"IF('Consolidated Budget'!Q53=\"Yes\",\"\",\"Budget summary does not match the detailed budget breakdown\")","v":""}]
[null,8000,"Total Capital Outlay",{"$f":"IF('Consolidated Budget'!Q59=\"Yes\",\"\",\"Budget summary does not match the detailed budget breakdown\")","v":""}]
[null,null,"Does the Title I, Part A Budget Summary Match the Total Allocation?",{"$f":"IF('Consolidated Budget'!F66=\"Yes\", \"\",\"Title I, Part A budget summary does not match the total allocation\")","v":""}]
[null,null,"Does the Title I, Part C Budget Summary Match the Total Allocation?",{"$f":"IF('Consolidated Budget'!G66=\"Yes\", \"\",\"Title I, Part C budget summary does not match the total allocation\")","v":""}]
[null,null,"Does the Title I, Part D Budget Summary Match the Total Allocation?",{"$f":"IF('Consolidated Budget'!H66=\"Yes\", \"\",\"Title I, Part D budget summary does not match the total allocation\")","v":""}]
[null,null,"Does the Title II, Part A Budget Summary Match the Total Allocation?",{"$f":"IF('Consolidated Budget'!I66=\"Yes\", \"\",\"Title II, Part A budget summary does not match the total allocation\")","v":""}]
[null,null,"Does the Title III, Part A Budget Summary Match the Total Allocation?",{"$f":"IF('Consolidated Budget'!J66=\"Yes\", \"\",\"Title III,Ppart A budget summary does not match the total allocation\")","v":""}]
[null,null,"Does the Title IV, Part A Budget Summary Match the Total Allocation?",{"$f":"IF('Consolidated Budget'!L66=\"Yes\", \"\",\"Title IV, Part A budget summary does not match the total allocation\")","v":""}]
[null,null,"Does the Title V, Part B Budget Summary Match the Total Allocation?",{"$f":"IF('Consolidated Budget'!P66=\"Yes\", \"\",\"Title V, Part B budget summary does not match the total allocation\")","v":""}]
[null,"Detailed Budget Breakdown"]
[null,null,"Does the Detailed Budget Breakdown Match the Total Allocation?",{"$f":"IF('Consolidated Budget'!I73=\"Yes\", \"\",\"Detailed budget breakdown does not match the total allocation\")","v":""}]
[]
[null,"Consolidated Transferability Tab"]
[null,1000,"Total Personnel Services",{"$f":"IF('Consolidated Transferability'!R19=\"Yes\",\"\",\"Transferability budget summary does not match the detailed budget breakdown\")","v":""}]
[null,2000,"Total Employee Benefits",{"$f":"IF('Consolidated Transferability'!R26=\"Yes\",\"\",\"Transferability budget summary does not match the detailed budget breakdown\")","v":""}]
[null,3000,"Total Purchased/Contracted Services",{"$f":"IF('Consolidated Transferability'!R34=\"Yes\",\"\",\"Transferability budget summary does not match the detailed budget breakdown\")","v":""}]
[null,4000,"Total Internal Services",{"$f":"IF('Consolidated Transferability'!R42=\"Yes\",\"\",\"Transferability budget summary does not match the detailed budget breakdown\")","v":""}]
[null,5000,"Total Other Charges",{"$f":"IF('Consolidated Transferability'!R50=\"Yes\",\"\",\"Transferability budget summary does not match the detailed budget breakdown\")","v":""}]
[null,6000,"Total Materials & Supplies",{"$f":"IF('Consolidated Transferability'!R58=\"Yes\",\"\",\"Transferability budget summary does not match the detailed budget breakdown\")","v":""}]
[null,8000,"Total Capital Outlay",{"$f":"IF('Consolidated Transferability'!R64=\"Yes\",\"\",\"Transferability budget summary does not match the detailed budget breakdown\")","v":""}]
[null,null,"Does the Title I, Part A, IIA Transferability Budget Summary Match the Amount Transferred into Program?",{"$f":"IF('Consolidated Transferability'!F70=\"Yes\", \"\",\"Title I, Part A, IIA transferability budget summary does not match the amount transferred into program\")","v":""}]
[null,null,"Does the Title I, Part A, IVA Transferability Budget Summary Match the Amount Transferred into Program?",{"$f":"IF('Consolidated Transferability'!G70=\"Yes\", \"\",\"Title I, Part A, IVA transferability budget summary does not match the amount transferred into program\")","v":""}]
[null,null,"Does the Title I, Part C, IIA Transferability Budget Summary Match the Amount Transferred into Program?",{"$f":"IF('Consolidated Transferability'!H70=\"Yes\", \"\",\"Title I, Part C, IIA transferability budget summary does not match the amount transferred into program\")","v":""}]
[null,null,"Does the Title I, Part C, IVA Transferability Budget Summary Match the Amount Transferred into Program?",{"$f":"IF('Consolidated Transferability'!I70=\"Yes\", \"\",\"Title I, Part C, IVA transferability budget summary does not match the amount transferred into program\")","v":""}]
[null,null,"Does the Title I, Part D, IIA Transferability Budget Summary Match the Amount Transferred into Program?",{"$f":"IF('Consolidated Transferability'!J70=\"Yes\", \"\",\"Title I, Part D, IIA transferability budget summary does not match the amount transferred into program\")","v":""}]
[null,null,"Does the Title I, Part D, IVA Transferability Budget Summary Match the Amount Transferred into Program?",{"$f":"IF('Consolidated Transferability'!K70=\"Yes\", \"\",\"Title I, Part D, IVA transferability budget summary does not match the amount transferred into program\")","v":""}]
[null,null,"Does the Title II, Part A, IVA Transferability Budget Summary Match the Amount Transferred into Program?",{"$f":"IF('Consolidated Transferability'!L70=\"Yes\", \"\",\"Title II, Part A, IVA transferability budget summary does not match the amount transferred into program\")","v":""}]
[null,null,"Does the Title III, Part A, IIA Transferability Budget Summary Match the Amount Transferred into Program?",{"$f":"IF('Consolidated Transferability'!M70=\"Yes\", \"\",\"Title III, Part A, IIA transferability budget summary does not match the amount transferred into program\")","v":""}]
[null,null,"Does the Title III, Part A, IVA Transferability Budget Summary Match the Amount Transferred into Program?",{"$f":"IF('Consolidated Transferability'!N70=\"Yes\", \"\",\"Title III, Part A, IVA transferability budget summary does not match the amount transferred into program\")","v":""}]
[null,null,"Does the Title IV, Part A, IIA Transferability Budget Summary Match the Amount Transferred into Program?",{"$f":"IF('Consolidated Transferability'!O70=\"Yes\", \"\",\"Title IV, Part A, IIA transferability budget summary does not match the amount transferred into program\")","v":""}]
[null,null,"Does the Title V, Part B, IIA Transferability Budget Summary Match the Amount Transferred into Program?",{"$f":"IF('Consolidated Transferability'!P70=\"Yes\", \"\",\"Title V, Part B, IIA transferability budget summary does not match the amount transferred into program\")","v":""}]
[null,null,"Does the Title V, Part B, IVA Transferability Budget Summary Match the Amount Transferred into Program?",{"$f":"IF('Consolidated Transferability'!Q70=\"Yes\", \"\",\"Title V, Part B, IVA transferability budget summary does not match the amount transferred into program\")","v":""}]
[null,"Detailed Budget Breakdown"]
[null,null,"Does the Transferability Detailed Budget Breakdown Match the Transferability Allocation?",{"$f":"IF('Consolidated Transferability'!I76=\"Yes\", \"\",\"Transferability detailed budget breakdown does not match the transferability allocation\")","v":""}]
[]
[null,"Title I, Part C Tab"]
[null,1000,"Total Personnel Services",{"$f":"IF('Title I, Part C'!N125=\"Yes\",\"\",\"Budget summary does not match the detailed budget breakdown\")","v":""}]
[null,2000,"Total Employee Benefits",{"$f":"IF('Title I, Part C'!N129=\"Yes\",\"\",\"Budget summary does not match the detailed budget breakdown\")","v":""}]
[null,3000,"Total Purchased/Contracted Services",{"$f":"IF('Title I, Part C'!N133=\"Yes\",\"\",\"Budget summary does not match the detailed budget breakdown\")","v":""}]
[null,4000,"Total Internal Services",{"$f":"IF('Title I, Part C'!N137=\"Yes\",\"\",\"Budget summary does not match the detailed budget breakdown\")","v":""}]
[null,5000,"Total Other Charges",{"$f":"IF('Title I, Part C'!N141=\"Yes\",\"\",\"Budget summary does not match the detailed budget breakdown\")","v":""}]
[null,6000,"Total Materials & Supplies",{"$f":"IF('Title I, Part C'!N145=\"Yes\",\"\",\"Budget summary does not match the detailed budget breakdown\")","v":""}]
[null,8000,"Total Capital Outlay",{"$f":"IF('Title I, Part C'!N149=\"Yes\",\"\",\"Budget summary does not match the detailed budget breakdown\")","v":""}]
[null,null,"Does the Budget Summary Match the Total Allocation?",{"$f":"IF('Title I, Part C'!H151=\"Yes\", \"\",\"Budget summary does not match the total allocation\")","v":""}]
[null,"Detailed Budget Breakdown"]
[null,null,"Does the Detailed Budget Breakdown Match the Total Allocation?",{"$f":"IF('Title I, Part C'!I157=\"Yes\", \"\",\"Detailed budget breakdown does not match the total allocation\")","v":""}]

{"sheet":"Coordinated Consolidated Info.","index":2,"n_rows":398,"n_cols":15,"rows_kept":398,"cut":false,"hidden":false,"merged":[[352,2,352,3],[352,7,352,8],[352,10,352,16],[353,1,353,16],[382,1,382,16],[383,2,383,3],[383,7,383,8],[383,10,383,16],[384,1,384,16],[373,1,373,16],[374,1,374,16],[362,1,362,16],[363,1,363,16],[364,1,364,16],[365,1,365,16],[356,1,356,16],[357,1,357,16],[358,1,358,16],[359,1,359,16],[376,1,376,16],[366,1,366,16],[367,10,367,16],[270,1,270,16],[255,1,255,16],[256,10,256,16],[257,1,257,16],[274,1,274,16],[275,1,275,3],[275,4,275,6],[371,1,371,16],[372,1,372,16],[275,7,275,16],[256,2,256,3],[256,7,256,8],[282,1,282,16],[283,1,283,16],[284,1,284,16],[285,1,285,16],[276,1,276,16],[277,1,277,16],[278,1,278,16],[279,1,279,16],[280,1,280,16],[281,1,281,16],[296,1,296,16],[297,1,297,16],[393,1,393,16],[394,1,394,16],[395,1,395,16],[396,1,396,16],[387,1,387,16],[388,1,388,16],[389,1,389,16],[390,1,390,16],[377,1,377,16],[378,1,378,16],[379,1,379,16],[380,1,380,16],[391,1,391,16],[392,1,392,16],[385,1,385,16],[4,3,4,12],[5,1,5,13],[5,15,5,16],[6,3,6,12],[7,3,7,12],[7,14,7,15],[0,1,0,12],[0,13,0,16],[1,3,1,12],[1,14,1,15],[2,3,2,12],[3,3,3,12],[3,14,3,15],[13,3,13,12],[14,1,14,16],[15,1,15,16],[16,1,16,7],[16,10,16,16],[17,1,17,7],[17,8,17,9],[17,10,17,16],[8,3,8,12],[9,3,9,12],[9,15,9,16],[10,3,10,12],[11,3,11,12],[12,3,12,12],[21,1,21,16],[22,1,22,16],[23,1,23,16],[24,1,24,16],[25,1,25,16],[27,1,27,16],[18,1,18,7],[18,8,18,9],[18,10,18,12],[18,14,18,16],[19,1,20,7],[19,8,19,16],[20,8,20,16],[36,1,36,16],[37,1,37,16],[38,1,38,16],[39,1,39,16],[40,1,40,16],[41,10,41,16],[28,2,28,4],[30,1,30,6],[30,8,30,15],[32,1,32,6],[32,8,32,15],[34,1,34,6],[34,8,34,15],[42,1,42,16],[44,1,44,2],[44,3,44,4],[44,5,45,11],[44,12,44,13],[44,14,44,16],[45,1,45,2],[45,3,45,4],[45,12,45,13],[45,14,45,16],[48,1,48,16],[49,1,49,2],[49,3,49,4],[49,5,49,11],[49,12,49,13],[49,14,49,16],[46,1,46,2],[46,3,46,4],[46,5,46,11],[46,12,46,13],[46,14,46,16],[47,1,47,4],[47,5,47,7],[47,9,47,11],[47,12,47,16],[52,1,52,16],[53,1,53,2],[53,3,53,4],[53,5,53,11],[53,12,53,13],[53,14,53,16],[50,1,51,4],[50,5,50,7],[50,9,50,11],[50,12,51,16],[51,5,51,7],[51,9,51,11],[54,1,54,4],[54,5,54,7],[54,9,54,11],[54,12,54,16],[55,1,55,16],[56,1,56,2],[56,3,56,4],[56,5,56,11],[56,12,56,13],[56,14,56,16],[59,1,59,16],[60,1,60,2],[60,3,60,4],[60,5,60,11],[60,12,60,13],[60,14,60,16],[57,1,58,4],[57,5,57,7],[57,9,57,11],[57,12,58,16],[58,5,58,7],[58,9,58,11],[63,1,63,16],[64,1,64,2],[64,3,64,4],[64,5,64,11],[64,12,64,13],[64,14,64,16],[61,1,62,4],[61,5,61,7],[61,9,61,11],[61,12,62,16],[62,5,62,7],[62,9,62,11],[67,1,67,16],[68,1,68,2],[68,3,68,4],[68,5,68,11],[68,12,68,13],[68,14,68,16],[65,1,66,4],[65,5,65,7],[65,9,65,11],[65,12,66,16],[66,5,66,7],[66,9,66,11],[72,1,72,16],[73,10,73,16],[74,1,74,16],[75,1,75,16],[76,1,76,16],[77,1,77,16],[69,1,69,4],[69,5,69,7],[69,9,69,11],[69,12,69,16],[70,1,70,16],[71,1,71,16],[78,1,78,16],[79,1,79,5],[79,7,79,13],[79,14,79,16],[80,1,85,5],[80,6,85,6],[80,8,80,13],[80,14,80,16],[81,8,81,13],[81,14,81,16],[85,8,85,13],[85,14,85,16],[86,1,86,13],[86,14,86,16],[87,1,87,16],[88,1,88,5],[88,7,88,13],[88,14,88,16],[82,8,82,13],[82,14,82,16],[83,8,83,13],[83,14,83,16],[84,8,84,13],[84,14,84,16],[93,8,93,13],[93,14,93,16],[94,8,94,13],[94,14,94,16],[95,1,95,13],[95,14,95,16],[89,1,94,5],[89,6,94,6],[89,8,89,13],[89,14,89,16],[90,8,90,13],[90,14,90,16],[91,8,91,13],[91,14,91,16],[92,8,92,13],[92,14,92,16],[103,1,103,2],[103,3,103,16],[104,1,104,2],[104,3,104,4],[104,8,104,9],[104,11,104,16],[97,1,97,16],[98,10,98,16],[99,1,99,16],[100,1,100,16],[101,1,101,16],[102,1,102,2],[102,3,102,9],[102,11,102,16],[98,7,98,8],[109,1,109,2],[109,3,109,4],[109,8,109,9],[109,11,109,16],[110,1,110,16],[111,1,111,16],[105,1,105,16],[106,1,106,16],[107,1,107,2],[107,3,107,9],[107,11,107,16],[108,1,108,2],[108,3,108,16],[112,1,112,2],[112,3,112,9],[112,11,112,16],[113,1,113,2],[113,3,113,16],[114,1,114,2],[114,3,114,4],[114,8,114,9],[114,11,114,16],[119,1,119,2],[119,3,119,4],[119,8,119,9],[119,11,119,16],[120,1,120,16],[121,1,121,16],[115,1,115,16],[116,1,116,16],[117,1,117,2],[117,3,117,9],[117,11,117,16],[118,1,118,2],[118,3,118,16],[122,1,122,2],[122,3,122,9],[122,11,122,16],[123,1,123,2],[123,3,123,16],[124,1,124,2],[124,3,124,4],[124,8,124,9],[124,11,124,16],[129,1,129,2],[129,3,129,4],[129,8,129,9],[129,11,129,16],[130,1,130,16],[131,1,131,16],[125,1,125,16],[126,1,126,16],[127,1,127,2],[127,3,127,9],[127,11,127,16],[128,1,128,2],[128,3,128,16],[135,1,135,16],[136,1,136,16],[137,1,137,16],[138,10,138,16],[139,1,139,16],[141,1,141,16],[138,2,138,3],[138,7,138,8],[132,1,132,2],[132,3,132,9],[132,11,132,16],[133,1,133,2],[133,3,133,16],[134,1,134,2],[134,3,134,4],[134,8,134,9],[134,11,134,16],[142,2,142,3],[142,7,176,7],[142,8,143,16],[143,2,143,3],[144,8,144,16],[145,2,145,3],[145,8,146,16],[146,2,146,3],[147,8,147,16],[148,2,148,3],[153,8,153,16],[154,2,154,3],[154,8,155,16],[155,2,155,3],[156,8,156,16],[157,2,157,3],[157,8,158,16],[158,2,158,3],[148,8,149,16],[149,2,149,3],[150,8,150,16],[151,2,151,3],[151,8,152,16],[152,2,152,3],[165,8,165,16],[166,2,166,3],[166,8,167,16],[167,2,167,3],[168,8,168,16],[169,2,169,3],[169,8,170,16],[170,2,170,3],[159,8,159,16],[160,2,160,3],[160,8,161,16],[161,2,161,3],[162,8,162,16],[163,2,163,3],[163,8,164,16],[164,2,164,3],[177,1,177,16],[178,1,178,16],[179,10,179,16],[180,1,180,16],[183,2,183,16],[184,3,184,16],[179,2,179,3],[179,7,179,8],[171,8,171,16],[172,2,172,3],[172,8,173,16],[173,2,173,3],[174,8,174,16],[175,2,175,3],[175,8,176,16],[176,2,176,3],[182,1,182,16],[191,3,191,16],[192,3,192,16],[194,1,194,16],[195,1,195,16],[196,1,196,16],[197,1,197,16],[185,3,185,16],[186,3,186,16],[187,2,187,16],[188,2,188,16],[189,2,189,16],[190,2,190,16],[193,2,193,16],[205,1,205,16],[206,1,206,16],[207,1,207,16],[208,10,208,16],[209,1,209,16],[210,1,210,16],[208,2,208,3],[208,7,208,8],[198,1,198,16],[199,10,199,16],[200,1,200,16],[202,1,202,16],[203,1,203,16],[204,1,204,16],[199,2,199,3],[199,7,199,8],[217,10,217,16],[218,1,218,16],[219,1,219,16],[220,1,220,16],[221,1,221,16],[222,1,222,16],[217,2,217,3],[217,7,217,8],[211,1,211,16],[212,1,212,16],[213,1,213,16],[214,1,214,16],[215,1,215,16],[216,1,216,16],[229,1,229,16],[230,1,230,16],[231,1,231,16],[232,1,232,16],[233,1,233,16],[234,10,234,16],[234,2,234,3],[234,7,234,8],[223,1,223,16],[224,1,224,16],[225,1,225,16],[226,10,226,16],[227,1,227,16],[228,1,228,16],[226,2,226,3],[226,7,226,8],[243,1,243,3],[243,4,243,6],[243,7,243,16],[246,1,246,16],[247,1,247,16],[248,1,248,16],[235,1,235,16],[236,1,236,16],[237,1,237,16],[238,2,238,16],[239,2,239,16],[240,2,240,16],[244,1,244,16],[245,1,245,16],[242,2,242,16],[249,1,249,16],[254,1,254,16],[259,1,259,3],[259,4,259,6],[259,7,259,16],[266,1,266,16],[267,1,267,16],[268,1,268,16],[269,1,269,16],[260,1,260,16],[261,1,261,16],[262,1,262,16],[263,1,263,16],[250,1,250,16],[251,1,251,16],[252,1,252,16],[253,1,253,16],[264,1,264,16],[265,1,265,16],[304,2,304,3],[304,7,304,8],[304,10,304,16],[305,1,305,16],[271,1,271,16],[272,10,272,16],[272,2,272,3],[272,7,272,8],[286,1,286,16],[291,1,291,3],[291,4,291,6],[291,7,291,16],[298,1,298,16],[273,1,273,16],[287,1,287,16],[288,10,288,16],[289,1,289,16],[288,2,288,3],[288,7,288,8],[318,1,318,16],[295,1,295,16],[312,1,312,16],[313,1,313,16],[330,1,330,16],[299,1,299,16],[300,1,300,16],[301,1,301,16],[292,1,292,16],[293,1,293,16],[294,1,294,16],[314,1,314,16],[315,1,315,16],[316,1,316,16],[317,1,317,16],[308,1,308,16],[309,1,309,16],[310,1,310,16],[311,1,311,16],[302,1,302,16],[307,1,307,3],[307,4,307,6],[307,7,307,16],[303,1,303,16],[351,1,351,16],[331,1,331,16],[332,1,332,16],[333,1,333,16],[324,1,324,16],[325,1,325,16],[326,1,326,16],[327,1,327,16],[319,1,319,16],[320,2,320,3],[320,7,320,8],[320,10,320,16],[321,1,321,16],[329,1,329,16],[323,1,323,3],[323,4,323,6],[323,7,323,16],[328,1,328,16],[340,1,340,16],[341,1,341,16],[342,1,342,16],[343,1,343,16],[335,1,335,16],[336,2,336,3],[336,7,336,8],[336,10,336,16],[337,1,337,16],[241,2,241,16],[368,1,368,16],[369,1,369,16],[370,1,370,3],[370,4,370,6],[370,7,370,16],[367,2,367,3],[367,7,367,8],[360,1,360,16],[361,1,361,16],[344,1,344,16],[345,1,345,16],[350,1,350,16],[355,1,355,3],[355,4,355,6],[355,7,355,16],[334,1,334,16],[339,1,339,3],[339,4,339,6],[339,7,339,16],[346,1,346,16],[347,1,347,16],[348,1,348,16],[349,1,349,16],[0,17,397,17],[0,0,1048575,0],[35,8,35,15],[33,8,33,15],[31,8,31,15],[35,1,35,6],[33,1,33,6],[31,1,31,6],[28,5,28,16],[29,1,29,16],[397,1,397,16],[41,7,41,8],[41,2,41,3],[73,2,73,3],[73,7,73,8],[98,2,98,3],[381,1,381,16],[386,1,386,3],[386,4,386,6],[386,7,386,16],[375,1,375,16]]}
[null,null,null,null,null,null,null,null,null,null,null,null,null,"Place an \"X\" by the applicable response."]
[null,null,null,"Virginia Department of Education",null,null,null,null,null,null,null,null,null,null," Original "]
[null,null,null,"Office of ESEA Programs"]
[null,null,null,"P. O. Box 2120",null,null,null,null,null,null,null,null,null,null,"Revision:   "]
[null,null,null,"Richmond, Virginia 23218-2120",null,null,null,null,null,null,null,null,null,null,"Revision #"]
[null,null,null,null,null,null,null,null,null,null,null,null,null,null,"Date:"]
[null,null,null,"         A.  COVER PAGE",null,null,null,null,null,null,null,null,null,null,"Explain"]
[null,null,null,null,null,null,null,null,null,null,null,null,null,null,"Amendment:"]
[null,null,null,{"$f":"'Main Page'!N9","v":"2026-2027"},null,null,null,null,null,null,null,null,null,null,"Amendment # "]
[null,null,null,"Local Consolidated Application",null,null,null,null,null,null,null,null,null,null,"Date:       "]
[null,null,null,null,null,null,null,null,null,null,null,null,null,null,"Explain"]
[null,null,null,{"$f":"\"Due by \" & TEXT('Main Page'!N8,\"mmmm dd, yyyy\")","v":"Due by July 01, 2026"}]
[null,null,null,"Elementary and Secondary Education Act of 1965 (ESEA), as amended by"]
[null,null,null,"the Every Student Succeeds Act of 2015 (ESSA), Public Law 114-95 "]
[]
[null,"To be Completed by School Division"]
[null,"Applicant  (Legal Name of Agency):",null,null,null,null,null,null,"Division Number:",null,"Consolidated Application Coordinator:"]
[null,{"$f":"'Main Page'!L14","v":0},null,null,null,null,null,null,{"$f":"'Main Page'!L15","v":" "}]
[null,"Mailing Address (Street, City or Town, Zip Code):",null,null,null,null,null,null,"Phone:",null,null,null,null,"Ext:"]
[null,null,null,null,null,null,null,null,"Email:"]
[]
[]
[null,"LOCAL EDUCATIONAL AGENCY CERTIFICATION"]
[null,"Use of Funds:  The applicant designated above applies for an allocation of federal assistance as appropriated under ESEA.  Funds are available to support local education reform efforts that are consistent with statewide education reform efforts to: 1) provide funding to implement promising education reform programs and school improvement programs based on evidence-based research;  2) provide a continuing source of innovative and educational improvement;  3) meet the educational needs of all students; and 4) develop and implement education programs to improve student achievement and teacher performance. \n\nSpecific uses of funds for this application are found in the \"Guidelines, Instructions, and Assurances\" document. "]
[]
[null,"Assurances:  The local educational agency assures that Title I, Part A, will be administered and implemented in compliance with all applicable statutes, regulations, policies, and program plans under ESEA.  Additionally, the local educational agency agrees by signing below to implement the general and program specific assurances included in the application. The assurances and signed cover page are to be retained at the division level and, for the Title I, Part A, application (individual or consolidated form), a scanned PDF of the signed cover page must be emailed to ESSA@doe.virginia.gov.  "]
[]
[null,"Certification:  § 200.415 Required certifications. “We certify to the best of our knowledge and belief that the information provided herein is true, complete, and accurate. We are aware that the provision of false, fictitious, or fraudulent information, or the omission of any material fact, may subject us to criminal, civil, or administrative consequences including, but not limited to violations of U.S. Code Title 18, Sections 2, 1001, 1343 and Title 31, Sections 3729-3730 and 3801-3812.” The agency named above has authorized us as its representatives to file this application, and such action is recorded in the minutes of the School Board meeting held"]
[null,"on",null,null,null,"."]
[]
[null,null,null,null,null,null,null,null,"     "]
[null,"Superintendent’s Signature",null,null,null,null,null,null,"Board Chairperson’s Signature"]
[null,"     "]
[null,"Superintendent’s Name",null,null,null,null,null,null,"Board Chairperson’s Name"]
[null,"     "]
[null,"Date",null,null,null,null,null,null,"Date"]
[]
[null,{"$f":"\"Application Submission, Approval, and LEA Expenditure of Funds: Applications for Federal Funds are due by \" & TEXT('Main Page'!N8,\"mmmm dd, yyyy\") & \".  Revisions and Amendments should be submitted in a timely manner.  \"","v":"Application Submission, Approval, and LEA Expenditure of Funds: Applications for Federal Funds are due by July 01, 2026.  Revisions and Amendments should be submitted in a timely manner.  "}]
[null,{"$f":"\"Please note, in order for the funds to be expendable by \" & TEXT('Main Page'!N8,\"mmmm dd, yyyy\") & \", the electronic application must be received at the Virginia Department of Education by \" & TEXT('Main Page'!N8,\"mmmm dd, yyyy\") & \", through the file submission process of the Online Management of Education Grant Awards (OMEGA) system. \"","v":"Please note, in order for the funds to be expendable by July 01, 2026, the electronic application must be received at the Virginia Department of Education by July 01, 2026, through the file submission process of the Online Management of Education Grant Awards (OMEGA) system. "}]
[]
[null,"Page 1"]
[null,{"$f":"'Main Page'!$N$9","v":"2026-2027"},"School Division:",null,{"$f":"'Main Page'!$L$14","v":0},null,null,"Division Number:",null,{"$f":"'Main Page'!$L$15","v":" "},{"$f":"'Main Page'!$B$6","v":"Local Consolidated Application"}]
[null,"PROGRAMS INCLUDED IN THE CONSOLIDATED APPLICATION"]
[]
[null,{"$f":" YEAR('Main Page'!$N$8)-1 & \"-\" &  YEAR('Main Page'!$N$8)","v":"2025-2026"},null,{"$f":" YEAR('Main Page'!$N$8)-1 & \"-\" &  YEAR('Main Page'!$N$8)","v":"2025-2026"},null,"ELIGIBLE PROGRAMS",null,null,null,null,null,null,{"$f":" 'Main Page'!$N$9","v":"2026-2027"},null,{"$f":" 'Main Page'!$N$9","v":"2026-2027"}]
[null," Allocation",null,"Consolidated\nYes or No",null,null,null,null,null,null,null,null,"Consolidated\nYes or No",null," Allocation Total"]
[null,{"$f":"IF(ISBLANK('Main Page'!$L$14),\" \",VLOOKUP('Main Page'!$L$15,Prefills!D6:F145,3))","v":" "},null,null,null,"Title I, Part A, Improving Basic Programs Operated by the LEAs",null,null,null,null,null,null,{"$f":"IF(O47<>0,\"Yes\",\"No\")","v":"No"},null,{"$f":"J48","v":0}]
[null,null,null,null,null,"a. Division Allocation",null,null,"Subtotal"]
[]
[null,{"$f":"IF(ISBLANK('Main Page'!$L$14),\" \",VLOOKUP('Main Page'!$L$15,Prefills!H6:J145,3))","v":" "},null,null,null,"Title I, Part C, Education of Migratory Children\n(Provide a. or b. subtotal)",null,null,null,null,null,null,{"$f":"IF(O50<>0,\"Yes\",\"No\")","v":"No"},null,{"$f":"SUM(J51:L52)","v":0}]
[null,null,null,null,null,"a. Division Allocation",null,null,"Subtotal"]
[null,null,null,null,null,"b. Regional Program - Total of allocations for all divisions in the regional program",null,null,"Subtotal"]
[]
[null,{"$f":"IF(ISBLANK('Main Page'!$L$14),\" \",VLOOKUP('Main Page'!$L$15,Prefills!L6:N145,3))","v":" "},null,null,null,"Title I, Part D, Subpart 2, Neglected, Delinquent, or At-Risk - Basic ",null,null,null,null,null,null,{"$f":"IF(O54<>0,\"Yes\",\"No\")","v":"No"},null,{"$f":"J55","v":0}]
[null,null,null,null,null,"a. Division Allocation",null,null,"Subtotal"]
[]
[null,{"$f":"IF(ISBLANK('Main Page'!$L$14),\" \",VLOOKUP('Main Page'!$L$15,Prefills!P6:R145,3))","v":" "},null,null,null,"Title II, Part A, Supporting Effective Instruction \n(Provide a. and b. subtotal)",null,null,null,null,null,null,{"$f":"IF(O57<>0,\"Yes\",\"No\")","v":"No"},null,{"$f":"J58-J59","v":0}]
[null,null,null,null,null,"a. Division Allocation",null,null,"Subtotal"]
[null,null,null,null,null,"b. Transferability Funds (funds transferred from Title II, Part A)",null,null,"Subtotal",{"$f":"O87","v":0}]
[]
[null,{"$f":"IF(ISBLANK('Main Page'!$L$14),\" \",VLOOKUP('Main Page'!$L$15,Prefills!T6:V145,3))","v":" "},null,null,null,"Title III, Part A, Language Instruction for English Learners and \nImmigrant Students\n(Total  of: only a; or only b.)",null,null,null,null,null,null,{"$f":"IF(O61<>0,\"Yes\",\"No\")","v":"No"},null,{"$f":"SUM(J62:L63)","v":0}]
[null,null,null,null,null,"a. EL Subgrant -\nNot part of a consortium",null,null,"Subtotal"]
[null,null,null,null,null,"b. Immigrant Children and Youth  Subgrant ",null,null,"Subtotal"]
[]
[null,{"$f":"IF(ISBLANK('Main Page'!$L$14),\" \",VLOOKUP('Main Page'!$L$15,Prefills!X6:Z145,3))","v":" "},null,null,null,"Title IV, Part A, Student Support and Academic Enrichment \n(Provide a. and b. subtotal)",null,null,null,null,null,null,{"$f":"IF(O65<>0,\"Yes\",\"No\")","v":"No"},null,{"$f":"J66-J67","v":0}]
[null,null,null,null,null,"a. Division Allocation",null,null,"Subtotal"]
[null,null,null,null,null,"b. Transferability Funds (funds transferred from Title IV, Part A)",null,null,"Subtotal",{"$f":"O96","v":0}]
[]
[null,{"$f":"IF(ISBLANK('Main Page'!$L$14),\" \",VLOOKUP('Main Page'!$L$15,Prefills!AB6:AD145,3))","v":" "},null,null,null,"Title V, Part B, Subpart 2, Rural and Low-Income School Program",null,null,null,null,null,null,{"$f":"IF(O69<>0,\"Yes\",\"No\")","v":"No"},null,{"$f":"J70","v":0}]
[null,null,null,null,null,"a. Division Allocation",null,null,"Subtotal"]
[]
[]
[null,"Page 2"]
[null,{"$f":"'Main Page'!$N$9","v":"2026-2027"},"School Division:",null,{"$f":"'Main Page'!$L$14","v":0},null,null,"Division Number:",null,{"$f":"'Main Page'!$L$15","v":" "},{"$f":"'Main Page'!$B$6","v":"Local Consolidated Application"}]
[null,"TRANSFERABILITY"]
[]
[null,"Section 5103(b)(2) of the Every Student Succeeds Act allows LEAs to transfer funds between certain qualifying federal programs. If funds are transferred out of the Title II, Part A, or Title IV, Part A programs, PRIOR APPROVAL IS REQUIRED, and a separate Transferability approval form must be submitted. "]
[null,"Transfer Request Form"]
[]
[null,"Program from which funds will be transferred:",null,null,null,null,null,"Select program(s) TO which funds will be transferred:",null,null,null,null,null,null,"Amount"]
[null,"Title II, Part A",null,null,null,null,"TO",null,"Title I, Part A, Improving Basic Programs Operated by the LEAs"]
[null,null,null,null,null,null,null,null,"Title I, Part C, Education of Migratory Children"]
[null,null,null,null,null,null,null,null,"Title I, Part D, Subpart 2, Neglected, Delinquent, or At-Risk - Basic "]
[null,null,null,null,null,null,null,null,"Title III, Part A, Language Instruction for English Learners and Immigrant Students"]
[null,null,null,null,null,null,null,null,"Title IV, Part A, Student Support and Academic Enrichment "]
[null,null,null,null,null,null,null,null,"Title V, Part B, Subpart 2, Rural and Low-Income School Program"]
[null,"Total",null,null,null,null,null,null,null,null,null,null,null,null,{"$f":"SUM(O81:Q86)","v":0}]
[]
[null,"Program from which funds will be transferred:",null,null,null,null,null,"Select program(s) TO which funds will be transferred:",null,null,null,null,null,null,"Amount"]
[null,"Title IV, Part A",null,null,null,null,"TO",null,"Title I, Part A, Improving Basic Programs Operated by the LEAs"]
[null,null,null,null,null,null,null,null,"Title I, Part C, Education of Migratory Children"]
[null,null,null,null,null,null,null,null,"Title I, Part D, Subpart 2, Neglected, Delinquent, or At-Risk - Basic "]
[null,null,null,null,null,null,null,null,"Title II, Part A, Supporting Effective Instruction "]
[null,null,null,null,null,null,null,null,"Title III, Part A, Language Instruction for English Learners and Immigrant Students"]
[null,null,null,null,null,null,null,null,"Title V, Part B, Subpart 2, Rural and Low-Income School Program"]
[null,"Total",null,null,null,null,null,null,null,null,null,null,null,null,{"$f":"SUM(O90:Q95)","v":0}]
[]
[null,"Page 3"]
[null,{"$f":"'Main Page'!$N$9","v":"2026-2027"},"School Division:",null,{"$f":"'Main Page'!$L$14","v":0},null,null,"Division Number:",null,{"$f":"'Main Page'!$L$15","v":" "},{"$f":"'Main Page'!$B$6","v":"Local Consolidated Application"}]
[null,"B.  LOCAL CONTACT BY PROGRAM AREA"]
[]
[null,"Title I, Part A, Improving Basic Programs Operated by the LEAs"]
[null,"Name of Contact:",null,null,null,null,null,null,null,null,"Title:"]
[null,"Mailing Address:"]
[null,"Phone:",null,null,null,"Ext.",null,"Fax:",null,null,"Email:"]
[]
[null,"Title I, Part C, Education of Migratory Children"]
[null,"Name of Contact:",null,null,null,null,null,null,null,null,"Title:"]
[null,"Mailing Address:"]
[null,"Phone:",null,null,null,"Ext.",null,"Fax:",null,null,"Email:"]
[]
[null,"Title I, Part D, Subpart 2, Neglected, Delinquent, or At-Risk"]
[null,"Name of Contact:",null,null,null,null,null,null,null,null,"Title:"]
[null,"Mailing Address:"]
[null,"Phone:",null,null,null,"Ext.",null,"Fax:",null,null,"Email:"]
[]
[null,"Title II, Part A, Supporting Effective Instruction"]
[null,"Name of Contact:",null,null,null,null,null,null,null,null,"Title:"]
[null,"Mailing Address:"]
[null,"Phone:",null,null,null,"Ext.",null,"Fax:",null,null,"Email:"]
[]
[null,"Title III, Part A, Language Instruction for English Learners and Immigrant Students"]
[null,"Name of Contact:",null,null,null,null,null,null,null,null,"Title:"]
[null,"Mailing Address:"]
[null,"Phone:",null,null,null,"Ext.",null,"Fax:",null,null,"Email:"]
[]
[null,"Title IV, Part A, Student Support and Academic Enrichment"]
[null,"Name of Contact:",null,null,null,null,null,null,null,null,"Title:"]
[null,"Mailing Address:"]
[null,"Phone:",null,null,null,"Ext.",null,"Fax:",null,null,"Email:"]
[]
[null,"Title V, Part B, Subpart 2, Rural and Low-Income School Program"]
[null,"Name of Contact:",null,null,null,null,null,null,null,null,"Title:"]
[null,"Mailing Address:"]
[null,"Phone:",null,null,null,"Ext.",null,"Fax:",null,null,"Email:"]
[]
[]
[null,"Page 4"]
[null,{"$f":"'Main Page'!$N$9","v":"2026-2027"},"School Division:",null,{"$f":"'Main Page'!$L$14","v":0},null,null,"Division Number:",null,{"$f":"'Main Page'!$L$15","v":" "},{"$f":"'Main Page'!$B$6","v":"Local Consolidated Application"}]
[null,"REVISIONS AND AMENDMENTS"]
[]
[null,"Place an \"X\" in the first box indicating whether it is a revision or amendment. Enter the date of the revision or amendment.  Indicate the tab(s) that have been changed. Provide a concise description of changes (for example, \"Programmatic Changes--purchase of additional reading materials, object code 6000; Budget Changes--decreased travel budget in object code 5000 and increased materials to purchase additional reading materials in object code 6000\"). When completing an amendment, changes to the program overview may be reflected as additions at the end of the narrative.\n\nNOTE: Any changes to the program budget should first be reflected in an amended application, followed by a budget transfer within 7 business days of approval of the amended application. Budget transfers will not be accepted without an approved amended application reflecting budget changes."]
[null,"1.","Revision:",null,null,"Date:"]
[null,null,"Amendment:",null,null,"Date:"]
[]
[null,"2.","Revision:",null,null,"Date:"]
[null,null,"Amendment:",null,null,"Date:"]
[]
[null,"3.","Revision:",null,null,"Date:"]
[null,null,"Amendment:",null,null,"Date:"]
[]
[null,"4.","Revision:",null,null,"Date:"]
[null,null,"Amendment:",null,null,"Date:"]
[]
[null,"5.","Revision:",null,null,"Date:"]
[null,null,"Amendment:",null,null,"Date:"]
[]
[null,"6.","Revision:",null,null,"Date:"]
[null,null,"Amendment:",null,null,"Date:"]
[]
[null,"7.","Revision:",null,null,"Date:"]
[null,null,"Amendment:",null,null,"Date:"]
[]
[null,"8.","Revision:",null,null,"Date:"]
[null,null,"Amendment:",null,null,"Date:"]
[]
[null,"9.","Revision:",null,null,"Date:"]
[null,null,"Amendment:",null,null,"Date:"]
[]
[null,"10.","Revision:",null,null,"Date:"]
[null,null,"Amendment:",null,null,"Date:"]
[]
[null,"11.","Revision:",null,null,"Date:"]
[null,null,"Amendment:",null,null,"Date:"]
[]
[null,"12.","Revision:",null,null,"Date:"]
[null,null,"Amendment:",null,null,"Date:"]
[]
[null,"Page 5"]
[null,{"$f":"'Main Page'!$N$9","v":"2026-2027"},"School Division:",null,{"$f":"'Main Page'!$L$14","v":0},null,null,"Division Number:",null,{"$f":"'Main Page'!$L$15","v":" "},{"$f":"'Main Page'!$B$6","v":"Local Consolidated Application"}]
[null,"C.  PROGRAM OVERVIEW (3 PAGES)"]
[]
[null,"In narrative format:"]
[null,"1.","Describe, as applicable, how the instructional program or program of services will align with Virginia's accountability plan and support student acheivement, including the following:"]
[null,null,"*","Supporting student mastery of K-12 college-and-career  ready reading and mathematics standards, and attainment of proficiency or better on corresponding assessments;"]
[null,null,"*","For high schools with a graduating class, supporting student completion of graduation requirements in a timely fashion; and"]
[null,null,"*","Ensuring that students are taught by effective teachers meeting Virginia licensing and professional teaching requirements and providing meaningful professional development and support to promote effective instruction to increase student achievement."]
[null,"2.","Describe the targeted population(s). (Examples are: subgroups of students, homeless and migrant students, instructional and administrative staff, paraprofessionals, parents, etc.)"]
[null,"3.","Explain how the instructional program or program of services supplements, not supplants, the core instructional program or services offered by the LEA to all students and/or all schools.  "]
[null,"4.","Provide a description of the needs assessment that was conducted to support the proposed activities."]
[null,"5.","For Title I, Part A"]
[null,null,"a.","Include the delivery model(s) used and grade spans served; and"]
[null,null,"b.","Explain how the division ensures that meaningful parent and family engagement activities are planned and implemented at each Title I school. Please also include all PFE related expenses, such as: personnel, activities, stipends, etc."]
[null,"6.","Describe the results of prior activities funded with federal funds and how the division will use data to continually update and improve activities supported with federal funds. Describe progress made toward meeting measurable objectives from the 2023 application. "]
[]
[]
[]
[]
[null,"Page 6"]
[null,{"$f":"'Main Page'!$N$9","v":"2026-2027"},"School Division:",null,{"$f":"'Main Page'!$L$14","v":0},null,null,"Division Number:",null,{"$f":"'Main Page'!$L$15","v":" "},{"$f":"'Main Page'!$B$6","v":"Local Consolidated Application"}]
[null,"C.  PROGRAM OVERVIEW (CONTINUED)"]
[]
[]
[]
[]
[]
[]
[null,"Page 7"]
[null,{"$f":"'Main Page'!$N$9","v":"2026-2027"},"School Division:",null,{"$f":"'Main Page'!$L$14","v":0},null,null,"Division Number:",null,{"$f":"'Main Page'!$L$15","v":" "},{"$f":"'Main Page'!$B$6","v":"Local Consolidated Application"}]
[null,"C.  PROGRAM OVERVIEW (CONTINUED)"]
[]
[]
[]
[]
[]
[]
[null,"Page 8"]
[null,{"$f":"'Main Page'!$N$9","v":"2026-2027"},"School Division:",null,{"$f":"'Main Page'!$L$14","v":0},null,null,"Division Number:",null,{"$f":"'Main Page'!$L$15","v":" "},{"$f":"'Main Page'!$B$6","v":"Local Consolidated Application"}]
[null,"D.  COORDINATION OF SERVICES (2 PAGES)"]
[]
[null,"Describe the partnerships within the division among the programs in this application and other federal, state, and/or local programs in the delivery of services to the targeted population(s).  Describe the collaboration of program staff, parents, and the community to provide services and activities that will contribute to the attainment of the measurable objectives in this application."]
[]
[]
[]
[]
[null,"Page 9"]
[null,{"$f":"'Main Page'!$N$9","v":"2026-2027"},"School Division:",null,{"$f":"'Main Page'!$L$14","v":0},null,null,"Division Number:",null,{"$f":"'Main Page'!$L$15","v":" "},{"$f":"'Main Page'!$B$6","v":"Local Consolidated Application"}]
[null,"D.  COORDINATION OF SERVICES (CONTINUED)"]
[]
[]
[]
[]
[]
[null,"Page 10"]
[null,{"$f":"'Main Page'!$N$9","v":"2026-2027"},"School Division:",null,{"$f":"'Main Page'!$L$14","v":0},null,null,"Division Number:",null,{"$f":"'Main Page'!$L$15","v":" "},{"$f":"'Main Page'!$B$6","v":"Local Consolidated Application"}]
[null,"E.  MEASURABLE OBJECTIVES "]
[]
[null,"What is a Measurable Objective?\n A measurable objective has four components:\na) Subject (Who is the target or focus?);\nb) Behavior (What will be changed/improved?);\nc) Specific criteria for assessing improvement, readiness, or achievement, and tools to be used to measure effectiveness; and\nd) Time period for performance or assessment. \n\n                                                                                                                                                                                                                                               "]
[null,"1.","State up to ten measurable objectives that will guide the development of the program to be funded with the requested ESEA federal funds. "]
[null,"2.","Describe the evidence-based research that supports the services and activities (programs, models, instructional methods, and techniques) that will be implemented to achieve each objective and that will be supported by the requested funds. \n"]
[null,"3.","Migrant Programs: School divisions completing Title I, Part C, Education of Migratory Children, should include program specific Measurable Objectives in the narrative as outlined in the Title I, Part C, tab.    \n"]
[null,"4.","Include all applicable grade spans supported by Title I, Part A funding.\n"]
[null,"5.","Title III: State a minimum of three measurable objectives, that will support the goals of your LEA’s EL program. These objectives must be funded with identified Title III, Part A, federal funds as written in this application. If state EL Progress targets were not met, you MUST identify an EL Progress target as a MO.\n"]
[null,"Measurable Objective 1:",null,null,"Federal program(s) funds planned:   "]
[]
[]
[]
[]
[]
[null,"Evidence-based research services and activities that will be implemented and supported by the requested funds to achieve the objective:"]
[]
[]
[]
[]
[]
[null,"Page 11"]
[null,{"$f":"'Main Page'!$N$9","v":"2026-2027"},"School Division:",null,{"$f":"'Main Page'!$L$14","v":0},null,null,"Division Number:",null,{"$f":"'Main Page'!$L$15","v":" "},{"$f":"'Main Page'!$B$6","v":"Local Consolidated Application"}]
[null,"E.  MEASURABLE OBJECTIVES (CONTINUED)"]
[]
[null,"Measurable Objective 2:",null,null,"Federal program(s) funds planned:   "]
[]
[]
[]
[]
[]
[null,"Evidence-based research services and activities that will be implemented and supported by the requested funds to achieve the objective:"]
[]
[]
[]
[]
[]
[null,"Page 12"]
[null,{"$f":"'Main Page'!$N$9","v":"2026-2027"},"School Division:",null,{"$f":"'Main Page'!$L$14","v":0},null,null,"Division Number:",null,{"$f":"'Main Page'!$L$15","v":" "},{"$f":"'Main Page'!$B$6","v":"Local Consolidated Application"}]
[null,"E.  MEASURABLE OBJECTIVES (CONTINUED)"]
[]
[null,"Measurable Objective 3:",null,null,"Federal program(s) funds planned:   "]
[]
[]
[]
[]
[]
[null,"Evidence-based research services and activities that will be implemented and supported by the requested funds to achieve the objective:"]
[]
[]
[]
[]
[]
[null,"Page 13"]
[null,{"$f":"'Main Page'!$N$9","v":"2026-2027"},"School Division:",null,{"$f":"'Main Page'!$L$14","v":0},null,null,"Division Number:",null,{"$f":"'Main Page'!$L$15","v":" "},{"$f":"'Main Page'!$B$6","v":"Local Consolidated Application"}]
[null,"E.  MEASURABLE OBJECTIVES (CONTINUED)"]
[]
[null,"Measurable Objective 4:",null,null,"Federal program(s) funds planned:   "]
[]
[]
[]
[]
[]
[null,"Evidence-based research services and activities that will be implemented and supported by the requested funds to achieve the objective:"]
[]
[]
[]
[]
[]
[null,"Page 14"]
[null,{"$f":"'Main Page'!$N$9","v":"2026-2027"},"School Division:",null,{"$f":"'Main Page'!$L$14","v":0},null,null,"Division Number:",null,{"$f":"'Main Page'!$L$15","v":" "},{"$f":"'Main Page'!$B$6","v":"Local Consolidated Application"}]
[null,"E.  MEASURABLE OBJECTIVES (CONTINUED)"]
[]
[null,"Measurable Objective 5:",null,null,"Federal program(s) funds planned:   "]
[]
[]
[]
[]
[]
[null,"Evidence-based research services and activities that will be implemented and supported by the requested funds to achieve the objective:"]
[]
[]
[]
[]
[]
[null,"Page 15"]
[null,{"$f":"'Main Page'!$N$9","v":"2026-2027"},"School Division:",null,{"$f":"'Main Page'!$L$14","v":0},null,null,"Division Number:",null,{"$f":"'Main Page'!$L$15","v":" "},{"$f":"'Main Page'!$B$6","v":"Local Consolidated Application"}]
[null,"E.  MEASURABLE OBJECTIVES (CONTINUED)"]
[]
[null,"Measurable Objective 6:",null,null,"Federal program(s) funds planned:   "]
[]
[]
[]
[]
[]
[null,"Evidence-based research services and activities that will be implemented and supported by the requested funds to achieve the objective:"]
[]
[]
[]
[]
[]
[null,"Page 16"]
[null,{"$f":"'Main Page'!$N$9","v":"2026-2027"},"School Division:",null,{"$f":"'Main Page'!$L$14","v":0},null,null,"Division Number:",null,{"$f":"'Main Page'!$L$15","v":" "},{"$f":"'Main Page'!$B$6","v":"Local Consolidated Application"}]
[null,"E.  MEASURABLE OBJECTIVES (CONTINUED)"]
[]
[null,"Measurable Objective 7:",null,null,"Federal program(s) funds planned:   "]
[]
[]
[]
[]
[]
[null,"Evidence-based research services and activities that will be implemented and supported by the requested funds to achieve the objective:"]
[]
[]
[]
[]
[]
[null,"Page 17"]
[null,{"$f":"'Main Page'!$N$9","v":"2026-2027"},"School Division:",null,{"$f":"'Main Page'!$L$14","v":0},null,null,"Division Number:",null,{"$f":"'Main Page'!$L$15","v":" "},{"$f":"'Main Page'!$B$6","v":"Local Consolidated Application"}]
[null,"E.  MEASURABLE OBJECTIVES (CONTINUED)"]
[]
[null,"Measurable Objective 8:",null,null,"Federal program(s) funds planned:   "]
[]
[]
[]
[]
[]
[null,"Evidence-based research services and activities that will be implemented and supported by the requested funds to achieve the objective:"]
[]
[]
[]
[]
[null,"Page 18"]
[null,{"$f":"'Main Page'!$N$9","v":"2026-2027"},"School Division:",null,{"$f":"'Main Page'!$L$14","v":0},null,null,"Division Number:",null,{"$f":"'Main Page'!$L$15","v":" "},{"$f":"'Main Page'!$B$6","v":"Local Consolidated Application"}]
[null,"E.  MEASURABLE OBJECTIVES (CONTINUED)"]
[]
[null,"Measurable Objective 9:",null,null,"Federal program(s) funds planned:   "]
[]
[]
[]
[]
[]
[null,"Evidence-based research services and activities that will be implemented and supported by the requested funds to achieve the objective:"]
[]
[]
[]
[]
[]
[null,"Page 19"]
[null,{"$f":"'Main Page'!$N$9","v":"2026-2027"},"School Division:",null,{"$f":"'Main Page'!$L$14","v":0},null,null,"Division Number:",null,{"$f":"'Main Page'!$L$15","v":" "},{"$f":"'Main Page'!$B$6","v":"Local Consolidated Application"}]
[null,"E.  MEASURABLE OBJECTIVES (CONTINUED)"]
[]
[null,"Measurable Objective 10:",null,null,"Federal program(s) funds planned:   "]
[]
[]
[]
[]
[]
[null,"Evidence-based research services and activities that will be implemented and supported by the requested funds to achieve the objective:"]
[]
[]
[]
[]
[null,"Page 20"]

{"sheet":"Consolidated Budget","index":3,"n_rows":579,"n_cols":21,"rows_kept":579,"cut":false,"hidden":false,"merged":[[576,1,576,8],[576,9,576,10],[576,11,576,12],[576,13,576,14],[576,16,576,17],[572,1,572,8],[572,9,572,10],[572,11,572,12],[572,13,572,14],[572,16,572,17],[573,1,573,8],[573,9,573,10],[573,11,573,12],[573,13,573,14],[573,16,573,17],[574,1,574,8],[574,9,574,10],[574,11,574,12],[574,13,574,14],[574,16,574,17],[575,1,575,8],[575,9,575,10],[575,11,575,12],[575,13,575,14],[575,16,575,17],[568,11,568,12],[568,13,568,14],[568,16,568,17],[569,1,569,8],[569,9,569,10],[569,11,569,12],[569,13,569,14],[569,16,569,17],[570,1,570,8],[570,9,570,10],[570,11,570,12],[570,13,570,14],[570,16,570,17],[571,1,571,8],[571,9,571,10],[571,11,571,12],[571,13,571,14],[571,16,571,17],[537,1,537,8],[537,9,537,10],[537,11,537,12],[537,13,537,14],[537,16,537,17],[538,1,538,8],[538,9,538,10],[538,11,538,12],[538,13,538,14],[538,16,538,17],[566,1,566,8],[566,9,566,10],[566,11,566,12],[566,13,566,14],[566,16,566,17],[567,1,567,8],[567,9,567,10],[567,11,567,12],[567,13,567,14],[567,16,567,17],[562,1,562,8],[562,9,562,10],[562,11,562,12],[562,13,562,14],[562,16,562,17],[563,1,563,8],[563,9,563,10],[563,11,563,12],[563,13,563,14],[563,16,563,17],[564,1,564,8],[564,9,564,10],[533,1,533,8],[533,9,533,10],[533,11,533,12],[533,13,533,14],[533,16,533,17],[534,1,534,8],[534,9,534,10],[534,11,534,12],[534,13,534,14],[534,16,534,17],[535,1,535,8],[535,9,535,10],[535,11,535,12],[535,13,535,14],[535,16,535,17],[536,1,536,8],[536,9,536,10],[536,11,536,12],[536,13,536,14],[536,16,536,17],[529,1,529,8],[529,9,529,10],[529,11,529,12],[529,13,529,14],[529,16,529,17],[530,1,530,8],[530,9,530,10],[530,11,530,12],[530,13,530,14],[530,16,530,17],[531,1,531,8],[531,9,531,10],[531,11,531,12],[531,13,531,14],[531,16,531,17],[532,1,532,8],[532,9,532,10],[532,11,532,12],[532,13,532,14],[532,16,532,17],[525,1,525,8],[525,9,525,10],[525,11,525,12],[525,13,525,14],[525,16,525,17],[526,1,526,8],[526,9,526,10],[526,11,526,12],[526,13,526,14],[526,16,526,17],[527,1,527,8],[527,9,527,10],[527,11,527,12],[527,13,527,14],[527,16,527,17],[528,1,528,8],[528,9,528,10],[528,11,528,12],[528,13,528,14],[528,16,528,17],[521,1,521,8],[521,9,521,10],[521,11,521,12],[521,13,521,14],[521,16,521,17],[522,1,522,8],[522,9,522,10],[522,11,522,12],[522,13,522,14],[522,16,522,17],[523,1,523,8],[523,9,523,10],[523,11,523,12],[523,13,523,14],[523,16,523,17],[524,1,524,8],[524,9,524,10],[524,11,524,12],[524,13,524,14],[524,16,524,17],[517,1,517,8],[517,9,517,10],[517,11,517,12],[517,13,517,14],[517,16,517,17],[518,1,518,8],[518,9,518,10],[518,11,518,12],[518,13,518,14],[518,16,518,17],[519,1,519,8],[519,9,519,10],[519,11,519,12],[519,13,519,14],[519,16,519,17],[520,1,520,8],[520,9,520,10],[520,11,520,12],[520,13,520,14],[520,16,520,17],[513,1,513,8],[513,9,513,10],[513,11,513,12],[513,13,513,14],[513,16,513,17],[514,1,514,8],[514,9,514,10],[514,11,514,12],[514,13,514,14],[514,16,514,17],[515,1,515,8],[515,9,515,10],[515,11,515,12],[515,13,515,14],[515,16,515,17],[516,1,516,8],[516,9,516,10],[516,11,516,12],[516,13,516,14],[516,16,516,17],[508,16,508,17],[509,1,509,8],[509,9,509,10],[509,11,509,12],[509,13,509,14],[509,16,509,17],[510,1,510,8],[510,9,510,10],[510,11,510,12],[510,13,510,14],[510,16,510,17],[507,9,507,10],[507,11,507,12],[507,13,507,14],[507,16,507,17],[497,1,497,8],[497,9,497,10],[497,11,497,12],[497,13,497,14],[497,16,497,17],[466,1,466,8],[466,9,466,10],[466,11,466,12],[466,13,466,14],[466,16,466,17],[467,1,467,8],[467,9,467,10],[467,11,467,12],[467,13,467,14],[467,16,467,17],[468,1,468,8],[468,9,468,10],[468,11,468,12],[468,13,468,14],[468,16,468,17],[469,1,469,8],[469,9,469,10],[469,11,469,12],[469,13,469,14],[469,16,469,17],[462,1,462,8],[462,9,462,10],[462,11,462,12],[462,13,462,14],[462,16,462,17],[463,1,463,8],[463,9,463,10],[463,11,463,12],[463,13,463,14],[463,16,463,17],[464,1,464,8],[464,9,464,10],[464,11,464,12],[464,13,464,14],[464,16,464,17],[465,1,465,8],[465,9,465,10],[465,11,465,12],[465,13,465,14],[465,16,465,17],[458,1,458,8],[458,9,458,10],[458,11,458,12],[458,13,458,14],[458,16,458,17],[459,1,459,8],[459,9,459,10],[459,11,459,12],[459,13,459,14],[459,16,459,17],[460,1,460,8],[460,9,460,10],[460,11,460,12],[460,13,460,14],[460,16,460,17],[461,1,461,8],[461,9,461,10],[461,11,461,12],[461,13,461,14],[461,16,461,17],[454,1,454,8],[454,9,454,10],[454,11,454,12],[454,13,454,14],[454,16,454,17],[455,1,455,8],[455,9,455,10],[455,11,455,12],[455,13,455,14],[455,16,455,17],[456,1,456,8],[456,9,456,10],[456,11,456,12],[456,13,456,14],[456,16,456,17],[457,1,457,8],[457,9,457,10],[457,11,457,12],[457,13,457,14],[457,16,457,17],[450,1,450,8],[450,9,450,10],[450,11,450,12],[450,13,450,14],[450,16,450,17],[451,1,451,8],[451,9,451,10],[451,11,451,12],[451,13,451,14],[451,16,451,17],[452,1,452,8],[452,9,452,10],[452,11,452,12],[452,13,452,14],[452,16,452,17],[453,1,453,8],[453,9,453,10],[453,11,453,12],[453,13,453,14],[453,16,453,17],[446,13,446,14],[446,16,446,17],[447,1,447,8],[447,9,447,10],[447,11,447,12],[447,13,447,14],[447,16,447,17],[448,1,448,8],[448,9,448,10],[448,11,448,12],[448,13,448,14],[448,16,448,17],[449,1,449,8],[449,9,449,10],[449,11,449,12],[449,13,449,14],[449,16,449,17],[401,1,401,8],[401,9,401,10],[401,11,401,12],[401,13,401,15],[401,16,401,17],[442,1,442,8],[442,9,442,10],[442,11,442,12],[442,13,442,14],[442,16,442,17],[443,1,443,8],[443,9,443,10],[443,11,443,12],[443,13,443,14],[443,16,443,17],[444,1,444,8],[444,9,444,10],[444,11,444,12],[444,13,444,14],[444,16,444,17],[438,1,438,8],[439,1,439,8],[422,9,422,10],[422,11,422,12],[422,13,422,15],[422,16,422,17],[437,9,437,10],[438,9,438,10],[439,9,439,10],[428,1,428,17],[429,10,429,17],[430,1,430,17],[397,1,397,8],[397,9,397,10],[397,11,397,12],[397,13,397,15],[397,16,397,17],[398,1,398,8],[398,9,398,10],[398,11,398,12],[398,13,398,15],[398,16,398,17],[399,1,399,8],[399,9,399,10],[399,11,399,12],[399,13,399,15],[399,16,399,17],[400,1,400,8],[400,9,400,10],[400,11,400,12],[400,13,400,15],[400,16,400,17],[393,1,393,8],[393,9,393,10],[393,11,393,12],[393,13,393,15],[393,16,393,17],[394,1,394,8],[394,9,394,10],[394,11,394,12],[394,13,394,15],[394,16,394,17],[395,1,395,8],[395,9,395,10],[395,11,395,12],[395,13,395,15],[395,16,395,17],[396,1,396,8],[396,9,396,10],[396,11,396,12],[396,13,396,15],[396,16,396,17],[389,1,389,8],[389,9,389,10],[389,11,389,12],[389,13,389,15],[389,16,389,17],[390,1,390,8],[390,9,390,10],[390,11,390,12],[390,13,390,15],[390,16,390,17],[391,1,391,8],[391,9,391,10],[391,11,391,12],[391,13,391,15],[391,16,391,17],[392,1,392,8],[392,9,392,10],[392,11,392,12],[392,13,392,15],[392,16,392,17],[385,1,385,8],[385,9,385,10],[385,11,385,12],[385,13,385,15],[385,16,385,17],[386,1,386,8],[386,9,386,10],[386,11,386,12],[386,13,386,15],[386,16,386,17],[387,1,387,8],[387,9,387,10],[387,11,387,12],[387,13,387,15],[387,16,387,17],[388,1,388,8],[388,9,388,10],[388,11,388,12],[388,13,388,15],[388,16,388,17],[381,1,381,8],[381,9,381,10],[381,11,381,12],[381,13,381,15],[381,16,381,17],[382,1,382,8],[382,9,382,10],[382,11,382,12],[382,13,382,15],[382,16,382,17],[383,1,383,8],[383,9,383,10],[383,11,383,12],[383,13,383,15],[383,16,383,17],[384,1,384,8],[384,9,384,10],[384,11,384,12],[384,13,384,15],[384,16,384,17],[377,1,377,8],[377,9,377,10],[377,11,377,12],[377,13,377,15],[377,16,377,17],[378,1,378,8],[378,9,378,10],[378,11,378,12],[378,13,378,15],[378,16,378,17],[379,1,379,8],[379,9,379,10],[379,11,379,12],[379,13,379,15],[379,16,379,17],[380,1,380,8],[380,9,380,10],[380,11,380,12],[380,13,380,15],[380,16,380,17],[373,1,373,8],[373,9,373,10],[373,11,373,12],[373,13,373,15],[373,16,373,17],[374,1,374,8],[374,9,374,10],[374,11,374,12],[374,13,374,15],[374,16,374,17],[375,1,375,8],[375,9,375,10],[375,11,375,12],[375,13,375,15],[375,16,375,17],[376,1,376,8],[376,9,376,10],[376,11,376,12],[376,13,376,15],[376,16,376,17],[355,1,355,8],[355,9,355,10],[355,11,355,12],[355,13,355,15],[355,16,355,17],[370,1,370,8],[370,9,370,10],[370,11,370,12],[370,13,370,15],[370,16,370,17],[371,1,371,8],[371,9,371,10],[371,11,371,12],[371,13,371,15],[371,16,371,17],[372,1,372,8],[372,9,372,10],[372,11,372,12],[372,13,372,15],[372,16,372,17],[369,1,369,8],[359,1,359,17],[360,1,360,17],[361,1,361,17],[362,1,362,17],[356,16,356,17],[356,13,356,15],[369,9,369,10],[369,11,369,12],[369,13,369,15],[369,16,369,17],[366,9,366,10],[318,1,318,8],[318,9,318,10],[318,11,318,12],[318,13,318,15],[318,16,318,17],[349,1,349,8],[349,9,349,10],[349,11,349,12],[349,13,349,15],[349,16,349,17],[350,1,350,8],[350,9,350,10],[350,11,350,12],[350,13,350,15],[350,16,350,17],[351,1,351,8],[351,9,351,10],[331,16,331,17],[333,11,333,12],[333,13,333,15],[333,16,333,17],[321,9,321,10],[321,11,321,12],[321,13,321,15],[346,1,346,8],[347,1,347,8],[344,1,344,8],[345,1,345,8],[345,9,345,10],[345,11,345,12],[345,13,345,15],[345,16,345,17],[352,1,352,8],[352,9,352,10],[352,11,352,12],[352,13,352,15],[352,16,352,17],[353,1,353,8],[353,9,353,10],[353,11,353,12],[353,13,353,15],[353,16,353,17],[312,1,312,8],[312,9,312,10],[312,11,312,12],[312,13,312,15],[312,16,312,17],[313,1,313,8],[313,9,313,10],[313,11,313,12],[313,13,313,15],[313,16,313,17],[351,11,351,12],[351,13,351,15],[351,16,351,17],[314,1,314,8],[314,9,314,10],[314,11,314,12],[314,13,314,15],[314,16,314,17],[315,1,315,8],[315,9,315,10],[315,11,315,12],[315,13,315,15],[317,1,317,8],[317,9,317,10],[317,11,317,12],[317,13,317,15],[308,1,308,8],[308,9,308,10],[308,11,308,12],[308,13,308,15],[308,16,308,17],[309,1,309,8],[309,9,309,10],[309,11,309,12],[309,13,309,15],[309,16,309,17],[310,1,310,8],[310,9,310,10],[310,11,310,12],[310,13,310,15],[310,16,310,17],[311,1,311,8],[311,9,311,10],[311,11,311,12],[311,13,311,15],[311,16,311,17],[305,1,305,8],[305,9,305,10],[305,11,305,12],[305,13,305,15],[305,16,305,17],[306,1,306,8],[306,9,306,10],[306,11,306,12],[306,13,306,15],[306,16,306,17],[307,1,307,8],[307,9,307,10],[307,11,307,12],[307,13,307,15],[307,16,307,17],[315,16,315,17],[316,1,316,8],[316,9,316,10],[316,11,316,12],[316,13,316,15],[316,16,316,17],[301,1,301,8],[301,9,301,10],[301,11,301,12],[301,13,301,15],[301,16,301,17],[302,1,302,8],[302,9,302,10],[302,11,302,12],[302,13,302,15],[302,16,302,17],[303,1,303,8],[303,9,303,10],[303,11,303,12],[303,13,303,15],[303,16,303,17],[304,1,304,8],[304,9,304,10],[304,11,304,12],[304,13,304,15],[304,16,304,17],[297,1,297,8],[297,9,297,10],[297,11,297,12],[297,13,297,15],[297,16,297,17],[298,1,298,8],[298,9,298,10],[298,11,298,12],[298,13,298,15],[298,16,298,17],[299,1,299,8],[299,9,299,10],[299,11,299,12],[299,13,299,15],[299,16,299,17],[300,1,300,8],[300,9,300,10],[300,11,300,12],[300,13,300,15],[300,16,300,17],[293,11,293,12],[293,13,293,15],[293,16,293,17],[294,1,294,8],[294,9,294,10],[294,11,294,12],[294,13,294,15],[294,16,294,17],[295,1,295,8],[295,9,295,10],[295,11,295,12],[295,13,295,15],[295,16,295,17],[296,1,296,8],[296,9,296,10],[296,11,296,12],[296,13,296,15],[296,16,296,17],[246,1,246,8],[246,9,246,10],[246,11,246,12],[246,13,246,15],[246,16,246,17],[247,1,247,8],[247,9,247,10],[247,11,247,12],[247,13,247,15],[247,16,247,17],[286,1,286,8],[286,9,286,10],[286,11,286,12],[286,13,286,15],[286,16,286,17],[287,1,287,8],[287,9,287,10],[287,11,287,12],[287,13,287,15],[287,16,287,17],[262,16,262,17],[263,9,263,10],[263,11,263,12],[263,13,263,15],[263,16,263,17],[259,9,259,10],[259,11,259,12],[259,13,259,15],[259,16,259,17],[260,9,260,10],[260,11,260,12],[260,13,260,15],[242,1,242,8],[242,9,242,10],[242,11,242,12],[242,13,242,15],[242,16,242,17],[243,1,243,8],[243,9,243,10],[243,11,243,12],[243,13,243,15],[243,16,243,17],[244,1,244,8],[244,9,244,10],[244,11,244,12],[244,13,244,15],[244,16,244,17],[245,1,245,8],[245,9,245,10],[245,11,245,12],[245,13,245,15],[245,16,245,17],[238,1,238,8],[238,9,238,10],[238,11,238,12],[238,13,238,15],[238,16,238,17],[239,1,239,8],[239,9,239,10],[239,11,239,12],[239,13,239,15],[239,16,239,17],[240,1,240,8],[240,9,240,10],[240,11,240,12],[240,13,240,15],[240,16,240,17],[241,1,241,8],[241,9,241,10],[241,11,241,12],[241,13,241,15],[241,16,241,17],[234,1,234,8],[234,9,234,10],[234,11,234,12],[234,13,234,15],[234,16,234,17],[235,1,235,8],[235,9,235,10],[235,11,235,12],[235,13,235,15],[235,16,235,17],[236,1,236,8],[236,9,236,10],[236,11,236,12],[236,13,236,15],[236,16,236,17],[237,1,237,8],[237,9,237,10],[237,11,237,12],[237,13,237,15],[237,16,237,17],[230,1,230,8],[230,9,230,10],[230,11,230,12],[230,13,230,15],[230,16,230,17],[231,1,231,8],[231,9,231,10],[231,11,231,12],[231,13,231,15],[231,16,231,17],[232,1,232,8],[232,9,232,10],[232,11,232,12],[232,13,232,15],[232,16,232,17],[233,1,233,8],[233,9,233,10],[233,11,233,12],[233,13,233,15],[233,16,233,17],[226,1,226,8],[226,9,226,10],[226,11,226,12],[226,13,226,15],[226,16,226,17],[227,1,227,8],[227,9,227,10],[227,11,227,12],[227,13,227,15],[227,16,227,17],[228,1,228,8],[228,9,228,10],[228,11,228,12],[228,13,228,15],[228,16,228,17],[229,1,229,8],[229,9,229,10],[229,11,229,12],[229,13,229,15],[229,16,229,17],[222,1,222,8],[222,9,222,10],[222,11,222,12],[222,13,222,15],[222,16,222,17],[223,1,223,8],[223,9,223,10],[223,11,223,12],[223,13,223,15],[223,16,223,17],[224,1,224,8],[224,9,224,10],[224,11,224,12],[224,13,224,15],[224,16,224,17],[225,1,225,8],[225,9,225,10],[225,11,225,12],[225,13,225,15],[225,16,225,17],[217,16,217,17],[218,1,218,8],[218,9,218,10],[218,11,218,12],[218,13,218,15],[218,16,218,17],[219,1,219,8],[219,9,219,10],[219,11,219,12],[219,13,219,15],[219,16,219,17],[220,1,220,8],[220,9,220,10],[220,11,220,12],[220,13,220,15],[220,16,220,17],[221,1,221,8],[221,9,221,10],[221,11,221,12],[221,13,221,15],[221,16,221,17],[173,1,173,8],[173,9,173,10],[173,11,173,12],[173,13,173,15],[173,16,173,17],[174,1,174,8],[174,9,174,10],[174,11,174,12],[174,13,174,15],[174,16,174,17],[175,1,175,8],[175,9,175,10],[175,11,175,12],[175,13,175,15],[175,16,175,17],[176,1,176,8],[176,9,176,10],[176,11,176,12],[176,13,176,15],[176,16,176,17],[169,1,169,8],[169,9,169,10],[169,11,169,12],[169,13,169,15],[169,16,169,17],[170,1,170,8],[170,9,170,10],[170,11,170,12],[170,13,170,15],[170,16,170,17],[171,1,171,8],[171,9,171,10],[171,11,171,12],[171,13,171,15],[171,16,171,17],[172,1,172,8],[172,9,172,10],[172,11,172,12],[172,13,172,15],[172,16,172,17],[165,1,165,8],[165,9,165,10],[165,11,165,12],[165,13,165,15],[165,16,165,17],[166,1,166,8],[166,9,166,10],[166,11,166,12],[166,13,166,15],[166,16,166,17],[167,1,167,8],[167,9,167,10],[167,11,167,12],[167,13,167,15],[167,16,167,17],[168,1,168,8],[168,9,168,10],[168,11,168,12],[168,13,168,15],[168,16,168,17],[161,1,161,8],[161,9,161,10],[161,11,161,12],[161,13,161,15],[161,16,161,17],[162,1,162,8],[162,9,162,10],[162,11,162,12],[162,13,162,15],[162,16,162,17],[163,1,163,8],[163,9,163,10],[163,11,163,12],[163,13,163,15],[163,16,163,17],[164,1,164,8],[164,9,164,10],[164,11,164,12],[164,13,164,15],[164,16,164,17],[157,13,157,15],[157,16,157,17],[158,1,158,8],[158,9,158,10],[158,11,158,12],[158,13,158,15],[158,16,158,17],[159,1,159,8],[159,9,159,10],[159,11,159,12],[159,13,159,15],[159,16,159,17],[160,1,160,8],[160,9,160,10],[160,11,160,12],[160,13,160,15],[160,16,160,17],[152,16,152,17],[153,1,153,8],[153,9,153,10],[153,11,153,12],[153,13,153,15],[153,16,153,17],[154,1,154,8],[154,9,154,10],[154,11,154,12],[154,13,154,15],[154,16,154,17],[155,1,155,8],[155,9,155,10],[155,11,155,12],[155,13,155,15],[155,16,155,17],[156,1,156,8],[156,9,156,10],[156,11,156,12],[156,13,156,15],[156,16,156,17],[147,16,147,17],[148,1,148,8],[148,9,148,10],[148,11,148,12],[148,13,148,15],[148,16,148,17]],"merged_total":2369,"flags":["merged_cut"]}
[null,{"$f":"'Main Page'!$N$9","v":"2026-2027"},null,"School Division:",{"$f":"'Main Page'!$L$14","v":0},null,null,null,"Division Number:",{"$f":"'Main Page'!$L$15","v":" "},{"$f":"'Main Page'!$B$6","v":"Local Consolidated Application"},null,null,null,null,null,null,null,null,null,"Don't Delete Column - Formulas Exist"]
[null,"F.  LOCAL EDUCATIONAL AGENCY BUDGET SUMMARY",null,null,null,null,null,null,null,null,null,null,null,null,null,null,null,null,null,null,"Will Hide On Implementation"]
[]
[null,null,null,null,null,"Title I, Part A","Title I, Part C","Title I, Part D","Title II, Part A","Title III, Part A",null,"Title IV, Part A",null,null,null,"Title V, Part B","DOES THE BUDGET SUMMARY  MATCH THE DETAILED BUDGET BREAKDOWN?"]
[null,"Allocation:",null,null,null,{"$f":"'Coordinated Consolidated Info.'!O47","v":0},{"$f":"'Coordinated Consolidated Info.'!O50","v":0},{"$f":"'Coordinated Consolidated Info.'!O54","v":0},{"$f":"'Coordinated Consolidated Info.'!O57","v":0},{"$f":"'Coordinated Consolidated Info.'!O61","v":0},null,{"$f":"'Coordinated Consolidated Info.'!O65","v":0},null,null,null,{"$f":"'Coordinated Consolidated Info.'!O69","v":0}]
[null,null,null,null,null,null,null,null,null,"EL","IY","Well-Rounded Education","Safe & Healthy Students","Technology","Sum"]
[null,"OBJECT CODE","EXPENDITURE"]
[null,"1000 -\nPersonnel Services","Non Set-Aside",null,null,{"$f":"_xlfn.LET(\n_xlpm.objectCode, LEFT(LOOKUP(2, 1/(INDIRECT(\"B\" & ROW() - 6 & \":B\" & ROW())<>\"\"), INDIRECT(\"B\" & ROW() - 6 & \":B\" & ROW())), 4),\n_xlpm.program, LOOKUP(2, 1/(A$4:F$4<>\"\"), A$4:F$4) & IF(TRIM(F$6)=\"\", \"\", \" - \" & TRIM(F$6)),\n_xlpm.criteria, VALUE(_xlpm.objectCode) & \"|\" & _xlpm.program & \"|\" & TRIM($C8),\nSUMIF(INDEX(BdgtConsolidated,,5), _xlpm.criteria, INDEX(BdgtConsolidated,,4))\n)","v":0},{"$f":"_xlfn.LET(\n_xlpm.objectCode, LEFT(LOOKUP(2, 1/(INDIRECT(\"B\" & ROW() - 6 & \":B\" & ROW())<>\"\"), INDIRECT(\"B\" & ROW() - 6 & \":B\" & ROW())), 4),\n_xlpm.program, LOOKUP(2, 1/(B$4:G$4<>\"\"), B$4:G$4) & IF(TRIM(G$6)=\"\", \"\", \" - \" & TRIM(G$6)),\n_xlpm.criteria, VALUE(_xlpm.objectCode) & \"|\" & _xlpm.program & \"|\" & TRIM($C8),\nSUMIF(INDEX(BdgtConsolidated,,5), _xlpm.criteria, INDEX(BdgtConsolidated,,4))\n)","v":0},{"$f":"_xlfn.LET(\n_xlpm.objectCode, LEFT(LOOKUP(2, 1/(INDIRECT(\"B\" & ROW() - 6 & \":B\" & ROW())<>\"\"), INDIRECT(\"B\" & ROW() - 6 & \":B\" & ROW())), 4),\n_xlpm.program, LOOKUP(2, 1/(C$4:H$4<>\"\"), C$4:H$4) & IF(TRIM(H$6)=\"\", \"\", \" - \" & TRIM(H$6)),\n_xlpm.criteria, VALUE(_xlpm.objectCode) & \"|\" & _xlpm.program & \"|\" & TRIM($C8),\nSUMIF(INDEX(BdgtConsolidated,,5), _xlpm.criteria, INDEX(BdgtConsolidated,,4))\n)","v":0},null,null,null,null,null,null,null,{"$f":"_xlfn.LET(\n_xlpm.objectCode, LEFT(LOOKUP(2, 1/(INDIRECT(\"B\" & ROW() - 6 & \":B\" & ROW())<>\"\"), INDIRECT(\"B\" & ROW() - 6 & \":B\" & ROW())), 4),\n_xlpm.program, LOOKUP(2, 1/(K$4:P$4<>\"\"), K$4:P$4) & IF(TRIM(P$6)=\"\", \"\", \" - \" & TRIM(P$6)),\n_xlpm.criteria, VALUE(_xlpm.objectCode) & \"|\" & _xlpm.program & \"|\" & TRIM($C8),\nSUMIF(INDEX(BdgtConsolidated,,5), _xlpm.criteria, INDEX(BdgtConsolidated,,4))\n)","v":0}]
[null,null,"Set-Aside",null,null,{"$f":"_xlfn.LET(\n_xlpm.objectCode, LEFT(LOOKUP(2, 1/(INDIRECT(\"B\" & ROW() - 6 & \":B\" & ROW())<>\"\"), INDIRECT(\"B\" & ROW() - 6 & \":B\" & ROW())), 4),\n_xlpm.program, LOOKUP(2, 1/(A$4:F$4<>\"\"), A$4:F$4) & IF(TRIM(F$6)=\"\", \"\", \" - \" & TRIM(F$6)),\n_xlpm.criteria, VALUE(_xlpm.objectCode) & \"|\" & _xlpm.program & \"|\" & TRIM($C9),\nSUMIF(INDEX(BdgtConsolidated,,5), _xlpm.criteria, INDEX(BdgtConsolidated,,4))\n)","v":0}]
[null,null,"Parent and Family Engagement Set-Aside",null,null,{"$f":"_xlfn.LET(\n_xlpm.objectCode, LEFT(LOOKUP(2, 1/(INDIRECT(\"B\" & ROW() - 6 & \":B\" & ROW())<>\"\"), INDIRECT(\"B\" & ROW() - 6 & \":B\" & ROW())), 4),\n_xlpm.program, LOOKUP(2, 1/(A$4:F$4<>\"\"), A$4:F$4) & IF(TRIM(F$6)=\"\", \"\", \" - \" & TRIM(F$6)),\n_xlpm.criteria, VALUE(_xlpm.objectCode) & \"|\" & _xlpm.program & \"|\" & TRIM($C10),\nSUMIF(INDEX(BdgtConsolidated,,5), _xlpm.criteria, INDEX(BdgtConsolidated,,4))\n)","v":0}]
[null,null,"Private School Set-Aside ",null,null,{"$f":"_xlfn.LET(\n_xlpm.objectCode, LEFT(LOOKUP(2, 1/(INDIRECT(\"B\" & ROW() - 6 & \":B\" & ROW())<>\"\"), INDIRECT(\"B\" & ROW() - 6 & \":B\" & ROW())), 4),\n_xlpm.program, LOOKUP(2, 1/(A$4:F$4<>\"\"), A$4:F$4) & IF(TRIM(F$6)=\"\", \"\", \" - \" & TRIM(F$6)),\n_xlpm.criteria, VALUE(_xlpm.objectCode) & \"|\" & _xlpm.program & \"|\" & TRIM($C11),\nSUMIF(INDEX(BdgtConsolidated,,5), _xlpm.criteria, INDEX(BdgtConsolidated,,4))\n)","v":0},{"$f":"_xlfn.LET(\n_xlpm.objectCode, LEFT(LOOKUP(2, 1/(INDIRECT(\"B\" & ROW() - 6 & \":B\" & ROW())<>\"\"), INDIRECT(\"B\" & ROW() - 6 & \":B\" & ROW())), 4),\n_xlpm.program, LOOKUP(2, 1/(B$4:G$4<>\"\"), B$4:G$4) & IF(TRIM(G$6)=\"\", \"\", \" - \" & TRIM(G$6)),\n_xlpm.criteria, VALUE(_xlpm.objectCode) & \"|\" & _xlpm.program & \"|\" & TRIM($C11),\nSUMIF(INDEX(BdgtConsolidated,,5), _xlpm.criteria, INDEX(BdgtConsolidated,,4))\n)","v":0},null,{"$f":"_xlfn.LET(\n_xlpm.objectCode, LEFT(LOOKUP(2, 1/(INDIRECT(\"B\" & ROW() - 6 & \":B\" & ROW())<>\"\"), INDIRECT(\"B\" & ROW() - 6 & \":B\" & ROW())), 4),\n_xlpm.program, LOOKUP(2, 1/(D$4:I$4<>\"\"), D$4:I$4) & IF(TRIM(I$6)=\"\", \"\", \" - \" & TRIM(I$6)),\n_xlpm.criteria, VALUE(_xlpm.objectCode) & \"|\" & _xlpm.program & \"|\" & TRIM($C11),\nSUMIF(INDEX(BdgtConsolidated,,5), _xlpm.criteria, INDEX(BdgtConsolidated,,4))\n)","v":0},{"$f":"_xlfn.LET(\n_xlpm.objectCode, LEFT(LOOKUP(2, 1/(INDIRECT(\"B\" & ROW() - 6 & \":B\" & ROW())<>\"\"), INDIRECT(\"B\" & ROW() - 6 & \":B\" & ROW())), 4),\n_xlpm.program, LOOKUP(2, 1/(E$4:J$4<>\"\"), E$4:J$4) & IF(TRIM(J$6)=\"\", \"\", \" - \" & TRIM(J$6)),\n_xlpm.criteria, VALUE(_xlpm.objectCode) & \"|\" & _xlpm.program & \"|\" & TRIM($C11),\nSUMIF(INDEX(BdgtConsolidated,,5), _xlpm.criteria, INDEX(BdgtConsolidated,,4))\n)","v":0},{"$f":"_xlfn.LET(\n_xlpm.objectCode, LEFT(LOOKUP(2, 1/(INDIRECT(\"B\" & ROW() - 6 & \":B\" & ROW())<>\"\"), INDIRECT(\"B\" & ROW() - 6 & \":B\" & ROW())), 4),\n_xlpm.program, LOOKUP(2, 1/(F$4:K$4<>\"\"), F$4:K$4) & IF(TRIM(K$6)=\"\", \"\", \" - \" & TRIM(K$6)),\n_xlpm.criteria, VALUE(_xlpm.objectCode) & \"|\" & _xlpm.program & \"|\" & TRIM($C11),\nSUMIF(INDEX(BdgtConsolidated,,5), _xlpm.criteria, INDEX(BdgtConsolidated,,4))\n)","v":0},{"$f":"_xlfn.LET(\n_xlpm.objectCode, LEFT(LOOKUP(2, 1/(INDIRECT(\"B\" & ROW() - 6 & \":B\" & ROW())<>\"\"), INDIRECT(\"B\" & ROW() - 6 & \":B\" & ROW())), 4),\n_xlpm.program, LOOKUP(2, 1/(G$4:L$4<>\"\"), G$4:L$4) & IF(TRIM(L$6)=\"\", \"\", \" - \" & TRIM(L$6)),\n_xlpm.criteria, VALUE(_xlpm.objectCode) & \"|\" & _xlpm.program & \"|\" & TRIM($C11),\nSUMIF(INDEX(BdgtConsolidated,,5), _xlpm.criteria, INDEX(BdgtConsolidated,,4))\n)","v":0},{"$f":"_xlfn.LET(\n_xlpm.objectCode, LEFT(LOOKUP(2, 1/(INDIRECT(\"B\" & ROW() - 6 & \":B\" & ROW())<>\"\"), INDIRECT(\"B\" & ROW() - 6 & \":B\" & ROW())), 4),\n_xlpm.program, LOOKUP(2, 1/(H$4:M$4<>\"\"), H$4:M$4) & IF(TRIM(M$6)=\"\", \"\", \" - \" & TRIM(M$6)),\n_xlpm.criteria, VALUE(_xlpm.objectCode) & \"|\" & _xlpm.program & \"|\" & TRIM($C11),\nSUMIF(INDEX(BdgtConsolidated,,5), _xlpm.criteria, INDEX(BdgtConsolidated,,4))\n)","v":0},{"$f":"_xlfn.LET(\n_xlpm.objectCode, LEFT(LOOKUP(2, 1/(INDIRECT(\"B\" & ROW() - 6 & \":B\" & ROW())<>\"\"), INDIRECT(\"B\" & ROW() - 6 & \":B\" & ROW())), 4),\n_xlpm.program, LOOKUP(2, 1/(I$4:N$4<>\"\"), I$4:N$4) & IF(TRIM(N$6)=\"\", \"\", \" - \" & TRIM(N$6)),\n_xlpm.criteria, VALUE(_xlpm.objectCode) & \"|\" & _xlpm.program & \"|\" & TRIM($C11),\nSUMIF(INDEX(BdgtConsolidated,,5), _xlpm.criteria, INDEX(BdgtConsolidated,,4))\n)","v":0},{"$f":"SUM(L11:N11)","v":0}]
[null,null,"Administrative",null,null,null,null,null,{"$f":"_xlfn.LET(\n_xlpm.objectCode, LEFT(LOOKUP(2, 1/(INDIRECT(\"B\" & ROW() - 6 & \":B\" & ROW())<>\"\"), INDIRECT(\"B\" & ROW() - 6 & \":B\" & ROW())), 4),\n_xlpm.program, LOOKUP(2, 1/(D$4:I$4<>\"\"), D$4:I$4) & IF(TRIM(I$6)=\"\", \"\", \" - \" & TRIM(I$6)),\n_xlpm.criteria, VALUE(_xlpm.objectCode) & \"|\" & _xlpm.program & \"|\" & TRIM($C12),\nSUMIF(INDEX(BdgtConsolidated,,5), _xlpm.criteria, INDEX(BdgtConsolidated,,4))\n)","v":0},{"$f":"_xlfn.LET(\n_xlpm.objectCode, LEFT(LOOKUP(2, 1/(INDIRECT(\"B\" & ROW() - 6 & \":B\" & ROW())<>\"\"), INDIRECT(\"B\" & ROW() - 6 & \":B\" & ROW())), 4),\n_xlpm.program, LOOKUP(2, 1/(E$4:J$4<>\"\"), E$4:J$4) & IF(TRIM(J$6)=\"\", \"\", \" - \" & TRIM(J$6)),\n_xlpm.criteria, VALUE(_xlpm.objectCode) & \"|\" & _xlpm.program & \"|\" & TRIM($C12),\nSUMIF(INDEX(BdgtConsolidated,,5), _xlpm.criteria, INDEX(BdgtConsolidated,,4))\n)","v":0},{"$f":"_xlfn.LET(\n_xlpm.objectCode, LEFT(LOOKUP(2, 1/(INDIRECT(\"B\" & ROW() - 6 & \":B\" & ROW())<>\"\"), INDIRECT(\"B\" & ROW() - 6 & \":B\" & ROW())), 4),\n_xlpm.program, LOOKUP(2, 1/(F$4:K$4<>\"\"), F$4:K$4) & IF(TRIM(K$6)=\"\", \"\", \" - \" & TRIM(K$6)),\n_xlpm.criteria, VALUE(_xlpm.objectCode) & \"|\" & _xlpm.program & \"|\" & TRIM($C12),\nSUMIF(INDEX(BdgtConsolidated,,5), _xlpm.criteria, INDEX(BdgtConsolidated,,4))\n)","v":0},{"$f":"_xlfn.LET(\n_xlpm.objectCode, LEFT(LOOKUP(2, 1/(INDIRECT(\"B\" & ROW() - 6 & \":B\" & ROW())<>\"\"), INDIRECT(\"B\" & ROW() - 6 & \":B\" & ROW())), 4),\n_xlpm.program, LOOKUP(2, 1/(G$4:L$4<>\"\"), G$4:L$4) & IF(TRIM(L$6)=\"\", \"\", \" - \" & TRIM(L$6)),\n_xlpm.criteria, VALUE(_xlpm.objectCode) & \"|\" & _xlpm.program & \"|\" & TRIM($C12),\nSUMIF(INDEX(BdgtConsolidated,,5), _xlpm.criteria, INDEX(BdgtConsolidated,,4))\n)","v":0},{"$f":"_xlfn.LET(\n_xlpm.objectCode, LEFT(LOOKUP(2, 1/(INDIRECT(\"B\" & ROW() - 6 & \":B\" & ROW())<>\"\"), INDIRECT(\"B\" & ROW() - 6 & \":B\" & ROW())), 4),\n_xlpm.program, LOOKUP(2, 1/(H$4:M$4<>\"\"), H$4:M$4) & IF(TRIM(M$6)=\"\", \"\", \" - \" & TRIM(M$6)),\n_xlpm.criteria, VALUE(_xlpm.objectCode) & \"|\" & _xlpm.program & \"|\" & TRIM($C12),\nSUMIF(INDEX(BdgtConsolidated,,5), _xlpm.criteria, INDEX(BdgtConsolidated,,4))\n)","v":0},{"$f":"_xlfn.LET(\n_xlpm.objectCode, LEFT(LOOKUP(2, 1/(INDIRECT(\"B\" & ROW() - 6 & \":B\" & ROW())<>\"\"), INDIRECT(\"B\" & ROW() - 6 & \":B\" & ROW())), 4),\n_xlpm.program, LOOKUP(2, 1/(I$4:N$4<>\"\"), I$4:N$4) & IF(TRIM(N$6)=\"\", \"\", \" - \" & TRIM(N$6)),\n_xlpm.criteria, VALUE(_xlpm.objectCode) & \"|\" & _xlpm.program & \"|\" & TRIM($C12),\nSUMIF(INDEX(BdgtConsolidated,,5), _xlpm.criteria, INDEX(BdgtConsolidated,,4))\n)","v":0},{"$f":"SUM(L12:N12)","v":0}]
[null,null,"Non-Administrative",null,null,null,null,null,{"$f":"_xlfn.LET(\n_xlpm.objectCode, LEFT(LOOKUP(2, 1/(INDIRECT(\"B\" & ROW() - 6 & \":B\" & ROW())<>\"\"), INDIRECT(\"B\" & ROW() - 6 & \":B\" & ROW())), 4),\n_xlpm.program, LOOKUP(2, 1/(D$4:I$4<>\"\"), D$4:I$4) & IF(TRIM(I$6)=\"\", \"\", \" - \" & TRIM(I$6)),\n_xlpm.criteria, VALUE(_xlpm.objectCode) & \"|\" & _xlpm.program & \"|\" & TRIM($C13),\nSUMIF(INDEX(BdgtConsolidated,,5), _xlpm.criteria, INDEX(BdgtConsolidated,,4))\n)","v":0},{"$f":"_xlfn.LET(\n_xlpm.objectCode, LEFT(LOOKUP(2, 1/(INDIRECT(\"B\" & ROW() - 6 & \":B\" & ROW())<>\"\"), INDIRECT(\"B\" & ROW() - 6 & \":B\" & ROW())), 4),\n_xlpm.program, LOOKUP(2, 1/(E$4:J$4<>\"\"), E$4:J$4) & IF(TRIM(J$6)=\"\", \"\", \" - \" & TRIM(J$6)),\n_xlpm.criteria, VALUE(_xlpm.objectCode) & \"|\" & _xlpm.program & \"|\" & TRIM($C13),\nSUMIF(INDEX(BdgtConsolidated,,5), _xlpm.criteria, INDEX(BdgtConsolidated,,4))\n)","v":0},{"$f":"_xlfn.LET(\n_xlpm.objectCode, LEFT(LOOKUP(2, 1/(INDIRECT(\"B\" & ROW() - 6 & \":B\" & ROW())<>\"\"), INDIRECT(\"B\" & ROW() - 6 & \":B\" & ROW())), 4),\n_xlpm.program, LOOKUP(2, 1/(F$4:K$4<>\"\"), F$4:K$4) & IF(TRIM(K$6)=\"\", \"\", \" - \" & TRIM(K$6)),\n_xlpm.criteria, VALUE(_xlpm.objectCode) & \"|\" & _xlpm.program & \"|\" & TRIM($C13),\nSUMIF(INDEX(BdgtConsolidated,,5), _xlpm.criteria, INDEX(BdgtConsolidated,,4))\n)","v":0},{"$f":"_xlfn.LET(\n_xlpm.objectCode, LEFT(LOOKUP(2, 1/(INDIRECT(\"B\" & ROW() - 6 & \":B\" & ROW())<>\"\"), INDIRECT(\"B\" & ROW() - 6 & \":B\" & ROW())), 4),\n_xlpm.program, LOOKUP(2, 1/(G$4:L$4<>\"\"), G$4:L$4) & IF(TRIM(L$6)=\"\", \"\", \" - \" & TRIM(L$6)),\n_xlpm.criteria, VALUE(_xlpm.objectCode) & \"|\" & _xlpm.program & \"|\" & TRIM($C13),\nSUMIF(INDEX(BdgtConsolidated,,5), _xlpm.criteria, INDEX(BdgtConsolidated,,4))\n)","v":0},{"$f":"_xlfn.LET(\n_xlpm.objectCode, LEFT(LOOKUP(2, 1/(INDIRECT(\"B\" & ROW() - 6 & \":B\" & ROW())<>\"\"), INDIRECT(\"B\" & ROW() - 6 & \":B\" & ROW())), 4),\n_xlpm.program, LOOKUP(2, 1/(H$4:M$4<>\"\"), H$4:M$4) & IF(TRIM(M$6)=\"\", \"\", \" - \" & TRIM(M$6)),\n_xlpm.criteria, VALUE(_xlpm.objectCode) & \"|\" & _xlpm.program & \"|\" & TRIM($C13),\nSUMIF(INDEX(BdgtConsolidated,,5), _xlpm.criteria, INDEX(BdgtConsolidated,,4))\n)","v":0},{"$f":"_xlfn.LET(\n_xlpm.objectCode, LEFT(LOOKUP(2, 1/(INDIRECT(\"B\" & ROW() - 6 & \":B\" & ROW())<>\"\"), INDIRECT(\"B\" & ROW() - 6 & \":B\" & ROW())), 4),\n_xlpm.program, LOOKUP(2, 1/(I$4:N$4<>\"\"), I$4:N$4) & IF(TRIM(N$6)=\"\", \"\", \" - \" & TRIM(N$6)),\n_xlpm.criteria, VALUE(_xlpm.objectCode) & \"|\" & _xlpm.program & \"|\" & TRIM($C13),\nSUMIF(INDEX(BdgtConsolidated,,5), _xlpm.criteria, INDEX(BdgtConsolidated,,4))\n)","v":0},{"$f":"SUM(L13:N13)","v":0}]
[null,null,"Total  Personnel Services",null,null,{"$f":"SUM(F8:F13)","v":0},0,0,0,{"$f":"SUM(J8:J13)","v":0},0,0,0,0,{"$f":"SUM(L14:N14)","v":0},{"$f":"SUM(P8:P13)","v":0},{"$f":"IF(SUM(Q130)=SUM(F14:N14,P14),\"Yes\", \"No - Please review your entries.\")","v":"Yes"}]
[null,"2000 -\nEmployee Benefits","Non Set-Aside",null,null,{"$f":"_xlfn.LET(\n_xlpm.objectCode, LEFT(LOOKUP(2, 1/(INDIRECT(\"B\" & ROW() - 6 & \":B\" & ROW())<>\"\"), INDIRECT(\"B\" & ROW() - 6 & \":B\" & ROW())), 4),\n_xlpm.program, LOOKUP(2, 1/(A$4:F$4<>\"\"), A$4:F$4) & IF(TRIM(F$6)=\"\", \"\", \" - \" & TRIM(F$6)),\n_xlpm.criteria, VALUE(_xlpm.objectCode) & \"|\" & _xlpm.program & \"|\" & TRIM($C15),\nSUMIF(INDEX(BdgtConsolidated,,5), _xlpm.criteria, INDEX(BdgtConsolidated,,4))\n)","v":0},{"$f":"_xlfn.LET(\n_xlpm.objectCode, LEFT(LOOKUP(2, 1/(INDIRECT(\"B\" & ROW() - 6 & \":B\" & ROW())<>\"\"), INDIRECT(\"B\" & ROW() - 6 & \":B\" & ROW())), 4),\n_xlpm.program, LOOKUP(2, 1/(B$4:G$4<>\"\"), B$4:G$4) & IF(TRIM(G$6)=\"\", \"\", \" - \" & TRIM(G$6)),\n_xlpm.criteria, VALUE(_xlpm.objectCode) & \"|\" & _xlpm.program & \"|\" & TRIM($C15),\nSUMIF(INDEX(BdgtConsolidated,,5), _xlpm.criteria, INDEX(BdgtConsolidated,,4))\n)","v":0},{"$f":"_xlfn.LET(\n_xlpm.objectCode, LEFT(LOOKUP(2, 1/(INDIRECT(\"B\" & ROW() - 6 & \":B\" & ROW())<>\"\"), INDIRECT(\"B\" & ROW() - 6 & \":B\" & ROW())), 4),\n_xlpm.program, LOOKUP(2, 1/(C$4:H$4<>\"\"), C$4:H$4) & IF(TRIM(H$6)=\"\", \"\", \" - \" & TRIM(H$6)),\n_xlpm.criteria, VALUE(_xlpm.objectCode) & \"|\" & _xlpm.program & \"|\" & TRIM($C15),\nSUMIF(INDEX(BdgtConsolidated,,5), _xlpm.criteria, INDEX(BdgtConsolidated,,4))\n)","v":0},null,null,null,null,null,null,null,{"$f":"_xlfn.LET(\n_xlpm.objectCode, LEFT(LOOKUP(2, 1/(INDIRECT(\"B\" & ROW() - 6 & \":B\" & ROW())<>\"\"), INDIRECT(\"B\" & ROW() - 6 & \":B\" & ROW())), 4),\n_xlpm.program, LOOKUP(2, 1/(K$4:P$4<>\"\"), K$4:P$4) & IF(TRIM(P$6)=\"\", \"\", \" - \" & TRIM(P$6)),\n_xlpm.criteria, VALUE(_xlpm.objectCode) & \"|\" & _xlpm.program & \"|\" & TRIM($C15),\nSUMIF(INDEX(BdgtConsolidated,,5), _xlpm.criteria, INDEX(BdgtConsolidated,,4))\n)","v":0}]
[null,null,"Set-Aside",null,null,{"$f":"_xlfn.LET(\n_xlpm.objectCode, LEFT(LOOKUP(2, 1/(INDIRECT(\"B\" & ROW() - 6 & \":B\" & ROW())<>\"\"), INDIRECT(\"B\" & ROW() - 6 & \":B\" & ROW())), 4),\n_xlpm.program, LOOKUP(2, 1/(A$4:F$4<>\"\"), A$4:F$4) & IF(TRIM(F$6)=\"\", \"\", \" - \" & TRIM(F$6)),\n_xlpm.criteria, VALUE(_xlpm.objectCode) & \"|\" & _xlpm.program & \"|\" & TRIM($C16),\nSUMIF(INDEX(BdgtConsolidated,,5), _xlpm.criteria, INDEX(BdgtConsolidated,,4))\n)","v":0}]
[null,null,"Parent and Family Engagement Set-Aside",null,null,{"$f":"_xlfn.LET(\n_xlpm.objectCode, LEFT(LOOKUP(2, 1/(INDIRECT(\"B\" & ROW() - 6 & \":B\" & ROW())<>\"\"), INDIRECT(\"B\" & ROW() - 6 & \":B\" & ROW())), 4),\n_xlpm.program, LOOKUP(2, 1/(A$4:F$4<>\"\"), A$4:F$4) & IF(TRIM(F$6)=\"\", \"\", \" - \" & TRIM(F$6)),\n_xlpm.criteria, VALUE(_xlpm.objectCode) & \"|\" & _xlpm.program & \"|\" & TRIM($C17),\nSUMIF(INDEX(BdgtConsolidated,,5), _xlpm.criteria, INDEX(BdgtConsolidated,,4))\n)","v":0}]
[null,null,"Private School Set-Aside ",null,null,{"$f":"_xlfn.LET(\n_xlpm.objectCode, LEFT(LOOKUP(2, 1/(INDIRECT(\"B\" & ROW() - 6 & \":B\" & ROW())<>\"\"), INDIRECT(\"B\" & ROW() - 6 & \":B\" & ROW())), 4),\n_xlpm.program, LOOKUP(2, 1/(A$4:F$4<>\"\"), A$4:F$4) & IF(TRIM(F$6)=\"\", \"\", \" - \" & TRIM(F$6)),\n_xlpm.criteria, VALUE(_xlpm.objectCode) & \"|\" & _xlpm.program & \"|\" & TRIM($C18),\nSUMIF(INDEX(BdgtConsolidated,,5), _xlpm.criteria, INDEX(BdgtConsolidated,,4))\n)","v":0},{"$f":"_xlfn.LET(\n_xlpm.objectCode, LEFT(LOOKUP(2, 1/(INDIRECT(\"B\" & ROW() - 6 & \":B\" & ROW())<>\"\"), INDIRECT(\"B\" & ROW() - 6 & \":B\" & ROW())), 4),\n_xlpm.program, LOOKUP(2, 1/(B$4:G$4<>\"\"), B$4:G$4) & IF(TRIM(G$6)=\"\", \"\", \" - \" & TRIM(G$6)),\n_xlpm.criteria, VALUE(_xlpm.objectCode) & \"|\" & _xlpm.program & \"|\" & TRIM($C18),\nSUMIF(INDEX(BdgtConsolidated,,5), _xlpm.criteria, INDEX(BdgtConsolidated,,4))\n)","v":0},null,{"$f":"_xlfn.LET(\n_xlpm.objectCode, LEFT(LOOKUP(2, 1/(INDIRECT(\"B\" & ROW() - 6 & \":B\" & ROW())<>\"\"), INDIRECT(\"B\" & ROW() - 6 & \":B\" & ROW())), 4),\n_xlpm.program, LOOKUP(2, 1/(D$4:I$4<>\"\"), D$4:I$4) & IF(TRIM(I$6)=\"\", \"\", \" - \" & TRIM(I$6)),\n_xlpm.criteria, VALUE(_xlpm.objectCode) & \"|\" & _xlpm.program & \"|\" & TRIM($C18),\nSUMIF(INDEX(BdgtConsolidated,,5), _xlpm.criteria, INDEX(BdgtConsolidated,,4))\n)","v":0},{"$f":"_xlfn.LET(\n_xlpm.objectCode, LEFT(LOOKUP(2, 1/(INDIRECT(\"B\" & ROW() - 6 & \":B\" & ROW())<>\"\"), INDIRECT(\"B\" & ROW() - 6 & \":B\" & ROW())), 4),\n_xlpm.program, LOOKUP(2, 1/(E$4:J$4<>\"\"), E$4:J$4) & IF(TRIM(J$6)=\"\", \"\", \" - \" & TRIM(J$6)),\n_xlpm.criteria, VALUE(_xlpm.objectCode) & \"|\" & _xlpm.program & \"|\" & TRIM($C18),\nSUMIF(INDEX(BdgtConsolidated,,5), _xlpm.criteria, INDEX(BdgtConsolidated,,4))\n)","v":0},{"$f":"_xlfn.LET(\n_xlpm.objectCode, LEFT(LOOKUP(2, 1/(INDIRECT(\"B\" & ROW() - 6 & \":B\" & ROW())<>\"\"), INDIRECT(\"B\" & ROW() - 6 & \":B\" & ROW())), 4),\n_xlpm.program, LOOKUP(2, 1/(F$4:K$4<>\"\"), F$4:K$4) & IF(TRIM(K$6)=\"\", \"\", \" - \" & TRIM(K$6)),\n_xlpm.criteria, VALUE(_xlpm.objectCode) & \"|\" & _xlpm.program & \"|\" & TRIM($C18),\nSUMIF(INDEX(BdgtConsolidated,,5), _xlpm.criteria, INDEX(BdgtConsolidated,,4))\n)","v":0},{"$f":"_xlfn.LET(\n_xlpm.objectCode, LEFT(LOOKUP(2, 1/(INDIRECT(\"B\" & ROW() - 6 & \":B\" & ROW())<>\"\"), INDIRECT(\"B\" & ROW() - 6 & \":B\" & ROW())), 4),\n_xlpm.program, LOOKUP(2, 1/(G$4:L$4<>\"\"), G$4:L$4) & IF(TRIM(L$6)=\"\", \"\", \" - \" & TRIM(L$6)),\n_xlpm.criteria, VALUE(_xlpm.objectCode) & \"|\" & _xlpm.program & \"|\" & TRIM($C18),\nSUMIF(INDEX(BdgtConsolidated,,5), _xlpm.criteria, INDEX(BdgtConsolidated,,4))\n)","v":0},{"$f":"_xlfn.LET(\n_xlpm.objectCode, LEFT(LOOKUP(2, 1/(INDIRECT(\"B\" & ROW() - 6 & \":B\" & ROW())<>\"\"), INDIRECT(\"B\" & ROW() - 6 & \":B\" & ROW())), 4),\n_xlpm.program, LOOKUP(2, 1/(H$4:M$4<>\"\"), H$4:M$4) & IF(TRIM(M$6)=\"\", \"\", \" - \" & TRIM(M$6)),\n_xlpm.criteria, VALUE(_xlpm.objectCode) & \"|\" & _xlpm.program & \"|\" & TRIM($C18),\nSUMIF(INDEX(BdgtConsolidated,,5), _xlpm.criteria, INDEX(BdgtConsolidated,,4))\n)","v":0},{"$f":"_xlfn.LET(\n_xlpm.objectCode, LEFT(LOOKUP(2, 1/(INDIRECT(\"B\" & ROW() - 6 & \":B\" & ROW())<>\"\"), INDIRECT(\"B\" & ROW() - 6 & \":B\" & ROW())), 4),\n_xlpm.program, LOOKUP(2, 1/(I$4:N$4<>\"\"), I$4:N$4) & IF(TRIM(N$6)=\"\", \"\", \" - \" & TRIM(N$6)),\n_xlpm.criteria, VALUE(_xlpm.objectCode) & \"|\" & _xlpm.program & \"|\" & TRIM($C18),\nSUMIF(INDEX(BdgtConsolidated,,5), _xlpm.criteria, INDEX(BdgtConsolidated,,4))\n)","v":0},{"$f":"SUM(L18:N18)","v":0}]
[null,null,"Administrative",null,null,null,null,null,{"$f":"_xlfn.LET(\n_xlpm.objectCode, LEFT(LOOKUP(2, 1/(INDIRECT(\"B\" & ROW() - 6 & \":B\" & ROW())<>\"\"), INDIRECT(\"B\" & ROW() - 6 & \":B\" & ROW())), 4),\n_xlpm.program, LOOKUP(2, 1/(D$4:I$4<>\"\"), D$4:I$4) & IF(TRIM(I$6)=\"\", \"\", \" - \" & TRIM(I$6)),\n_xlpm.criteria, VALUE(_xlpm.objectCode) & \"|\" & _xlpm.program & \"|\" & TRIM($C19),\nSUMIF(INDEX(BdgtConsolidated,,5), _xlpm.criteria, INDEX(BdgtConsolidated,,4))\n)","v":0},{"$f":"_xlfn.LET(\n_xlpm.objectCode, LEFT(LOOKUP(2, 1/(INDIRECT(\"B\" & ROW() - 6 & \":B\" & ROW())<>\"\"), INDIRECT(\"B\" & ROW() - 6 & \":B\" & ROW())), 4),\n_xlpm.program, LOOKUP(2, 1/(E$4:J$4<>\"\"), E$4:J$4) & IF(TRIM(J$6)=\"\", \"\", \" - \" & TRIM(J$6)),\n_xlpm.criteria, VALUE(_xlpm.objectCode) & \"|\" & _xlpm.program & \"|\" & TRIM($C19),\nSUMIF(INDEX(BdgtConsolidated,,5), _xlpm.criteria, INDEX(BdgtConsolidated,,4))\n)","v":0},{"$f":"_xlfn.LET(\n_xlpm.objectCode, LEFT(LOOKUP(2, 1/(INDIRECT(\"B\" & ROW() - 6 & \":B\" & ROW())<>\"\"), INDIRECT(\"B\" & ROW() - 6 & \":B\" & ROW())), 4),\n_xlpm.program, LOOKUP(2, 1/(F$4:K$4<>\"\"), F$4:K$4) & IF(TRIM(K$6)=\"\", \"\", \" - \" & TRIM(K$6)),\n_xlpm.criteria, VALUE(_xlpm.objectCode) & \"|\" & _xlpm.program & \"|\" & TRIM($C19),\nSUMIF(INDEX(BdgtConsolidated,,5), _xlpm.criteria, INDEX(BdgtConsolidated,,4))\n)","v":0},{"$f":"_xlfn.LET(\n_xlpm.objectCode, LEFT(LOOKUP(2, 1/(INDIRECT(\"B\" & ROW() - 6 & \":B\" & ROW())<>\"\"), INDIRECT(\"B\" & ROW() - 6 & \":B\" & ROW())), 4),\n_xlpm.program, LOOKUP(2, 1/(G$4:L$4<>\"\"), G$4:L$4) & IF(TRIM(L$6)=\"\", \"\", \" - \" & TRIM(L$6)),\n_xlpm.criteria, VALUE(_xlpm.objectCode) & \"|\" & _xlpm.program & \"|\" & TRIM($C19),\nSUMIF(INDEX(BdgtConsolidated,,5), _xlpm.criteria, INDEX(BdgtConsolidated,,4))\n)","v":0},{"$f":"_xlfn.LET(\n_xlpm.objectCode, LEFT(LOOKUP(2, 1/(INDIRECT(\"B\" & ROW() - 6 & \":B\" & ROW())<>\"\"), INDIRECT(\"B\" & ROW() - 6 & \":B\" & ROW())), 4),\n_xlpm.program, LOOKUP(2, 1/(H$4:M$4<>\"\"), H$4:M$4) & IF(TRIM(M$6)=\"\", \"\", \" - \" & TRIM(M$6)),\n_xlpm.criteria, VALUE(_xlpm.objectCode) & \"|\" & _xlpm.program & \"|\" & TRIM($C19),\nSUMIF(INDEX(BdgtConsolidated,,5), _xlpm.criteria, INDEX(BdgtConsolidated,,4))\n)","v":0},{"$f":"_xlfn.LET(\n_xlpm.objectCode, LEFT(LOOKUP(2, 1/(INDIRECT(\"B\" & ROW() - 6 & \":B\" & ROW())<>\"\"), INDIRECT(\"B\" & ROW() - 6 & \":B\" & ROW())), 4),\n_xlpm.program, LOOKUP(2, 1/(I$4:N$4<>\"\"), I$4:N$4) & IF(TRIM(N$6)=\"\", \"\", \" - \" & TRIM(N$6)),\n_xlpm.criteria, VALUE(_xlpm.objectCode) & \"|\" & _xlpm.program & \"|\" & TRIM($C19),\nSUMIF(INDEX(BdgtConsolidated,,5), _xlpm.criteria, INDEX(BdgtConsolidated,,4))\n)","v":0},{"$f":"SUM(L19:N19)","v":0}]
[null,null,"Non-Administrative",null,null,null,null,null,{"$f":"_xlfn.LET(\n_xlpm.objectCode, LEFT(LOOKUP(2, 1/(INDIRECT(\"B\" & ROW() - 6 & \":B\" & ROW())<>\"\"), INDIRECT(\"B\" & ROW() - 6 & \":B\" & ROW())), 4),\n_xlpm.program, LOOKUP(2, 1/(D$4:I$4<>\"\"), D$4:I$4) & IF(TRIM(I$6)=\"\", \"\", \" - \" & TRIM(I$6)),\n_xlpm.criteria, VALUE(_xlpm.objectCode) & \"|\" & _xlpm.program & \"|\" & TRIM($C20),\nSUMIF(INDEX(BdgtConsolidated,,5), _xlpm.criteria, INDEX(BdgtConsolidated,,4))\n)","v":0},{"$f":"_xlfn.LET(\n_xlpm.objectCode, LEFT(LOOKUP(2, 1/(INDIRECT(\"B\" & ROW() - 6 & \":B\" & ROW())<>\"\"), INDIRECT(\"B\" & ROW() - 6 & \":B\" & ROW())), 4),\n_xlpm.program, LOOKUP(2, 1/(E$4:J$4<>\"\"), E$4:J$4) & IF(TRIM(J$6)=\"\", \"\", \" - \" & TRIM(J$6)),\n_xlpm.criteria, VALUE(_xlpm.objectCode) & \"|\" & _xlpm.program & \"|\" & TRIM($C20),\nSUMIF(INDEX(BdgtConsolidated,,5), _xlpm.criteria, INDEX(BdgtConsolidated,,4))\n)","v":0},{"$f":"_xlfn.LET(\n_xlpm.objectCode, LEFT(LOOKUP(2, 1/(INDIRECT(\"B\" & ROW() - 6 & \":B\" & ROW())<>\"\"), INDIRECT(\"B\" & ROW() - 6 & \":B\" & ROW())), 4),\n_xlpm.program, LOOKUP(2, 1/(F$4:K$4<>\"\"), F$4:K$4) & IF(TRIM(K$6)=\"\", \"\", \" - \" & TRIM(K$6)),\n_xlpm.criteria, VALUE(_xlpm.objectCode) & \"|\" & _xlpm.program & \"|\" & TRIM($C20),\nSUMIF(INDEX(BdgtConsolidated,,5), _xlpm.criteria, INDEX(BdgtConsolidated,,4))\n)","v":0},{"$f":"_xlfn.LET(\n_xlpm.objectCode, LEFT(LOOKUP(2, 1/(INDIRECT(\"B\" & ROW() - 6 & \":B\" & ROW())<>\"\"), INDIRECT(\"B\" & ROW() - 6 & \":B\" & ROW())), 4),\n_xlpm.program, LOOKUP(2, 1/(G$4:L$4<>\"\"), G$4:L$4) & IF(TRIM(L$6)=\"\", \"\", \" - \" & TRIM(L$6)),\n_xlpm.criteria, VALUE(_xlpm.objectCode) & \"|\" & _xlpm.program & \"|\" & TRIM($C20),\nSUMIF(INDEX(BdgtConsolidated,,5), _xlpm.criteria, INDEX(BdgtConsolidated,,4))\n)","v":0},{"$f":"_xlfn.LET(\n_xlpm.objectCode, LEFT(LOOKUP(2, 1/(INDIRECT(\"B\" & ROW() - 6 & \":B\" & ROW())<>\"\"), INDIRECT(\"B\" & ROW() - 6 & \":B\" & ROW())), 4),\n_xlpm.program, LOOKUP(2, 1/(H$4:M$4<>\"\"), H$4:M$4) & IF(TRIM(M$6)=\"\", \"\", \" - \" & TRIM(M$6)),\n_xlpm.criteria, VALUE(_xlpm.objectCode) & \"|\" & _xlpm.program & \"|\" & TRIM($C20),\nSUMIF(INDEX(BdgtConsolidated,,5), _xlpm.criteria, INDEX(BdgtConsolidated,,4))\n)","v":0},{"$f":"_xlfn.LET(\n_xlpm.objectCode, LEFT(LOOKUP(2, 1/(INDIRECT(\"B\" & ROW() - 6 & \":B\" & ROW())<>\"\"), INDIRECT(\"B\" & ROW() - 6 & \":B\" & ROW())), 4),\n_xlpm.program, LOOKUP(2, 1/(I$4:N$4<>\"\"), I$4:N$4) & IF(TRIM(N$6)=\"\", \"\", \" - \" & TRIM(N$6)),\n_xlpm.criteria, VALUE(_xlpm.objectCode) & \"|\" & _xlpm.program & \"|\" & TRIM($C20),\nSUMIF(INDEX(BdgtConsolidated,,5), _xlpm.criteria, INDEX(BdgtConsolidated,,4))\n)","v":0},{"$f":"SUM(L20:N20)","v":0}]
[null,null,"Total Employee Benefits",null,null,{"$f":"SUM(F15:F20)","v":0},0,0,0,{"$f":"SUM(J15:J20)","v":0},0,0,0,0,{"$f":"SUM(L21:N21)","v":0},{"$f":"SUM(P15:P20)","v":0},{"$f":"IF(SUM(Q203)=SUM(F21:N21,P21),\"Yes\",\"No - Please review your entries.\")","v":"Yes"}]
[null,"3000 - \nPurchased/\nContracted Services","Non Set-Aside",null,null,{"$f":"_xlfn.LET(\n_xlpm.objectCode, LEFT(LOOKUP(2, 1/(INDIRECT(\"B\" & ROW() - 6 & \":B\" & ROW())<>\"\"), INDIRECT(\"B\" & ROW() - 6 & \":B\" & ROW())), 4),\n_xlpm.program, LOOKUP(2, 1/(A$4:F$4<>\"\"), A$4:F$4) & IF(TRIM(F$6)=\"\", \"\", \" - \" & TRIM(F$6)),\n_xlpm.criteria, VALUE(_xlpm.objectCode) & \"|\" & _xlpm.program & \"|\" & TRIM($C22),\nSUMIF(INDEX(BdgtConsolidated,,5), _xlpm.criteria, INDEX(BdgtConsolidated,,4))\n)","v":0},{"$f":"_xlfn.LET(\n_xlpm.objectCode, LEFT(LOOKUP(2, 1/(INDIRECT(\"B\" & ROW() - 6 & \":B\" & ROW())<>\"\"), INDIRECT(\"B\" & ROW() - 6 & \":B\" & ROW())), 4),\n_xlpm.program, LOOKUP(2, 1/(B$4:G$4<>\"\"), B$4:G$4) & IF(TRIM(G$6)=\"\", \"\", \" - \" & TRIM(G$6)),\n_xlpm.criteria, VALUE(_xlpm.objectCode) & \"|\" & _xlpm.program & \"|\" & TRIM($C22),\nSUMIF(INDEX(BdgtConsolidated,,5), _xlpm.criteria, INDEX(BdgtConsolidated,,4))\n)","v":0},{"$f":"_xlfn.LET(\n_xlpm.objectCode, LEFT(LOOKUP(2, 1/(INDIRECT(\"B\" & ROW() - 6 & \":B\" & ROW())<>\"\"), INDIRECT(\"B\" & ROW() - 6 & \":B\" & ROW())), 4),\n_xlpm.program, LOOKUP(2, 1/(C$4:H$4<>\"\"), C$4:H$4) & IF(TRIM(H$6)=\"\", \"\", \" - \" & TRIM(H$6)),\n_xlpm.criteria, VALUE(_xlpm.objectCode) & \"|\" & _xlpm.program & \"|\" & TRIM($C22),\nSUMIF(INDEX(BdgtConsolidated,,5), _xlpm.criteria, INDEX(BdgtConsolidated,,4))\n)","v":0},null,null,null,null,null,null,null,{"$f":"_xlfn.LET(\n_xlpm.objectCode, LEFT(LOOKUP(2, 1/(INDIRECT(\"B\" & ROW() - 6 & \":B\" & ROW())<>\"\"), INDIRECT(\"B\" & ROW() - 6 & \":B\" & ROW())), 4),\n_xlpm.program, LOOKUP(2, 1/(K$4:P$4<>\"\"), K$4:P$4) & IF(TRIM(P$6)=\"\", \"\", \" - \" & TRIM(P$6)),\n_xlpm.criteria, VALUE(_xlpm.objectCode) & \"|\" & _xlpm.program & \"|\" & TRIM($C22),\nSUMIF(INDEX(BdgtConsolidated,,5), _xlpm.criteria, INDEX(BdgtConsolidated,,4))\n)","v":0}]
[null,null,"Set-Aside",null,null,{"$f":"_xlfn.LET(\n_xlpm.objectCode, LEFT(LOOKUP(2, 1/(INDIRECT(\"B\" & ROW() - 6 & \":B\" & ROW())<>\"\"), INDIRECT(\"B\" & ROW() - 6 & \":B\" & ROW())), 4),\n_xlpm.program, LOOKUP(2, 1/(A$4:F$4<>\"\"), A$4:F$4) & IF(TRIM(F$6)=\"\", \"\", \" - \" & TRIM(F$6)),\n_xlpm.criteria, VALUE(_xlpm.objectCode) & \"|\" & _xlpm.program & \"|\" & TRIM($C23),\nSUMIF(INDEX(BdgtConsolidated,,5), _xlpm.criteria, INDEX(BdgtConsolidated,,4))\n)","v":0}]
[null,null,"Parent and Family Engagement Set-Aside",null,null,{"$f":"_xlfn.LET(\n_xlpm.objectCode, LEFT(LOOKUP(2, 1/(INDIRECT(\"B\" & ROW() - 6 & \":B\" & ROW())<>\"\"), INDIRECT(\"B\" & ROW() - 6 & \":B\" & ROW())), 4),\n_xlpm.program, LOOKUP(2, 1/(A$4:F$4<>\"\"), A$4:F$4) & IF(TRIM(F$6)=\"\", \"\", \" - \" & TRIM(F$6)),\n_xlpm.criteria, VALUE(_xlpm.objectCode) & \"|\" & _xlpm.program & \"|\" & TRIM($C24),\nSUMIF(INDEX(BdgtConsolidated,,5), _xlpm.criteria, INDEX(BdgtConsolidated,,4))\n)","v":0}]
[null,null,"Private School Set-Aside ",null,null,{"$f":"_xlfn.LET(\n_xlpm.objectCode, LEFT(LOOKUP(2, 1/(INDIRECT(\"B\" & ROW() - 6 & \":B\" & ROW())<>\"\"), INDIRECT(\"B\" & ROW() - 6 & \":B\" & ROW())), 4),\n_xlpm.program, LOOKUP(2, 1/(A$4:F$4<>\"\"), A$4:F$4) & IF(TRIM(F$6)=\"\", \"\", \" - \" & TRIM(F$6)),\n_xlpm.criteria, VALUE(_xlpm.objectCode) & \"|\" & _xlpm.program & \"|\" & TRIM($C25),\nSUMIF(INDEX(BdgtConsolidated,,5), _xlpm.criteria, INDEX(BdgtConsolidated,,4))\n)","v":0},{"$f":"_xlfn.LET(\n_xlpm.objectCode, LEFT(LOOKUP(2, 1/(INDIRECT(\"B\" & ROW() - 6 & \":B\" & ROW())<>\"\"), INDIRECT(\"B\" & ROW() - 6 & \":B\" & ROW())), 4),\n_xlpm.program, LOOKUP(2, 1/(B$4:G$4<>\"\"), B$4:G$4) & IF(TRIM(G$6)=\"\", \"\", \" - \" & TRIM(G$6)),\n_xlpm.criteria, VALUE(_xlpm.objectCode) & \"|\" & _xlpm.program & \"|\" & TRIM($C25),\nSUMIF(INDEX(BdgtConsolidated,,5), _xlpm.criteria, INDEX(BdgtConsolidated,,4))\n)","v":0},null,{"$f":"_xlfn.LET(\n_xlpm.objectCode, LEFT(LOOKUP(2, 1/(INDIRECT(\"B\" & ROW() - 6 & \":B\" & ROW())<>\"\"), INDIRECT(\"B\" & ROW() - 6 & \":B\" & ROW())), 4),\n_xlpm.program, LOOKUP(2, 1/(D$4:I$4<>\"\"), D$4:I$4) & IF(TRIM(I$6)=\"\", \"\", \" - \" & TRIM(I$6)),\n_xlpm.criteria, VALUE(_xlpm.objectCode) & \"|\" & _xlpm.program & \"|\" & TRIM($C25),\nSUMIF(INDEX(BdgtConsolidated,,5), _xlpm.criteria, INDEX(BdgtConsolidated,,4))\n)","v":0},{"$f":"_xlfn.LET(\n_xlpm.objectCode, LEFT(LOOKUP(2, 1/(INDIRECT(\"B\" & ROW() - 6 & \":B\" & ROW())<>\"\"), INDIRECT(\"B\" & ROW() - 6 & \":B\" & ROW())), 4),\n_xlpm.program, LOOKUP(2, 1/(E$4:J$4<>\"\"), E$4:J$4) & IF(TRIM(J$6)=\"\", \"\", \" - \" & TRIM(J$6)),\n_xlpm.criteria, VALUE(_xlpm.objectCode) & \"|\" & _xlpm.program & \"|\" & TRIM($C25),\nSUMIF(INDEX(BdgtConsolidated,,5), _xlpm.criteria, INDEX(BdgtConsolidated,,4))\n)","v":0},{"$f":"_xlfn.LET(\n_xlpm.objectCode, LEFT(LOOKUP(2, 1/(INDIRECT(\"B\" & ROW() - 6 & \":B\" & ROW())<>\"\"), INDIRECT(\"B\" & ROW() - 6 & \":B\" & ROW())), 4),\n_xlpm.program, LOOKUP(2, 1/(F$4:K$4<>\"\"), F$4:K$4) & IF(TRIM(K$6)=\"\", \"\", \" - \" & TRIM(K$6)),\n_xlpm.criteria, VALUE(_xlpm.objectCode) & \"|\" & _xlpm.program & \"|\" & TRIM($C25),\nSUMIF(INDEX(BdgtConsolidated,,5), _xlpm.criteria, INDEX(BdgtConsolidated,,4))\n)","v":0},{"$f":"_xlfn.LET(\n_xlpm.objectCode, LEFT(LOOKUP(2, 1/(INDIRECT(\"B\" & ROW() - 6 & \":B\" & ROW())<>\"\"), INDIRECT(\"B\" & ROW() - 6 & \":B\" & ROW())), 4),\n_xlpm.program, LOOKUP(2, 1/(G$4:L$4<>\"\"), G$4:L$4) & IF(TRIM(L$6)=\"\", \"\", \" - \" & TRIM(L$6)),\n_xlpm.criteria, VALUE(_xlpm.objectCode) & \"|\" & _xlpm.program & \"|\" & TRIM($C25),\nSUMIF(INDEX(BdgtConsolidated,,5), _xlpm.criteria, INDEX(BdgtConsolidated,,4))\n)","v":0},{"$f":"_xlfn.LET(\n_xlpm.objectCode, LEFT(LOOKUP(2, 1/(INDIRECT(\"B\" & ROW() - 6 & \":B\" & ROW())<>\"\"), INDIRECT(\"B\" & ROW() - 6 & \":B\" & ROW())), 4),\n_xlpm.program, LOOKUP(2, 1/(H$4:M$4<>\"\"), H$4:M$4) & IF(TRIM(M$6)=\"\", \"\", \" - \" & TRIM(M$6)),\n_xlpm.criteria, VALUE(_xlpm.objectCode) & \"|\" & _xlpm.program & \"|\" & TRIM($C25),\nSUMIF(INDEX(BdgtConsolidated,,5), _xlpm.criteria, INDEX(BdgtConsolidated,,4))\n)","v":0},{"$f":"_xlfn.LET(\n_xlpm.objectCode, LEFT(LOOKUP(2, 1/(INDIRECT(\"B\" & ROW() - 6 & \":B\" & ROW())<>\"\"), INDIRECT(\"B\" & ROW() - 6 & \":B\" & ROW())), 4),\n_xlpm.program, LOOKUP(2, 1/(I$4:N$4<>\"\"), I$4:N$4) & IF(TRIM(N$6)=\"\", \"\", \" - \" & TRIM(N$6)),\n_xlpm.criteria, VALUE(_xlpm.objectCode) & \"|\" & _xlpm.program & \"|\" & TRIM($C25),\nSUMIF(INDEX(BdgtConsolidated,,5), _xlpm.criteria, INDEX(BdgtConsolidated,,4))\n)","v":0},{"$f":"SUM(L25:N25)","v":0}]
[null,null,"Administrative",null,null,null,null,null,{"$f":"_xlfn.LET(\n_xlpm.objectCode, LEFT(LOOKUP(2, 1/(INDIRECT(\"B\" & ROW() - 6 & \":B\" & ROW())<>\"\"), INDIRECT(\"B\" & ROW() - 6 & \":B\" & ROW())), 4),\n_xlpm.program, LOOKUP(2, 1/(D$4:I$4<>\"\"), D$4:I$4) & IF(TRIM(I$6)=\"\", \"\", \" - \" & TRIM(I$6)),\n_xlpm.criteria, VALUE(_xlpm.objectCode) & \"|\" & _xlpm.program & \"|\" & TRIM($C26),\nSUMIF(INDEX(BdgtConsolidated,,5), _xlpm.criteria, INDEX(BdgtConsolidated,,4))\n)","v":0},null,null,{"$f":"_xlfn.LET(\n_xlpm.objectCode, LEFT(LOOKUP(2, 1/(INDIRECT(\"B\" & ROW() - 6 & \":B\" & ROW())<>\"\"), INDIRECT(\"B\" & ROW() - 6 & \":B\" & ROW())), 4),\n_xlpm.program, LOOKUP(2, 1/(G$4:L$4<>\"\"), G$4:L$4) & IF(TRIM(L$6)=\"\", \"\", \" - \" & TRIM(L$6)),\n_xlpm.criteria, VALUE(_xlpm.objectCode) & \"|\" & _xlpm.program & \"|\" & TRIM($C26),\nSUMIF(INDEX(BdgtConsolidated,,5), _xlpm.criteria, INDEX(BdgtConsolidated,,4))\n)","v":0},{"$f":"_xlfn.LET(\n_xlpm.objectCode, LEFT(LOOKUP(2, 1/(INDIRECT(\"B\" & ROW() - 6 & \":B\" & ROW())<>\"\"), INDIRECT(\"B\" & ROW() - 6 & \":B\" & ROW())), 4),\n_xlpm.program, LOOKUP(2, 1/(H$4:M$4<>\"\"), H$4:M$4) & IF(TRIM(M$6)=\"\", \"\", \" - \" & TRIM(M$6)),\n_xlpm.criteria, VALUE(_xlpm.objectCode) & \"|\" & _xlpm.program & \"|\" & TRIM($C26),\nSUMIF(INDEX(BdgtConsolidated,,5), _xlpm.criteria, INDEX(BdgtConsolidated,,4))\n)","v":0},{"$f":"_xlfn.LET(\n_xlpm.objectCode, LEFT(LOOKUP(2, 1/(INDIRECT(\"B\" & ROW() - 6 & \":B\" & ROW())<>\"\"), INDIRECT(\"B\" & ROW() - 6 & \":B\" & ROW())), 4),\n_xlpm.program, LOOKUP(2, 1/(I$4:N$4<>\"\"), I$4:N$4) & IF(TRIM(N$6)=\"\", \"\", \" - \" & TRIM(N$6)),\n_xlpm.criteria, VALUE(_xlpm.objectCode) & \"|\" & _xlpm.program & \"|\" & TRIM($C26),\nSUMIF(INDEX(BdgtConsolidated,,5), _xlpm.criteria, INDEX(BdgtConsolidated,,4))\n)","v":0},{"$f":"SUM(L26:N26)","v":0}]
[null,null,"Non-Administrative",null,null,null,null,null,{"$f":"_xlfn.LET(\n_xlpm.objectCode, LEFT(LOOKUP(2, 1/(INDIRECT(\"B\" & ROW() - 6 & \":B\" & ROW())<>\"\"), INDIRECT(\"B\" & ROW() - 6 & \":B\" & ROW())), 4),\n_xlpm.program, LOOKUP(2, 1/(D$4:I$4<>\"\"), D$4:I$4) & IF(TRIM(I$6)=\"\", \"\", \" - \" & TRIM(I$6)),\n_xlpm.criteria, VALUE(_xlpm.objectCode) & \"|\" & _xlpm.program & \"|\" & TRIM($C27),\nSUMIF(INDEX(BdgtConsolidated,,5), _xlpm.criteria, INDEX(BdgtConsolidated,,4))\n)","v":0},null,null,{"$f":"_xlfn.LET(\n_xlpm.objectCode, LEFT(LOOKUP(2, 1/(INDIRECT(\"B\" & ROW() - 6 & \":B\" & ROW())<>\"\"), INDIRECT(\"B\" & ROW() - 6 & \":B\" & ROW())), 4),\n_xlpm.program, LOOKUP(2, 1/(G$4:L$4<>\"\"), G$4:L$4) & IF(TRIM(L$6)=\"\", \"\", \" - \" & TRIM(L$6)),\n_xlpm.criteria, VALUE(_xlpm.objectCode) & \"|\" & _xlpm.program & \"|\" & TRIM($C27),\nSUMIF(INDEX(BdgtConsolidated,,5), _xlpm.criteria, INDEX(BdgtConsolidated,,4))\n)","v":0},{"$f":"_xlfn.LET(\n_xlpm.objectCode, LEFT(LOOKUP(2, 1/(INDIRECT(\"B\" & ROW() - 6 & \":B\" & ROW())<>\"\"), INDIRECT(\"B\" & ROW() - 6 & \":B\" & ROW())), 4),\n_xlpm.program, LOOKUP(2, 1/(H$4:M$4<>\"\"), H$4:M$4) & IF(TRIM(M$6)=\"\", \"\", \" - \" & TRIM(M$6)),\n_xlpm.criteria, VALUE(_xlpm.objectCode) & \"|\" & _xlpm.program & \"|\" & TRIM($C27),\nSUMIF(INDEX(BdgtConsolidated,,5), _xlpm.criteria, INDEX(BdgtConsolidated,,4))\n)","v":0},{"$f":"_xlfn.LET(\n_xlpm.objectCode, LEFT(LOOKUP(2, 1/(INDIRECT(\"B\" & ROW() - 6 & \":B\" & ROW())<>\"\"), INDIRECT(\"B\" & ROW() - 6 & \":B\" & ROW())), 4),\n_xlpm.program, LOOKUP(2, 1/(I$4:N$4<>\"\"), I$4:N$4) & IF(TRIM(N$6)=\"\", \"\", \" - \" & TRIM(N$6)),\n_xlpm.criteria, VALUE(_xlpm.objectCode) & \"|\" & _xlpm.program & \"|\" & TRIM($C27),\nSUMIF(INDEX(BdgtConsolidated,,5), _xlpm.criteria, INDEX(BdgtConsolidated,,4))\n)","v":0},{"$f":"SUM(L27:N27)","v":0}]
[null,null,"Contracted Services",null,null,null,null,null,null,{"$f":"_xlfn.LET(\n_xlpm.objectCode, LEFT(LOOKUP(2, 1/(INDIRECT(\"B\" & ROW() - 6 & \":B\" & ROW())<>\"\"), INDIRECT(\"B\" & ROW() - 6 & \":B\" & ROW())), 4),\n_xlpm.program, LOOKUP(2, 1/(E$4:J$4<>\"\"), E$4:J$4) & IF(TRIM(J$6)=\"\", \"\", \" - \" & TRIM(J$6)),\n_xlpm.criteria, VALUE(_xlpm.objectCode) & \"|\" & _xlpm.program & \"|\" & TRIM($C28),\nSUMIF(INDEX(BdgtConsolidated,,5), _xlpm.criteria, INDEX(BdgtConsolidated,,4))\n)","v":0},{"$f":"_xlfn.LET(\n_xlpm.objectCode, LEFT(LOOKUP(2, 1/(INDIRECT(\"B\" & ROW() - 6 & \":B\" & ROW())<>\"\"), INDIRECT(\"B\" & ROW() - 6 & \":B\" & ROW())), 4),\n_xlpm.program, LOOKUP(2, 1/(F$4:K$4<>\"\"), F$4:K$4) & IF(TRIM(K$6)=\"\", \"\", \" - \" & TRIM(K$6)),\n_xlpm.criteria, VALUE(_xlpm.objectCode) & \"|\" & _xlpm.program & \"|\" & TRIM($C28),\nSUMIF(INDEX(BdgtConsolidated,,5), _xlpm.criteria, INDEX(BdgtConsolidated,,4))\n)","v":0}]
[null,null,"Total Purchased/Contracted Services",null,null,{"$f":"SUM(F22:F28)","v":0},0,0,0,{"$f":"SUM(J22:J28)","v":0},0,0,0,0,{"$f":"SUM(L29:N29)","v":0},{"$f":"SUM(P22:P28)","v":0},{"$f":"IF(SUM(Q275)=SUM(F29:N29,P29),\"Yes\",\"No - Please review your entries.\")","v":"Yes"}]
[null,"4000 - \nInternal Services","Non Set-Aside",null,null,{"$f":"_xlfn.LET(\n_xlpm.objectCode, LEFT(LOOKUP(2, 1/(INDIRECT(\"B\" & ROW() - 6 & \":B\" & ROW())<>\"\"), INDIRECT(\"B\" & ROW() - 6 & \":B\" & ROW())), 4),\n_xlpm.program, LOOKUP(2, 1/(A$4:F$4<>\"\"), A$4:F$4) & IF(TRIM(F$6)=\"\", \"\", \" - \" & TRIM(F$6)),\n_xlpm.criteria, VALUE(_xlpm.objectCode) & \"|\" & _xlpm.program & \"|\" & TRIM($C30),\nSUMIF(INDEX(BdgtConsolidated,,5), _xlpm.criteria, INDEX(BdgtConsolidated,,4))\n)","v":0},{"$f":"_xlfn.LET(\n_xlpm.objectCode, LEFT(LOOKUP(2, 1/(INDIRECT(\"B\" & ROW() - 6 & \":B\" & ROW())<>\"\"), INDIRECT(\"B\" & ROW() - 6 & \":B\" & ROW())), 4),\n_xlpm.program, LOOKUP(2, 1/(B$4:G$4<>\"\"), B$4:G$4) & IF(TRIM(G$6)=\"\", \"\", \" - \" & TRIM(G$6)),\n_xlpm.criteria, VALUE(_xlpm.objectCode) & \"|\" & _xlpm.program & \"|\" & TRIM($C30),\nSUMIF(INDEX(BdgtConsolidated,,5), _xlpm.criteria, INDEX(BdgtConsolidated,,4))\n)","v":0},{"$f":"_xlfn.LET(\n_xlpm.objectCode, LEFT(LOOKUP(2, 1/(INDIRECT(\"B\" & ROW() - 6 & \":B\" & ROW())<>\"\"), INDIRECT(\"B\" & ROW() - 6 & \":B\" & ROW())), 4),\n_xlpm.program, LOOKUP(2, 1/(C$4:H$4<>\"\"), C$4:H$4) & IF(TRIM(H$6)=\"\", \"\", \" - \" & TRIM(H$6)),\n_xlpm.criteria, VALUE(_xlpm.objectCode) & \"|\" & _xlpm.program & \"|\" & TRIM($C30),\nSUMIF(INDEX(BdgtConsolidated,,5), _xlpm.criteria, INDEX(BdgtConsolidated,,4))\n)","v":0},null,null,null,null,null,null,null,{"$f":"_xlfn.LET(\n_xlpm.objectCode, LEFT(LOOKUP(2, 1/(INDIRECT(\"B\" & ROW() - 6 & \":B\" & ROW())<>\"\"), INDIRECT(\"B\" & ROW() - 6 & \":B\" & ROW())), 4),\n_xlpm.program, LOOKUP(2, 1/(K$4:P$4<>\"\"), K$4:P$4) & IF(TRIM(P$6)=\"\", \"\", \" - \" & TRIM(P$6)),\n_xlpm.criteria, VALUE(_xlpm.objectCode) & \"|\" & _xlpm.program & \"|\" & TRIM($C30),\nSUMIF(INDEX(BdgtConsolidated,,5), _xlpm.criteria, INDEX(BdgtConsolidated,,4))\n)","v":0}]
[null,null,"Set-Aside",null,null,{"$f":"_xlfn.LET(\n_xlpm.objectCode, LEFT(LOOKUP(2, 1/(INDIRECT(\"B\" & ROW() - 6 & \":B\" & ROW())<>\"\"), INDIRECT(\"B\" & ROW() - 6 & \":B\" & ROW())), 4),\n_xlpm.program, LOOKUP(2, 1/(A$4:F$4<>\"\"), A$4:F$4) & IF(TRIM(F$6)=\"\", \"\", \" - \" & TRIM(F$6)),\n_xlpm.criteria, VALUE(_xlpm.objectCode) & \"|\" & _xlpm.program & \"|\" & TRIM($C31),\nSUMIF(INDEX(BdgtConsolidated,,5), _xlpm.criteria, INDEX(BdgtConsolidated,,4))\n)","v":0}]
[null,null,"Parent and Family Engagement Set-Aside",null,null,{"$f":"_xlfn.LET(\n_xlpm.objectCode, LEFT(LOOKUP(2, 1/(INDIRECT(\"B\" & ROW() - 6 & \":B\" & ROW())<>\"\"), INDIRECT(\"B\" & ROW() - 6 & \":B\" & ROW())), 4),\n_xlpm.program, LOOKUP(2, 1/(A$4:F$4<>\"\"), A$4:F$4) & IF(TRIM(F$6)=\"\", \"\", \" - \" & TRIM(F$6)),\n_xlpm.criteria, VALUE(_xlpm.objectCode) & \"|\" & _xlpm.program & \"|\" & TRIM($C32),\nSUMIF(INDEX(BdgtConsolidated,,5), _xlpm.criteria, INDEX(BdgtConsolidated,,4))\n)","v":0}]
[null,null,"Private School Set-Aside ",null,null,{"$f":"_xlfn.LET(\n_xlpm.objectCode, LEFT(LOOKUP(2, 1/(INDIRECT(\"B\" & ROW() - 6 & \":B\" & ROW())<>\"\"), INDIRECT(\"B\" & ROW() - 6 & \":B\" & ROW())), 4),\n_xlpm.program, LOOKUP(2, 1/(A$4:F$4<>\"\"), A$4:F$4) & IF(TRIM(F$6)=\"\", \"\", \" - \" & TRIM(F$6)),\n_xlpm.criteria, VALUE(_xlpm.objectCode) & \"|\" & _xlpm.program & \"|\" & TRIM($C33),\nSUMIF(INDEX(BdgtConsolidated,,5), _xlpm.criteria, INDEX(BdgtConsolidated,,4))\n)","v":0},{"$f":"_xlfn.LET(\n_xlpm.objectCode, LEFT(LOOKUP(2, 1/(INDIRECT(\"B\" & ROW() - 6 & \":B\" & ROW())<>\"\"), INDIRECT(\"B\" & ROW() - 6 & \":B\" & ROW())), 4),\n_xlpm.program, LOOKUP(2, 1/(B$4:G$4<>\"\"), B$4:G$4) & IF(TRIM(G$6)=\"\", \"\", \" - \" & TRIM(G$6)),\n_xlpm.criteria, VALUE(_xlpm.objectCode) & \"|\" & _xlpm.program & \"|\" & TRIM($C33),\nSUMIF(INDEX(BdgtConsolidated,,5), _xlpm.criteria, INDEX(BdgtConsolidated,,4))\n)","v":0},null,null,{"$f":"_xlfn.LET(\n_xlpm.objectCode, LEFT(LOOKUP(2, 1/(INDIRECT(\"B\" & ROW() - 6 & \":B\" & ROW())<>\"\"), INDIRECT(\"B\" & ROW() - 6 & \":B\" & ROW())), 4),\n_xlpm.program, LOOKUP(2, 1/(E$4:J$4<>\"\"), E$4:J$4) & IF(TRIM(J$6)=\"\", \"\", \" - \" & TRIM(J$6)),\n_xlpm.criteria, VALUE(_xlpm.objectCode) & \"|\" & _xlpm.program & \"|\" & TRIM($C33),\nSUMIF(INDEX(BdgtConsolidated,,5), _xlpm.criteria, INDEX(BdgtConsolidated,,4))\n)","v":0},{"$f":"_xlfn.LET(\n_xlpm.objectCode, LEFT(LOOKUP(2, 1/(INDIRECT(\"B\" & ROW() - 6 & \":B\" & ROW())<>\"\"), INDIRECT(\"B\" & ROW() - 6 & \":B\" & ROW())), 4),\n_xlpm.program, LOOKUP(2, 1/(F$4:K$4<>\"\"), F$4:K$4) & IF(TRIM(K$6)=\"\", \"\", \" - \" & TRIM(K$6)),\n_xlpm.criteria, VALUE(_xlpm.objectCode) & \"|\" & _xlpm.program & \"|\" & TRIM($C33),\nSUMIF(INDEX(BdgtConsolidated,,5), _xlpm.criteria, INDEX(BdgtConsolidated,,4))\n)","v":0},{"$f":"_xlfn.LET(\n_xlpm.objectCode, LEFT(LOOKUP(2, 1/(INDIRECT(\"B\" & ROW() - 6 & \":B\" & ROW())<>\"\"), INDIRECT(\"B\" & ROW() - 6 & \":B\" & ROW())), 4),\n_xlpm.program, LOOKUP(2, 1/(G$4:L$4<>\"\"), G$4:L$4) & IF(TRIM(L$6)=\"\", \"\", \" - \" & TRIM(L$6)),\n_xlpm.criteria, VALUE(_xlpm.objectCode) & \"|\" & _xlpm.program & \"|\" & TRIM($C33),\nSUMIF(INDEX(BdgtConsolidated,,5), _xlpm.criteria, INDEX(BdgtConsolidated,,4))\n)","v":0},{"$f":"_xlfn.LET(\n_xlpm.objectCode, LEFT(LOOKUP(2, 1/(INDIRECT(\"B\" & ROW() - 6 & \":B\" & ROW())<>\"\"), INDIRECT(\"B\" & ROW() - 6 & \":B\" & ROW())), 4),\n_xlpm.program, LOOKUP(2, 1/(H$4:M$4<>\"\"), H$4:M$4) & IF(TRIM(M$6)=\"\", \"\", \" - \" & TRIM(M$6)),\n_xlpm.criteria, VALUE(_xlpm.objectCode) & \"|\" & _xlpm.program & \"|\" & TRIM($C33),\nSUMIF(INDEX(BdgtConsolidated,,5), _xlpm.criteria, INDEX(BdgtConsolidated,,4))\n)","v":0},{"$f":"_xlfn.LET(\n_xlpm.objectCode, LEFT(LOOKUP(2, 1/(INDIRECT(\"B\" & ROW() - 6 & \":B\" & ROW())<>\"\"), INDIRECT(\"B\" & ROW() - 6 & \":B\" & ROW())), 4),\n_xlpm.program, LOOKUP(2, 1/(I$4:N$4<>\"\"), I$4:N$4) & IF(TRIM(N$6)=\"\", \"\", \" - \" & TRIM(N$6)),\n_xlpm.criteria, VALUE(_xlpm.objectCode) & \"|\" & _xlpm.program & \"|\" & TRIM($C33),\nSUMIF(INDEX(BdgtConsolidated,,5), _xlpm.criteria, INDEX(BdgtConsolidated,,4))\n)","v":0},{"$f":"SUM(L33:N33)","v":0}]
[null,null,"Administrative",null,null,null,null,null,{"$f":"_xlfn.LET(\n_xlpm.objectCode, LEFT(LOOKUP(2, 1/(INDIRECT(\"B\" & ROW() - 6 & \":B\" & ROW())<>\"\"), INDIRECT(\"B\" & ROW() - 6 & \":B\" & ROW())), 4),\n_xlpm.program, LOOKUP(2, 1/(D$4:I$4<>\"\"), D$4:I$4) & IF(TRIM(I$6)=\"\", \"\", \" - \" & TRIM(I$6)),\n_xlpm.criteria, VALUE(_xlpm.objectCode) & \"|\" & _xlpm.program & \"|\" & TRIM($C34),\nSUMIF(INDEX(BdgtConsolidated,,5), _xlpm.criteria, INDEX(BdgtConsolidated,,4))\n)","v":0}]
[null,null,"Non-Administrative",null,null,null,null,null,{"$f":"_xlfn.LET(\n_xlpm.objectCode, LEFT(LOOKUP(2, 1/(INDIRECT(\"B\" & ROW() - 6 & \":B\" & ROW())<>\"\"), INDIRECT(\"B\" & ROW() - 6 & \":B\" & ROW())), 4),\n_xlpm.program, LOOKUP(2, 1/(D$4:I$4<>\"\"), D$4:I$4) & IF(TRIM(I$6)=\"\", \"\", \" - \" & TRIM(I$6)),\n_xlpm.criteria, VALUE(_xlpm.objectCode) & \"|\" & _xlpm.program & \"|\" & TRIM($C35),\nSUMIF(INDEX(BdgtConsolidated,,5), _xlpm.criteria, INDEX(BdgtConsolidated,,4))\n)","v":0}]
[null,null,"Internal Services",null,null,null,null,null,{"$f":"_xlfn.LET(\n_xlpm.objectCode, LEFT(LOOKUP(2, 1/(INDIRECT(\"B\" & ROW() - 6 & \":B\" & ROW())<>\"\"), INDIRECT(\"B\" & ROW() - 6 & \":B\" & ROW())), 4),\n_xlpm.program, LOOKUP(2, 1/(D$4:I$4<>\"\"), D$4:I$4) & IF(TRIM(I$6)=\"\", \"\", \" - \" & TRIM(I$6)),\n_xlpm.criteria, VALUE(_xlpm.objectCode) & \"|\" & _xlpm.program & \"|\" & TRIM($C36),\nSUMIF(INDEX(BdgtConsolidated,,5), _xlpm.criteria, INDEX(BdgtConsolidated,,4))\n)","v":0},{"$f":"_xlfn.LET(\n_xlpm.objectCode, LEFT(LOOKUP(2, 1/(INDIRECT(\"B\" & ROW() - 6 & \":B\" & ROW())<>\"\"), INDIRECT(\"B\" & ROW() - 6 & \":B\" & ROW())), 4),\n_xlpm.program, LOOKUP(2, 1/(E$4:J$4<>\"\"), E$4:J$4) & IF(TRIM(J$6)=\"\", \"\", \" - \" & TRIM(J$6)),\n_xlpm.criteria, VALUE(_xlpm.objectCode) & \"|\" & _xlpm.program & \"|\" & TRIM($C36),\nSUMIF(INDEX(BdgtConsolidated,,5), _xlpm.criteria, INDEX(BdgtConsolidated,,4))\n)","v":0},{"$f":"_xlfn.LET(\n_xlpm.objectCode, LEFT(LOOKUP(2, 1/(INDIRECT(\"B\" & ROW() - 6 & \":B\" & ROW())<>\"\"), INDIRECT(\"B\" & ROW() - 6 & \":B\" & ROW())), 4),\n_xlpm.program, LOOKUP(2, 1/(F$4:K$4<>\"\"), F$4:K$4) & IF(TRIM(K$6)=\"\", \"\", \" - \" & TRIM(K$6)),\n_xlpm.criteria, VALUE(_xlpm.objectCode) & \"|\" & _xlpm.program & \"|\" & TRIM($C36),\nSUMIF(INDEX(BdgtConsolidated,,5), _xlpm.criteria, INDEX(BdgtConsolidated,,4))\n)","v":0},{"$f":"_xlfn.LET(\n_xlpm.objectCode, LEFT(LOOKUP(2, 1/(INDIRECT(\"B\" & ROW() - 6 & \":B\" & ROW())<>\"\"), INDIRECT(\"B\" & ROW() - 6 & \":B\" & ROW())), 4),\n_xlpm.program, LOOKUP(2, 1/(G$4:L$4<>\"\"), G$4:L$4) & IF(TRIM(L$6)=\"\", \"\", \" - \" & TRIM(L$6)),\n_xlpm.criteria, VALUE(_xlpm.objectCode) & \"|\" & _xlpm.program & \"|\" & TRIM($C36),\nSUMIF(INDEX(BdgtConsolidated,,5), _xlpm.criteria, INDEX(BdgtConsolidated,,4))\n)","v":0},{"$f":"_xlfn.LET(\n_xlpm.objectCode, LEFT(LOOKUP(2, 1/(INDIRECT(\"B\" & ROW() - 6 & \":B\" & ROW())<>\"\"), INDIRECT(\"B\" & ROW() - 6 & \":B\" & ROW())), 4),\n_xlpm.program, LOOKUP(2, 1/(H$4:M$4<>\"\"), H$4:M$4) & IF(TRIM(M$6)=\"\", \"\", \" - \" & TRIM(M$6)),\n_xlpm.criteria, VALUE(_xlpm.objectCode) & \"|\" & _xlpm.program & \"|\" & TRIM($C36),\nSUMIF(INDEX(BdgtConsolidated,,5), _xlpm.criteria, INDEX(BdgtConsolidated,,4))\n)","v":0},{"$f":"_xlfn.LET(\n_xlpm.objectCode, LEFT(LOOKUP(2, 1/(INDIRECT(\"B\" & ROW() - 6 & \":B\" & ROW())<>\"\"), INDIRECT(\"B\" & ROW() - 6 & \":B\" & ROW())), 4),\n_xlpm.program, LOOKUP(2, 1/(I$4:N$4<>\"\"), I$4:N$4) & IF(TRIM(N$6)=\"\", \"\", \" - \" & TRIM(N$6)),\n_xlpm.criteria, VALUE(_xlpm.objectCode) & \"|\" & _xlpm.program & \"|\" & TRIM($C36),\nSUMIF(INDEX(BdgtConsolidated,,5), _xlpm.criteria, INDEX(BdgtConsolidated,,4))\n)","v":0},{"$f":"SUM(L36:N36)","v":0}]
[null,null,"Total Internal Services",null,null,{"$f":"SUM(F30:F36)","v":0},0,0,{"$f":"SUM(I30:I36)","v":0},0,0,0,0,0,{"$f":"SUM(L37:N37)","v":0},{"$f":"SUM(P30:P36)","v":0},{"$f":"IF(SUM(Q357)=SUM(F37:N37,P37),\"Yes\",\"No - Please review your entries.\")","v":"Yes"}]
[null,"5000 - \nOther  \nCharges","Non Set-Aside",null,null,{"$f":"_xlfn.LET(\n_xlpm.objectCode, LEFT(LOOKUP(2, 1/(INDIRECT(\"B\" & ROW() - 6 & \":B\" & ROW())<>\"\"), INDIRECT(\"B\" & ROW() - 6 & \":B\" & ROW())), 4),\n_xlpm.program, LOOKUP(2, 1/(A$4:F$4<>\"\"), A$4:F$4) & IF(TRIM(F$6)=\"\", \"\", \" - \" & TRIM(F$6)),\n_xlpm.criteria, VALUE(_xlpm.objectCode) & \"|\" & _xlpm.program & \"|\" & TRIM($C38),\nSUMIF(INDEX(BdgtConsolidated,,5), _xlpm.criteria, INDEX(BdgtConsolidated,,4))\n)","v":0},{"$f":"_xlfn.LET(\n_xlpm.objectCode, LEFT(LOOKUP(2, 1/(INDIRECT(\"B\" & ROW() - 6 & \":B\" & ROW())<>\"\"), INDIRECT(\"B\" & ROW() - 6 & \":B\" & ROW())), 4),\n_xlpm.program, LOOKUP(2, 1/(B$4:G$4<>\"\"), B$4:G$4) & IF(TRIM(G$6)=\"\", \"\", \" - \" & TRIM(G$6)),\n_xlpm.criteria, VALUE(_xlpm.objectCode) & \"|\" & _xlpm.program & \"|\" & TRIM($C38),\nSUMIF(INDEX(BdgtConsolidated,,5), _xlpm.criteria, INDEX(BdgtConsolidated,,4))\n)","v":0},{"$f":"_xlfn.LET(\n_xlpm.objectCode, LEFT(LOOKUP(2, 1/(INDIRECT(\"B\" & ROW() - 6 & \":B\" & ROW())<>\"\"), INDIRECT(\"B\" & ROW() - 6 & \":B\" & ROW())), 4),\n_xlpm.program, LOOKUP(2, 1/(C$4:H$4<>\"\"), C$4:H$4) & IF(TRIM(H$6)=\"\", \"\", \" - \" & TRIM(H$6)),\n_xlpm.criteria, VALUE(_xlpm.objectCode) & \"|\" & _xlpm.program & \"|\" & TRIM($C38),\nSUMIF(INDEX(BdgtConsolidated,,5), _xlpm.criteria, INDEX(BdgtConsolidated,,4))\n)","v":0},null,null,null,null,null,null,null,{"$f":"_xlfn.LET(\n_xlpm.objectCode, LEFT(LOOKUP(2, 1/(INDIRECT(\"B\" & ROW() - 6 & \":B\" & ROW())<>\"\"), INDIRECT(\"B\" & ROW() - 6 & \":B\" & ROW())), 4),\n_xlpm.program, LOOKUP(2, 1/(K$4:P$4<>\"\"), K$4:P$4) & IF(TRIM(P$6)=\"\", \"\", \" - \" & TRIM(P$6)),\n_xlpm.criteria, VALUE(_xlpm.objectCode) & \"|\" & _xlpm.program & \"|\" & TRIM($C38),\nSUMIF(INDEX(BdgtConsolidated,,5), _xlpm.criteria, INDEX(BdgtConsolidated,,4))\n)","v":0}]
[null,null,"Set-Aside",null,null,{"$f":"_xlfn.LET(\n_xlpm.objectCode, LEFT(LOOKUP(2, 1/(INDIRECT(\"B\" & ROW() - 6 & \":B\" & ROW())<>\"\"), INDIRECT(\"B\" & ROW() - 6 & \":B\" & ROW())), 4),\n_xlpm.program, LOOKUP(2, 1/(A$4:F$4<>\"\"), A$4:F$4) & IF(TRIM(F$6)=\"\", \"\", \" - \" & TRIM(F$6)),\n_xlpm.criteria, VALUE(_xlpm.objectCode) & \"|\" & _xlpm.program & \"|\" & TRIM($C39),\nSUMIF(INDEX(BdgtConsolidated,,5), _xlpm.criteria, INDEX(BdgtConsolidated,,4))\n)","v":0}]
[null,null,"Parent and Family Engagement Set-Aside",null,null,{"$f":"_xlfn.LET(\n_xlpm.objectCode, LEFT(LOOKUP(2, 1/(INDIRECT(\"B\" & ROW() - 6 & \":B\" & ROW())<>\"\"), INDIRECT(\"B\" & ROW() - 6 & \":B\" & ROW())), 4),\n_xlpm.program, LOOKUP(2, 1/(A$4:F$4<>\"\"), A$4:F$4) & IF(TRIM(F$6)=\"\", \"\", \" - \" & TRIM(F$6)),\n_xlpm.criteria, VALUE(_xlpm.objectCode) & \"|\" & _xlpm.program & \"|\" & TRIM($C40),\nSUMIF(INDEX(BdgtConsolidated,,5), _xlpm.criteria, INDEX(BdgtConsolidated,,4))\n)","v":0}]
[null,null,"Private School Set-Aside ",null,null,{"$f":"_xlfn.LET(\n_xlpm.objectCode, LEFT(LOOKUP(2, 1/(INDIRECT(\"B\" & ROW() - 6 & \":B\" & ROW())<>\"\"), INDIRECT(\"B\" & ROW() - 6 & \":B\" & ROW())), 4),\n_xlpm.program, LOOKUP(2, 1/(A$4:F$4<>\"\"), A$4:F$4) & IF(TRIM(F$6)=\"\", \"\", \" - \" & TRIM(F$6)),\n_xlpm.criteria, VALUE(_xlpm.objectCode) & \"|\" & _xlpm.program & \"|\" & TRIM($C41),\nSUMIF(INDEX(BdgtConsolidated,,5), _xlpm.criteria, INDEX(BdgtConsolidated,,4))\n)","v":0},{"$f":"_xlfn.LET(\n_xlpm.objectCode, LEFT(LOOKUP(2, 1/(INDIRECT(\"B\" & ROW() - 6 & \":B\" & ROW())<>\"\"), INDIRECT(\"B\" & ROW() - 6 & \":B\" & ROW())), 4),\n_xlpm.program, LOOKUP(2, 1/(B$4:G$4<>\"\"), B$4:G$4) & IF(TRIM(G$6)=\"\", \"\", \" - \" & TRIM(G$6)),\n_xlpm.criteria, VALUE(_xlpm.objectCode) & \"|\" & _xlpm.program & \"|\" & TRIM($C41),\nSUMIF(INDEX(BdgtConsolidated,,5), _xlpm.criteria, INDEX(BdgtConsolidated,,4))\n)","v":0},null,{"$f":"_xlfn.LET(\n_xlpm.objectCode, LEFT(LOOKUP(2, 1/(INDIRECT(\"B\" & ROW() - 6 & \":B\" & ROW())<>\"\"), INDIRECT(\"B\" & ROW() - 6 & \":B\" & ROW())), 4),\n_xlpm.program, LOOKUP(2, 1/(D$4:I$4<>\"\"), D$4:I$4) & IF(TRIM(I$6)=\"\", \"\", \" - \" & TRIM(I$6)),\n_xlpm.criteria, VALUE(_xlpm.objectCode) & \"|\" & _xlpm.program & \"|\" & TRIM($C41),\nSUMIF(INDEX(BdgtConsolidated,,5), _xlpm.criteria, INDEX(BdgtConsolidated,,4))\n)","v":0},{"$f":"_xlfn.LET(\n_xlpm.objectCode, LEFT(LOOKUP(2, 1/(INDIRECT(\"B\" & ROW() - 6 & \":B\" & ROW())<>\"\"), INDIRECT(\"B\" & ROW() - 6 & \":B\" & ROW())), 4),\n_xlpm.program, LOOKUP(2, 1/(E$4:J$4<>\"\"), E$4:J$4) & IF(TRIM(J$6)=\"\", \"\", \" - \" & TRIM(J$6)),\n_xlpm.criteria, VALUE(_xlpm.objectCode) & \"|\" & _xlpm.program & \"|\" & TRIM($C41),\nSUMIF(INDEX(BdgtConsolidated,,5), _xlpm.criteria, INDEX(BdgtConsolidated,,4))\n)","v":0},{"$f":"_xlfn.LET(\n_xlpm.objectCode, LEFT(LOOKUP(2, 1/(INDIRECT(\"B\" & ROW() - 6 & \":B\" & ROW())<>\"\"), INDIRECT(\"B\" & ROW() - 6 & \":B\" & ROW())), 4),\n_xlpm.program, LOOKUP(2, 1/(F$4:K$4<>\"\"), F$4:K$4) & IF(TRIM(K$6)=\"\", \"\", \" - \" & TRIM(K$6)),\n_xlpm.criteria, VALUE(_xlpm.objectCode) & \"|\" & _xlpm.program & \"|\" & TRIM($C41),\nSUMIF(INDEX(BdgtConsolidated,,5), _xlpm.criteria, INDEX(BdgtConsolidated,,4))\n)","v":0},{"$f":"_xlfn.LET(\n_xlpm.objectCode, LEFT(LOOKUP(2, 1/(INDIRECT(\"B\" & ROW() - 6 & \":B\" & ROW())<>\"\"), INDIRECT(\"B\" & ROW() - 6 & \":B\" & ROW())), 4),\n_xlpm.program, LOOKUP(2, 1/(G$4:L$4<>\"\"), G$4:L$4) & IF(TRIM(L$6)=\"\", \"\", \" - \" & TRIM(L$6)),\n_xlpm.criteria, VALUE(_xlpm.objectCode) & \"|\" & _xlpm.program & \"|\" & TRIM($C41),\nSUMIF(INDEX(BdgtConsolidated,,5), _xlpm.criteria, INDEX(BdgtConsolidated,,4))\n)","v":0},{"$f":"_xlfn.LET(\n_xlpm.objectCode, LEFT(LOOKUP(2, 1/(INDIRECT(\"B\" & ROW() - 6 & \":B\" & ROW())<>\"\"), INDIRECT(\"B\" & ROW() - 6 & \":B\" & ROW())), 4),\n_xlpm.program, LOOKUP(2, 1/(H$4:M$4<>\"\"), H$4:M$4) & IF(TRIM(M$6)=\"\", \"\", \" - \" & TRIM(M$6)),\n_xlpm.criteria, VALUE(_xlpm.objectCode) & \"|\" & _xlpm.program & \"|\" & TRIM($C41),\nSUMIF(INDEX(BdgtConsolidated,,5), _xlpm.criteria, INDEX(BdgtConsolidated,,4))\n)","v":0},{"$f":"_xlfn.LET(\n_xlpm.objectCode, LEFT(LOOKUP(2, 1/(INDIRECT(\"B\" & ROW() - 6 & \":B\" & ROW())<>\"\"), INDIRECT(\"B\" & ROW() - 6 & \":B\" & ROW())), 4),\n_xlpm.program, LOOKUP(2, 1/(I$4:N$4<>\"\"), I$4:N$4) & IF(TRIM(N$6)=\"\", \"\", \" - \" & TRIM(N$6)),\n_xlpm.criteria, VALUE(_xlpm.objectCode) & \"|\" & _xlpm.program & \"|\" & TRIM($C41),\nSUMIF(INDEX(BdgtConsolidated,,5), _xlpm.criteria, INDEX(BdgtConsolidated,,4))\n)","v":0},{"$f":"SUM(L41:N41)","v":0}]
[null,null,"Administrative",null,null,null,null,null,{"$f":"_xlfn.LET(\n_xlpm.objectCode, LEFT(LOOKUP(2, 1/(INDIRECT(\"B\" & ROW() - 6 & \":B\" & ROW())<>\"\"), INDIRECT(\"B\" & ROW() - 6 & \":B\" & ROW())), 4),\n_xlpm.program, LOOKUP(2, 1/(D$4:I$4<>\"\"), D$4:I$4) & IF(TRIM(I$6)=\"\", \"\", \" - \" & TRIM(I$6)),\n_xlpm.criteria, VALUE(_xlpm.objectCode) & \"|\" & _xlpm.program & \"|\" & TRIM($C42),\nSUMIF(INDEX(BdgtConsolidated,,5), _xlpm.criteria, INDEX(BdgtConsolidated,,4))\n)","v":0}]
[null,null,"Non-Administrative",null,null,null,null,null,{"$f":"_xlfn.LET(\n_xlpm.objectCode, LEFT(LOOKUP(2, 1/(INDIRECT(\"B\" & ROW() - 6 & \":B\" & ROW())<>\"\"), INDIRECT(\"B\" & ROW() - 6 & \":B\" & ROW())), 4),\n_xlpm.program, LOOKUP(2, 1/(D$4:I$4<>\"\"), D$4:I$4) & IF(TRIM(I$6)=\"\", \"\", \" - \" & TRIM(I$6)),\n_xlpm.criteria, VALUE(_xlpm.objectCode) & \"|\" & _xlpm.program & \"|\" & TRIM($C43),\nSUMIF(INDEX(BdgtConsolidated,,5), _xlpm.criteria, INDEX(BdgtConsolidated,,4))\n)","v":0},{"$f":"_xlfn.LET(\n_xlpm.objectCode, LEFT(LOOKUP(2, 1/(INDIRECT(\"B\" & ROW() - 6 & \":B\" & ROW())<>\"\"), INDIRECT(\"B\" & ROW() - 6 & \":B\" & ROW())), 4),\n_xlpm.program, LOOKUP(2, 1/(E$4:J$4<>\"\"), E$4:J$4) & IF(TRIM(J$6)=\"\", \"\", \" - \" & TRIM(J$6)),\n_xlpm.criteria, VALUE(_xlpm.objectCode) & \"|\" & _xlpm.program & \"|\" & TRIM($C43),\nSUMIF(INDEX(BdgtConsolidated,,5), _xlpm.criteria, INDEX(BdgtConsolidated,,4))\n)","v":0},{"$f":"_xlfn.LET(\n_xlpm.objectCode, LEFT(LOOKUP(2, 1/(INDIRECT(\"B\" & ROW() - 6 & \":B\" & ROW())<>\"\"), INDIRECT(\"B\" & ROW() - 6 & \":B\" & ROW())), 4),\n_xlpm.program, LOOKUP(2, 1/(F$4:K$4<>\"\"), F$4:K$4) & IF(TRIM(K$6)=\"\", \"\", \" - \" & TRIM(K$6)),\n_xlpm.criteria, VALUE(_xlpm.objectCode) & \"|\" & _xlpm.program & \"|\" & TRIM($C43),\nSUMIF(INDEX(BdgtConsolidated,,5), _xlpm.criteria, INDEX(BdgtConsolidated,,4))\n)","v":0},{"$f":"_xlfn.LET(\n_xlpm.objectCode, LEFT(LOOKUP(2, 1/(INDIRECT(\"B\" & ROW() - 6 & \":B\" & ROW())<>\"\"), INDIRECT(\"B\" & ROW() - 6 & \":B\" & ROW())), 4),\n_xlpm.program, LOOKUP(2, 1/(G$4:L$4<>\"\"), G$4:L$4) & IF(TRIM(L$6)=\"\", \"\", \" - \" & TRIM(L$6)),\n_xlpm.criteria, VALUE(_xlpm.objectCode) & \"|\" & _xlpm.program & \"|\" & TRIM($C43),\nSUMIF(INDEX(BdgtConsolidated,,5), _xlpm.criteria, INDEX(BdgtConsolidated,,4))\n)","v":0},{"$f":"_xlfn.LET(\n_xlpm.objectCode, LEFT(LOOKUP(2, 1/(INDIRECT(\"B\" & ROW() - 6 & \":B\" & ROW())<>\"\"), INDIRECT(\"B\" & ROW() - 6 & \":B\" & ROW())), 4),\n_xlpm.program, LOOKUP(2, 1/(H$4:M$4<>\"\"), H$4:M$4) & IF(TRIM(M$6)=\"\", \"\", \" - \" & TRIM(M$6)),\n_xlpm.criteria, VALUE(_xlpm.objectCode) & \"|\" & _xlpm.program & \"|\" & TRIM($C43),\nSUMIF(INDEX(BdgtConsolidated,,5), _xlpm.criteria, INDEX(BdgtConsolidated,,4))\n)","v":0},{"$f":"_xlfn.LET(\n_xlpm.objectCode, LEFT(LOOKUP(2, 1/(INDIRECT(\"B\" & ROW() - 6 & \":B\" & ROW())<>\"\"), INDIRECT(\"B\" & ROW() - 6 & \":B\" & ROW())), 4),\n_xlpm.program, LOOKUP(2, 1/(I$4:N$4<>\"\"), I$4:N$4) & IF(TRIM(N$6)=\"\", \"\", \" - \" & TRIM(N$6)),\n_xlpm.criteria, VALUE(_xlpm.objectCode) & \"|\" & _xlpm.program & \"|\" & TRIM($C43),\nSUMIF(INDEX(BdgtConsolidated,,5), _xlpm.criteria, INDEX(BdgtConsolidated,,4))\n)","v":0},{"$f":"SUM(L43:N43)","v":0}]
[null,null,"Indirect Costs",null,null,null,null,null,{"$f":"_xlfn.LET(\n_xlpm.objectCode, LEFT(LOOKUP(2, 1/(INDIRECT(\"B\" & ROW() - 6 & \":B\" & ROW())<>\"\"), INDIRECT(\"B\" & ROW() - 6 & \":B\" & ROW())), 4),\n_xlpm.program, LOOKUP(2, 1/(D$4:I$4<>\"\"), D$4:I$4) & IF(TRIM(I$6)=\"\", \"\", \" - \" & TRIM(I$6)),\n_xlpm.criteria, VALUE(_xlpm.objectCode) & \"|\" & _xlpm.program & \"|\" & TRIM($C44),\nSUMIF(INDEX(BdgtConsolidated,,5), _xlpm.criteria, INDEX(BdgtConsolidated,,4))\n)","v":0},{"$f":"_xlfn.LET(\n_xlpm.objectCode, LEFT(LOOKUP(2, 1/(INDIRECT(\"B\" & ROW() - 6 & \":B\" & ROW())<>\"\"), INDIRECT(\"B\" & ROW() - 6 & \":B\" & ROW())), 4),\n_xlpm.program, LOOKUP(2, 1/(E$4:J$4<>\"\"), E$4:J$4) & IF(TRIM(J$6)=\"\", \"\", \" - \" & TRIM(J$6)),\n_xlpm.criteria, VALUE(_xlpm.objectCode) & \"|\" & _xlpm.program & \"|\" & TRIM($C44),\nSUMIF(INDEX(BdgtConsolidated,,5), _xlpm.criteria, INDEX(BdgtConsolidated,,4))\n)","v":0},{"$f":"_xlfn.LET(\n_xlpm.objectCode, LEFT(LOOKUP(2, 1/(INDIRECT(\"B\" & ROW() - 6 & \":B\" & ROW())<>\"\"), INDIRECT(\"B\" & ROW() - 6 & \":B\" & ROW())), 4),\n_xlpm.program, LOOKUP(2, 1/(F$4:K$4<>\"\"), F$4:K$4) & IF(TRIM(K$6)=\"\", \"\", \" - \" & TRIM(K$6)),\n_xlpm.criteria, VALUE(_xlpm.objectCode) & \"|\" & _xlpm.program & \"|\" & TRIM($C44),\nSUMIF(INDEX(BdgtConsolidated,,5), _xlpm.criteria, INDEX(BdgtConsolidated,,4))\n)","v":0},{"$f":"_xlfn.LET(\n_xlpm.objectCode, LEFT(LOOKUP(2, 1/(INDIRECT(\"B\" & ROW() - 6 & \":B\" & ROW())<>\"\"), INDIRECT(\"B\" & ROW() - 6 & \":B\" & ROW())), 4),\n_xlpm.program, LOOKUP(2, 1/(G$4:L$4<>\"\"), G$4:L$4) & IF(TRIM(L$6)=\"\", \"\", \" - \" & TRIM(L$6)),\n_xlpm.criteria, VALUE(_xlpm.objectCode) & \"|\" & _xlpm.program & \"|\" & TRIM($C44),\nSUMIF(INDEX(BdgtConsolidated,,5), _xlpm.criteria, INDEX(BdgtConsolidated,,4))\n)","v":0},{"$f":"_xlfn.LET(\n_xlpm.objectCode, LEFT(LOOKUP(2, 1/(INDIRECT(\"B\" & ROW() - 6 & \":B\" & ROW())<>\"\"), INDIRECT(\"B\" & ROW() - 6 & \":B\" & ROW())), 4),\n_xlpm.program, LOOKUP(2, 1/(H$4:M$4<>\"\"), H$4:M$4) & IF(TRIM(M$6)=\"\", \"\", \" - \" & TRIM(M$6)),\n_xlpm.criteria, VALUE(_xlpm.objectCode) & \"|\" & _xlpm.program & \"|\" & TRIM($C44),\nSUMIF(INDEX(BdgtConsolidated,,5), _xlpm.criteria, INDEX(BdgtConsolidated,,4))\n)","v":0},{"$f":"_xlfn.LET(\n_xlpm.objectCode, LEFT(LOOKUP(2, 1/(INDIRECT(\"B\" & ROW() - 6 & \":B\" & ROW())<>\"\"), INDIRECT(\"B\" & ROW() - 6 & \":B\" & ROW())), 4),\n_xlpm.program, LOOKUP(2, 1/(I$4:N$4<>\"\"), I$4:N$4) & IF(TRIM(N$6)=\"\", \"\", \" - \" & TRIM(N$6)),\n_xlpm.criteria, VALUE(_xlpm.objectCode) & \"|\" & _xlpm.program & \"|\" & TRIM($C44),\nSUMIF(INDEX(BdgtConsolidated,,5), _xlpm.criteria, INDEX(BdgtConsolidated,,4))\n)","v":0},{"$f":"SUM(L44:N44)","v":0}]
[null,null,"Total Other Charges",null,null,{"$f":"SUM(F38:F44)","v":0},0,0,{"$f":"SUM(I38:I44)","v":0},0,0,0,0,0,{"$f":"SUM(L45:N45)","v":0},{"$f":"SUM(P38:P44)","v":0},{"$f":"IF(SUM(Q428)=SUM(F45:N45,P45),\"Yes\",\"No - Please review your entries.\")","v":"Yes"}]
[null,"6000 - \nMaterials\nand Supplies","Non Set-Aside",null,null,{"$f":"_xlfn.LET(\n_xlpm.objectCode, LEFT(LOOKUP(2, 1/(INDIRECT(\"B\" & ROW() - 6 & \":B\" & ROW())<>\"\"), INDIRECT(\"B\" & ROW() - 6 & \":B\" & ROW())), 4),\n_xlpm.program, LOOKUP(2, 1/(A$4:F$4<>\"\"), A$4:F$4) & IF(TRIM(F$6)=\"\", \"\", \" - \" & TRIM(F$6)),\n_xlpm.criteria, VALUE(_xlpm.objectCode) & \"|\" & _xlpm.program & \"|\" & TRIM($C46),\nSUMIF(INDEX(BdgtConsolidated,,5), _xlpm.criteria, INDEX(BdgtConsolidated,,4))\n)","v":0},{"$f":"_xlfn.LET(\n_xlpm.objectCode, LEFT(LOOKUP(2, 1/(INDIRECT(\"B\" & ROW() - 6 & \":B\" & ROW())<>\"\"), INDIRECT(\"B\" & ROW() - 6 & \":B\" & ROW())), 4),\n_xlpm.program, LOOKUP(2, 1/(B$4:G$4<>\"\"), B$4:G$4) & IF(TRIM(G$6)=\"\", \"\", \" - \" & TRIM(G$6)),\n_xlpm.criteria, VALUE(_xlpm.objectCode) & \"|\" & _xlpm.program & \"|\" & TRIM($C46),\nSUMIF(INDEX(BdgtConsolidated,,5), _xlpm.criteria, INDEX(BdgtConsolidated,,4))\n)","v":0},{"$f":"_xlfn.LET(\n_xlpm.objectCode, LEFT(LOOKUP(2, 1/(INDIRECT(\"B\" & ROW() - 6 & \":B\" & ROW())<>\"\"), INDIRECT(\"B\" & ROW() - 6 & \":B\" & ROW())), 4),\n_xlpm.program, LOOKUP(2, 1/(C$4:H$4<>\"\"), C$4:H$4) & IF(TRIM(H$6)=\"\", \"\", \" - \" & TRIM(H$6)),\n_xlpm.criteria, VALUE(_xlpm.objectCode) & \"|\" & _xlpm.program & \"|\" & TRIM($C46),\nSUMIF(INDEX(BdgtConsolidated,,5), _xlpm.criteria, INDEX(BdgtConsolidated,,4))\n)","v":0},null,null,null,null,null,null,null,{"$f":"_xlfn.LET(\n_xlpm.objectCode, LEFT(LOOKUP(2, 1/(INDIRECT(\"B\" & ROW() - 6 & \":B\" & ROW())<>\"\"), INDIRECT(\"B\" & ROW() - 6 & \":B\" & ROW())), 4),\n_xlpm.program, LOOKUP(2, 1/(K$4:P$4<>\"\"), K$4:P$4) & IF(TRIM(P$6)=\"\", \"\", \" - \" & TRIM(P$6)),\n_xlpm.criteria, VALUE(_xlpm.objectCode) & \"|\" & _xlpm.program & \"|\" & TRIM($C46),\nSUMIF(INDEX(BdgtConsolidated,,5), _xlpm.criteria, INDEX(BdgtConsolidated,,4))\n)","v":0}]
[null,null,"Set-Aside",null,null,{"$f":"_xlfn.LET(\n_xlpm.objectCode, LEFT(LOOKUP(2, 1/(INDIRECT(\"B\" & ROW() - 6 & \":B\" & ROW())<>\"\"), INDIRECT(\"B\" & ROW() - 6 & \":B\" & ROW())), 4),\n_xlpm.program, LOOKUP(2, 1/(A$4:F$4<>\"\"), A$4:F$4) & IF(TRIM(F$6)=\"\", \"\", \" - \" & TRIM(F$6)),\n_xlpm.criteria, VALUE(_xlpm.objectCode) & \"|\" & _xlpm.program & \"|\" & TRIM($C47),\nSUMIF(INDEX(BdgtConsolidated,,5), _xlpm.criteria, INDEX(BdgtConsolidated,,4))\n)","v":0}]
[null,null,"Parent and Family Engagement Set-Aside",null,null,{"$f":"_xlfn.LET(\n_xlpm.objectCode, LEFT(LOOKUP(2, 1/(INDIRECT(\"B\" & ROW() - 6 & \":B\" & ROW())<>\"\"), INDIRECT(\"B\" & ROW() - 6 & \":B\" & ROW())), 4),\n_xlpm.program, LOOKUP(2, 1/(A$4:F$4<>\"\"), A$4:F$4) & IF(TRIM(F$6)=\"\", \"\", \" - \" & TRIM(F$6)),\n_xlpm.criteria, VALUE(_xlpm.objectCode) & \"|\" & _xlpm.program & \"|\" & TRIM($C48),\nSUMIF(INDEX(BdgtConsolidated,,5), _xlpm.criteria, INDEX(BdgtConsolidated,,4))\n)","v":0}]
[null,null,"Private School Set-Aside ",null,null,{"$f":"_xlfn.LET(\n_xlpm.objectCode, LEFT(LOOKUP(2, 1/(INDIRECT(\"B\" & ROW() - 6 & \":B\" & ROW())<>\"\"), INDIRECT(\"B\" & ROW() - 6 & \":B\" & ROW())), 4),\n_xlpm.program, LOOKUP(2, 1/(A$4:F$4<>\"\"), A$4:F$4) & IF(TRIM(F$6)=\"\", \"\", \" - \" & TRIM(F$6)),\n_xlpm.criteria, VALUE(_xlpm.objectCode) & \"|\" & _xlpm.program & \"|\" & TRIM($C49),\nSUMIF(INDEX(BdgtConsolidated,,5), _xlpm.criteria, INDEX(BdgtConsolidated,,4))\n)","v":0},{"$f":"_xlfn.LET(\n_xlpm.objectCode, LEFT(LOOKUP(2, 1/(INDIRECT(\"B\" & ROW() - 6 & \":B\" & ROW())<>\"\"), INDIRECT(\"B\" & ROW() - 6 & \":B\" & ROW())), 4),\n_xlpm.program, LOOKUP(2, 1/(B$4:G$4<>\"\"), B$4:G$4) & IF(TRIM(G$6)=\"\", \"\", \" - \" & TRIM(G$6)),\n_xlpm.criteria, VALUE(_xlpm.objectCode) & \"|\" & _xlpm.program & \"|\" & TRIM($C49),\nSUMIF(INDEX(BdgtConsolidated,,5), _xlpm.criteria, INDEX(BdgtConsolidated,,4))\n)","v":0},null,{"$f":"_xlfn.LET(\n_xlpm.objectCode, LEFT(LOOKUP(2, 1/(INDIRECT(\"B\" & ROW() - 6 & \":B\" & ROW())<>\"\"), INDIRECT(\"B\" & ROW() - 6 & \":B\" & ROW())), 4),\n_xlpm.program, LOOKUP(2, 1/(D$4:I$4<>\"\"), D$4:I$4) & IF(TRIM(I$6)=\"\", \"\", \" - \" & TRIM(I$6)),\n_xlpm.criteria, VALUE(_xlpm.objectCode) & \"|\" & _xlpm.program & \"|\" & TRIM($C49),\nSUMIF(INDEX(BdgtConsolidated,,5), _xlpm.criteria, INDEX(BdgtConsolidated,,4))\n)","v":0},{"$f":"_xlfn.LET(\n_xlpm.objectCode, LEFT(LOOKUP(2, 1/(INDIRECT(\"B\" & ROW() - 6 & \":B\" & ROW())<>\"\"), INDIRECT(\"B\" & ROW() - 6 & \":B\" & ROW())), 4),\n_xlpm.program, LOOKUP(2, 1/(E$4:J$4<>\"\"), E$4:J$4) & IF(TRIM(J$6)=\"\", \"\", \" - \" & TRIM(J$6)),\n_xlpm.criteria, VALUE(_xlpm.objectCode) & \"|\" & _xlpm.program & \"|\" & TRIM($C49),\nSUMIF(INDEX(BdgtConsolidated,,5), _xlpm.criteria, INDEX(BdgtConsolidated,,4))\n)","v":0},{"$f":"_xlfn.LET(\n_xlpm.objectCode, LEFT(LOOKUP(2, 1/(INDIRECT(\"B\" & ROW() - 6 & \":B\" & ROW())<>\"\"), INDIRECT(\"B\" & ROW() - 6 & \":B\" & ROW())), 4),\n_xlpm.program, LOOKUP(2, 1/(F$4:K$4<>\"\"), F$4:K$4) & IF(TRIM(K$6)=\"\", \"\", \" - \" & TRIM(K$6)),\n_xlpm.criteria, VALUE(_xlpm.objectCode) & \"|\" & _xlpm.program & \"|\" & TRIM($C49),\nSUMIF(INDEX(BdgtConsolidated,,5), _xlpm.criteria, INDEX(BdgtConsolidated,,4))\n)","v":0},{"$f":"_xlfn.LET(\n_xlpm.objectCode, LEFT(LOOKUP(2, 1/(INDIRECT(\"B\" & ROW() - 6 & \":B\" & ROW())<>\"\"), INDIRECT(\"B\" & ROW() - 6 & \":B\" & ROW())), 4),\n_xlpm.program, LOOKUP(2, 1/(G$4:L$4<>\"\"), G$4:L$4) & IF(TRIM(L$6)=\"\", \"\", \" - \" & TRIM(L$6)),\n_xlpm.criteria, VALUE(_xlpm.objectCode) & \"|\" & _xlpm.program & \"|\" & TRIM($C49),\nSUMIF(INDEX(BdgtConsolidated,,5), _xlpm.criteria, INDEX(BdgtConsolidated,,4))\n)","v":0},{"$f":"_xlfn.LET(\n_xlpm.objectCode, LEFT(LOOKUP(2, 1/(INDIRECT(\"B\" & ROW() - 6 & \":B\" & ROW())<>\"\"), INDIRECT(\"B\" & ROW() - 6 & \":B\" & ROW())), 4),\n_xlpm.program, LOOKUP(2, 1/(H$4:M$4<>\"\"), H$4:M$4) & IF(TRIM(M$6)=\"\", \"\", \" - \" & TRIM(M$6)),\n_xlpm.criteria, VALUE(_xlpm.objectCode) & \"|\" & _xlpm.program & \"|\" & TRIM($C49),\nSUMIF(INDEX(BdgtConsolidated,,5), _xlpm.criteria, INDEX(BdgtConsolidated,,4))\n)","v":0},{"$f":"_xlfn.LET(\n_xlpm.objectCode, LEFT(LOOKUP(2, 1/(INDIRECT(\"B\" & ROW() - 6 & \":B\" & ROW())<>\"\"), INDIRECT(\"B\" & ROW() - 6 & \":B\" & ROW())), 4),\n_xlpm.program, LOOKUP(2, 1/(I$4:N$4<>\"\"), I$4:N$4) & IF(TRIM(N$6)=\"\", \"\", \" - \" & TRIM(N$6)),\n_xlpm.criteria, VALUE(_xlpm.objectCode) & \"|\" & _xlpm.program & \"|\" & TRIM($C49),\nSUMIF(INDEX(BdgtConsolidated,,5), _xlpm.criteria, INDEX(BdgtConsolidated,,4))\n)","v":0},{"$f":"SUM(L49:N49)","v":0}]
[null,null,"Administrative",null,null,null,null,null,{"$f":"_xlfn.LET(\n_xlpm.objectCode, LEFT(LOOKUP(2, 1/(INDIRECT(\"B\" & ROW() - 6 & \":B\" & ROW())<>\"\"), INDIRECT(\"B\" & ROW() - 6 & \":B\" & ROW())), 4),\n_xlpm.program, LOOKUP(2, 1/(D$4:I$4<>\"\"), D$4:I$4) & IF(TRIM(I$6)=\"\", \"\", \" - \" & TRIM(I$6)),\n_xlpm.criteria, VALUE(_xlpm.objectCode) & \"|\" & _xlpm.program & \"|\" & TRIM($C50),\nSUMIF(INDEX(BdgtConsolidated,,5), _xlpm.criteria, INDEX(BdgtConsolidated,,4))\n)","v":0},{"$f":"_xlfn.LET(\n_xlpm.objectCode, LEFT(LOOKUP(2, 1/(INDIRECT(\"B\" & ROW() - 6 & \":B\" & ROW())<>\"\"), INDIRECT(\"B\" & ROW() - 6 & \":B\" & ROW())), 4),\n_xlpm.program, LOOKUP(2, 1/(E$4:J$4<>\"\"), E$4:J$4) & IF(TRIM(J$6)=\"\", \"\", \" - \" & TRIM(J$6)),\n_xlpm.criteria, VALUE(_xlpm.objectCode) & \"|\" & _xlpm.program & \"|\" & TRIM($C50),\nSUMIF(INDEX(BdgtConsolidated,,5), _xlpm.criteria, INDEX(BdgtConsolidated,,4))\n)","v":0},{"$f":"_xlfn.LET(\n_xlpm.objectCode, LEFT(LOOKUP(2, 1/(INDIRECT(\"B\" & ROW() - 6 & \":B\" & ROW())<>\"\"), INDIRECT(\"B\" & ROW() - 6 & \":B\" & ROW())), 4),\n_xlpm.program, LOOKUP(2, 1/(F$4:K$4<>\"\"), F$4:K$4) & IF(TRIM(K$6)=\"\", \"\", \" - \" & TRIM(K$6)),\n_xlpm.criteria, VALUE(_xlpm.objectCode) & \"|\" & _xlpm.program & \"|\" & TRIM($C50),\nSUMIF(INDEX(BdgtConsolidated,,5), _xlpm.criteria, INDEX(BdgtConsolidated,,4))\n)","v":0},{"$f":"_xlfn.LET(\n_xlpm.objectCode, LEFT(LOOKUP(2, 1/(INDIRECT(\"B\" & ROW() - 6 & \":B\" & ROW())<>\"\"), INDIRECT(\"B\" & ROW() - 6 & \":B\" & ROW())), 4),\n_xlpm.program, LOOKUP(2, 1/(G$4:L$4<>\"\"), G$4:L$4) & IF(TRIM(L$6)=\"\", \"\", \" - \" & TRIM(L$6)),\n_xlpm.criteria, VALUE(_xlpm.objectCode) & \"|\" & _xlpm.program & \"|\" & TRIM($C50),\nSUMIF(INDEX(BdgtConsolidated,,5), _xlpm.criteria, INDEX(BdgtConsolidated,,4))\n)","v":0},{"$f":"_xlfn.LET(\n_xlpm.objectCode, LEFT(LOOKUP(2, 1/(INDIRECT(\"B\" & ROW() - 6 & \":B\" & ROW())<>\"\"), INDIRECT(\"B\" & ROW() - 6 & \":B\" & ROW())), 4),\n_xlpm.program, LOOKUP(2, 1/(H$4:M$4<>\"\"), H$4:M$4) & IF(TRIM(M$6)=\"\", \"\", \" - \" & TRIM(M$6)),\n_xlpm.criteria, VALUE(_xlpm.objectCode) & \"|\" & _xlpm.program & \"|\" & TRIM($C50),\nSUMIF(INDEX(BdgtConsolidated,,5), _xlpm.criteria, INDEX(BdgtConsolidated,,4))\n)","v":0},{"$f":"_xlfn.LET(\n_xlpm.objectCode, LEFT(LOOKUP(2, 1/(INDIRECT(\"B\" & ROW() - 6 & \":B\" & ROW())<>\"\"), INDIRECT(\"B\" & ROW() - 6 & \":B\" & ROW())), 4),\n_xlpm.program, LOOKUP(2, 1/(I$4:N$4<>\"\"), I$4:N$4) & IF(TRIM(N$6)=\"\", \"\", \" - \" & TRIM(N$6)),\n_xlpm.criteria, VALUE(_xlpm.objectCode) & \"|\" & _xlpm.program & \"|\" & TRIM($C50),\nSUMIF(INDEX(BdgtConsolidated,,5), _xlpm.criteria, INDEX(BdgtConsolidated,,4))\n)","v":0},{"$f":"SUM(L50:N50)","v":0}]
[null,null,"Non-Administrative",null,null,null,null,null,{"$f":"_xlfn.LET(\n_xlpm.objectCode, LEFT(LOOKUP(2, 1/(INDIRECT(\"B\" & ROW() - 6 & \":B\" & ROW())<>\"\"), INDIRECT(\"B\" & ROW() - 6 & \":B\" & ROW())), 4),\n_xlpm.program, LOOKUP(2, 1/(D$4:I$4<>\"\"), D$4:I$4) & IF(TRIM(I$6)=\"\", \"\", \" - \" & TRIM(I$6)),\n_xlpm.criteria, VALUE(_xlpm.objectCode) & \"|\" & _xlpm.program & \"|\" & TRIM($C51),\nSUMIF(INDEX(BdgtConsolidated,,5), _xlpm.criteria, INDEX(BdgtConsolidated,,4))\n)","v":0},null,null,{"$f":"_xlfn.LET(\n_xlpm.objectCode, LEFT(LOOKUP(2, 1/(INDIRECT(\"B\" & ROW() - 6 & \":B\" & ROW())<>\"\"), INDIRECT(\"B\" & ROW() - 6 & \":B\" & ROW())), 4),\n_xlpm.program, LOOKUP(2, 1/(G$4:L$4<>\"\"), G$4:L$4) & IF(TRIM(L$6)=\"\", \"\", \" - \" & TRIM(L$6)),\n_xlpm.criteria, VALUE(_xlpm.objectCode) & \"|\" & _xlpm.program & \"|\" & TRIM($C51),\nSUMIF(INDEX(BdgtConsolidated,,5), _xlpm.criteria, INDEX(BdgtConsolidated,,4))\n)","v":0},{"$f":"_xlfn.LET(\n_xlpm.objectCode, LEFT(LOOKUP(2, 1/(INDIRECT(\"B\" & ROW() - 6 & \":B\" & ROW())<>\"\"), INDIRECT(\"B\" & ROW() - 6 & \":B\" & ROW())), 4),\n_xlpm.program, LOOKUP(2, 1/(H$4:M$4<>\"\"), H$4:M$4) & IF(TRIM(M$6)=\"\", \"\", \" - \" & TRIM(M$6)),\n_xlpm.criteria, VALUE(_xlpm.objectCode) & \"|\" & _xlpm.program & \"|\" & TRIM($C51),\nSUMIF(INDEX(BdgtConsolidated,,5), _xlpm.criteria, INDEX(BdgtConsolidated,,4))\n)","v":0},{"$f":"_xlfn.LET(\n_xlpm.objectCode, LEFT(LOOKUP(2, 1/(INDIRECT(\"B\" & ROW() - 6 & \":B\" & ROW())<>\"\"), INDIRECT(\"B\" & ROW() - 6 & \":B\" & ROW())), 4),\n_xlpm.program, LOOKUP(2, 1/(I$4:N$4<>\"\"), I$4:N$4) & IF(TRIM(N$6)=\"\", \"\", \" - \" & TRIM(N$6)),\n_xlpm.criteria, VALUE(_xlpm.objectCode) & \"|\" & _xlpm.program & \"|\" & TRIM($C51),\nSUMIF(INDEX(BdgtConsolidated,,5), _xlpm.criteria, INDEX(BdgtConsolidated,,4))\n)","v":0},{"$f":"SUM(L51:N51)","v":0}]
[null,null,"Materials",null,null,null,null,null,null,{"$f":"_xlfn.LET(\n_xlpm.objectCode, LEFT(LOOKUP(2, 1/(INDIRECT(\"B\" & ROW() - 6 & \":B\" & ROW())<>\"\"), INDIRECT(\"B\" & ROW() - 6 & \":B\" & ROW())), 4),\n_xlpm.program, LOOKUP(2, 1/(E$4:J$4<>\"\"), E$4:J$4) & IF(TRIM(J$6)=\"\", \"\", \" - \" & TRIM(J$6)),\n_xlpm.criteria, VALUE(_xlpm.objectCode) & \"|\" & _xlpm.program & \"|\" & TRIM($C52),\nSUMIF(INDEX(BdgtConsolidated,,5), _xlpm.criteria, INDEX(BdgtConsolidated,,4))\n)","v":0},{"$f":"_xlfn.LET(\n_xlpm.objectCode, LEFT(LOOKUP(2, 1/(INDIRECT(\"B\" & ROW() - 6 & \":B\" & ROW())<>\"\"), INDIRECT(\"B\" & ROW() - 6 & \":B\" & ROW())), 4),\n_xlpm.program, LOOKUP(2, 1/(F$4:K$4<>\"\"), F$4:K$4) & IF(TRIM(K$6)=\"\", \"\", \" - \" & TRIM(K$6)),\n_xlpm.criteria, VALUE(_xlpm.objectCode) & \"|\" & _xlpm.program & \"|\" & TRIM($C52),\nSUMIF(INDEX(BdgtConsolidated,,5), _xlpm.criteria, INDEX(BdgtConsolidated,,4))\n)","v":0}]
[null,null,"Total Materials and Supplies",null,null,{"$f":"SUM(F46:F52)","v":0},0,0,0,0,0,0,0,0,{"$f":"SUM(L53:N53)","v":0},{"$f":"SUM(P46:P52)","v":0},{"$f":"IF(SUM(Q499)=SUM(F53:N53,P53),\"Yes\",\"No - Please review your entries.\")","v":"Yes"}]
[null,"8000 - \nCapital\nOutlay","Non Set-Aside",null,null,{"$f":"_xlfn.LET(\n_xlpm.objectCode, LEFT(LOOKUP(2, 1/(INDIRECT(\"B\" & ROW() - 6 & \":B\" & ROW())<>\"\"), INDIRECT(\"B\" & ROW() - 6 & \":B\" & ROW())), 4),\n_xlpm.program, LOOKUP(2, 1/(A$4:F$4<>\"\"), A$4:F$4) & IF(TRIM(F$6)=\"\", \"\", \" - \" & TRIM(F$6)),\n_xlpm.criteria, VALUE(_xlpm.objectCode) & \"|\" & _xlpm.program & \"|\" & TRIM($C54),\nSUMIF(INDEX(BdgtConsolidated,,5), _xlpm.criteria, INDEX(BdgtConsolidated,,4))\n)","v":0},{"$f":"_xlfn.LET(\n_xlpm.objectCode, LEFT(LOOKUP(2, 1/(INDIRECT(\"B\" & ROW() - 6 & \":B\" & ROW())<>\"\"), INDIRECT(\"B\" & ROW() - 6 & \":B\" & ROW())), 4),\n_xlpm.program, LOOKUP(2, 1/(B$4:G$4<>\"\"), B$4:G$4) & IF(TRIM(G$6)=\"\", \"\", \" - \" & TRIM(G$6)),\n_xlpm.criteria, VALUE(_xlpm.objectCode) & \"|\" & _xlpm.program & \"|\" & TRIM($C54),\nSUMIF(INDEX(BdgtConsolidated,,5), _xlpm.criteria, INDEX(BdgtConsolidated,,4))\n)","v":0},{"$f":"_xlfn.LET(\n_xlpm.objectCode, LEFT(LOOKUP(2, 1/(INDIRECT(\"B\" & ROW() - 6 & \":B\" & ROW())<>\"\"), INDIRECT(\"B\" & ROW() - 6 & \":B\" & ROW())), 4),\n_xlpm.program, LOOKUP(2, 1/(C$4:H$4<>\"\"), C$4:H$4) & IF(TRIM(H$6)=\"\", \"\", \" - \" & TRIM(H$6)),\n_xlpm.criteria, VALUE(_xlpm.objectCode) & \"|\" & _xlpm.program & \"|\" & TRIM($C54),\nSUMIF(INDEX(BdgtConsolidated,,5), _xlpm.criteria, INDEX(BdgtConsolidated,,4))\n)","v":0},null,null,null,null,null,null,null,{"$f":"_xlfn.LET(\n_xlpm.objectCode, LEFT(LOOKUP(2, 1/(INDIRECT(\"B\" & ROW() - 6 & \":B\" & ROW())<>\"\"), INDIRECT(\"B\" & ROW() - 6 & \":B\" & ROW())), 4),\n_xlpm.program, LOOKUP(2, 1/(K$4:P$4<>\"\"), K$4:P$4) & IF(TRIM(P$6)=\"\", \"\", \" - \" & TRIM(P$6)),\n_xlpm.criteria, VALUE(_xlpm.objectCode) & \"|\" & _xlpm.program & \"|\" & TRIM($C54),\nSUMIF(INDEX(BdgtConsolidated,,5), _xlpm.criteria, INDEX(BdgtConsolidated,,4))\n)","v":0}]
[null,null,"Set-Aside",null,null,{"$f":"_xlfn.LET(\n_xlpm.objectCode, LEFT(LOOKUP(2, 1/(INDIRECT(\"B\" & ROW() - 6 & \":B\" & ROW())<>\"\"), INDIRECT(\"B\" & ROW() - 6 & \":B\" & ROW())), 4),\n_xlpm.program, LOOKUP(2, 1/(A$4:F$4<>\"\"), A$4:F$4) & IF(TRIM(F$6)=\"\", \"\", \" - \" & TRIM(F$6)),\n_xlpm.criteria, VALUE(_xlpm.objectCode) & \"|\" & _xlpm.program & \"|\" & TRIM($C55),\nSUMIF(INDEX(BdgtConsolidated,,5), _xlpm.criteria, INDEX(BdgtConsolidated,,4))\n)","v":0}]
[null,null,"Parent and Family Engagement Set-Aside",null,null,{"$f":"_xlfn.LET(\n_xlpm.objectCode, LEFT(LOOKUP(2, 1/(INDIRECT(\"B\" & ROW() - 6 & \":B\" & ROW())<>\"\"), INDIRECT(\"B\" & ROW() - 6 & \":B\" & ROW())), 4),\n_xlpm.program, LOOKUP(2, 1/(A$4:F$4<>\"\"), A$4:F$4) & IF(TRIM(F$6)=\"\", \"\", \" - \" & TRIM(F$6)),\n_xlpm.criteria, VALUE(_xlpm.objectCode) & \"|\" & _xlpm.program & \"|\" & TRIM($C56),\nSUMIF(INDEX(BdgtConsolidated,,5), _xlpm.criteria, INDEX(BdgtConsolidated,,4))\n)","v":0}]
[null,null,"Private School Set-Aside ",null,null,{"$f":"_xlfn.LET(\n_xlpm.objectCode, LEFT(LOOKUP(2, 1/(INDIRECT(\"B\" & ROW() - 6 & \":B\" & ROW())<>\"\"), INDIRECT(\"B\" & ROW() - 6 & \":B\" & ROW())), 4),\n_xlpm.program, LOOKUP(2, 1/(A$4:F$4<>\"\"), A$4:F$4) & IF(TRIM(F$6)=\"\", \"\", \" - \" & TRIM(F$6)),\n_xlpm.criteria, VALUE(_xlpm.objectCode) & \"|\" & _xlpm.program & \"|\" & TRIM($C57),\nSUMIF(INDEX(BdgtConsolidated,,5), _xlpm.criteria, INDEX(BdgtConsolidated,,4))\n)","v":0},{"$f":"_xlfn.LET(\n_xlpm.objectCode, LEFT(LOOKUP(2, 1/(INDIRECT(\"B\" & ROW() - 6 & \":B\" & ROW())<>\"\"), INDIRECT(\"B\" & ROW() - 6 & \":B\" & ROW())), 4),\n_xlpm.program, LOOKUP(2, 1/(B$4:G$4<>\"\"), B$4:G$4) & IF(TRIM(G$6)=\"\", \"\", \" - \" & TRIM(G$6)),\n_xlpm.criteria, VALUE(_xlpm.objectCode) & \"|\" & _xlpm.program & \"|\" & TRIM($C57),\nSUMIF(INDEX(BdgtConsolidated,,5), _xlpm.criteria, INDEX(BdgtConsolidated,,4))\n)","v":0},null,null,null,null,{"$f":"_xlfn.LET(\n_xlpm.objectCode, LEFT(LOOKUP(2, 1/(INDIRECT(\"B\" & ROW() - 6 & \":B\" & ROW())<>\"\"), INDIRECT(\"B\" & ROW() - 6 & \":B\" & ROW())), 4),\n_xlpm.program, LOOKUP(2, 1/(G$4:L$4<>\"\"), G$4:L$4) & IF(TRIM(L$6)=\"\", \"\", \" - \" & TRIM(L$6)),\n_xlpm.criteria, VALUE(_xlpm.objectCode) & \"|\" & _xlpm.program & \"|\" & TRIM($C57),\nSUMIF(INDEX(BdgtConsolidated,,5), _xlpm.criteria, INDEX(BdgtConsolidated,,4))\n)","v":0},{"$f":"_xlfn.LET(\n_xlpm.objectCode, LEFT(LOOKUP(2, 1/(INDIRECT(\"B\" & ROW() - 6 & \":B\" & ROW())<>\"\"), INDIRECT(\"B\" & ROW() - 6 & \":B\" & ROW())), 4),\n_xlpm.program, LOOKUP(2, 1/(H$4:M$4<>\"\"), H$4:M$4) & IF(TRIM(M$6)=\"\", \"\", \" - \" & TRIM(M$6)),\n_xlpm.criteria, VALUE(_xlpm.objectCode) & \"|\" & _xlpm.program & \"|\" & TRIM($C57),\nSUMIF(INDEX(BdgtConsolidated,,5), _xlpm.criteria, INDEX(BdgtConsolidated,,4))\n)","v":0},{"$f":"_xlfn.LET(\n_xlpm.objectCode, LEFT(LOOKUP(2, 1/(INDIRECT(\"B\" & ROW() - 6 & \":B\" & ROW())<>\"\"), INDIRECT(\"B\" & ROW() - 6 & \":B\" & ROW())), 4),\n_xlpm.program, LOOKUP(2, 1/(I$4:N$4<>\"\"), I$4:N$4) & IF(TRIM(N$6)=\"\", \"\", \" - \" & TRIM(N$6)),\n_xlpm.criteria, VALUE(_xlpm.objectCode) & \"|\" & _xlpm.program & \"|\" & TRIM($C57),\nSUMIF(INDEX(BdgtConsolidated,,5), _xlpm.criteria, INDEX(BdgtConsolidated,,4))\n)","v":0},{"$f":"SUM(L57:N57)","v":0}]
[null,null,"Non-Administrative",null,null,null,null,null,{"$f":"_xlfn.LET(\n_xlpm.objectCode, LEFT(LOOKUP(2, 1/(INDIRECT(\"B\" & ROW() - 6 & \":B\" & ROW())<>\"\"), INDIRECT(\"B\" & ROW() - 6 & \":B\" & ROW())), 4),\n_xlpm.program, LOOKUP(2, 1/(D$4:I$4<>\"\"), D$4:I$4) & IF(TRIM(I$6)=\"\", \"\", \" - \" & TRIM(I$6)),\n_xlpm.criteria, VALUE(_xlpm.objectCode) & \"|\" & _xlpm.program & \"|\" & TRIM($C58),\nSUMIF(INDEX(BdgtConsolidated,,5), _xlpm.criteria, INDEX(BdgtConsolidated,,4))\n)","v":0},{"$f":"_xlfn.LET(\n_xlpm.objectCode, LEFT(LOOKUP(2, 1/(INDIRECT(\"B\" & ROW() - 6 & \":B\" & ROW())<>\"\"), INDIRECT(\"B\" & ROW() - 6 & \":B\" & ROW())), 4),\n_xlpm.program, LOOKUP(2, 1/(E$4:J$4<>\"\"), E$4:J$4) & IF(TRIM(J$6)=\"\", \"\", \" - \" & TRIM(J$6)),\n_xlpm.criteria, VALUE(_xlpm.objectCode) & \"|\" & _xlpm.program & \"|\" & TRIM($C58),\nSUMIF(INDEX(BdgtConsolidated,,5), _xlpm.criteria, INDEX(BdgtConsolidated,,4))\n)","v":0},{"$f":"_xlfn.LET(\n_xlpm.objectCode, LEFT(LOOKUP(2, 1/(INDIRECT(\"B\" & ROW() - 6 & \":B\" & ROW())<>\"\"), INDIRECT(\"B\" & ROW() - 6 & \":B\" & ROW())), 4),\n_xlpm.program, LOOKUP(2, 1/(F$4:K$4<>\"\"), F$4:K$4) & IF(TRIM(K$6)=\"\", \"\", \" - \" & TRIM(K$6)),\n_xlpm.criteria, VALUE(_xlpm.objectCode) & \"|\" & _xlpm.program & \"|\" & TRIM($C58),\nSUMIF(INDEX(BdgtConsolidated,,5), _xlpm.criteria, INDEX(BdgtConsolidated,,4))\n)","v":0},{"$f":"_xlfn.LET(\n_xlpm.objectCode, LEFT(LOOKUP(2, 1/(INDIRECT(\"B\" & ROW() - 6 & \":B\" & ROW())<>\"\"), INDIRECT(\"B\" & ROW() - 6 & \":B\" & ROW())), 4),\n_xlpm.program, LOOKUP(2, 1/(G$4:L$4<>\"\"), G$4:L$4) & IF(TRIM(L$6)=\"\", \"\", \" - \" & TRIM(L$6)),\n_xlpm.criteria, VALUE(_xlpm.objectCode) & \"|\" & _xlpm.program & \"|\" & TRIM($C58),\nSUMIF(INDEX(BdgtConsolidated,,5), _xlpm.criteria, INDEX(BdgtConsolidated,,4))\n)","v":0},{"$f":"_xlfn.LET(\n_xlpm.objectCode, LEFT(LOOKUP(2, 1/(INDIRECT(\"B\" & ROW() - 6 & \":B\" & ROW())<>\"\"), INDIRECT(\"B\" & ROW() - 6 & \":B\" & ROW())), 4),\n_xlpm.program, LOOKUP(2, 1/(H$4:M$4<>\"\"), H$4:M$4) & IF(TRIM(M$6)=\"\", \"\", \" - \" & TRIM(M$6)),\n_xlpm.criteria, VALUE(_xlpm.objectCode) & \"|\" & _xlpm.program & \"|\" & TRIM($C58),\nSUMIF(INDEX(BdgtConsolidated,,5), _xlpm.criteria, INDEX(BdgtConsolidated,,4))\n)","v":0},{"$f":"_xlfn.LET(\n_xlpm.objectCode, LEFT(LOOKUP(2, 1/(INDIRECT(\"B\" & ROW() - 6 & \":B\" & ROW())<>\"\"), INDIRECT(\"B\" & ROW() - 6 & \":B\" & ROW())), 4),\n_xlpm.program, LOOKUP(2, 1/(I$4:N$4<>\"\"), I$4:N$4) & IF(TRIM(N$6)=\"\", \"\", \" - \" & TRIM(N$6)),\n_xlpm.criteria, VALUE(_xlpm.objectCode) & \"|\" & _xlpm.program & \"|\" & TRIM($C58),\nSUMIF(INDEX(BdgtConsolidated,,5), _xlpm.criteria, INDEX(BdgtConsolidated,,4))\n)","v":0},{"$f":"SUM(L58:N58)","v":0}]
[null,null,"Total Capital Outlay",null,null,{"$f":"SUM(F54:F58)","v":0},0,0,0,0,0,0,0,0,{"$f":"SUM(L59:N59)","v":0},{"$f":"SUM(P54:P58)","v":0},{"$f":"IF(SUM(Q578)=SUM(F59:N59,P59),\"Yes\",\"No - Please review your entries.\")","v":"Yes"}]
[null,null,"TOTAL BUDGET",null,null,{"$f":"SUM(F59,F53,F45,F37,F29,F21,F14)","v":0},0,0,0,0,0,0,0,0,{"$f":"SUM(L60:N60)","v":0},{"$f":"SUM(P59,P53,P45,P37,P29,P21,P14)","v":0}]
[null,null,"TOTAL PARENT AND FAMILY ENGAGEMENT SET-ASIDE",null,null,{"$f":"SUM(F10,F17,F24,F32,F40,F48,F56)","v":0},"N/A","N/A","N/A","N/A","N/A","N/A","N/A","N/A","N/A","N/A"]
[null,null,"TOTAL SET-ASIDE BUDGET (ADMINISTRATIVE COSTS FOR TITLE II, PART A)",null,null,{"$f":"SUM(F9,F16,F23,F31,F39,F47,F55)","v":0},"N/A","N/A",{"$f":"SUM(I12,I19,I26,I34,I42,I44,I50,)","v":0},{"$f":"SUM(J12,J19,J26,J44,J50,)","v":0},{"$f":"SUM(K12,K19,K26,K44,K50,)","v":0},{"$f":"SUM(L12,L19,L26,L44,L50,)","v":0},{"$f":"SUM(M12,M19,M26,M44,M50,)","v":0},{"$f":"SUM(N12,N19,N26,N44,N50,)","v":0},{"$f":"SUM(L62:N62)","v":0},"N/A"]
[null,null,"TOTAL PRIVATE SCHOOL SET-ASIDE ",null,null,{"$f":"SUM(F11,F18,F25,F33,F41,F49,F57)","v":0},"N/A","N/A",{"$f":"SUM(I11,I18,I25,I33,I41,I49)","v":0},{"$f":"SUM(J11,J18,J25,J33,J41,J49)","v":0},{"$f":"SUM(K11,K18,K25,K33,K41,K49)","v":0},{"$f":"SUM(L11,L18,L25,L33,L41,L49,L57)","v":0},{"$f":"SUM(M11,M18,M25,M33,M41,M49,M57)","v":0},{"$f":"SUM(N11,N18,N25,N33,N41,N49,N57)","v":0},{"$f":"SUM(L63:N63)","v":0},"N/A"]
[null,null,"DOES THE PRIVATE SCHOOL SET-ASIDE MATCH THE VALUE OF SERVICES ON THE PRIVATE SCHOOL TAB?",null,null,null,"N/A","N/A",{"$f":"IF(SUM(I63)=SUM('Title II, Part A'!B133),\"Yes\",\"No - Please review your entries.\")","v":"Yes"},{"$f":"IF(SUM(J63:K63)=SUM('Title III, Part A'!N213),\"Yes\",\"No - Please review your entries.\")","v":"Yes"},null,{"$f":"IF(SUM(O63)=SUM('Title IV, Part A'!B179),\"Yes\",\"No - Please review your entries.\")","v":"Yes"},null,null,null,"N/A"]
[null,null,"IF ALLOCATION IS $30,000 OR GREATER, DOES THE ALLOCATION MEET MINIMUM REQUIREMENT FOR EACH AREA?",null,null,"N/A","N/A","N/A","N/A","N/A","N/A",{"$f":"IF(OR(SUM(L60)>=SUM(L5*0.2), SUM(L5)<30000), \"Requirement Met\", \"Requirement Not Met - Redistribute Funds\")","v":"Requirement Met"},{"$f":"IF(OR(SUM(M60)>=SUM(L5*0.2), SUM(L5)<30000), \"Requirement Met\", \"Requirement Not Met - Redistribute Funds\")","v":"Requirement Met"},{"$f":"IF(OR(SUM(N60)>0), \"Requirement Met\", \"Requirement Not Met - Redistribute Funds\")","v":"Requirement Not Met - Redistribute Funds"},"N/A","N/A"]
[null,null,"DOES THE BUDGET SUMMARY MATCH THE TOTAL ALLOCATION?",null,null,{"$f":"IF(SUM(F60)=SUM(F5),\"Yes\",\"No - Please review your entries.\")","v":"Yes"},{"$f":"IF(SUM(G60)=SUM(G5),\"Yes\",\"No - Please review your entries.\")","v":"Yes"},{"$f":"IF(SUM(H60)=SUM(H5),\"Yes\",\"No - Please review your entries.\")","v":"Yes"},{"$f":"IF(SUM(I60)=SUM(I5),\"Yes\",\"No - Please review your entries.\")","v":"Yes"},{"$f":"IF(SUM(J60:K60)=SUM(J5),\"Yes\",\"No - Please review your entries.\")","v":"Yes"},null,{"$f":"IF(SUM(O60)=SUM(L5),\"Yes\",\"No - Please review your entries.\")","v":"Yes"},null,null,null,{"$f":"IF(SUM(P60)=SUM(P5),\"Yes\",\"No - Please review your entries.\")","v":"Yes"},"Difference",{"$f":"SUM(F60:N60,P60)-SUM(F5:P5)","v":0}]
[]
[null,null,"NOTES:  (1) Object codes 7000 and 9000 are not used in application budgets or in requests for reimbursements for this federal grant.\n               (2) Administrative costs are limited to 2 percent or less of the EL subgrant and Title IV, Part A award including indirect costs.\n               (3) Indirect costs claims are subject to the availability of funds and statutory or administrative restrictions. Title III, Part A and Title IV, Part A, place a statutory limitation or cap on administrative costs. Because the cap applies to the combined \n                    claims for indirect costs and direct administrative costs, divisions may not be able to claim the entirety of their indirect costs. The amount unrecovered may not be shifted to another federal award.\n               (4) Expenses for parental involvement programs are to be incorporated into the appropriate object code(s) based on the category of the related charges."]
[null,"Page 21"]
[null,{"$f":"'Main Page'!$N$9","v":"2026-2027"},null,"School Division:",{"$f":"'Main Page'!$L$14","v":0},null,null,null,"Division Number:",{"$f":"'Main Page'!$L$15","v":" "},{"$f":"'Main Page'!$B$6","v":"Local Consolidated Application"}]
[null,"G.  DETAILED BUDGET BREAKDOWN"]
[null,"Prepare a detailed breakdown of the budget categories for Object Codes 1000-6000 and 8000.  Choose the appropriate category for each expense in the dropdown list under \"Federal Program Funding Source\" and \"Category.\""]
[null,"Does the Detailed Budget Breakdown Match the Total Allocation?",null,null,null,null,null,null,{"$f":"IF(SUM(F60:N60,P60)=SUM(Q130,Q203,Q275, Q357, Q428, Q499, Q578),\"Yes\",\"No - Please review your entries.\")","v":"Yes"}]
[]
[null,"DETAILED BUDGET DESCRIPTION OF OBJECT CODE 1000"]
[null,"Provide a description of the positions supported with funds from this program. Indicate if any positions are newly funded under this program.  Explain the supplementary nature of any new positions. Required if staff positions are to be funded by federal funds."]
[]
[]
[]
[null,"Please provide a detailed description of Title II, Part A and Title III, Part A Private School activities (if no private school set-aside is present, please enter N/A). "]
[]
[null,"Types of Staff Positions\nAdministrative, Teacher, Paraprofessional, Reading Specialist, Home School Coordinator, Other",null,null,null,null,null,null,null,"Measurable Objective",null,"Federal Program Funding Source",null,"Category",null,"FTEs","Total Cost"]
[null,"Value of professional development personnel-related services or stipends on behalf of private schools",null,null,null,null,null,null,null,null,null,null,null,null,null,null,null,null,null,null,{"$f":"IFERROR(VLOOKUP(\"1000\" & \"|\" & TRIM(L83)& \"|\" & TRIM(N83),BdgtXrefTable[[Detail Key]:[Summary Key]],4,FALSE),\"?\")","v":"?"}]
[null,"Value of professional development personnel-related services or stipends on behalf of private schools",null,null,null,null,null,null,null,null,null,null,null,null,null,null,null,null,null,null,{"$f":"IFERROR(VLOOKUP(\"1000\" & \"|\" & TRIM(L84)& \"|\" & TRIM(N84),BdgtXrefTable[[Detail Key]:[Summary Key]],4,FALSE),\"?\")","v":"?"}]
[null,null,null,null,null,null,null,null,null,null,null,null,null,null,null,null,null,null,null,null,{"$f":"IFERROR(VLOOKUP(\"1000\" & \"|\" & TRIM(L85)& \"|\" & TRIM(N85),BdgtXrefTable[[Detail Key]:[Summary Key]],4,FALSE),\"?\")","v":"?"}]
[null,null,null,null,null,null,null,null,null,null,null,null,null,null,null,null,null,null,null,null,{"$f":"IFERROR(VLOOKUP(\"1000\" & \"|\" & TRIM(L86)& \"|\" & TRIM(N86),BdgtXrefTable[[Detail Key]:[Summary Key]],4,FALSE),\"?\")","v":"?"}]
[null,null,null,null,null,null,null,null,null,null,null,null,null,null,null,null,null,null,null,null,{"$f":"IFERROR(VLOOKUP(\"1000\" & \"|\" & TRIM(L87)& \"|\" & TRIM(N87),BdgtXrefTable[[Detail Key]:[Summary Key]],4,FALSE),\"?\")","v":"?"}]
[null,null,null,null,null,null,null,null,null,null,null,null,null,null,null,null,null,null,null,null,{"$f":"IFERROR(VLOOKUP(\"1000\" & \"|\" & TRIM(L88)& \"|\" & TRIM(N88),BdgtXrefTable[[Detail Key]:[Summary Key]],4,FALSE),\"?\")","v":"?"}]
[null,null,null,null,null,null,null,null,null,null,null,null,null,null,null,null,null,null,null,null,{"$f":"IFERROR(VLOOKUP(\"1000\" & \"|\" & TRIM(L89)& \"|\" & TRIM(N89),BdgtXrefTable[[Detail Key]:[Summary Key]],4,FALSE),\"?\")","v":"?"}]
[null,null,null,null,null,null,null,null,null,null,null,null,null,null,null,null,null,null,null,null,{"$f":"IFERROR(VLOOKUP(\"1000\" & \"|\" & TRIM(L90)& \"|\" & TRIM(N90),BdgtXrefTable[[Detail Key]:[Summary Key]],4,FALSE),\"?\")","v":"?"}]
[null,null,null,null,null,null,null,null,null,null,null,null,null,null,null,null,null,null,null,null,{"$f":"IFERROR(VLOOKUP(\"1000\" & \"|\" & TRIM(L91)& \"|\" & TRIM(N91),BdgtXrefTable[[Detail Key]:[Summary Key]],4,FALSE),\"?\")","v":"?"}]
[null,null,null,null,null,null,null,null,null,null,null,null,null,null,null,null,null,null,null,null,{"$f":"IFERROR(VLOOKUP(\"1000\" & \"|\" & TRIM(L92)& \"|\" & TRIM(N92),BdgtXrefTable[[Detail Key]:[Summary Key]],4,FALSE),\"?\")","v":"?"}]
[null,null,null,null,null,null,null,null,null,null,null,null,null,null,null,null,null,null,null,null,{"$f":"IFERROR(VLOOKUP(\"1000\" & \"|\" & TRIM(L93)& \"|\" & TRIM(N93),BdgtXrefTable[[Detail Key]:[Summary Key]],4,FALSE),\"?\")","v":"?"}]
[null,null,null,null,null,null,null,null,null,null,null,null,null,null,null,null,null,null,null,null,{"$f":"IFERROR(VLOOKUP(\"1000\" & \"|\" & TRIM(L94)& \"|\" & TRIM(N94),BdgtXrefTable[[Detail Key]:[Summary Key]],4,FALSE),\"?\")","v":"?"}]
[null,null,null,null,null,null,null,null,null,null,null,null,null,null,null,null,null,null,null,null,{"$f":"IFERROR(VLOOKUP(\"1000\" & \"|\" & TRIM(L95)& \"|\" & TRIM(N95),BdgtXrefTable[[Detail Key]:[Summary Key]],4,FALSE),\"?\")","v":"?"}]
[null,null,null,null,null,null,null,null,null,null,null,null,null,null,null,null,null,null,null,null,{"$f":"IFERROR(VLOOKUP(\"1000\" & \"|\" & TRIM(L96)& \"|\" & TRIM(N96),BdgtXrefTable[[Detail Key]:[Summary Key]],4,FALSE),\"?\")","v":"?"}]
[null,null,null,null,null,null,null,null,null,null,null,null,null,null,null,null,null,null,null,null,{"$f":"IFERROR(VLOOKUP(\"1000\" & \"|\" & TRIM(L97)& \"|\" & TRIM(N97),BdgtXrefTable[[Detail Key]:[Summary Key]],4,FALSE),\"?\")","v":"?"}]
[null,null,null,null,null,null,null,null,null,null,null,null,null,null,null,null,null,null,null,null,{"$f":"IFERROR(VLOOKUP(\"1000\" & \"|\" & TRIM(L98)& \"|\" & TRIM(N98),BdgtXrefTable[[Detail Key]:[Summary Key]],4,FALSE),\"?\")","v":"?"}]
[null,null,null,null,null,null,null,null,null,null,null,null,null,null,null,null,null,null,null,null,{"$f":"IFERROR(VLOOKUP(\"1000\" & \"|\" & TRIM(L99)& \"|\" & TRIM(N99),BdgtXrefTable[[Detail Key]:[Summary Key]],4,FALSE),\"?\")","v":"?"}]
[null,null,null,null,null,null,null,null,null,null,null,null,null,null,null,null,null,null,null,null,{"$f":"IFERROR(VLOOKUP(\"1000\" & \"|\" & TRIM(L100)& \"|\" & TRIM(N100),BdgtXrefTable[[Detail Key]:[Summary Key]],4,FALSE),\"?\")","v":"?"}]
[null,null,null,null,null,null,null,null,null,null,null,null,null,null,null,null,null,null,null,null,{"$f":"IFERROR(VLOOKUP(\"1000\" & \"|\" & TRIM(L101)& \"|\" & TRIM(N101),BdgtXrefTable[[Detail Key]:[Summary Key]],4,FALSE),\"?\")","v":"?"}]
[null,null,null,null,null,null,null,null,null,null,null,null,null,null,null,null,null,null,null,null,{"$f":"IFERROR(VLOOKUP(\"1000\" & \"|\" & TRIM(L102)& \"|\" & TRIM(N102),BdgtXrefTable[[Detail Key]:[Summary Key]],4,FALSE),\"?\")","v":"?"}]
[null,null,null,null,null,null,null,null,null,null,null,null,null,null,null,null,null,null,null,null,{"$f":"IFERROR(VLOOKUP(\"1000\" & \"|\" & TRIM(L103)& \"|\" & TRIM(N103),BdgtXrefTable[[Detail Key]:[Summary Key]],4,FALSE),\"?\")","v":"?"}]
[null,null,null,null,null,null,null,null,null,null,null,null,null,null,null,null,null,null,null,null,{"$f":"IFERROR(VLOOKUP(\"1000\" & \"|\" & TRIM(L104)& \"|\" & TRIM(N104),BdgtXrefTable[[Detail Key]:[Summary Key]],4,FALSE),\"?\")","v":"?"}]
[null,null,null,null,null,null,null,null,null,null,null,null,null,null,null,null,null,null,null,null,{"$f":"IFERROR(VLOOKUP(\"1000\" & \"|\" & TRIM(L105)& \"|\" & TRIM(N105),BdgtXrefTable[[Detail Key]:[Summary Key]],4,FALSE),\"?\")","v":"?"}]
[null,null,null,null,null,null,null,null,null,null,null,null,null,null,null,null,null,null,null,null,{"$f":"IFERROR(VLOOKUP(\"1000\" & \"|\" & TRIM(L106)& \"|\" & TRIM(N106),BdgtXrefTable[[Detail Key]:[Summary Key]],4,FALSE),\"?\")","v":"?"}]
[null,null,null,null,null,null,null,null,null,null,null,null,null,null,null,null,null,null,null,null,{"$f":"IFERROR(VLOOKUP(\"1000\" & \"|\" & TRIM(L107)& \"|\" & TRIM(N107),BdgtXrefTable[[Detail Key]:[Summary Key]],4,FALSE),\"?\")","v":"?"}]
[null,null,null,null,null,null,null,null,null,null,null,null,null,null,null,null,null,null,null,null,{"$f":"IFERROR(VLOOKUP(\"1000\" & \"|\" & TRIM(L108)& \"|\" & TRIM(N108),BdgtXrefTable[[Detail Key]:[Summary Key]],4,FALSE),\"?\")","v":"?"}]
[null,null,null,null,null,null,null,null,null,null,null,null,null,null,null,null,null,null,null,null,{"$f":"IFERROR(VLOOKUP(\"1000\" & \"|\" & TRIM(L109)& \"|\" & TRIM(N109),BdgtXrefTable[[Detail Key]:[Summary Key]],4,FALSE),\"?\")","v":"?"}]
[null,null,null,null,null,null,null,null,null,null,null,null,null,null,null,null,null,null,null,null,{"$f":"IFERROR(VLOOKUP(\"1000\" & \"|\" & TRIM(L110)& \"|\" & TRIM(N110),BdgtXrefTable[[Detail Key]:[Summary Key]],4,FALSE),\"?\")","v":"?"}]
[null,null,null,null,null,null,null,null,null,null,null,null,null,null,null,null,null,null,null,null,{"$f":"IFERROR(VLOOKUP(\"1000\" & \"|\" & TRIM(L111)& \"|\" & TRIM(N111),BdgtXrefTable[[Detail Key]:[Summary Key]],4,FALSE),\"?\")","v":"?"}]
[null,null,null,null,null,null,null,null,null,null,null,null,null,null,null,null,null,null,null,null,{"$f":"IFERROR(VLOOKUP(\"1000\" & \"|\" & TRIM(L112)& \"|\" & TRIM(N112),BdgtXrefTable[[Detail Key]:[Summary Key]],4,FALSE),\"?\")","v":"?"}]
[null,null,null,null,null,null,null,null,null,null,null,null,null,null,null,null,null,null,null,null,{"$f":"IFERROR(VLOOKUP(\"1000\" & \"|\" & TRIM(L113)& \"|\" & TRIM(N113),BdgtXrefTable[[Detail Key]:[Summary Key]],4,FALSE),\"?\")","v":"?"}]
[null,null,null,null,null,null,null,null,null,null,null,null,null,null,null,null,null,null,null,null,{"$f":"IFERROR(VLOOKUP(\"1000\" & \"|\" & TRIM(L114)& \"|\" & TRIM(N114),BdgtXrefTable[[Detail Key]:[Summary Key]],4,FALSE),\"?\")","v":"?"}]
[null,null,null,null,null,null,null,null,null,null,null,null,null,null,null,null,null,null,null,null,{"$f":"IFERROR(VLOOKUP(\"1000\" & \"|\" & TRIM(L115)& \"|\" & TRIM(N115),BdgtXrefTable[[Detail Key]:[Summary Key]],4,FALSE),\"?\")","v":"?"}]
[null,null,null,null,null,null,null,null,null,null,null,null,null,null,null,null,null,null,null,null,{"$f":"IFERROR(VLOOKUP(\"1000\" & \"|\" & TRIM(L116)& \"|\" & TRIM(N116),BdgtXrefTable[[Detail Key]:[Summary Key]],4,FALSE),\"?\")","v":"?"}]
[null,null,null,null,null,null,null,null,null,null,null,null,null,null,null,null,null,null,null,null,{"$f":"IFERROR(VLOOKUP(\"1000\" & \"|\" & TRIM(L117)& \"|\" & TRIM(N117),BdgtXrefTable[[Detail Key]:[Summary Key]],4,FALSE),\"?\")","v":"?"}]
[null,null,null,null,null,null,null,null,null,null,null,null,null,null,null,null,null,null,null,null,{"$f":"IFERROR(VLOOKUP(\"1000\" & \"|\" & TRIM(L118)& \"|\" & TRIM(N118),BdgtXrefTable[[Detail Key]:[Summary Key]],4,FALSE),\"?\")","v":"?"}]
[null,null,null,null,null,null,null,null,null,null,null,null,null,null,null,null,null,null,null,null,{"$f":"IFERROR(VLOOKUP(\"1000\" & \"|\" & TRIM(L119)& \"|\" & TRIM(N119),BdgtXrefTable[[Detail Key]:[Summary Key]],4,FALSE),\"?\")","v":"?"}]
[null,null,null,null,null,null,null,null,null,null,null,null,null,null,null,null,null,null,null,null,{"$f":"IFERROR(VLOOKUP(\"1000\" & \"|\" & TRIM(L120)& \"|\" & TRIM(N120),BdgtXrefTable[[Detail Key]:[Summary Key]],4,FALSE),\"?\")","v":"?"}]
[null,null,null,null,null,null,null,null,null,null,null,null,null,null,null,null,null,null,null,null,{"$f":"IFERROR(VLOOKUP(\"1000\" & \"|\" & TRIM(L121)& \"|\" & TRIM(N121),BdgtXrefTable[[Detail Key]:[Summary Key]],4,FALSE),\"?\")","v":"?"}]
[null,null,null,null,null,null,null,null,null,null,null,null,null,null,null,null,null,null,null,null,{"$f":"IFERROR(VLOOKUP(\"1000\" & \"|\" & TRIM(L122)& \"|\" & TRIM(N122),BdgtXrefTable[[Detail Key]:[Summary Key]],4,FALSE),\"?\")","v":"?"}]
[null,null,null,null,null,null,null,null,null,null,null,null,null,null,null,null,null,null,null,null,{"$f":"IFERROR(VLOOKUP(\"1000\" & \"|\" & TRIM(L123)& \"|\" & TRIM(N123),BdgtXrefTable[[Detail Key]:[Summary Key]],4,FALSE),\"?\")","v":"?"}]
[null,null,null,null,null,null,null,null,null,null,null,null,null,null,null,null,null,null,null,null,{"$f":"IFERROR(VLOOKUP(\"1000\" & \"|\" & TRIM(L124)& \"|\" & TRIM(N124),BdgtXrefTable[[Detail Key]:[Summary Key]],4,FALSE),\"?\")","v":"?"}]
[null,null,null,null,null,null,null,null,null,null,null,null,null,null,null,null,null,null,null,null,{"$f":"IFERROR(VLOOKUP(\"1000\" & \"|\" & TRIM(L125)& \"|\" & TRIM(N125),BdgtXrefTable[[Detail Key]:[Summary Key]],4,FALSE),\"?\")","v":"?"}]
[null,null,null,null,null,null,null,null,null,null,null,null,null,null,null,null,null,null,null,null,{"$f":"IFERROR(VLOOKUP(\"1000\" & \"|\" & TRIM(L126)& \"|\" & TRIM(N126),BdgtXrefTable[[Detail Key]:[Summary Key]],4,FALSE),\"?\")","v":"?"}]
[null,null,null,null,null,null,null,null,null,null,null,null,null,null,null,null,null,null,null,null,{"$f":"IFERROR(VLOOKUP(\"1000\" & \"|\" & TRIM(L127)& \"|\" & TRIM(N127),BdgtXrefTable[[Detail Key]:[Summary Key]],4,FALSE),\"?\")","v":"?"}]
[null,null,null,null,null,null,null,null,null,null,null,null,null,null,null,null,null,null,null,null,{"$f":"IFERROR(VLOOKUP(\"1000\" & \"|\" & TRIM(L128)& \"|\" & TRIM(N128),BdgtXrefTable[[Detail Key]:[Summary Key]],4,FALSE),\"?\")","v":"?"}]
[null,null,null,null,null,null,null,null,null,null,null,null,null,null,null,null,null,null,null,null,{"$f":"IFERROR(VLOOKUP(\"1000\" & \"|\" & TRIM(L129)& \"|\" & TRIM(N129),BdgtXrefTable[[Detail Key]:[Summary Key]],4,FALSE),\"?\")","v":"?"}]
[null,null,null,null,null,"      ",null,null,null,null,null,null,null,"Total for Object Code:",null,{"$f":"SUM(P83:P129)","v":0},{"$f":"SUM(Q83:R129)","v":0}]
[]
[null,"Page 22"]
[null,{"$f":"'Main Page'!$N$9","v":"2026-2027"},null,"School Division:",{"$f":"'Main Page'!$L$14","v":0},null,null,null,"Division Number:",{"$f":"'Main Page'!$L$15","v":" "},{"$f":"'Main Page'!$B$6","v":"Local Consolidated Application"}]
[null,"DETAILED BUDGET DESCRIPTION OF OBJECT CODE 2000"]
[null,"Indicate the fixed charge categories (such as FICA, health, etc.) and specify the amount of each."]
[]
[]
[]
[null,"Please provide a detailed description of Title II, Part A and Title III, Part A Private School activities (if no private school set-aside is present, please enter N/A). "]
[]
[null,"Item Description",null,null,null,null,null,null,null,"Measurable Objective",null,"Federal Program Funding Source",null,"Category",null,null,"Total Cost"]
[null,"Private School Set-aside",null,null,null,null,null,null,null,null,null,null,null,null,null,null,null,null,null,null,{"$f":"IFERROR(VLOOKUP(\"2000\" & \"|\" & TRIM(L142)& \"|\" & TRIM(N142),BdgtXrefTable[[Detail Key]:[Summary Key]],4,FALSE),\"?\")","v":"?"}]
[null,"Private School Set-aside",null,null,null,null,null,null,null,null,null,null,null,null,null,null,null,null,null,null,{"$f":"IFERROR(VLOOKUP(\"2000\" & \"|\" & TRIM(L143)& \"|\" & TRIM(N143),BdgtXrefTable[[Detail Key]:[Summary Key]],4,FALSE),\"?\")","v":"?"}]
[null,null,null,null,null,null,null,null,null,null,null,null,null,null,null,null,null,null,null,null,{"$f":"IFERROR(VLOOKUP(\"2000\" & \"|\" & TRIM(L144)& \"|\" & TRIM(N144),BdgtXrefTable[[Detail Key]:[Summary Key]],4,FALSE),\"?\")","v":"?"}]
[null,null,null,null,null,null,null,null,null,null,null,null,null,null,null,null,null,null,null,null,{"$f":"IFERROR(VLOOKUP(\"2000\" & \"|\" & TRIM(L145)& \"|\" & TRIM(N145),BdgtXrefTable[[Detail Key]:[Summary Key]],4,FALSE),\"?\")","v":"?"}]
[null,null,null,null,null,null,null,null,null,null,null,null,null,null,null,null,null,null,null,null,{"$f":"IFERROR(VLOOKUP(\"2000\" & \"|\" & TRIM(L146)& \"|\" & TRIM(N146),BdgtXrefTable[[Detail Key]:[Summary Key]],4,FALSE),\"?\")","v":"?"}]
[null,null,null,null,null,null,null,null,null,null,null,null,null,null,null,null,null,null,null,null,{"$f":"IFERROR(VLOOKUP(\"2000\" & \"|\" & TRIM(L147)& \"|\" & TRIM(N147),BdgtXrefTable[[Detail Key]:[Summary Key]],4,FALSE),\"?\")","v":"?"}]
[null,null,null,null,null,null,null,null,null,null,null,null,null,null,null,null,null,null,null,null,{"$f":"IFERROR(VLOOKUP(\"2000\" & \"|\" & TRIM(L148)& \"|\" & TRIM(N148),BdgtXrefTable[[Detail Key]:[Summary Key]],4,FALSE),\"?\")","v":"?"}]
[null,null,null,null,null,null,null,null,null,null,null,null,null,null,null,null,null,null,null,null,{"$f":"IFERROR(VLOOKUP(\"2000\" & \"|\" & TRIM(L149)& \"|\" & TRIM(N149),BdgtXrefTable[[Detail Key]:[Summary Key]],4,FALSE),\"?\")","v":"?"}]
[null,null,null,null,null,null,null,null,null,null,null,null,null,null,null,null,null,null,null,null,{"$f":"IFERROR(VLOOKUP(\"2000\" & \"|\" & TRIM(L150)& \"|\" & TRIM(N150),BdgtXrefTable[[Detail Key]:[Summary Key]],4,FALSE),\"?\")","v":"?"}]
[null,null,null,null,null,null,null,null,null,null,null,null,null,null,null,null,null,null,null,null,{"$f":"IFERROR(VLOOKUP(\"2000\" & \"|\" & TRIM(L151)& \"|\" & TRIM(N151),BdgtXrefTable[[Detail Key]:[Summary Key]],4,FALSE),\"?\")","v":"?"}]
[null,null,null,null,null,null,null,null,null,null,null,null,null,null,null,null,null,null,null,null,{"$f":"IFERROR(VLOOKUP(\"2000\" & \"|\" & TRIM(L152)& \"|\" & TRIM(N152),BdgtXrefTable[[Detail Key]:[Summary Key]],4,FALSE),\"?\")","v":"?"}]
[null,null,null,null,null,null,null,null,null,null,null,null,null,null,null,null,null,null,null,null,{"$f":"IFERROR(VLOOKUP(\"2000\" & \"|\" & TRIM(L153)& \"|\" & TRIM(N153),BdgtXrefTable[[Detail Key]:[Summary Key]],4,FALSE),\"?\")","v":"?"}]
[null,null,null,null,null,null,null,null,null,null,null,null,null,null,null,null,null,null,null,null,{"$f":"IFERROR(VLOOKUP(\"2000\" & \"|\" & TRIM(L154)& \"|\" & TRIM(N154),BdgtXrefTable[[Detail Key]:[Summary Key]],4,FALSE),\"?\")","v":"?"}]
[null,null,null,null,null,null,null,null,null,null,null,null,null,null,null,null,null,null,null,null,{"$f":"IFERROR(VLOOKUP(\"2000\" & \"|\" & TRIM(L155)& \"|\" & TRIM(N155),BdgtXrefTable[[Detail Key]:[Summary Key]],4,FALSE),\"?\")","v":"?"}]
[null,null,null,null,null,null,null,null,null,null,null,null,null,null,null,null,null,null,null,null,{"$f":"IFERROR(VLOOKUP(\"2000\" & \"|\" & TRIM(L156)& \"|\" & TRIM(N156),BdgtXrefTable[[Detail Key]:[Summary Key]],4,FALSE),\"?\")","v":"?"}]
[null,null,null,null,null,null,null,null,null,null,null,null,null,null,null,null,null,null,null,null,{"$f":"IFERROR(VLOOKUP(\"2000\" & \"|\" & TRIM(L157)& \"|\" & TRIM(N157),BdgtXrefTable[[Detail Key]:[Summary Key]],4,FALSE),\"?\")","v":"?"}]
[null,null,null,null,null,null,null,null,null,null,null,null,null,null,null,null,null,null,null,null,{"$f":"IFERROR(VLOOKUP(\"2000\" & \"|\" & TRIM(L158)& \"|\" & TRIM(N158),BdgtXrefTable[[Detail Key]:[Summary Key]],4,FALSE),\"?\")","v":"?"}]
[null,null,null,null,null,null,null,null,null,null,null,null,null,null,null,null,null,null,null,null,{"$f":"IFERROR(VLOOKUP(\"2000\" & \"|\" & TRIM(L159)& \"|\" & TRIM(N159),BdgtXrefTable[[Detail Key]:[Summary Key]],4,FALSE),\"?\")","v":"?"}]
[null,null,null,null,null,null,null,null,null,null,null,null,null,null,null,null,null,null,null,null,{"$f":"IFERROR(VLOOKUP(\"2000\" & \"|\" & TRIM(L160)& \"|\" & TRIM(N160),BdgtXrefTable[[Detail Key]:[Summary Key]],4,FALSE),\"?\")","v":"?"}]
[null,null,null,null,null,null,null,null,null,null,null,null,null,null,null,null,null,null,null,null,{"$f":"IFERROR(VLOOKUP(\"2000\" & \"|\" & TRIM(L161)& \"|\" & TRIM(N161),BdgtXrefTable[[Detail Key]:[Summary Key]],4,FALSE),\"?\")","v":"?"}]
[null,null,null,null,null,null,null,null,null,null,null,null,null,null,null,null,null,null,null,null,{"$f":"IFERROR(VLOOKUP(\"2000\" & \"|\" & TRIM(L162)& \"|\" & TRIM(N162),BdgtXrefTable[[Detail Key]:[Summary Key]],4,FALSE),\"?\")","v":"?"}]
[null,null,null,null,null,null,null,null,null,null,null,null,null,null,null,null,null,null,null,null,{"$f":"IFERROR(VLOOKUP(\"2000\" & \"|\" & TRIM(L163)& \"|\" & TRIM(N163),BdgtXrefTable[[Detail Key]:[Summary Key]],4,FALSE),\"?\")","v":"?"}]
[null,null,null,null,null,null,null,null,null,null,null,null,null,null,null,null,null,null,null,null,{"$f":"IFERROR(VLOOKUP(\"2000\" & \"|\" & TRIM(L164)& \"|\" & TRIM(N164),BdgtXrefTable[[Detail Key]:[Summary Key]],4,FALSE),\"?\")","v":"?"}]
[null,null,null,null,null,null,null,null,null,null,null,null,null,null,null,null,null,null,null,null,{"$f":"IFERROR(VLOOKUP(\"2000\" & \"|\" & TRIM(L165)& \"|\" & TRIM(N165),BdgtXrefTable[[Detail Key]:[Summary Key]],4,FALSE),\"?\")","v":"?"}]
[null,null,null,null,null,null,null,null,null,null,null,null,null,null,null,null,null,null,null,null,{"$f":"IFERROR(VLOOKUP(\"2000\" & \"|\" & TRIM(L166)& \"|\" & TRIM(N166),BdgtXrefTable[[Detail Key]:[Summary Key]],4,FALSE),\"?\")","v":"?"}]
[null,null,null,null,null,null,null,null,null,null,null,null,null,null,null,null,null,null,null,null,{"$f":"IFERROR(VLOOKUP(\"2000\" & \"|\" & TRIM(L167)& \"|\" & TRIM(N167),BdgtXrefTable[[Detail Key]:[Summary Key]],4,FALSE),\"?\")","v":"?"}]
[null,null,null,null,null,null,null,null,null,null,null,null,null,null,null,null,null,null,null,null,{"$f":"IFERROR(VLOOKUP(\"2000\" & \"|\" & TRIM(L168)& \"|\" & TRIM(N168),BdgtXrefTable[[Detail Key]:[Summary Key]],4,FALSE),\"?\")","v":"?"}]
[null,null,null,null,null,null,null,null,null,null,null,null,null,null,null,null,null,null,null,null,{"$f":"IFERROR(VLOOKUP(\"2000\" & \"|\" & TRIM(L169)& \"|\" & TRIM(N169),BdgtXrefTable[[Detail Key]:[Summary Key]],4,FALSE),\"?\")","v":"?"}]
[null,null,null,null,null,null,null,null,null,null,null,null,null,null,null,null,null,null,null,null,{"$f":"IFERROR(VLOOKUP(\"2000\" & \"|\" & TRIM(L170)& \"|\" & TRIM(N170),BdgtXrefTable[[Detail Key]:[Summary Key]],4,FALSE),\"?\")","v":"?"}]
[null,null,null,null,null,null,null,null,null,null,null,null,null,null,null,null,null,null,null,null,{"$f":"IFERROR(VLOOKUP(\"2000\" & \"|\" & TRIM(L171)& \"|\" & TRIM(N171),BdgtXrefTable[[Detail Key]:[Summary Key]],4,FALSE),\"?\")","v":"?"}]
[null,null,null,null,null,null,null,null,null,null,null,null,null,null,null,null,null,null,null,null,{"$f":"IFERROR(VLOOKUP(\"2000\" & \"|\" & TRIM(L172)& \"|\" & TRIM(N172),BdgtXrefTable[[Detail Key]:[Summary Key]],4,FALSE),\"?\")","v":"?"}]
[null,null,null,null,null,null,null,null,null,null,null,null,null,null,null,null,null,null,null,null,{"$f":"IFERROR(VLOOKUP(\"2000\" & \"|\" & TRIM(L173)& \"|\" & TRIM(N173),BdgtXrefTable[[Detail Key]:[Summary Key]],4,FALSE),\"?\")","v":"?"}]
[null,null,null,null,null,null,null,null,null,null,null,null,null,null,null,null,null,null,null,null,{"$f":"IFERROR(VLOOKUP(\"2000\" & \"|\" & TRIM(L174)& \"|\" & TRIM(N174),BdgtXrefTable[[Detail Key]:[Summary Key]],4,FALSE),\"?\")","v":"?"}]
[null,null,null,null,null,null,null,null,null,null,null,null,null,null,null,null,null,null,null,null,{"$f":"IFERROR(VLOOKUP(\"2000\" & \"|\" & TRIM(L175)& \"|\" & TRIM(N175),BdgtXrefTable[[Detail Key]:[Summary Key]],4,FALSE),\"?\")","v":"?"}]
[null,null,null,null,null,null,null,null,null,null,null,null,null,null,null,null,null,null,null,null,{"$f":"IFERROR(VLOOKUP(\"2000\" & \"|\" & TRIM(L176)& \"|\" & TRIM(N176),BdgtXrefTable[[Detail Key]:[Summary Key]],4,FALSE),\"?\")","v":"?"}]
[null,null,null,null,null,null,null,null,null,null,null,null,null,null,null,null,null,null,null,null,{"$f":"IFERROR(VLOOKUP(\"2000\" & \"|\" & TRIM(L177)& \"|\" & TRIM(N177),BdgtXrefTable[[Detail Key]:[Summary Key]],4,FALSE),\"?\")","v":"?"}]
[null,null,null,null,null,null,null,null,null,null,null,null,null,null,null,null,null,null,null,null,{"$f":"IFERROR(VLOOKUP(\"2000\" & \"|\" & TRIM(L178)& \"|\" & TRIM(N178),BdgtXrefTable[[Detail Key]:[Summary Key]],4,FALSE),\"?\")","v":"?"}]
[null,null,null,null,null,null,null,null,null,null,null,null,null,null,null,null,null,null,null,null,{"$f":"IFERROR(VLOOKUP(\"2000\" & \"|\" & TRIM(L179)& \"|\" & TRIM(N179),BdgtXrefTable[[Detail Key]:[Summary Key]],4,FALSE),\"?\")","v":"?"}]
[null,null,null,null,null,null,null,null,null,null,null,null,null,null,null,null,null,null,null,null,{"$f":"IFERROR(VLOOKUP(\"2000\" & \"|\" & TRIM(L180)& \"|\" & TRIM(N180),BdgtXrefTable[[Detail Key]:[Summary Key]],4,FALSE),\"?\")","v":"?"}]
[null,null,null,null,null,null,null,null,null,null,null,null,null,null,null,null,null,null,null,null,{"$f":"IFERROR(VLOOKUP(\"2000\" & \"|\" & TRIM(L181)& \"|\" & TRIM(N181),BdgtXrefTable[[Detail Key]:[Summary Key]],4,FALSE),\"?\")","v":"?"}]
[null,null,null,null,null,null,null,null,null,null,null,null,null,null,null,null,null,null,null,null,{"$f":"IFERROR(VLOOKUP(\"2000\" & \"|\" & TRIM(L182)& \"|\" & TRIM(N182),BdgtXrefTable[[Detail Key]:[Summary Key]],4,FALSE),\"?\")","v":"?"}]
[null,null,null,null,null,null,null,null,null,null,null,null,null,null,null,null,null,null,null,null,{"$f":"IFERROR(VLOOKUP(\"2000\" & \"|\" & TRIM(L183)& \"|\" & TRIM(N183),BdgtXrefTable[[Detail Key]:[Summary Key]],4,FALSE),\"?\")","v":"?"}]
[null,null,null,null,null,null,null,null,null,null,null,null,null,null,null,null,null,null,null,null,{"$f":"IFERROR(VLOOKUP(\"2000\" & \"|\" & TRIM(L184)& \"|\" & TRIM(N184),BdgtXrefTable[[Detail Key]:[Summary Key]],4,FALSE),\"?\")","v":"?"}]
[null,null,null,null,null,null,null,null,null,null,null,null,null,null,null,null,null,null,null,null,{"$f":"IFERROR(VLOOKUP(\"2000\" & \"|\" & TRIM(L185)& \"|\" & TRIM(N185),BdgtXrefTable[[Detail Key]:[Summary Key]],4,FALSE),\"?\")","v":"?"}]
[null,null,null,null,null,null,null,null,null,null,null,null,null,null,null,null,null,null,null,null,{"$f":"IFERROR(VLOOKUP(\"2000\" & \"|\" & TRIM(L186)& \"|\" & TRIM(N186),BdgtXrefTable[[Detail Key]:[Summary Key]],4,FALSE),\"?\")","v":"?"}]
[null,null,null,null,null,null,null,null,null,null,null,null,null,null,null,null,null,null,null,null,{"$f":"IFERROR(VLOOKUP(\"2000\" & \"|\" & TRIM(L187)& \"|\" & TRIM(N187),BdgtXrefTable[[Detail Key]:[Summary Key]],4,FALSE),\"?\")","v":"?"}]
[null,null,null,null,null,null,null,null,null,null,null,null,null,null,null,null,null,null,null,null,{"$f":"IFERROR(VLOOKUP(\"2000\" & \"|\" & TRIM(L188)& \"|\" & TRIM(N188),BdgtXrefTable[[Detail Key]:[Summary Key]],4,FALSE),\"?\")","v":"?"}]
[null,null,null,null,null,null,null,null,null,null,null,null,null,null,null,null,null,null,null,null,{"$f":"IFERROR(VLOOKUP(\"2000\" & \"|\" & TRIM(L189)& \"|\" & TRIM(N189),BdgtXrefTable[[Detail Key]:[Summary Key]],4,FALSE),\"?\")","v":"?"}]
[null,null,null,null,null,null,null,null,null,null,null,null,null,null,null,null,null,null,null,null,{"$f":"IFERROR(VLOOKUP(\"2000\" & \"|\" & TRIM(L190)& \"|\" & TRIM(N190),BdgtXrefTable[[Detail Key]:[Summary Key]],4,FALSE),\"?\")","v":"?"}]
[null,null,null,null,null,null,null,null,null,null,null,null,null,null,null,null,null,null,null,null,{"$f":"IFERROR(VLOOKUP(\"2000\" & \"|\" & TRIM(L191)& \"|\" & TRIM(N191),BdgtXrefTable[[Detail Key]:[Summary Key]],4,FALSE),\"?\")","v":"?"}]
[null,null,null,null,null,null,null,null,null,null,null,null,null,null,null,null,null,null,null,null,{"$f":"IFERROR(VLOOKUP(\"2000\" & \"|\" & TRIM(L192)& \"|\" & TRIM(N192),BdgtXrefTable[[Detail Key]:[Summary Key]],4,FALSE),\"?\")","v":"?"}]
[null,null,null,null,null,null,null,null,null,null,null,null,null,null,null,null,null,null,null,null,{"$f":"IFERROR(VLOOKUP(\"2000\" & \"|\" & TRIM(L193)& \"|\" & TRIM(N193),BdgtXrefTable[[Detail Key]:[Summary Key]],4,FALSE),\"?\")","v":"?"}]
[null,null,null,null,null,null,null,null,null,null,null,null,null,null,null,null,null,null,null,null,{"$f":"IFERROR(VLOOKUP(\"2000\" & \"|\" & TRIM(L194)& \"|\" & TRIM(N194),BdgtXrefTable[[Detail Key]:[Summary Key]],4,FALSE),\"?\")","v":"?"}]
[null,null,null,null,null,null,null,null,null,null,null,null,null,null,null,null,null,null,null,null,{"$f":"IFERROR(VLOOKUP(\"2000\" & \"|\" & TRIM(L195)& \"|\" & TRIM(N195),BdgtXrefTable[[Detail Key]:[Summary Key]],4,FALSE),\"?\")","v":"?"}]
[null,null,null,null,null,null,null,null,null,null,null,null,null,null,null,null,null,null,null,null,{"$f":"IFERROR(VLOOKUP(\"2000\" & \"|\" & TRIM(L196)& \"|\" & TRIM(N196),BdgtXrefTable[[Detail Key]:[Summary Key]],4,FALSE),\"?\")","v":"?"}]
[null,null,null,null,null,null,null,null,null,null,null,null,null,null,null,null,null,null,null,null,{"$f":"IFERROR(VLOOKUP(\"2000\" & \"|\" & TRIM(L197)& \"|\" & TRIM(N197),BdgtXrefTable[[Detail Key]:[Summary Key]],4,FALSE),\"?\")","v":"?"}]
[null,null,null,null,null,null,null,null,null,null,null,null,null,null,null,null,null,null,null,null,{"$f":"IFERROR(VLOOKUP(\"2000\" & \"|\" & TRIM(L198)& \"|\" & TRIM(N198),BdgtXrefTable[[Detail Key]:[Summary Key]],4,FALSE),\"?\")","v":"?"}]
[null,null,null,null,null,null,null,null,null,null,null,null,null,null,null,null,null,null,null,null,{"$f":"IFERROR(VLOOKUP(\"2000\" & \"|\" & TRIM(L199)& \"|\" & TRIM(N199),BdgtXrefTable[[Detail Key]:[Summary Key]],4,FALSE),\"?\")","v":"?"}]
[null,null,null,null,null,null,null,null,null,null,null,null,null,null,null,null,null,null,null,null,{"$f":"IFERROR(VLOOKUP(\"2000\" & \"|\" & TRIM(L200)& \"|\" & TRIM(N200),BdgtXrefTable[[Detail Key]:[Summary Key]],4,FALSE),\"?\")","v":"?"}]
[null,null,null,null,null,null,null,null,null,null,null,null,null,null,null,null,null,null,null,null,{"$f":"IFERROR(VLOOKUP(\"2000\" & \"|\" & TRIM(L201)& \"|\" & TRIM(N201),BdgtXrefTable[[Detail Key]:[Summary Key]],4,FALSE),\"?\")","v":"?"}]
[null,null,null,null,null,null,null,null,null,null,null,null,null,null,null,null,null,null,null,null,{"$f":"IFERROR(VLOOKUP(\"2000\" & \"|\" & TRIM(L202)& \"|\" & TRIM(N202),BdgtXrefTable[[Detail Key]:[Summary Key]],4,FALSE),\"?\")","v":"?"}]
[null,null,null,null,null,"      ",null,null,null,null,null,null,null,"Total for Object Code:",null,null,{"$f":"SUM(Q142:R202)","v":0}]
[null,"Page 23"]
[null,{"$f":"'Main Page'!$N$9","v":"2026-2027"},null,"School Division:",{"$f":"'Main Page'!$L$14","v":0},null,null,null,"Division Number:",{"$f":"'Main Page'!$L$15","v":" "},{"$f":"'Main Page'!$B$6","v":"Local Consolidated Application"}]
[null,"DETAILED BUDGET DESCRIPTION OF OBJECT CODE 3000"]
[null,"Please indicate how these funds will support any services and activities that are described in this application.  If program funds are expended for professional development, justify such expenditures by demonstrating a relationship between the proposed expenditure for professional development and the program services and activities described in the application. "]
[]
[]
[]
[null,"Please provide a detailed description of Title II, Part A and Title III, Part A Private School activities (if no private school set-aside is present, please enter N/A). "]
[]
[null,"Item Description",null,null,null,null,null,null,null,"Measurable Objective",null,"Federal Program Funding Source",null,"Category",null,null,"Total Cost"]
[null,"Private School Set-aside",null,null,null,null,null,null,null,null,null,null,null,null,null,null,null,null,null,null,{"$f":"IFERROR(VLOOKUP(\"3000\" & \"|\" & TRIM(L214)& \"|\" & TRIM(N214),BdgtXrefTable[[Detail Key]:[Summary Key]],4,FALSE),\"?\")","v":"?"}]
[null,"Private School Set-aside",null,null,null,null,null,null,null,null,null,null,null,null,null,null,null,null,null,null,{"$f":"IFERROR(VLOOKUP(\"3000\" & \"|\" & TRIM(L215)& \"|\" & TRIM(N215),BdgtXrefTable[[Detail Key]:[Summary Key]],4,FALSE),\"?\")","v":"?"}]
[null,null,null,null,null,null,null,null,null,null,null,null,null,null,null,null,null,null,null,null,{"$f":"IFERROR(VLOOKUP(\"3000\" & \"|\" & TRIM(L216)& \"|\" & TRIM(N216),BdgtXrefTable[[Detail Key]:[Summary Key]],4,FALSE),\"?\")","v":"?"}]
[null,null,null,null,null,null,null,null,null,null,null,null,null,null,null,null,null,null,null,null,{"$f":"IFERROR(VLOOKUP(\"3000\" & \"|\" & TRIM(L217)& \"|\" & TRIM(N217),BdgtXrefTable[[Detail Key]:[Summary Key]],4,FALSE),\"?\")","v":"?"}]
[null,null,null,null,null,null,null,null,null,null,null,null,null,null,null,null,null,null,null,null,{"$f":"IFERROR(VLOOKUP(\"3000\" & \"|\" & TRIM(L218)& \"|\" & TRIM(N218),BdgtXrefTable[[Detail Key]:[Summary Key]],4,FALSE),\"?\")","v":"?"}]
[null,null,null,null,null,null,null,null,null,null,null,null,null,null,null,null,null,null,null,null,{"$f":"IFERROR(VLOOKUP(\"3000\" & \"|\" & TRIM(L219)& \"|\" & TRIM(N219),BdgtXrefTable[[Detail Key]:[Summary Key]],4,FALSE),\"?\")","v":"?"}]
[null,null,null,null,null,null,null,null,null,null,null,null,null,null,null,null,null,null,null,null,{"$f":"IFERROR(VLOOKUP(\"3000\" & \"|\" & TRIM(L220)& \"|\" & TRIM(N220),BdgtXrefTable[[Detail Key]:[Summary Key]],4,FALSE),\"?\")","v":"?"}]
[null,null,null,null,null,null,null,null,null,null,null,null,null,null,null,null,null,null,null,null,{"$f":"IFERROR(VLOOKUP(\"3000\" & \"|\" & TRIM(L221)& \"|\" & TRIM(N221),BdgtXrefTable[[Detail Key]:[Summary Key]],4,FALSE),\"?\")","v":"?"}]
[null,null,null,null,null,null,null,null,null,null,null,null,null,null,null,null,null,null,null,null,{"$f":"IFERROR(VLOOKUP(\"3000\" & \"|\" & TRIM(L222)& \"|\" & TRIM(N222),BdgtXrefTable[[Detail Key]:[Summary Key]],4,FALSE),\"?\")","v":"?"}]
[null,null,null,null,null,null,null,null,null,null,null,null,null,null,null,null,null,null,null,null,{"$f":"IFERROR(VLOOKUP(\"3000\" & \"|\" & TRIM(L223)& \"|\" & TRIM(N223),BdgtXrefTable[[Detail Key]:[Summary Key]],4,FALSE),\"?\")","v":"?"}]
[null,null,null,null,null,null,null,null,null,null,null,null,null,null,null,null,null,null,null,null,{"$f":"IFERROR(VLOOKUP(\"3000\" & \"|\" & TRIM(L224)& \"|\" & TRIM(N224),BdgtXrefTable[[Detail Key]:[Summary Key]],4,FALSE),\"?\")","v":"?"}]
[null,null,null,null,null,null,null,null,null,null,null,null,null,null,null,null,null,null,null,null,{"$f":"IFERROR(VLOOKUP(\"3000\" & \"|\" & TRIM(L225)& \"|\" & TRIM(N225),BdgtXrefTable[[Detail Key]:[Summary Key]],4,FALSE),\"?\")","v":"?"}]
[null,null,null,null,null,null,null,null,null,null,null,null,null,null,null,null,null,null,null,null,{"$f":"IFERROR(VLOOKUP(\"3000\" & \"|\" & TRIM(L226)& \"|\" & TRIM(N226),BdgtXrefTable[[Detail Key]:[Summary Key]],4,FALSE),\"?\")","v":"?"}]
[null,null,null,null,null,null,null,null,null,null,null,null,null,null,null,null,null,null,null,null,{"$f":"IFERROR(VLOOKUP(\"3000\" & \"|\" & TRIM(L227)& \"|\" & TRIM(N227),BdgtXrefTable[[Detail Key]:[Summary Key]],4,FALSE),\"?\")","v":"?"}]
[null,null,null,null,null,null,null,null,null,null,null,null,null,null,null,null,null,null,null,null,{"$f":"IFERROR(VLOOKUP(\"3000\" & \"|\" & TRIM(L228)& \"|\" & TRIM(N228),BdgtXrefTable[[Detail Key]:[Summary Key]],4,FALSE),\"?\")","v":"?"}]
[null,null,null,null,null,null,null,null,null,null,null,null,null,null,null,null,null,null,null,null,{"$f":"IFERROR(VLOOKUP(\"3000\" & \"|\" & TRIM(L229)& \"|\" & TRIM(N229),BdgtXrefTable[[Detail Key]:[Summary Key]],4,FALSE),\"?\")","v":"?"}]
[null,null,null,null,null,null,null,null,null,null,null,null,null,null,null,null,null,null,null,null,{"$f":"IFERROR(VLOOKUP(\"3000\" & \"|\" & TRIM(L230)& \"|\" & TRIM(N230),BdgtXrefTable[[Detail Key]:[Summary Key]],4,FALSE),\"?\")","v":"?"}]
[null,null,null,null,null,null,null,null,null,null,null,null,null,null,null,null,null,null,null,null,{"$f":"IFERROR(VLOOKUP(\"3000\" & \"|\" & TRIM(L231)& \"|\" & TRIM(N231),BdgtXrefTable[[Detail Key]:[Summary Key]],4,FALSE),\"?\")","v":"?"}]
[null,null,null,null,null,null,null,null,null,null,null,null,null,null,null,null,null,null,null,null,{"$f":"IFERROR(VLOOKUP(\"3000\" & \"|\" & TRIM(L232)& \"|\" & TRIM(N232),BdgtXrefTable[[Detail Key]:[Summary Key]],4,FALSE),\"?\")","v":"?"}]
[null,null,null,null,null,null,null,null,null,null,null,null,null,null,null,null,null,null,null,null,{"$f":"IFERROR(VLOOKUP(\"3000\" & \"|\" & TRIM(L233)& \"|\" & TRIM(N233),BdgtXrefTable[[Detail Key]:[Summary Key]],4,FALSE),\"?\")","v":"?"}]
[null,null,null,null,null,null,null,null,null,null,null,null,null,null,null,null,null,null,null,null,{"$f":"IFERROR(VLOOKUP(\"3000\" & \"|\" & TRIM(L234)& \"|\" & TRIM(N234),BdgtXrefTable[[Detail Key]:[Summary Key]],4,FALSE),\"?\")","v":"?"}]
[null,null,null,null,null,null,null,null,null,null,null,null,null,null,null,null,null,null,null,null,{"$f":"IFERROR(VLOOKUP(\"3000\" & \"|\" & TRIM(L235)& \"|\" & TRIM(N235),BdgtXrefTable[[Detail Key]:[Summary Key]],4,FALSE),\"?\")","v":"?"}]
[null,null,null,null,null,null,null,null,null,null,null,null,null,null,null,null,null,null,null,null,{"$f":"IFERROR(VLOOKUP(\"3000\" & \"|\" & TRIM(L236)& \"|\" & TRIM(N236),BdgtXrefTable[[Detail Key]:[Summary Key]],4,FALSE),\"?\")","v":"?"}]
[null,null,null,null,null,null,null,null,null,null,null,null,null,null,null,null,null,null,null,null,{"$f":"IFERROR(VLOOKUP(\"3000\" & \"|\" & TRIM(L237)& \"|\" & TRIM(N237),BdgtXrefTable[[Detail Key]:[Summary Key]],4,FALSE),\"?\")","v":"?"}]
[null,null,null,null,null,null,null,null,null,null,null,null,null,null,null,null,null,null,null,null,{"$f":"IFERROR(VLOOKUP(\"3000\" & \"|\" & TRIM(L238)& \"|\" & TRIM(N238),BdgtXrefTable[[Detail Key]:[Summary Key]],4,FALSE),\"?\")","v":"?"}]
[null,null,null,null,null,null,null,null,null,null,null,null,null,null,null,null,null,null,null,null,{"$f":"IFERROR(VLOOKUP(\"3000\" & \"|\" & TRIM(L239)& \"|\" & TRIM(N239),BdgtXrefTable[[Detail Key]:[Summary Key]],4,FALSE),\"?\")","v":"?"}]
[null,null,null,null,null,null,null,null,null,null,null,null,null,null,null,null,null,null,null,null,{"$f":"IFERROR(VLOOKUP(\"3000\" & \"|\" & TRIM(L240)& \"|\" & TRIM(N240),BdgtXrefTable[[Detail Key]:[Summary Key]],4,FALSE),\"?\")","v":"?"}]
[null,null,null,null,null,null,null,null,null,null,null,null,null,null,null,null,null,null,null,null,{"$f":"IFERROR(VLOOKUP(\"3000\" & \"|\" & TRIM(L241)& \"|\" & TRIM(N241),BdgtXrefTable[[Detail Key]:[Summary Key]],4,FALSE),\"?\")","v":"?"}]
[null,null,null,null,null,null,null,null,null,null,null,null,null,null,null,null,null,null,null,null,{"$f":"IFERROR(VLOOKUP(\"3000\" & \"|\" & TRIM(L242)& \"|\" & TRIM(N242),BdgtXrefTable[[Detail Key]:[Summary Key]],4,FALSE),\"?\")","v":"?"}]
[null,null,null,null,null,null,null,null,null,null,null,null,null,null,null,null,null,null,null,null,{"$f":"IFERROR(VLOOKUP(\"3000\" & \"|\" & TRIM(L243)& \"|\" & TRIM(N243),BdgtXrefTable[[Detail Key]:[Summary Key]],4,FALSE),\"?\")","v":"?"}]
[null,null,null,null,null,null,null,null,null,null,null,null,null,null,null,null,null,null,null,null,{"$f":"IFERROR(VLOOKUP(\"3000\" & \"|\" & TRIM(L244)& \"|\" & TRIM(N244),BdgtXrefTable[[Detail Key]:[Summary Key]],4,FALSE),\"?\")","v":"?"}]
[null,null,null,null,null,null,null,null,null,null,null,null,null,null,null,null,null,null,null,null,{"$f":"IFERROR(VLOOKUP(\"3000\" & \"|\" & TRIM(L245)& \"|\" & TRIM(N245),BdgtXrefTable[[Detail Key]:[Summary Key]],4,FALSE),\"?\")","v":"?"}]
[null,null,null,null,null,null,null,null,null,null,null,null,null,null,null,null,null,null,null,null,{"$f":"IFERROR(VLOOKUP(\"3000\" & \"|\" & TRIM(L246)& \"|\" & TRIM(N246),BdgtXrefTable[[Detail Key]:[Summary Key]],4,FALSE),\"?\")","v":"?"}]
[null,null,null,null,null,null,null,null,null,null,null,null,null,null,null,null,null,null,null,null,{"$f":"IFERROR(VLOOKUP(\"3000\" & \"|\" & TRIM(L247)& \"|\" & TRIM(N247),BdgtXrefTable[[Detail Key]:[Summary Key]],4,FALSE),\"?\")","v":"?"}]
[null,null,null,null,null,null,null,null,null,null,null,null,null,null,null,null,null,null,null,null,{"$f":"IFERROR(VLOOKUP(\"3000\" & \"|\" & TRIM(L248)& \"|\" & TRIM(N248),BdgtXrefTable[[Detail Key]:[Summary Key]],4,FALSE),\"?\")","v":"?"}]
[null,null,null,null,null,null,null,null,null,null,null,null,null,null,null,null,null,null,null,null,{"$f":"IFERROR(VLOOKUP(\"3000\" & \"|\" & TRIM(L249)& \"|\" & TRIM(N249),BdgtXrefTable[[Detail Key]:[Summary Key]],4,FALSE),\"?\")","v":"?"}]
[null,null,null,null,null,null,null,null,null,null,null,null,null,null,null,null,null,null,null,null,{"$f":"IFERROR(VLOOKUP(\"3000\" & \"|\" & TRIM(L250)& \"|\" & TRIM(N250),BdgtXrefTable[[Detail Key]:[Summary Key]],4,FALSE),\"?\")","v":"?"}]
[null,null,null,null,null,null,null,null,null,null,null,null,null,null,null,null,null,null,null,null,{"$f":"IFERROR(VLOOKUP(\"3000\" & \"|\" & TRIM(L251)& \"|\" & TRIM(N251),BdgtXrefTable[[Detail Key]:[Summary Key]],4,FALSE),\"?\")","v":"?"}]
[null,null,null,null,null,null,null,null,null,null,null,null,null,null,null,null,null,null,null,null,{"$f":"IFERROR(VLOOKUP(\"3000\" & \"|\" & TRIM(L252)& \"|\" & TRIM(N252),BdgtXrefTable[[Detail Key]:[Summary Key]],4,FALSE),\"?\")","v":"?"}]
[null,null,null,null,null,null,null,null,null,null,null,null,null,null,null,null,null,null,null,null,{"$f":"IFERROR(VLOOKUP(\"3000\" & \"|\" & TRIM(L253)& \"|\" & TRIM(N253),BdgtXrefTable[[Detail Key]:[Summary Key]],4,FALSE),\"?\")","v":"?"}]
[null,null,null,null,null,null,null,null,null,null,null,null,null,null,null,null,null,null,null,null,{"$f":"IFERROR(VLOOKUP(\"3000\" & \"|\" & TRIM(L254)& \"|\" & TRIM(N254),BdgtXrefTable[[Detail Key]:[Summary Key]],4,FALSE),\"?\")","v":"?"}]
[null,null,null,null,null,null,null,null,null,null,null,null,null,null,null,null,null,null,null,null,{"$f":"IFERROR(VLOOKUP(\"3000\" & \"|\" & TRIM(L255)& \"|\" & TRIM(N255),BdgtXrefTable[[Detail Key]:[Summary Key]],4,FALSE),\"?\")","v":"?"}]
[null,null,null,null,null,null,null,null,null,null,null,null,null,null,null,null,null,null,null,null,{"$f":"IFERROR(VLOOKUP(\"3000\" & \"|\" & TRIM(L256)& \"|\" & TRIM(N256),BdgtXrefTable[[Detail Key]:[Summary Key]],4,FALSE),\"?\")","v":"?"}]
[null,null,null,null,null,null,null,null,null,null,null,null,null,null,null,null,null,null,null,null,{"$f":"IFERROR(VLOOKUP(\"3000\" & \"|\" & TRIM(L257)& \"|\" & TRIM(N257),BdgtXrefTable[[Detail Key]:[Summary Key]],4,FALSE),\"?\")","v":"?"}]
[null,null,null,null,null,null,null,null,null,null,null,null,null,null,null,null,null,null,null,null,{"$f":"IFERROR(VLOOKUP(\"3000\" & \"|\" & TRIM(L258)& \"|\" & TRIM(N258),BdgtXrefTable[[Detail Key]:[Summary Key]],4,FALSE),\"?\")","v":"?"}]
[null,null,null,null,null,null,null,null,null,null,null,null,null,null,null,null,null,null,null,null,{"$f":"IFERROR(VLOOKUP(\"3000\" & \"|\" & TRIM(L259)& \"|\" & TRIM(N259),BdgtXrefTable[[Detail Key]:[Summary Key]],4,FALSE),\"?\")","v":"?"}]
[null,null,null,null,null,null,null,null,null,null,null,null,null,null,null,null,null,null,null,null,{"$f":"IFERROR(VLOOKUP(\"3000\" & \"|\" & TRIM(L260)& \"|\" & TRIM(N260),BdgtXrefTable[[Detail Key]:[Summary Key]],4,FALSE),\"?\")","v":"?"}]
[null,null,null,null,null,null,null,null,null,null,null,null,null,null,null,null,null,null,null,null,{"$f":"IFERROR(VLOOKUP(\"3000\" & \"|\" & TRIM(L261)& \"|\" & TRIM(N261),BdgtXrefTable[[Detail Key]:[Summary Key]],4,FALSE),\"?\")","v":"?"}]
[null,null,null,null,null,null,null,null,null,null,null,null,null,null,null,null,null,null,null,null,{"$f":"IFERROR(VLOOKUP(\"3000\" & \"|\" & TRIM(L262)& \"|\" & TRIM(N262),BdgtXrefTable[[Detail Key]:[Summary Key]],4,FALSE),\"?\")","v":"?"}]
[null,null,null,null,null,null,null,null,null,null,null,null,null,null,null,null,null,null,null,null,{"$f":"IFERROR(VLOOKUP(\"3000\" & \"|\" & TRIM(L263)& \"|\" & TRIM(N263),BdgtXrefTable[[Detail Key]:[Summary Key]],4,FALSE),\"?\")","v":"?"}]
[null,null,null,null,null,null,null,null,null,null,null,null,null,null,null,null,null,null,null,null,{"$f":"IFERROR(VLOOKUP(\"3000\" & \"|\" & TRIM(L264)& \"|\" & TRIM(N264),BdgtXrefTable[[Detail Key]:[Summary Key]],4,FALSE),\"?\")","v":"?"}]
[null,null,null,null,null,null,null,null,null,null,null,null,null,null,null,null,null,null,null,null,{"$f":"IFERROR(VLOOKUP(\"3000\" & \"|\" & TRIM(L265)& \"|\" & TRIM(N265),BdgtXrefTable[[Detail Key]:[Summary Key]],4,FALSE),\"?\")","v":"?"}]
[null,null,null,null,null,null,null,null,null,null,null,null,null,null,null,null,null,null,null,null,{"$f":"IFERROR(VLOOKUP(\"3000\" & \"|\" & TRIM(L266)& \"|\" & TRIM(N266),BdgtXrefTable[[Detail Key]:[Summary Key]],4,FALSE),\"?\")","v":"?"}]
[null,null,null,null,null,null,null,null,null,null,null,null,null,null,null,null,null,null,null,null,{"$f":"IFERROR(VLOOKUP(\"3000\" & \"|\" & TRIM(L267)& \"|\" & TRIM(N267),BdgtXrefTable[[Detail Key]:[Summary Key]],4,FALSE),\"?\")","v":"?"}]
[null,null,null,null,null,null,null,null,null,null,null,null,null,null,null,null,null,null,null,null,{"$f":"IFERROR(VLOOKUP(\"3000\" & \"|\" & TRIM(L268)& \"|\" & TRIM(N268),BdgtXrefTable[[Detail Key]:[Summary Key]],4,FALSE),\"?\")","v":"?"}]
[null,null,null,null,null,null,null,null,null,null,null,null,null,null,null,null,null,null,null,null,{"$f":"IFERROR(VLOOKUP(\"3000\" & \"|\" & TRIM(L269)& \"|\" & TRIM(N269),BdgtXrefTable[[Detail Key]:[Summary Key]],4,FALSE),\"?\")","v":"?"}]
[null,null,null,null,null,null,null,null,null,null,null,null,null,null,null,null,null,null,null,null,{"$f":"IFERROR(VLOOKUP(\"3000\" & \"|\" & TRIM(L270)& \"|\" & TRIM(N270),BdgtXrefTable[[Detail Key]:[Summary Key]],4,FALSE),\"?\")","v":"?"}]
[null,null,null,null,null,null,null,null,null,null,null,null,null,null,null,null,null,null,null,null,{"$f":"IFERROR(VLOOKUP(\"3000\" & \"|\" & TRIM(L271)& \"|\" & TRIM(N271),BdgtXrefTable[[Detail Key]:[Summary Key]],4,FALSE),\"?\")","v":"?"}]
[null,null,null,null,null,null,null,null,null,null,null,null,null,null,null,null,null,null,null,null,{"$f":"IFERROR(VLOOKUP(\"3000\" & \"|\" & TRIM(L272)& \"|\" & TRIM(N272),BdgtXrefTable[[Detail Key]:[Summary Key]],4,FALSE),\"?\")","v":"?"}]
[null,null,null,null,null,null,null,null,null,null,null,null,null,null,null,null,null,null,null,null,{"$f":"IFERROR(VLOOKUP(\"3000\" & \"|\" & TRIM(L273)& \"|\" & TRIM(N273),BdgtXrefTable[[Detail Key]:[Summary Key]],4,FALSE),\"?\")","v":"?"}]
[null,null,null,null,null,null,null,null,null,null,null,null,null,null,null,null,null,null,null,null,{"$f":"IFERROR(VLOOKUP(\"3000\" & \"|\" & TRIM(L274)& \"|\" & TRIM(N274),BdgtXrefTable[[Detail Key]:[Summary Key]],4,FALSE),\"?\")","v":"?"}]
[null,null,null,null,null,"      ",null,null,null,null,null,null,null,"Total for Object Code:",null,null,{"$f":"SUM(Q214:R274)","v":0}]
[]
[null,"Page 24"]
[null,{"$f":"'Main Page'!$N$9","v":"2026-2027"},null,"School Division:",{"$f":"'Main Page'!$L$14","v":0},null,null,null,"Division Number:",{"$f":"'Main Page'!$L$15","v":" "},{"$f":"'Main Page'!$B$6","v":"Local Consolidated Application"}]
[null,"DETAILED BUDGET DESCRIPTION OF OBJECT CODE 4000"]
[null,"Provide a description of charges from an Internal Service Fund to other functions/activities/elements of the local government for the use of intergovernmental services.  "]
[]
[]
[]
[null,"Item Description",null,null,null,null,null,null,null,"Measurable Objective",null,"Federal Program Funding Source",null,"Category",null,null,"Total Cost"]
[null,null,null,null,null,null,null,null,null,null,null,null,null,null,null,null,null,null,null,null,{"$f":"IFERROR(VLOOKUP(\"4000\" & \"|\" & TRIM(L285)& \"|\" & TRIM(N285),BdgtXrefTable[[Detail Key]:[Summary Key]],4,FALSE),\"?\")","v":"?"}]
[null,null,null,null,null,null,null,null,null,null,null,null,null,null,null,null,null,null,null,null,{"$f":"IFERROR(VLOOKUP(\"4000\" & \"|\" & TRIM(L286)& \"|\" & TRIM(N286),BdgtXrefTable[[Detail Key]:[Summary Key]],4,FALSE),\"?\")","v":"?"}]
[null,null,null,null,null,null,null,null,null,null,null,null,null,null,null,null,null,null,null,null,{"$f":"IFERROR(VLOOKUP(\"4000\" & \"|\" & TRIM(L287)& \"|\" & TRIM(N287),BdgtXrefTable[[Detail Key]:[Summary Key]],4,FALSE),\"?\")","v":"?"}]
[null,null,null,null,null,null,null,null,null,null,null,null,null,null,null,null,null,null,null,null,{"$f":"IFERROR(VLOOKUP(\"4000\" & \"|\" & TRIM(L288)& \"|\" & TRIM(N288),BdgtXrefTable[[Detail Key]:[Summary Key]],4,FALSE),\"?\")","v":"?"}]
[null,null,null,null,null,null,null,null,null,null,null,null,null,null,null,null,null,null,null,null,{"$f":"IFERROR(VLOOKUP(\"4000\" & \"|\" & TRIM(L289)& \"|\" & TRIM(N289),BdgtXrefTable[[Detail Key]:[Summary Key]],4,FALSE),\"?\")","v":"?"}]
[null,null,null,null,null,null,null,null,null,null,null,null,null,null,null,null,null,null,null,null,{"$f":"IFERROR(VLOOKUP(\"4000\" & \"|\" & TRIM(L290)& \"|\" & TRIM(N290),BdgtXrefTable[[Detail Key]:[Summary Key]],4,FALSE),\"?\")","v":"?"}]
[null,null,null,null,null,null,null,null,null,null,null,null,null,null,null,null,null,null,null,null,{"$f":"IFERROR(VLOOKUP(\"4000\" & \"|\" & TRIM(L291)& \"|\" & TRIM(N291),BdgtXrefTable[[Detail Key]:[Summary Key]],4,FALSE),\"?\")","v":"?"}]
[null,null,null,null,null,null,null,null,null,null,null,null,null,null,null,null,null,null,null,null,{"$f":"IFERROR(VLOOKUP(\"4000\" & \"|\" & TRIM(L292)& \"|\" & TRIM(N292),BdgtXrefTable[[Detail Key]:[Summary Key]],4,FALSE),\"?\")","v":"?"}]
[null,null,null,null,null,null,null,null,null,null,null,null,null,null,null,null,null,null,null,null,{"$f":"IFERROR(VLOOKUP(\"4000\" & \"|\" & TRIM(L293)& \"|\" & TRIM(N293),BdgtXrefTable[[Detail Key]:[Summary Key]],4,FALSE),\"?\")","v":"?"}]
[null,null,null,null,null,null,null,null,null,null,null,null,null,null,null,null,null,null,null,null,{"$f":"IFERROR(VLOOKUP(\"4000\" & \"|\" & TRIM(L294)& \"|\" & TRIM(N294),BdgtXrefTable[[Detail Key]:[Summary Key]],4,FALSE),\"?\")","v":"?"}]
[null,null,null,null,null,null,null,null,null,null,null,null,null,null,null,null,null,null,null,null,{"$f":"IFERROR(VLOOKUP(\"4000\" & \"|\" & TRIM(L295)& \"|\" & TRIM(N295),BdgtXrefTable[[Detail Key]:[Summary Key]],4,FALSE),\"?\")","v":"?"}]
[null,null,null,null,null,null,null,null,null,null,null,null,null,null,null,null,null,null,null,null,{"$f":"IFERROR(VLOOKUP(\"4000\" & \"|\" & TRIM(L296)& \"|\" & TRIM(N296),BdgtXrefTable[[Detail Key]:[Summary Key]],4,FALSE),\"?\")","v":"?"}]
[null,null,null,null,null,null,null,null,null,null,null,null,null,null,null,null,null,null,null,null,{"$f":"IFERROR(VLOOKUP(\"4000\" & \"|\" & TRIM(L297)& \"|\" & TRIM(N297),BdgtXrefTable[[Detail Key]:[Summary Key]],4,FALSE),\"?\")","v":"?"}]
[null,null,null,null,null,null,null,null,null,null,null,null,null,null,null,null,null,null,null,null,{"$f":"IFERROR(VLOOKUP(\"4000\" & \"|\" & TRIM(L298)& \"|\" & TRIM(N298),BdgtXrefTable[[Detail Key]:[Summary Key]],4,FALSE),\"?\")","v":"?"}]
[null,null,null,null,null,null,null,null,null,null,null,null,null,null,null,null,null,null,null,null,{"$f":"IFERROR(VLOOKUP(\"4000\" & \"|\" & TRIM(L299)& \"|\" & TRIM(N299),BdgtXrefTable[[Detail Key]:[Summary Key]],4,FALSE),\"?\")","v":"?"}]
[null,null,null,null,null,null,null,null,null,null,null,null,null,null,null,null,null,null,null,null,{"$f":"IFERROR(VLOOKUP(\"4000\" & \"|\" & TRIM(L300)& \"|\" & TRIM(N300),BdgtXrefTable[[Detail Key]:[Summary Key]],4,FALSE),\"?\")","v":"?"}]
[null,null,null,null,null,null,null,null,null,null,null,null,null,null,null,null,null,null,null,null,{"$f":"IFERROR(VLOOKUP(\"4000\" & \"|\" & TRIM(L301)& \"|\" & TRIM(N301),BdgtXrefTable[[Detail Key]:[Summary Key]],4,FALSE),\"?\")","v":"?"}]
[null,null,null,null,null,null,null,null,null,null,null,null,null,null,null,null,null,null,null,null,{"$f":"IFERROR(VLOOKUP(\"4000\" & \"|\" & TRIM(L302)& \"|\" & TRIM(N302),BdgtXrefTable[[Detail Key]:[Summary Key]],4,FALSE),\"?\")","v":"?"}]
[null,null,null,null,null,null,null,null,null,null,null,null,null,null,null,null,null,null,null,null,{"$f":"IFERROR(VLOOKUP(\"4000\" & \"|\" & TRIM(L303)& \"|\" & TRIM(N303),BdgtXrefTable[[Detail Key]:[Summary Key]],4,FALSE),\"?\")","v":"?"}]
[null,null,null,null,null,null,null,null,null,null,null,null,null,null,null,null,null,null,null,null,{"$f":"IFERROR(VLOOKUP(\"4000\" & \"|\" & TRIM(L304)& \"|\" & TRIM(N304),BdgtXrefTable[[Detail Key]:[Summary Key]],4,FALSE),\"?\")","v":"?"}]
[null,null,null,null,null,null,null,null,null,null,null,null,null,null,null,null,null,null,null,null,{"$f":"IFERROR(VLOOKUP(\"4000\" & \"|\" & TRIM(L305)& \"|\" & TRIM(N305),BdgtXrefTable[[Detail Key]:[Summary Key]],4,FALSE),\"?\")","v":"?"}]
[null,null,null,null,null,null,null,null,null,null,null,null,null,null,null,null,null,null,null,null,{"$f":"IFERROR(VLOOKUP(\"4000\" & \"|\" & TRIM(L306)& \"|\" & TRIM(N306),BdgtXrefTable[[Detail Key]:[Summary Key]],4,FALSE),\"?\")","v":"?"}]
[null,null,null,null,null,null,null,null,null,null,null,null,null,null,null,null,null,null,null,null,{"$f":"IFERROR(VLOOKUP(\"4000\" & \"|\" & TRIM(L307)& \"|\" & TRIM(N307),BdgtXrefTable[[Detail Key]:[Summary Key]],4,FALSE),\"?\")","v":"?"}]
[null,null,null,null,null,null,null,null,null,null,null,null,null,null,null,null,null,null,null,null,{"$f":"IFERROR(VLOOKUP(\"4000\" & \"|\" & TRIM(L308)& \"|\" & TRIM(N308),BdgtXrefTable[[Detail Key]:[Summary Key]],4,FALSE),\"?\")","v":"?"}]
[null,null,null,null,null,null,null,null,null,null,null,null,null,null,null,null,null,null,null,null,{"$f":"IFERROR(VLOOKUP(\"4000\" & \"|\" & TRIM(L309)& \"|\" & TRIM(N309),BdgtXrefTable[[Detail Key]:[Summary Key]],4,FALSE),\"?\")","v":"?"}]
[null,null,null,null,null,null,null,null,null,null,null,null,null,null,null,null,null,null,null,null,{"$f":"IFERROR(VLOOKUP(\"4000\" & \"|\" & TRIM(L310)& \"|\" & TRIM(N310),BdgtXrefTable[[Detail Key]:[Summary Key]],4,FALSE),\"?\")","v":"?"}]
[null,null,null,null,null,null,null,null,null,null,null,null,null,null,null,null,null,null,null,null,{"$f":"IFERROR(VLOOKUP(\"4000\" & \"|\" & TRIM(L311)& \"|\" & TRIM(N311),BdgtXrefTable[[Detail Key]:[Summary Key]],4,FALSE),\"?\")","v":"?"}]
[null,null,null,null,null,null,null,null,null,null,null,null,null,null,null,null,null,null,null,null,{"$f":"IFERROR(VLOOKUP(\"4000\" & \"|\" & TRIM(L312)& \"|\" & TRIM(N312),BdgtXrefTable[[Detail Key]:[Summary Key]],4,FALSE),\"?\")","v":"?"}]
[null,null,null,null,null,null,null,null,null,null,null,null,null,null,null,null,null,null,null,null,{"$f":"IFERROR(VLOOKUP(\"4000\" & \"|\" & TRIM(L313)& \"|\" & TRIM(N313),BdgtXrefTable[[Detail Key]:[Summary Key]],4,FALSE),\"?\")","v":"?"}]
[null,null,null,null,null,null,null,null,null,null,null,null,null,null,null,null,null,null,null,null,{"$f":"IFERROR(VLOOKUP(\"4000\" & \"|\" & TRIM(L314)& \"|\" & TRIM(N314),BdgtXrefTable[[Detail Key]:[Summary Key]],4,FALSE),\"?\")","v":"?"}]
[null,null,null,null,null,null,null,null,null,null,null,null,null,null,null,null,null,null,null,null,{"$f":"IFERROR(VLOOKUP(\"4000\" & \"|\" & TRIM(L315)& \"|\" & TRIM(N315),BdgtXrefTable[[Detail Key]:[Summary Key]],4,FALSE),\"?\")","v":"?"}]
[null,null,null,null,null,null,null,null,null,null,null,null,null,null,null,null,null,null,null,null,{"$f":"IFERROR(VLOOKUP(\"4000\" & \"|\" & TRIM(L316)& \"|\" & TRIM(N316),BdgtXrefTable[[Detail Key]:[Summary Key]],4,FALSE),\"?\")","v":"?"}]
[null,null,null,null,null,null,null,null,null,null,null,null,null,null,null,null,null,null,null,null,{"$f":"IFERROR(VLOOKUP(\"4000\" & \"|\" & TRIM(L317)& \"|\" & TRIM(N317),BdgtXrefTable[[Detail Key]:[Summary Key]],4,FALSE),\"?\")","v":"?"}]
[null,null,null,null,null,null,null,null,null,null,null,null,null,null,null,null,null,null,null,null,{"$f":"IFERROR(VLOOKUP(\"4000\" & \"|\" & TRIM(L318)& \"|\" & TRIM(N318),BdgtXrefTable[[Detail Key]:[Summary Key]],4,FALSE),\"?\")","v":"?"}]
[null,null,null,null,null,null,null,null,null,null,null,null,null,null,null,null,null,null,null,null,{"$f":"IFERROR(VLOOKUP(\"4000\" & \"|\" & TRIM(L319)& \"|\" & TRIM(N319),BdgtXrefTable[[Detail Key]:[Summary Key]],4,FALSE),\"?\")","v":"?"}]
[null,null,null,null,null,null,null,null,null,null,null,null,null,null,null,null,null,null,null,null,{"$f":"IFERROR(VLOOKUP(\"4000\" & \"|\" & TRIM(L320)& \"|\" & TRIM(N320),BdgtXrefTable[[Detail Key]:[Summary Key]],4,FALSE),\"?\")","v":"?"}]
[null,null,null,null,null,null,null,null,null,null,null,null,null,null,null,null,null,null,null,null,{"$f":"IFERROR(VLOOKUP(\"4000\" & \"|\" & TRIM(L321)& \"|\" & TRIM(N321),BdgtXrefTable[[Detail Key]:[Summary Key]],4,FALSE),\"?\")","v":"?"}]
[null,null,null,null,null,null,null,null,null,null,null,null,null,null,null,null,null,null,null,null,{"$f":"IFERROR(VLOOKUP(\"4000\" & \"|\" & TRIM(L322)& \"|\" & TRIM(N322),BdgtXrefTable[[Detail Key]:[Summary Key]],4,FALSE),\"?\")","v":"?"}]
[null,null,null,null,null,null,null,null,null,null,null,null,null,null,null,null,null,null,null,null,{"$f":"IFERROR(VLOOKUP(\"4000\" & \"|\" & TRIM(L323)& \"|\" & TRIM(N323),BdgtXrefTable[[Detail Key]:[Summary Key]],4,FALSE),\"?\")","v":"?"}]
[null,null,null,null,null,null,null,null,null,null,null,null,null,null,null,null,null,null,null,null,{"$f":"IFERROR(VLOOKUP(\"4000\" & \"|\" & TRIM(L324)& \"|\" & TRIM(N324),BdgtXrefTable[[Detail Key]:[Summary Key]],4,FALSE),\"?\")","v":"?"}]
[null,null,null,null,null,null,null,null,null,null,null,null,null,null,null,null,null,null,null,null,{"$f":"IFERROR(VLOOKUP(\"4000\" & \"|\" & TRIM(L325)& \"|\" & TRIM(N325),BdgtXrefTable[[Detail Key]:[Summary Key]],4,FALSE),\"?\")","v":"?"}]
[null,null,null,null,null,null,null,null,null,null,null,null,null,null,null,null,null,null,null,null,{"$f":"IFERROR(VLOOKUP(\"4000\" & \"|\" & TRIM(L326)& \"|\" & TRIM(N326),BdgtXrefTable[[Detail Key]:[Summary Key]],4,FALSE),\"?\")","v":"?"}]
[null,null,null,null,null,null,null,null,null,null,null,null,null,null,null,null,null,null,null,null,{"$f":"IFERROR(VLOOKUP(\"4000\" & \"|\" & TRIM(L327)& \"|\" & TRIM(N327),BdgtXrefTable[[Detail Key]:[Summary Key]],4,FALSE),\"?\")","v":"?"}]
[null,null,null,null,null,null,null,null,null,null,null,null,null,null,null,null,null,null,null,null,{"$f":"IFERROR(VLOOKUP(\"4000\" & \"|\" & TRIM(L328)& \"|\" & TRIM(N328),BdgtXrefTable[[Detail Key]:[Summary Key]],4,FALSE),\"?\")","v":"?"}]
[null,null,null,null,null,null,null,null,null,null,null,null,null,null,null,null,null,null,null,null,{"$f":"IFERROR(VLOOKUP(\"4000\" & \"|\" & TRIM(L329)& \"|\" & TRIM(N329),BdgtXrefTable[[Detail Key]:[Summary Key]],4,FALSE),\"?\")","v":"?"}]
[null,null,null,null,null,null,null,null,null,null,null,null,null,null,null,null,null,null,null,null,{"$f":"IFERROR(VLOOKUP(\"4000\" & \"|\" & TRIM(L330)& \"|\" & TRIM(N330),BdgtXrefTable[[Detail Key]:[Summary Key]],4,FALSE),\"?\")","v":"?"}]
[null,null,null,null,null,null,null,null,null,null,null,null,null,null,null,null,null,null,null,null,{"$f":"IFERROR(VLOOKUP(\"4000\" & \"|\" & TRIM(L331)& \"|\" & TRIM(N331),BdgtXrefTable[[Detail Key]:[Summary Key]],4,FALSE),\"?\")","v":"?"}]
[null,null,null,null,null,null,null,null,null,null,null,null,null,null,null,null,null,null,null,null,{"$f":"IFERROR(VLOOKUP(\"4000\" & \"|\" & TRIM(L332)& \"|\" & TRIM(N332),BdgtXrefTable[[Detail Key]:[Summary Key]],4,FALSE),\"?\")","v":"?"}]
[null,null,null,null,null,null,null,null,null,null,null,null,null,null,null,null,null,null,null,null,{"$f":"IFERROR(VLOOKUP(\"4000\" & \"|\" & TRIM(L333)& \"|\" & TRIM(N333),BdgtXrefTable[[Detail Key]:[Summary Key]],4,FALSE),\"?\")","v":"?"}]
[null,null,null,null,null,null,null,null,null,null,null,null,null,null,null,null,null,null,null,null,{"$f":"IFERROR(VLOOKUP(\"4000\" & \"|\" & TRIM(L334)& \"|\" & TRIM(N334),BdgtXrefTable[[Detail Key]:[Summary Key]],4,FALSE),\"?\")","v":"?"}]
[null,null,null,null,null,null,null,null,null,null,null,null,null,null,null,null,null,null,null,null,{"$f":"IFERROR(VLOOKUP(\"4000\" & \"|\" & TRIM(L335)& \"|\" & TRIM(N335),BdgtXrefTable[[Detail Key]:[Summary Key]],4,FALSE),\"?\")","v":"?"}]
[null,null,null,null,null,null,null,null,null,null,null,null,null,null,null,null,null,null,null,null,{"$f":"IFERROR(VLOOKUP(\"4000\" & \"|\" & TRIM(L336)& \"|\" & TRIM(N336),BdgtXrefTable[[Detail Key]:[Summary Key]],4,FALSE),\"?\")","v":"?"}]
[null,null,null,null,null,null,null,null,null,null,null,null,null,null,null,null,null,null,null,null,{"$f":"IFERROR(VLOOKUP(\"4000\" & \"|\" & TRIM(L337)& \"|\" & TRIM(N337),BdgtXrefTable[[Detail Key]:[Summary Key]],4,FALSE),\"?\")","v":"?"}]
[null,null,null,null,null,null,null,null,null,null,null,null,null,null,null,null,null,null,null,null,{"$f":"IFERROR(VLOOKUP(\"4000\" & \"|\" & TRIM(L338)& \"|\" & TRIM(N338),BdgtXrefTable[[Detail Key]:[Summary Key]],4,FALSE),\"?\")","v":"?"}]
[null,null,null,null,null,null,null,null,null,null,null,null,null,null,null,null,null,null,null,null,{"$f":"IFERROR(VLOOKUP(\"4000\" & \"|\" & TRIM(L339)& \"|\" & TRIM(N339),BdgtXrefTable[[Detail Key]:[Summary Key]],4,FALSE),\"?\")","v":"?"}]
[null,null,null,null,null,null,null,null,null,null,null,null,null,null,null,null,null,null,null,null,{"$f":"IFERROR(VLOOKUP(\"4000\" & \"|\" & TRIM(L340)& \"|\" & TRIM(N340),BdgtXrefTable[[Detail Key]:[Summary Key]],4,FALSE),\"?\")","v":"?"}]
[null,null,null,null,null,null,null,null,null,null,null,null,null,null,null,null,null,null,null,null,{"$f":"IFERROR(VLOOKUP(\"4000\" & \"|\" & TRIM(L341)& \"|\" & TRIM(N341),BdgtXrefTable[[Detail Key]:[Summary Key]],4,FALSE),\"?\")","v":"?"}]
[null,null,null,null,null,null,null,null,null,null,null,null,null,null,null,null,null,null,null,null,{"$f":"IFERROR(VLOOKUP(\"4000\" & \"|\" & TRIM(L342)& \"|\" & TRIM(N342),BdgtXrefTable[[Detail Key]:[Summary Key]],4,FALSE),\"?\")","v":"?"}]
[null,null,null,null,null,null,null,null,null,null,null,null,null,null,null,null,null,null,null,null,{"$f":"IFERROR(VLOOKUP(\"4000\" & \"|\" & TRIM(L343)& \"|\" & TRIM(N343),BdgtXrefTable[[Detail Key]:[Summary Key]],4,FALSE),\"?\")","v":"?"}]
[null,null,null,null,null,null,null,null,null,null,null,null,null,null,null,null,null,null,null,null,{"$f":"IFERROR(VLOOKUP(\"4000\" & \"|\" & TRIM(L344)& \"|\" & TRIM(N344),BdgtXrefTable[[Detail Key]:[Summary Key]],4,FALSE),\"?\")","v":"?"}]
[null,null,null,null,null,null,null,null,null,null,null,null,null,null,null,null,null,null,null,null,{"$f":"IFERROR(VLOOKUP(\"4000\" & \"|\" & TRIM(L345)& \"|\" & TRIM(N345),BdgtXrefTable[[Detail Key]:[Summary Key]],4,FALSE),\"?\")","v":"?"}]
[null,null,null,null,null,null,null,null,null,null,null,null,null,null,null,null,null,null,null,null,{"$f":"IFERROR(VLOOKUP(\"4000\" & \"|\" & TRIM(L346)& \"|\" & TRIM(N346),BdgtXrefTable[[Detail Key]:[Summary Key]],4,FALSE),\"?\")","v":"?"}]
[null,null,null,null,null,null,null,null,null,null,null,null,null,null,null,null,null,null,null,null,{"$f":"IFERROR(VLOOKUP(\"4000\" & \"|\" & TRIM(L347)& \"|\" & TRIM(N347),BdgtXrefTable[[Detail Key]:[Summary Key]],4,FALSE),\"?\")","v":"?"}]
[null,null,null,null,null,null,null,null,null,null,null,null,null,null,null,null,null,null,null,null,{"$f":"IFERROR(VLOOKUP(\"4000\" & \"|\" & TRIM(L348)& \"|\" & TRIM(N348),BdgtXrefTable[[Detail Key]:[Summary Key]],4,FALSE),\"?\")","v":"?"}]
[null,null,null,null,null,null,null,null,null,null,null,null,null,null,null,null,null,null,null,null,{"$f":"IFERROR(VLOOKUP(\"4000\" & \"|\" & TRIM(L349)& \"|\" & TRIM(N349),BdgtXrefTable[[Detail Key]:[Summary Key]],4,FALSE),\"?\")","v":"?"}]
[null,null,null,null,null,null,null,null,null,null,null,null,null,null,null,null,null,null,null,null,{"$f":"IFERROR(VLOOKUP(\"4000\" & \"|\" & TRIM(L350)& \"|\" & TRIM(N350),BdgtXrefTable[[Detail Key]:[Summary Key]],4,FALSE),\"?\")","v":"?"}]
[null,null,null,null,null,null,null,null,null,null,null,null,null,null,null,null,null,null,null,null,{"$f":"IFERROR(VLOOKUP(\"4000\" & \"|\" & TRIM(L351)& \"|\" & TRIM(N351),BdgtXrefTable[[Detail Key]:[Summary Key]],4,FALSE),\"?\")","v":"?"}]
[null,null,null,null,null,null,null,null,null,null,null,null,null,null,null,null,null,null,null,null,{"$f":"IFERROR(VLOOKUP(\"4000\" & \"|\" & TRIM(L352)& \"|\" & TRIM(N352),BdgtXrefTable[[Detail Key]:[Summary Key]],4,FALSE),\"?\")","v":"?"}]
[null,null,null,null,null,null,null,null,null,null,null,null,null,null,null,null,null,null,null,null,{"$f":"IFERROR(VLOOKUP(\"4000\" & \"|\" & TRIM(L353)& \"|\" & TRIM(N353),BdgtXrefTable[[Detail Key]:[Summary Key]],4,FALSE),\"?\")","v":"?"}]
[null,null,null,null,null,null,null,null,null,null,null,null,null,null,null,null,null,null,null,null,{"$f":"IFERROR(VLOOKUP(\"4000\" & \"|\" & TRIM(L354)& \"|\" & TRIM(N354),BdgtXrefTable[[Detail Key]:[Summary Key]],4,FALSE),\"?\")","v":"?"}]
[null,null,null,null,null,null,null,null,null,null,null,null,null,null,null,null,null,null,null,null,{"$f":"IFERROR(VLOOKUP(\"4000\" & \"|\" & TRIM(L355)& \"|\" & TRIM(N355),BdgtXrefTable[[Detail Key]:[Summary Key]],4,FALSE),\"?\")","v":"?"}]
[null,null,null,null,null,null,null,null,null,null,null,null,null,null,null,null,null,null,null,null,{"$f":"IFERROR(VLOOKUP(\"4000\" & \"|\" & TRIM(L356)& \"|\" & TRIM(N356),BdgtXrefTable[[Detail Key]:[Summary Key]],4,FALSE),\"?\")","v":"?"}]
[null,null,null,null,null,"      ",null,null,null,null,null,null,null,"Total for Object Code:",null,null,{"$f":"SUM(Q285:R356)","v":0}]
[null,"Page 25"]
[null,{"$f":"'Main Page'!$N$9","v":"2026-2027"},null,"School Division:",{"$f":"'Main Page'!$L$14","v":0},null,null,null,"Division Number:",{"$f":"'Main Page'!$L$15","v":" "},{"$f":"'Main Page'!$B$6","v":"Local Consolidated Application"}]
[null,"DETAILED BUDGET DESCRIPTION OF OBJECT CODE 5000"]
[null,"Provide a description of the expenditures that support the program, including utilities (maintenance and operation of plant), staff/administrative/consultant travel, office phone charges, training, leases/rental, indirect cost, and other.   Indirect costs cannot be claimed against capital outlay and equipment."]
[]
[]
[]
[null,"Please provide a detailed description of Title II, Part A and Title III, Part A Private School activities (if no private school set-aside is present, please enter N/A). "]
[]
[null,"Item Description",null,null,null,null,null,null,null,"Measurable Objective",null,"Federal Program Funding Source",null,"Category",null,null,"Total Cost"]
[null,"Private School Set-aside",null,null,null,null,null,null,null,null,null,null,null,null,null,null,null,null,null,null,{"$f":"IFERROR(VLOOKUP(\"5000\" & \"|\" & TRIM(L368)& \"|\" & TRIM(N368),BdgtXrefTable[[Detail Key]:[Summary Key]],4,FALSE),\"?\")","v":"?"}]
[null,"Private School Set-aside",null,null,null,null,null,null,null,null,null,null,null,null,null,null,null,null,null,null,{"$f":"IFERROR(VLOOKUP(\"5000\" & \"|\" & TRIM(L369)& \"|\" & TRIM(N369),BdgtXrefTable[[Detail Key]:[Summary Key]],4,FALSE),\"?\")","v":"?"}]
[null,null,null,null,null,null,null,null,null,null,null,null,null,null,null,null,null,null,null,null,{"$f":"IFERROR(VLOOKUP(\"5000\" & \"|\" & TRIM(L370)& \"|\" & TRIM(N370),BdgtXrefTable[[Detail Key]:[Summary Key]],4,FALSE),\"?\")","v":"?"}]
[null,null,null,null,null,null,null,null,null,null,null,null,null,null,null,null,null,null,null,null,{"$f":"IFERROR(VLOOKUP(\"5000\" & \"|\" & TRIM(L371)& \"|\" & TRIM(N371),BdgtXrefTable[[Detail Key]:[Summary Key]],4,FALSE),\"?\")","v":"?"}]
[null,null,null,null,null,null,null,null,null,null,null,null,null,null,null,null,null,null,null,null,{"$f":"IFERROR(VLOOKUP(\"5000\" & \"|\" & TRIM(L372)& \"|\" & TRIM(N372),BdgtXrefTable[[Detail Key]:[Summary Key]],4,FALSE),\"?\")","v":"?"}]
[null,null,null,null,null,null,null,null,null,null,null,null,null,null,null,null,null,null,null,null,{"$f":"IFERROR(VLOOKUP(\"5000\" & \"|\" & TRIM(L373)& \"|\" & TRIM(N373),BdgtXrefTable[[Detail Key]:[Summary Key]],4,FALSE),\"?\")","v":"?"}]
[null,null,null,null,null,null,null,null,null,null,null,null,null,null,null,null,null,null,null,null,{"$f":"IFERROR(VLOOKUP(\"5000\" & \"|\" & TRIM(L374)& \"|\" & TRIM(N374),BdgtXrefTable[[Detail Key]:[Summary Key]],4,FALSE),\"?\")","v":"?"}]
[null,null,null,null,null,null,null,null,null,null,null,null,null,null,null,null,null,null,null,null,{"$f":"IFERROR(VLOOKUP(\"5000\" & \"|\" & TRIM(L375)& \"|\" & TRIM(N375),BdgtXrefTable[[Detail Key]:[Summary Key]],4,FALSE),\"?\")","v":"?"}]
[null,null,null,null,null,null,null,null,null,null,null,null,null,null,null,null,null,null,null,null,{"$f":"IFERROR(VLOOKUP(\"5000\" & \"|\" & TRIM(L376)& \"|\" & TRIM(N376),BdgtXrefTable[[Detail Key]:[Summary Key]],4,FALSE),\"?\")","v":"?"}]
[null,null,null,null,null,null,null,null,null,null,null,null,null,null,null,null,null,null,null,null,{"$f":"IFERROR(VLOOKUP(\"5000\" & \"|\" & TRIM(L377)& \"|\" & TRIM(N377),BdgtXrefTable[[Detail Key]:[Summary Key]],4,FALSE),\"?\")","v":"?"}]
[null,null,null,null,null,null,null,null,null,null,null,null,null,null,null,null,null,null,null,null,{"$f":"IFERROR(VLOOKUP(\"5000\" & \"|\" & TRIM(L378)& \"|\" & TRIM(N378),BdgtXrefTable[[Detail Key]:[Summary Key]],4,FALSE),\"?\")","v":"?"}]
[null,null,null,null,null,null,null,null,null,null,null,null,null,null,null,null,null,null,null,null,{"$f":"IFERROR(VLOOKUP(\"5000\" & \"|\" & TRIM(L379)& \"|\" & TRIM(N379),BdgtXrefTable[[Detail Key]:[Summary Key]],4,FALSE),\"?\")","v":"?"}]
[null,null,null,null,null,null,null,null,null,null,null,null,null,null,null,null,null,null,null,null,{"$f":"IFERROR(VLOOKUP(\"5000\" & \"|\" & TRIM(L380)& \"|\" & TRIM(N380),BdgtXrefTable[[Detail Key]:[Summary Key]],4,FALSE),\"?\")","v":"?"}]
[null,null,null,null,null,null,null,null,null,null,null,null,null,null,null,null,null,null,null,null,{"$f":"IFERROR(VLOOKUP(\"5000\" & \"|\" & TRIM(L381)& \"|\" & TRIM(N381),BdgtXrefTable[[Detail Key]:[Summary Key]],4,FALSE),\"?\")","v":"?"}]
[null,null,null,null,null,null,null,null,null,null,null,null,null,null,null,null,null,null,null,null,{"$f":"IFERROR(VLOOKUP(\"5000\" & \"|\" & TRIM(L382)& \"|\" & TRIM(N382),BdgtXrefTable[[Detail Key]:[Summary Key]],4,FALSE),\"?\")","v":"?"}]
[null,null,null,null,null,null,null,null,null,null,null,null,null,null,null,null,null,null,null,null,{"$f":"IFERROR(VLOOKUP(\"5000\" & \"|\" & TRIM(L383)& \"|\" & TRIM(N383),BdgtXrefTable[[Detail Key]:[Summary Key]],4,FALSE),\"?\")","v":"?"}]
[null,null,null,null,null,null,null,null,null,null,null,null,null,null,null,null,null,null,null,null,{"$f":"IFERROR(VLOOKUP(\"5000\" & \"|\" & TRIM(L384)& \"|\" & TRIM(N384),BdgtXrefTable[[Detail Key]:[Summary Key]],4,FALSE),\"?\")","v":"?"}]
[null,null,null,null,null,null,null,null,null,null,null,null,null,null,null,null,null,null,null,null,{"$f":"IFERROR(VLOOKUP(\"5000\" & \"|\" & TRIM(L385)& \"|\" & TRIM(N385),BdgtXrefTable[[Detail Key]:[Summary Key]],4,FALSE),\"?\")","v":"?"}]
[null,null,null,null,null,null,null,null,null,null,null,null,null,null,null,null,null,null,null,null,{"$f":"IFERROR(VLOOKUP(\"5000\" & \"|\" & TRIM(L386)& \"|\" & TRIM(N386),BdgtXrefTable[[Detail Key]:[Summary Key]],4,FALSE),\"?\")","v":"?"}]
[null,null,null,null,null,null,null,null,null,null,null,null,null,null,null,null,null,null,null,null,{"$f":"IFERROR(VLOOKUP(\"5000\" & \"|\" & TRIM(L387)& \"|\" & TRIM(N387),BdgtXrefTable[[Detail Key]:[Summary Key]],4,FALSE),\"?\")","v":"?"}]
[null,null,null,null,null,null,null,null,null,null,null,null,null,null,null,null,null,null,null,null,{"$f":"IFERROR(VLOOKUP(\"5000\" & \"|\" & TRIM(L388)& \"|\" & TRIM(N388),BdgtXrefTable[[Detail Key]:[Summary Key]],4,FALSE),\"?\")","v":"?"}]
[null,null,null,null,null,null,null,null,null,null,null,null,null,null,null,null,null,null,null,null,{"$f":"IFERROR(VLOOKUP(\"5000\" & \"|\" & TRIM(L389)& \"|\" & TRIM(N389),BdgtXrefTable[[Detail Key]:[Summary Key]],4,FALSE),\"?\")","v":"?"}]
[null,null,null,null,null,null,null,null,null,null,null,null,null,null,null,null,null,null,null,null,{"$f":"IFERROR(VLOOKUP(\"5000\" & \"|\" & TRIM(L390)& \"|\" & TRIM(N390),BdgtXrefTable[[Detail Key]:[Summary Key]],4,FALSE),\"?\")","v":"?"}]
[null,null,null,null,null,null,null,null,null,null,null,null,null,null,null,null,null,null,null,null,{"$f":"IFERROR(VLOOKUP(\"5000\" & \"|\" & TRIM(L391)& \"|\" & TRIM(N391),BdgtXrefTable[[Detail Key]:[Summary Key]],4,FALSE),\"?\")","v":"?"}]
[null,null,null,null,null,null,null,null,null,null,null,null,null,null,null,null,null,null,null,null,{"$f":"IFERROR(VLOOKUP(\"5000\" & \"|\" & TRIM(L392)& \"|\" & TRIM(N392),BdgtXrefTable[[Detail Key]:[Summary Key]],4,FALSE),\"?\")","v":"?"}]
[null,null,null,null,null,null,null,null,null,null,null,null,null,null,null,null,null,null,null,null,{"$f":"IFERROR(VLOOKUP(\"5000\" & \"|\" & TRIM(L393)& \"|\" & TRIM(N393),BdgtXrefTable[[Detail Key]:[Summary Key]],4,FALSE),\"?\")","v":"?"}]
[null,null,null,null,null,null,null,null,null,null,null,null,null,null,null,null,null,null,null,null,{"$f":"IFERROR(VLOOKUP(\"5000\" & \"|\" & TRIM(L394)& \"|\" & TRIM(N394),BdgtXrefTable[[Detail Key]:[Summary Key]],4,FALSE),\"?\")","v":"?"}]
[null,null,null,null,null,null,null,null,null,null,null,null,null,null,null,null,null,null,null,null,{"$f":"IFERROR(VLOOKUP(\"5000\" & \"|\" & TRIM(L395)& \"|\" & TRIM(N395),BdgtXrefTable[[Detail Key]:[Summary Key]],4,FALSE),\"?\")","v":"?"}]
[null,null,null,null,null,null,null,null,null,null,null,null,null,null,null,null,null,null,null,null,{"$f":"IFERROR(VLOOKUP(\"5000\" & \"|\" & TRIM(L396)& \"|\" & TRIM(N396),BdgtXrefTable[[Detail Key]:[Summary Key]],4,FALSE),\"?\")","v":"?"}]
[null,null,null,null,null,null,null,null,null,null,null,null,null,null,null,null,null,null,null,null,{"$f":"IFERROR(VLOOKUP(\"5000\" & \"|\" & TRIM(L397)& \"|\" & TRIM(N397),BdgtXrefTable[[Detail Key]:[Summary Key]],4,FALSE),\"?\")","v":"?"}]
[null,null,null,null,null,null,null,null,null,null,null,null,null,null,null,null,null,null,null,null,{"$f":"IFERROR(VLOOKUP(\"5000\" & \"|\" & TRIM(L398)& \"|\" & TRIM(N398),BdgtXrefTable[[Detail Key]:[Summary Key]],4,FALSE),\"?\")","v":"?"}]
[null,null,null,null,null,null,null,null,null,null,null,null,null,null,null,null,null,null,null,null,{"$f":"IFERROR(VLOOKUP(\"5000\" & \"|\" & TRIM(L399)& \"|\" & TRIM(N399),BdgtXrefTable[[Detail Key]:[Summary Key]],4,FALSE),\"?\")","v":"?"}]
[null,null,null,null,null,null,null,null,null,null,null,null,null,null,null,null,null,null,null,null,{"$f":"IFERROR(VLOOKUP(\"5000\" & \"|\" & TRIM(L400)& \"|\" & TRIM(N400),BdgtXrefTable[[Detail Key]:[Summary Key]],4,FALSE),\"?\")","v":"?"}]
[null,null,null,null,null,null,null,null,null,null,null,null,null,null,null,null,null,null,null,null,{"$f":"IFERROR(VLOOKUP(\"5000\" & \"|\" & TRIM(L401)& \"|\" & TRIM(N401),BdgtXrefTable[[Detail Key]:[Summary Key]],4,FALSE),\"?\")","v":"?"}]
[null,null,null,null,null,null,null,null,null,null,null,null,null,null,null,null,null,null,null,null,{"$f":"IFERROR(VLOOKUP(\"5000\" & \"|\" & TRIM(L402)& \"|\" & TRIM(N402),BdgtXrefTable[[Detail Key]:[Summary Key]],4,FALSE),\"?\")","v":"?"}]
[null,null,null,null,null,null,null,null,null,null,null,null,null,null,null,null,null,null,null,null,{"$f":"IFERROR(VLOOKUP(\"5000\" & \"|\" & TRIM(L403)& \"|\" & TRIM(N403),BdgtXrefTable[[Detail Key]:[Summary Key]],4,FALSE),\"?\")","v":"?"}]
[null,null,null,null,null,null,null,null,null,null,null,null,null,null,null,null,null,null,null,null,{"$f":"IFERROR(VLOOKUP(\"5000\" & \"|\" & TRIM(L404)& \"|\" & TRIM(N404),BdgtXrefTable[[Detail Key]:[Summary Key]],4,FALSE),\"?\")","v":"?"}]
[null,null,null,null,null,null,null,null,null,null,null,null,null,null,null,null,null,null,null,null,{"$f":"IFERROR(VLOOKUP(\"5000\" & \"|\" & TRIM(L405)& \"|\" & TRIM(N405),BdgtXrefTable[[Detail Key]:[Summary Key]],4,FALSE),\"?\")","v":"?"}]
[null,null,null,null,null,null,null,null,null,null,null,null,null,null,null,null,null,null,null,null,{"$f":"IFERROR(VLOOKUP(\"5000\" & \"|\" & TRIM(L406)& \"|\" & TRIM(N406),BdgtXrefTable[[Detail Key]:[Summary Key]],4,FALSE),\"?\")","v":"?"}]
[null,null,null,null,null,null,null,null,null,null,null,null,null,null,null,null,null,null,null,null,{"$f":"IFERROR(VLOOKUP(\"5000\" & \"|\" & TRIM(L407)& \"|\" & TRIM(N407),BdgtXrefTable[[Detail Key]:[Summary Key]],4,FALSE),\"?\")","v":"?"}]
[null,null,null,null,null,null,null,null,null,null,null,null,null,null,null,null,null,null,null,null,{"$f":"IFERROR(VLOOKUP(\"5000\" & \"|\" & TRIM(L408)& \"|\" & TRIM(N408),BdgtXrefTable[[Detail Key]:[Summary Key]],4,FALSE),\"?\")","v":"?"}]
[null,null,null,null,null,null,null,null,null,null,null,null,null,null,null,null,null,null,null,null,{"$f":"IFERROR(VLOOKUP(\"5000\" & \"|\" & TRIM(L409)& \"|\" & TRIM(N409),BdgtXrefTable[[Detail Key]:[Summary Key]],4,FALSE),\"?\")","v":"?"}]
[null,null,null,null,null,null,null,null,null,null,null,null,null,null,null,null,null,null,null,null,{"$f":"IFERROR(VLOOKUP(\"5000\" & \"|\" & TRIM(L410)& \"|\" & TRIM(N410),BdgtXrefTable[[Detail Key]:[Summary Key]],4,FALSE),\"?\")","v":"?"}]
[null,null,null,null,null,null,null,null,null,null,null,null,null,null,null,null,null,null,null,null,{"$f":"IFERROR(VLOOKUP(\"5000\" & \"|\" & TRIM(L411)& \"|\" & TRIM(N411),BdgtXrefTable[[Detail Key]:[Summary Key]],4,FALSE),\"?\")","v":"?"}]
[null,null,null,null,null,null,null,null,null,null,null,null,null,null,null,null,null,null,null,null,{"$f":"IFERROR(VLOOKUP(\"5000\" & \"|\" & TRIM(L412)& \"|\" & TRIM(N412),BdgtXrefTable[[Detail Key]:[Summary Key]],4,FALSE),\"?\")","v":"?"}]
[null,null,null,null,null,null,null,null,null,null,null,null,null,null,null,null,null,null,null,null,{"$f":"IFERROR(VLOOKUP(\"5000\" & \"|\" & TRIM(L413)& \"|\" & TRIM(N413),BdgtXrefTable[[Detail Key]:[Summary Key]],4,FALSE),\"?\")","v":"?"}]
[null,null,null,null,null,null,null,null,null,null,null,null,null,null,null,null,null,null,null,null,{"$f":"IFERROR(VLOOKUP(\"5000\" & \"|\" & TRIM(L414)& \"|\" & TRIM(N414),BdgtXrefTable[[Detail Key]:[Summary Key]],4,FALSE),\"?\")","v":"?"}]
[null,null,null,null,null,null,null,null,null,null,null,null,null,null,null,null,null,null,null,null,{"$f":"IFERROR(VLOOKUP(\"5000\" & \"|\" & TRIM(L415)& \"|\" & TRIM(N415),BdgtXrefTable[[Detail Key]:[Summary Key]],4,FALSE),\"?\")","v":"?"}]
[null,null,null,null,null,null,null,null,null,null,null,null,null,null,null,null,null,null,null,null,{"$f":"IFERROR(VLOOKUP(\"5000\" & \"|\" & TRIM(L416)& \"|\" & TRIM(N416),BdgtXrefTable[[Detail Key]:[Summary Key]],4,FALSE),\"?\")","v":"?"}]
[null,null,null,null,null,null,null,null,null,null,null,null,null,null,null,null,null,null,null,null,{"$f":"IFERROR(VLOOKUP(\"5000\" & \"|\" & TRIM(L417)& \"|\" & TRIM(N417),BdgtXrefTable[[Detail Key]:[Summary Key]],4,FALSE),\"?\")","v":"?"}]
[null,null,null,null,null,null,null,null,null,null,null,null,null,null,null,null,null,null,null,null,{"$f":"IFERROR(VLOOKUP(\"5000\" & \"|\" & TRIM(L418)& \"|\" & TRIM(N418),BdgtXrefTable[[Detail Key]:[Summary Key]],4,FALSE),\"?\")","v":"?"}]
[null,null,null,null,null,null,null,null,null,null,null,null,null,null,null,null,null,null,null,null,{"$f":"IFERROR(VLOOKUP(\"5000\" & \"|\" & TRIM(L419)& \"|\" & TRIM(N419),BdgtXrefTable[[Detail Key]:[Summary Key]],4,FALSE),\"?\")","v":"?"}]
[null,null,null,null,null,null,null,null,null,null,null,null,null,null,null,null,null,null,null,null,{"$f":"IFERROR(VLOOKUP(\"5000\" & \"|\" & TRIM(L420)& \"|\" & TRIM(N420),BdgtXrefTable[[Detail Key]:[Summary Key]],4,FALSE),\"?\")","v":"?"}]
[null,null,null,null,null,null,null,null,null,null,null,null,null,null,null,null,null,null,null,null,{"$f":"IFERROR(VLOOKUP(\"5000\" & \"|\" & TRIM(L421)& \"|\" & TRIM(N421),BdgtXrefTable[[Detail Key]:[Summary Key]],4,FALSE),\"?\")","v":"?"}]
[null,null,null,null,null,null,null,null,null,null,null,null,null,null,null,null,null,null,null,null,{"$f":"IFERROR(VLOOKUP(\"5000\" & \"|\" & TRIM(L422)& \"|\" & TRIM(N422),BdgtXrefTable[[Detail Key]:[Summary Key]],4,FALSE),\"?\")","v":"?"}]
[null,null,null,null,null,null,null,null,null,null,null,null,null,null,null,null,null,null,null,null,{"$f":"IFERROR(VLOOKUP(\"5000\" & \"|\" & TRIM(L423)& \"|\" & TRIM(N423),BdgtXrefTable[[Detail Key]:[Summary Key]],4,FALSE),\"?\")","v":"?"}]
[null,null,null,null,null,null,null,null,null,null,null,null,null,null,null,null,null,null,null,null,{"$f":"IFERROR(VLOOKUP(\"5000\" & \"|\" & TRIM(L424)& \"|\" & TRIM(N424),BdgtXrefTable[[Detail Key]:[Summary Key]],4,FALSE),\"?\")","v":"?"}]
[null,null,null,null,null,null,null,null,null,null,null,null,null,null,null,null,null,null,null,null,{"$f":"IFERROR(VLOOKUP(\"5000\" & \"|\" & TRIM(L425)& \"|\" & TRIM(N425),BdgtXrefTable[[Detail Key]:[Summary Key]],4,FALSE),\"?\")","v":"?"}]
[null,null,null,null,null,null,null,null,null,null,null,null,null,null,null,null,null,null,null,null,{"$f":"IFERROR(VLOOKUP(\"5000\" & \"|\" & TRIM(L426)& \"|\" & TRIM(N426),BdgtXrefTable[[Detail Key]:[Summary Key]],4,FALSE),\"?\")","v":"?"}]
[null,null,null,null,null,null,null,null,null,null,null,null,null,null,null,null,null,null,null,null,{"$f":"IFERROR(VLOOKUP(\"5000\" & \"|\" & TRIM(L427)& \"|\" & TRIM(N427),BdgtXrefTable[[Detail Key]:[Summary Key]],4,FALSE),\"?\")","v":"?"}]
[null,null,null,null,null,"      ",null,null,null,null,null,null,null,"Total for Object Code:",null,null,{"$f":"SUM(Q368:R427)","v":0}]
[null,"Page 26"]
[null,{"$f":"'Main Page'!$N$9","v":"2026-2027"},null,"School Division:",{"$f":"'Main Page'!$L$14","v":0},null,null,null,"Division Number:",{"$f":"'Main Page'!$L$15","v":" "},{"$f":"'Main Page'!$B$6","v":"Local Consolidated Application"}]
[null,"DETAILED BUDGET DESCRIPTION OF OBJECT CODE 6000"]
[null,"Provide a description for expenses related to object code 6000 Materials and Supplies.  Include items that are consumed or materially altered when used and minor equipment that is not capitalized. Equipment, including computer equipment, should be reported under this object code based on the LEA's policy for capitalization threshold.  Indicate the quantity for each item. Indicate the quantity for each item.  "]
[]
[]
[]
[null,"Please provide a detailed description of Title II, Part A and Title III, Part A Private School activities (if no private school set-aside is present, please enter N/A). "]
[]
[null,"Item Description",null,null,null,null,null,null,null,"Measurable Objective",null,"Federal Program Funding Source",null,"Category",null,"Quantity","Total Cost"]
[null,"Private School Set-aside",null,null,null,null,null,null,null,null,null,null,null,null,null,null,null,null,null,null,{"$f":"IFERROR(VLOOKUP(\"6000\" & \"|\" & TRIM(L439)& \"|\" & TRIM(N439),BdgtXrefTable[[Detail Key]:[Summary Key]],4,FALSE),\"?\")","v":"?"}]
[null,"Private School Set-aside",null,null,null,null,null,null,null,null,null,null,null,null,null,null,null,null,null,null,{"$f":"IFERROR(VLOOKUP(\"6000\" & \"|\" & TRIM(L440)& \"|\" & TRIM(N440),BdgtXrefTable[[Detail Key]:[Summary Key]],4,FALSE),\"?\")","v":"?"}]
[null,null,null,null,null,null,null,null,null,null,null,null,null,null,null,null,null,null,null,null,{"$f":"IFERROR(VLOOKUP(\"6000\" & \"|\" & TRIM(L441)& \"|\" & TRIM(N441),BdgtXrefTable[[Detail Key]:[Summary Key]],4,FALSE),\"?\")","v":"?"}]
[null,null,null,null,null,null,null,null,null,null,null,null,null,null,null,null,null,null,null,null,{"$f":"IFERROR(VLOOKUP(\"6000\" & \"|\" & TRIM(L442)& \"|\" & TRIM(N442),BdgtXrefTable[[Detail Key]:[Summary Key]],4,FALSE),\"?\")","v":"?"}]
[null,null,null,null,null,null,null,null,null,null,null,null,null,null,null,null,null,null,null,null,{"$f":"IFERROR(VLOOKUP(\"6000\" & \"|\" & TRIM(L443)& \"|\" & TRIM(N443),BdgtXrefTable[[Detail Key]:[Summary Key]],4,FALSE),\"?\")","v":"?"}]
[null,null,null,null,null,null,null,null,null,null,null,null,null,null,null,null,null,null,null,null,{"$f":"IFERROR(VLOOKUP(\"6000\" & \"|\" & TRIM(L444)& \"|\" & TRIM(N444),BdgtXrefTable[[Detail Key]:[Summary Key]],4,FALSE),\"?\")","v":"?"}]
[null,null,null,null,null,null,null,null,null,null,null,null,null,null,null,null,null,null,null,null,{"$f":"IFERROR(VLOOKUP(\"6000\" & \"|\" & TRIM(L445)& \"|\" & TRIM(N445),BdgtXrefTable[[Detail Key]:[Summary Key]],4,FALSE),\"?\")","v":"?"}]
[null,null,null,null,null,null,null,null,null,null,null,null,null,null,null,null,null,null,null,null,{"$f":"IFERROR(VLOOKUP(\"6000\" & \"|\" & TRIM(L446)& \"|\" & TRIM(N446),BdgtXrefTable[[Detail Key]:[Summary Key]],4,FALSE),\"?\")","v":"?"}]
[null,null,null,null,null,null,null,null,null,null,null,null,null,null,null,null,null,null,null,null,{"$f":"IFERROR(VLOOKUP(\"6000\" & \"|\" & TRIM(L447)& \"|\" & TRIM(N447),BdgtXrefTable[[Detail Key]:[Summary Key]],4,FALSE),\"?\")","v":"?"}]
[null,null,null,null,null,null,null,null,null,null,null,null,null,null,null,null,null,null,null,null,{"$f":"IFERROR(VLOOKUP(\"6000\" & \"|\" & TRIM(L448)& \"|\" & TRIM(N448),BdgtXrefTable[[Detail Key]:[Summary Key]],4,FALSE),\"?\")","v":"?"}]
[null,null,null,null,null,null,null,null,null,null,null,null,null,null,null,null,null,null,null,null,{"$f":"IFERROR(VLOOKUP(\"6000\" & \"|\" & TRIM(L449)& \"|\" & TRIM(N449),BdgtXrefTable[[Detail Key]:[Summary Key]],4,FALSE),\"?\")","v":"?"}]
[null,null,null,null,null,null,null,null,null,null,null,null,null,null,null,null,null,null,null,null,{"$f":"IFERROR(VLOOKUP(\"6000\" & \"|\" & TRIM(L450)& \"|\" & TRIM(N450),BdgtXrefTable[[Detail Key]:[Summary Key]],4,FALSE),\"?\")","v":"?"}]
[null,null,null,null,null,null,null,null,null,null,null,null,null,null,null,null,null,null,null,null,{"$f":"IFERROR(VLOOKUP(\"6000\" & \"|\" & TRIM(L451)& \"|\" & TRIM(N451),BdgtXrefTable[[Detail Key]:[Summary Key]],4,FALSE),\"?\")","v":"?"}]
[null,null,null,null,null,null,null,null,null,null,null,null,null,null,null,null,null,null,null,null,{"$f":"IFERROR(VLOOKUP(\"6000\" & \"|\" & TRIM(L452)& \"|\" & TRIM(N452),BdgtXrefTable[[Detail Key]:[Summary Key]],4,FALSE),\"?\")","v":"?"}]
[null,null,null,null,null,null,null,null,null,null,null,null,null,null,null,null,null,null,null,null,{"$f":"IFERROR(VLOOKUP(\"6000\" & \"|\" & TRIM(L453)& \"|\" & TRIM(N453),BdgtXrefTable[[Detail Key]:[Summary Key]],4,FALSE),\"?\")","v":"?"}]
[null,null,null,null,null,null,null,null,null,null,null,null,null,null,null,null,null,null,null,null,{"$f":"IFERROR(VLOOKUP(\"6000\" & \"|\" & TRIM(L454)& \"|\" & TRIM(N454),BdgtXrefTable[[Detail Key]:[Summary Key]],4,FALSE),\"?\")","v":"?"}]
[null,null,null,null,null,null,null,null,null,null,null,null,null,null,null,null,null,null,null,null,{"$f":"IFERROR(VLOOKUP(\"6000\" & \"|\" & TRIM(L455)& \"|\" & TRIM(N455),BdgtXrefTable[[Detail Key]:[Summary Key]],4,FALSE),\"?\")","v":"?"}]
[null,null,null,null,null,null,null,null,null,null,null,null,null,null,null,null,null,null,null,null,{"$f":"IFERROR(VLOOKUP(\"6000\" & \"|\" & TRIM(L456)& \"|\" & TRIM(N456),BdgtXrefTable[[Detail Key]:[Summary Key]],4,FALSE),\"?\")","v":"?"}]
[null,null,null,null,null,null,null,null,null,null,null,null,null,null,null,null,null,null,null,null,{"$f":"IFERROR(VLOOKUP(\"6000\" & \"|\" & TRIM(L457)& \"|\" & TRIM(N457),BdgtXrefTable[[Detail Key]:[Summary Key]],4,FALSE),\"?\")","v":"?"}]
[null,null,null,null,null,null,null,null,null,null,null,null,null,null,null,null,null,null,null,null,{"$f":"IFERROR(VLOOKUP(\"6000\" & \"|\" & TRIM(L458)& \"|\" & TRIM(N458),BdgtXrefTable[[Detail Key]:[Summary Key]],4,FALSE),\"?\")","v":"?"}]
[null,null,null,null,null,null,null,null,null,null,null,null,null,null,null,null,null,null,null,null,{"$f":"IFERROR(VLOOKUP(\"6000\" & \"|\" & TRIM(L459)& \"|\" & TRIM(N459),BdgtXrefTable[[Detail Key]:[Summary Key]],4,FALSE),\"?\")","v":"?"}]
[null,null,null,null,null,null,null,null,null,null,null,null,null,null,null,null,null,null,null,null,{"$f":"IFERROR(VLOOKUP(\"6000\" & \"|\" & TRIM(L460)& \"|\" & TRIM(N460),BdgtXrefTable[[Detail Key]:[Summary Key]],4,FALSE),\"?\")","v":"?"}]
[null,null,null,null,null,null,null,null,null,null,null,null,null,null,null,null,null,null,null,null,{"$f":"IFERROR(VLOOKUP(\"6000\" & \"|\" & TRIM(L461)& \"|\" & TRIM(N461),BdgtXrefTable[[Detail Key]:[Summary Key]],4,FALSE),\"?\")","v":"?"}]
[null,null,null,null,null,null,null,null,null,null,null,null,null,null,null,null,null,null,null,null,{"$f":"IFERROR(VLOOKUP(\"6000\" & \"|\" & TRIM(L462)& \"|\" & TRIM(N462),BdgtXrefTable[[Detail Key]:[Summary Key]],4,FALSE),\"?\")","v":"?"}]
[null,null,null,null,null,null,null,null,null,null,null,null,null,null,null,null,null,null,null,null,{"$f":"IFERROR(VLOOKUP(\"6000\" & \"|\" & TRIM(L463)& \"|\" & TRIM(N463),BdgtXrefTable[[Detail Key]:[Summary Key]],4,FALSE),\"?\")","v":"?"}]
[null,null,null,null,null,null,null,null,null,null,null,null,null,null,null,null,null,null,null,null,{"$f":"IFERROR(VLOOKUP(\"6000\" & \"|\" & TRIM(L464)& \"|\" & TRIM(N464),BdgtXrefTable[[Detail Key]:[Summary Key]],4,FALSE),\"?\")","v":"?"}]
[null,null,null,null,null,null,null,null,null,null,null,null,null,null,null,null,null,null,null,null,{"$f":"IFERROR(VLOOKUP(\"6000\" & \"|\" & TRIM(L465)& \"|\" & TRIM(N465),BdgtXrefTable[[Detail Key]:[Summary Key]],4,FALSE),\"?\")","v":"?"}]
[null,null,null,null,null,null,null,null,null,null,null,null,null,null,null,null,null,null,null,null,{"$f":"IFERROR(VLOOKUP(\"6000\" & \"|\" & TRIM(L466)& \"|\" & TRIM(N466),BdgtXrefTable[[Detail Key]:[Summary Key]],4,FALSE),\"?\")","v":"?"}]
[null,null,null,null,null,null,null,null,null,null,null,null,null,null,null,null,null,null,null,null,{"$f":"IFERROR(VLOOKUP(\"6000\" & \"|\" & TRIM(L467)& \"|\" & TRIM(N467),BdgtXrefTable[[Detail Key]:[Summary Key]],4,FALSE),\"?\")","v":"?"}]
[null,null,null,null,null,null,null,null,null,null,null,null,null,null,null,null,null,null,null,null,{"$f":"IFERROR(VLOOKUP(\"6000\" & \"|\" & TRIM(L468)& \"|\" & TRIM(N468),BdgtXrefTable[[Detail Key]:[Summary Key]],4,FALSE),\"?\")","v":"?"}]
[null,null,null,null,null,null,null,null,null,null,null,null,null,null,null,null,null,null,null,null,{"$f":"IFERROR(VLOOKUP(\"6000\" & \"|\" & TRIM(L469)& \"|\" & TRIM(N469),BdgtXrefTable[[Detail Key]:[Summary Key]],4,FALSE),\"?\")","v":"?"}]
[null,null,null,null,null,null,null,null,null,null,null,null,null,null,null,null,null,null,null,null,{"$f":"IFERROR(VLOOKUP(\"6000\" & \"|\" & TRIM(L470)& \"|\" & TRIM(N470),BdgtXrefTable[[Detail Key]:[Summary Key]],4,FALSE),\"?\")","v":"?"}]
[null,null,null,null,null,null,null,null,null,null,null,null,null,null,null,null,null,null,null,null,{"$f":"IFERROR(VLOOKUP(\"6000\" & \"|\" & TRIM(L471)& \"|\" & TRIM(N471),BdgtXrefTable[[Detail Key]:[Summary Key]],4,FALSE),\"?\")","v":"?"}]
[null,null,null,null,null,null,null,null,null,null,null,null,null,null,null,null,null,null,null,null,{"$f":"IFERROR(VLOOKUP(\"6000\" & \"|\" & TRIM(L472)& \"|\" & TRIM(N472),BdgtXrefTable[[Detail Key]:[Summary Key]],4,FALSE),\"?\")","v":"?"}]
[null,null,null,null,null,null,null,null,null,null,null,null,null,null,null,null,null,null,null,null,{"$f":"IFERROR(VLOOKUP(\"6000\" & \"|\" & TRIM(L473)& \"|\" & TRIM(N473),BdgtXrefTable[[Detail Key]:[Summary Key]],4,FALSE),\"?\")","v":"?"}]
[null,null,null,null,null,null,null,null,null,null,null,null,null,null,null,null,null,null,null,null,{"$f":"IFERROR(VLOOKUP(\"6000\" & \"|\" & TRIM(L474)& \"|\" & TRIM(N474),BdgtXrefTable[[Detail Key]:[Summary Key]],4,FALSE),\"?\")","v":"?"}]
[null,null,null,null,null,null,null,null,null,null,null,null,null,null,null,null,null,null,null,null,{"$f":"IFERROR(VLOOKUP(\"6000\" & \"|\" & TRIM(L475)& \"|\" & TRIM(N475),BdgtXrefTable[[Detail Key]:[Summary Key]],4,FALSE),\"?\")","v":"?"}]
[null,null,null,null,null,null,null,null,null,null,null,null,null,null,null,null,null,null,null,null,{"$f":"IFERROR(VLOOKUP(\"6000\" & \"|\" & TRIM(L476)& \"|\" & TRIM(N476),BdgtXrefTable[[Detail Key]:[Summary Key]],4,FALSE),\"?\")","v":"?"}]
[null,null,null,null,null,null,null,null,null,null,null,null,null,null,null,null,null,null,null,null,{"$f":"IFERROR(VLOOKUP(\"6000\" & \"|\" & TRIM(L477)& \"|\" & TRIM(N477),BdgtXrefTable[[Detail Key]:[Summary Key]],4,FALSE),\"?\")","v":"?"}]
[null,null,null,null,null,null,null,null,null,null,null,null,null,null,null,null,null,null,null,null,{"$f":"IFERROR(VLOOKUP(\"6000\" & \"|\" & TRIM(L478)& \"|\" & TRIM(N478),BdgtXrefTable[[Detail Key]:[Summary Key]],4,FALSE),\"?\")","v":"?"}]
[null,null,null,null,null,null,null,null,null,null,null,null,null,null,null,null,null,null,null,null,{"$f":"IFERROR(VLOOKUP(\"6000\" & \"|\" & TRIM(L479)& \"|\" & TRIM(N479),BdgtXrefTable[[Detail Key]:[Summary Key]],4,FALSE),\"?\")","v":"?"}]
[null,null,null,null,null,null,null,null,null,null,null,null,null,null,null,null,null,null,null,null,{"$f":"IFERROR(VLOOKUP(\"6000\" & \"|\" & TRIM(L480)& \"|\" & TRIM(N480),BdgtXrefTable[[Detail Key]:[Summary Key]],4,FALSE),\"?\")","v":"?"}]
[null,null,null,null,null,null,null,null,null,null,null,null,null,null,null,null,null,null,null,null,{"$f":"IFERROR(VLOOKUP(\"6000\" & \"|\" & TRIM(L481)& \"|\" & TRIM(N481),BdgtXrefTable[[Detail Key]:[Summary Key]],4,FALSE),\"?\")","v":"?"}]
[null,null,null,null,null,null,null,null,null,null,null,null,null,null,null,null,null,null,null,null,{"$f":"IFERROR(VLOOKUP(\"6000\" & \"|\" & TRIM(L482)& \"|\" & TRIM(N482),BdgtXrefTable[[Detail Key]:[Summary Key]],4,FALSE),\"?\")","v":"?"}]
[null,null,null,null,null,null,null,null,null,null,null,null,null,null,null,null,null,null,null,null,{"$f":"IFERROR(VLOOKUP(\"6000\" & \"|\" & TRIM(L483)& \"|\" & TRIM(N483),BdgtXrefTable[[Detail Key]:[Summary Key]],4,FALSE),\"?\")","v":"?"}]
[null,null,null,null,null,null,null,null,null,null,null,null,null,null,null,null,null,null,null,null,{"$f":"IFERROR(VLOOKUP(\"6000\" & \"|\" & TRIM(L484)& \"|\" & TRIM(N484),BdgtXrefTable[[Detail Key]:[Summary Key]],4,FALSE),\"?\")","v":"?"}]
[null,null,null,null,null,null,null,null,null,null,null,null,null,null,null,null,null,null,null,null,{"$f":"IFERROR(VLOOKUP(\"6000\" & \"|\" & TRIM(L485)& \"|\" & TRIM(N485),BdgtXrefTable[[Detail Key]:[Summary Key]],4,FALSE),\"?\")","v":"?"}]
[null,null,null,null,null,null,null,null,null,null,null,null,null,null,null,null,null,null,null,null,{"$f":"IFERROR(VLOOKUP(\"6000\" & \"|\" & TRIM(L486)& \"|\" & TRIM(N486),BdgtXrefTable[[Detail Key]:[Summary Key]],4,FALSE),\"?\")","v":"?"}]
[null,null,null,null,null,null,null,null,null,null,null,null,null,null,null,null,null,null,null,null,{"$f":"IFERROR(VLOOKUP(\"6000\" & \"|\" & TRIM(L487)& \"|\" & TRIM(N487),BdgtXrefTable[[Detail Key]:[Summary Key]],4,FALSE),\"?\")","v":"?"}]
[null,null,null,null,null,null,null,null,null,null,null,null,null,null,null,null,null,null,null,null,{"$f":"IFERROR(VLOOKUP(\"6000\" & \"|\" & TRIM(L488)& \"|\" & TRIM(N488),BdgtXrefTable[[Detail Key]:[Summary Key]],4,FALSE),\"?\")","v":"?"}]
[null,null,null,null,null,null,null,null,null,null,null,null,null,null,null,null,null,null,null,null,{"$f":"IFERROR(VLOOKUP(\"6000\" & \"|\" & TRIM(L489)& \"|\" & TRIM(N489),BdgtXrefTable[[Detail Key]:[Summary Key]],4,FALSE),\"?\")","v":"?"}]
[null,null,null,null,null,null,null,null,null,null,null,null,null,null,null,null,null,null,null,null,{"$f":"IFERROR(VLOOKUP(\"6000\" & \"|\" & TRIM(L490)& \"|\" & TRIM(N490),BdgtXrefTable[[Detail Key]:[Summary Key]],4,FALSE),\"?\")","v":"?"}]
[null,null,null,null,null,null,null,null,null,null,null,null,null,null,null,null,null,null,null,null,{"$f":"IFERROR(VLOOKUP(\"6000\" & \"|\" & TRIM(L491)& \"|\" & TRIM(N491),BdgtXrefTable[[Detail Key]:[Summary Key]],4,FALSE),\"?\")","v":"?"}]
[null,null,null,null,null,null,null,null,null,null,null,null,null,null,null,null,null,null,null,null,{"$f":"IFERROR(VLOOKUP(\"6000\" & \"|\" & TRIM(L492)& \"|\" & TRIM(N492),BdgtXrefTable[[Detail Key]:[Summary Key]],4,FALSE),\"?\")","v":"?"}]
[null,null,null,null,null,null,null,null,null,null,null,null,null,null,null,null,null,null,null,null,{"$f":"IFERROR(VLOOKUP(\"6000\" & \"|\" & TRIM(L493)& \"|\" & TRIM(N493),BdgtXrefTable[[Detail Key]:[Summary Key]],4,FALSE),\"?\")","v":"?"}]
[null,null,null,null,null,null,null,null,null,null,null,null,null,null,null,null,null,null,null,null,{"$f":"IFERROR(VLOOKUP(\"6000\" & \"|\" & TRIM(L494)& \"|\" & TRIM(N494),BdgtXrefTable[[Detail Key]:[Summary Key]],4,FALSE),\"?\")","v":"?"}]
[null,null,null,null,null,null,null,null,null,null,null,null,null,null,null,null,null,null,null,null,{"$f":"IFERROR(VLOOKUP(\"6000\" & \"|\" & TRIM(L495)& \"|\" & TRIM(N495),BdgtXrefTable[[Detail Key]:[Summary Key]],4,FALSE),\"?\")","v":"?"}]
[null,null,null,null,null,null,null,null,null,null,null,null,null,null,null,null,null,null,null,null,{"$f":"IFERROR(VLOOKUP(\"6000\" & \"|\" & TRIM(L496)& \"|\" & TRIM(N496),BdgtXrefTable[[Detail Key]:[Summary Key]],4,FALSE),\"?\")","v":"?"}]
[null,null,null,null,null,null,null,null,null,null,null,null,null,null,null,null,null,null,null,null,{"$f":"IFERROR(VLOOKUP(\"6000\" & \"|\" & TRIM(L497)& \"|\" & TRIM(N497),BdgtXrefTable[[Detail Key]:[Summary Key]],4,FALSE),\"?\")","v":"?"}]
[null,null,null,null,null,null,null,null,null,null,null,null,null,null,null,null,null,null,null,null,{"$f":"IFERROR(VLOOKUP(\"6000\" & \"|\" & TRIM(L498)& \"|\" & TRIM(N498),BdgtXrefTable[[Detail Key]:[Summary Key]],4,FALSE),\"?\")","v":"?"}]
[null,null,null,null,null,"      ",null,null,null,null,null,null,null,"Total for Object Code:",null,null,{"$f":"SUM(Q439:R498)","v":0}]
[null,"Page 27"]
[null,{"$f":"'Main Page'!$N$9","v":"2026-2027"},null,"School Division:",{"$f":"'Main Page'!$L$14","v":0},null,null,null,"Division Number:",{"$f":"'Main Page'!$L$15","v":" "},{"$f":"'Main Page'!$B$6","v":"Local Consolidated Application"}]
[null,"DETAILED BUDGET DESCRIPTION OF OBJECT CODE 8000"]
[null,"Provide a description for expenses related to object code 8000.  All capital outlay expenditures over your division's threshold up to over $10,000 per unit must be approved by the Virginia Department of Education through the application submission and approval process. If the local school division has established a threshold of a lesser amount, items equal to that amount or greater must be itemized in Object Code 6000.  Specify equipment quantities.\n"]
[]
[]
[]
[null,"Item Description",null,null,null,null,null,null,null,"Measurable Objective",null,"Federal Program Funding Source",null,"Category",null,"Quantity","Total Cost"]
[null,null,null,null,null,null,null,null,null,null,null,null,null,null,null,null,null,null,null,null,{"$f":"IFERROR(VLOOKUP(\"8000\" & \"|\" & TRIM(L508)& \"|\" & TRIM(N508),BdgtXrefTable[[Detail Key]:[Summary Key]],4,FALSE),\"?\")","v":"?"}]
[null,null,null,null,null,null,null,null,null,null,null,null,null,null,null,null,null,null,null,null,{"$f":"IFERROR(VLOOKUP(\"8000\" & \"|\" & TRIM(L509)& \"|\" & TRIM(N509),BdgtXrefTable[[Detail Key]:[Summary Key]],4,FALSE),\"?\")","v":"?"}]
[null,null,null,null,null,null,null,null,null,null,null,null,null,null,null,null,null,null,null,null,{"$f":"IFERROR(VLOOKUP(\"8000\" & \"|\" & TRIM(L510)& \"|\" & TRIM(N510),BdgtXrefTable[[Detail Key]:[Summary Key]],4,FALSE),\"?\")","v":"?"}]
[null,null,null,null,null,null,null,null,null,null,null,null,null,null,null,null,null,null,null,null,{"$f":"IFERROR(VLOOKUP(\"8000\" & \"|\" & TRIM(L511)& \"|\" & TRIM(N511),BdgtXrefTable[[Detail Key]:[Summary Key]],4,FALSE),\"?\")","v":"?"}]
[null,null,null,null,null,null,null,null,null,null,null,null,null,null,null,null,null,null,null,null,{"$f":"IFERROR(VLOOKUP(\"8000\" & \"|\" & TRIM(L512)& \"|\" & TRIM(N512),BdgtXrefTable[[Detail Key]:[Summary Key]],4,FALSE),\"?\")","v":"?"}]
[null,null,null,null,null,null,null,null,null,null,null,null,null,null,null,null,null,null,null,null,{"$f":"IFERROR(VLOOKUP(\"8000\" & \"|\" & TRIM(L513)& \"|\" & TRIM(N513),BdgtXrefTable[[Detail Key]:[Summary Key]],4,FALSE),\"?\")","v":"?"}]
[null,null,null,null,null,null,null,null,null,null,null,null,null,null,null,null,null,null,null,null,{"$f":"IFERROR(VLOOKUP(\"8000\" & \"|\" & TRIM(L514)& \"|\" & TRIM(N514),BdgtXrefTable[[Detail Key]:[Summary Key]],4,FALSE),\"?\")","v":"?"}]
[null,null,null,null,null,null,null,null,null,null,null,null,null,null,null,null,null,null,null,null,{"$f":"IFERROR(VLOOKUP(\"8000\" & \"|\" & TRIM(L515)& \"|\" & TRIM(N515),BdgtXrefTable[[Detail Key]:[Summary Key]],4,FALSE),\"?\")","v":"?"}]
[null,null,null,null,null,null,null,null,null,null,null,null,null,null,null,null,null,null,null,null,{"$f":"IFERROR(VLOOKUP(\"8000\" & \"|\" & TRIM(L516)& \"|\" & TRIM(N516),BdgtXrefTable[[Detail Key]:[Summary Key]],4,FALSE),\"?\")","v":"?"}]
[null,null,null,null,null,null,null,null,null,null,null,null,null,null,null,null,null,null,null,null,{"$f":"IFERROR(VLOOKUP(\"8000\" & \"|\" & TRIM(L517)& \"|\" & TRIM(N517),BdgtXrefTable[[Detail Key]:[Summary Key]],4,FALSE),\"?\")","v":"?"}]
[null,null,null,null,null,null,null,null,null,null,null,null,null,null,null,null,null,null,null,null,{"$f":"IFERROR(VLOOKUP(\"8000\" & \"|\" & TRIM(L518)& \"|\" & TRIM(N518),BdgtXrefTable[[Detail Key]:[Summary Key]],4,FALSE),\"?\")","v":"?"}]
[null,null,null,null,null,null,null,null,null,null,null,null,null,null,null,null,null,null,null,null,{"$f":"IFERROR(VLOOKUP(\"8000\" & \"|\" & TRIM(L519)& \"|\" & TRIM(N519),BdgtXrefTable[[Detail Key]:[Summary Key]],4,FALSE),\"?\")","v":"?"}]
[null,null,null,null,null,null,null,null,null,null,null,null,null,null,null,null,null,null,null,null,{"$f":"IFERROR(VLOOKUP(\"8000\" & \"|\" & TRIM(L520)& \"|\" & TRIM(N520),BdgtXrefTable[[Detail Key]:[Summary Key]],4,FALSE),\"?\")","v":"?"}]
[null,null,null,null,null,null,null,null,null,null,null,null,null,null,null,null,null,null,null,null,{"$f":"IFERROR(VLOOKUP(\"8000\" & \"|\" & TRIM(L521)& \"|\" & TRIM(N521),BdgtXrefTable[[Detail Key]:[Summary Key]],4,FALSE),\"?\")","v":"?"}]
[null,null,null,null,null,null,null,null,null,null,null,null,null,null,null,null,null,null,null,null,{"$f":"IFERROR(VLOOKUP(\"8000\" & \"|\" & TRIM(L522)& \"|\" & TRIM(N522),BdgtXrefTable[[Detail Key]:[Summary Key]],4,FALSE),\"?\")","v":"?"}]
[null,null,null,null,null,null,null,null,null,null,null,null,null,null,null,null,null,null,null,null,{"$f":"IFERROR(VLOOKUP(\"8000\" & \"|\" & TRIM(L523)& \"|\" & TRIM(N523),BdgtXrefTable[[Detail Key]:[Summary Key]],4,FALSE),\"?\")","v":"?"}]
[null,null,null,null,null,null,null,null,null,null,null,null,null,null,null,null,null,null,null,null,{"$f":"IFERROR(VLOOKUP(\"8000\" & \"|\" & TRIM(L524)& \"|\" & TRIM(N524),BdgtXrefTable[[Detail Key]:[Summary Key]],4,FALSE),\"?\")","v":"?"}]
[null,null,null,null,null,null,null,null,null,null,null,null,null,null,null,null,null,null,null,null,{"$f":"IFERROR(VLOOKUP(\"8000\" & \"|\" & TRIM(L525)& \"|\" & TRIM(N525),BdgtXrefTable[[Detail Key]:[Summary Key]],4,FALSE),\"?\")","v":"?"}]
[null,null,null,null,null,null,null,null,null,null,null,null,null,null,null,null,null,null,null,null,{"$f":"IFERROR(VLOOKUP(\"8000\" & \"|\" & TRIM(L526)& \"|\" & TRIM(N526),BdgtXrefTable[[Detail Key]:[Summary Key]],4,FALSE),\"?\")","v":"?"}]
[null,null,null,null,null,null,null,null,null,null,null,null,null,null,null,null,null,null,null,null,{"$f":"IFERROR(VLOOKUP(\"8000\" & \"|\" & TRIM(L527)& \"|\" & TRIM(N527),BdgtXrefTable[[Detail Key]:[Summary Key]],4,FALSE),\"?\")","v":"?"}]
[null,null,null,null,null,null,null,null,null,null,null,null,null,null,null,null,null,null,null,null,{"$f":"IFERROR(VLOOKUP(\"8000\" & \"|\" & TRIM(L528)& \"|\" & TRIM(N528),BdgtXrefTable[[Detail Key]:[Summary Key]],4,FALSE),\"?\")","v":"?"}]
[null,null,null,null,null,null,null,null,null,null,null,null,null,null,null,null,null,null,null,null,{"$f":"IFERROR(VLOOKUP(\"8000\" & \"|\" & TRIM(L529)& \"|\" & TRIM(N529),BdgtXrefTable[[Detail Key]:[Summary Key]],4,FALSE),\"?\")","v":"?"}]
[null,null,null,null,null,null,null,null,null,null,null,null,null,null,null,null,null,null,null,null,{"$f":"IFERROR(VLOOKUP(\"8000\" & \"|\" & TRIM(L530)& \"|\" & TRIM(N530),BdgtXrefTable[[Detail Key]:[Summary Key]],4,FALSE),\"?\")","v":"?"}]
[null,null,null,null,null,null,null,null,null,null,null,null,null,null,null,null,null,null,null,null,{"$f":"IFERROR(VLOOKUP(\"8000\" & \"|\" & TRIM(L531)& \"|\" & TRIM(N531),BdgtXrefTable[[Detail Key]:[Summary Key]],4,FALSE),\"?\")","v":"?"}]
[null,null,null,null,null,null,null,null,null,null,null,null,null,null,null,null,null,null,null,null,{"$f":"IFERROR(VLOOKUP(\"8000\" & \"|\" & TRIM(L532)& \"|\" & TRIM(N532),BdgtXrefTable[[Detail Key]:[Summary Key]],4,FALSE),\"?\")","v":"?"}]
[null,null,null,null,null,null,null,null,null,null,null,null,null,null,null,null,null,null,null,null,{"$f":"IFERROR(VLOOKUP(\"8000\" & \"|\" & TRIM(L533)& \"|\" & TRIM(N533),BdgtXrefTable[[Detail Key]:[Summary Key]],4,FALSE),\"?\")","v":"?"}]
[null,null,null,null,null,null,null,null,null,null,null,null,null,null,null,null,null,null,null,null,{"$f":"IFERROR(VLOOKUP(\"8000\" & \"|\" & TRIM(L534)& \"|\" & TRIM(N534),BdgtXrefTable[[Detail Key]:[Summary Key]],4,FALSE),\"?\")","v":"?"}]
[null,null,null,null,null,null,null,null,null,null,null,null,null,null,null,null,null,null,null,null,{"$f":"IFERROR(VLOOKUP(\"8000\" & \"|\" & TRIM(L535)& \"|\" & TRIM(N535),BdgtXrefTable[[Detail Key]:[Summary Key]],4,FALSE),\"?\")","v":"?"}]
[null,null,null,null,null,null,null,null,null,null,null,null,null,null,null,null,null,null,null,null,{"$f":"IFERROR(VLOOKUP(\"8000\" & \"|\" & TRIM(L536)& \"|\" & TRIM(N536),BdgtXrefTable[[Detail Key]:[Summary Key]],4,FALSE),\"?\")","v":"?"}]
[null,null,null,null,null,null,null,null,null,null,null,null,null,null,null,null,null,null,null,null,{"$f":"IFERROR(VLOOKUP(\"8000\" & \"|\" & TRIM(L537)& \"|\" & TRIM(N537),BdgtXrefTable[[Detail Key]:[Summary Key]],4,FALSE),\"?\")","v":"?"}]
[null,null,null,null,null,null,null,null,null,null,null,null,null,null,null,null,null,null,null,null,{"$f":"IFERROR(VLOOKUP(\"8000\" & \"|\" & TRIM(L538)& \"|\" & TRIM(N538),BdgtXrefTable[[Detail Key]:[Summary Key]],4,FALSE),\"?\")","v":"?"}]
[null,null,null,null,null,null,null,null,null,null,null,null,null,null,null,null,null,null,null,null,{"$f":"IFERROR(VLOOKUP(\"8000\" & \"|\" & TRIM(L539)& \"|\" & TRIM(N539),BdgtXrefTable[[Detail Key]:[Summary Key]],4,FALSE),\"?\")","v":"?"}]
[null,null,null,null,null,null,null,null,null,null,null,null,null,null,null,null,null,null,null,null,{"$f":"IFERROR(VLOOKUP(\"8000\" & \"|\" & TRIM(L540)& \"|\" & TRIM(N540),BdgtXrefTable[[Detail Key]:[Summary Key]],4,FALSE),\"?\")","v":"?"}]
[null,null,null,null,null,null,null,null,null,null,null,null,null,null,null,null,null,null,null,null,{"$f":"IFERROR(VLOOKUP(\"8000\" & \"|\" & TRIM(L541)& \"|\" & TRIM(N541),BdgtXrefTable[[Detail Key]:[Summary Key]],4,FALSE),\"?\")","v":"?"}]
[null,null,null,null,null,null,null,null,null,null,null,null,null,null,null,null,null,null,null,null,{"$f":"IFERROR(VLOOKUP(\"8000\" & \"|\" & TRIM(L542)& \"|\" & TRIM(N542),BdgtXrefTable[[Detail Key]:[Summary Key]],4,FALSE),\"?\")","v":"?"}]
[null,null,null,null,null,null,null,null,null,null,null,null,null,null,null,null,null,null,null,null,{"$f":"IFERROR(VLOOKUP(\"8000\" & \"|\" & TRIM(L543)& \"|\" & TRIM(N543),BdgtXrefTable[[Detail Key]:[Summary Key]],4,FALSE),\"?\")","v":"?"}]
[null,null,null,null,null,null,null,null,null,null,null,null,null,null,null,null,null,null,null,null,{"$f":"IFERROR(VLOOKUP(\"8000\" & \"|\" & TRIM(L544)& \"|\" & TRIM(N544),BdgtXrefTable[[Detail Key]:[Summary Key]],4,FALSE),\"?\")","v":"?"}]
[null,null,null,null,null,null,null,null,null,null,null,null,null,null,null,null,null,null,null,null,{"$f":"IFERROR(VLOOKUP(\"8000\" & \"|\" & TRIM(L545)& \"|\" & TRIM(N545),BdgtXrefTable[[Detail Key]:[Summary Key]],4,FALSE),\"?\")","v":"?"}]
[null,null,null,null,null,null,null,null,null,null,null,null,null,null,null,null,null,null,null,null,{"$f":"IFERROR(VLOOKUP(\"8000\" & \"|\" & TRIM(L546)& \"|\" & TRIM(N546),BdgtXrefTable[[Detail Key]:[Summary Key]],4,FALSE),\"?\")","v":"?"}]
[null,null,null,null,null,null,null,null,null,null,null,null,null,null,null,null,null,null,null,null,{"$f":"IFERROR(VLOOKUP(\"8000\" & \"|\" & TRIM(L547)& \"|\" & TRIM(N547),BdgtXrefTable[[Detail Key]:[Summary Key]],4,FALSE),\"?\")","v":"?"}]
[null,null,null,null,null,null,null,null,null,null,null,null,null,null,null,null,null,null,null,null,{"$f":"IFERROR(VLOOKUP(\"8000\" & \"|\" & TRIM(L548)& \"|\" & TRIM(N548),BdgtXrefTable[[Detail Key]:[Summary Key]],4,FALSE),\"?\")","v":"?"}]
[null,null,null,null,null,null,null,null,null,null,null,null,null,null,null,null,null,null,null,null,{"$f":"IFERROR(VLOOKUP(\"8000\" & \"|\" & TRIM(L549)& \"|\" & TRIM(N549),BdgtXrefTable[[Detail Key]:[Summary Key]],4,FALSE),\"?\")","v":"?"}]
[null,null,null,null,null,null,null,null,null,null,null,null,null,null,null,null,null,null,null,null,{"$f":"IFERROR(VLOOKUP(\"8000\" & \"|\" & TRIM(L550)& \"|\" & TRIM(N550),BdgtXrefTable[[Detail Key]:[Summary Key]],4,FALSE),\"?\")","v":"?"}]
[null,null,null,null,null,null,null,null,null,null,null,null,null,null,null,null,null,null,null,null,{"$f":"IFERROR(VLOOKUP(\"8000\" & \"|\" & TRIM(L551)& \"|\" & TRIM(N551),BdgtXrefTable[[Detail Key]:[Summary Key]],4,FALSE),\"?\")","v":"?"}]
[null,null,null,null,null,null,null,null,null,null,null,null,null,null,null,null,null,null,null,null,{"$f":"IFERROR(VLOOKUP(\"8000\" & \"|\" & TRIM(L552)& \"|\" & TRIM(N552),BdgtXrefTable[[Detail Key]:[Summary Key]],4,FALSE),\"?\")","v":"?"}]
[null,null,null,null,null,null,null,null,null,null,null,null,null,null,null,null,null,null,null,null,{"$f":"IFERROR(VLOOKUP(\"8000\" & \"|\" & TRIM(L553)& \"|\" & TRIM(N553),BdgtXrefTable[[Detail Key]:[Summary Key]],4,FALSE),\"?\")","v":"?"}]
[null,null,null,null,null,null,null,null,null,null,null,null,null,null,null,null,null,null,null,null,{"$f":"IFERROR(VLOOKUP(\"8000\" & \"|\" & TRIM(L554)& \"|\" & TRIM(N554),BdgtXrefTable[[Detail Key]:[Summary Key]],4,FALSE),\"?\")","v":"?"}]
[null,null,null,null,null,null,null,null,null,null,null,null,null,null,null,null,null,null,null,null,{"$f":"IFERROR(VLOOKUP(\"8000\" & \"|\" & TRIM(L555)& \"|\" & TRIM(N555),BdgtXrefTable[[Detail Key]:[Summary Key]],4,FALSE),\"?\")","v":"?"}]
[null,null,null,null,null,null,null,null,null,null,null,null,null,null,null,null,null,null,null,null,{"$f":"IFERROR(VLOOKUP(\"8000\" & \"|\" & TRIM(L556)& \"|\" & TRIM(N556),BdgtXrefTable[[Detail Key]:[Summary Key]],4,FALSE),\"?\")","v":"?"}]
[null,null,null,null,null,null,null,null,null,null,null,null,null,null,null,null,null,null,null,null,{"$f":"IFERROR(VLOOKUP(\"8000\" & \"|\" & TRIM(L557)& \"|\" & TRIM(N557),BdgtXrefTable[[Detail Key]:[Summary Key]],4,FALSE),\"?\")","v":"?"}]
[null,null,null,null,null,null,null,null,null,null,null,null,null,null,null,null,null,null,null,null,{"$f":"IFERROR(VLOOKUP(\"8000\" & \"|\" & TRIM(L558)& \"|\" & TRIM(N558),BdgtXrefTable[[Detail Key]:[Summary Key]],4,FALSE),\"?\")","v":"?"}]
[null,null,null,null,null,null,null,null,null,null,null,null,null,null,null,null,null,null,null,null,{"$f":"IFERROR(VLOOKUP(\"8000\" & \"|\" & TRIM(L559)& \"|\" & TRIM(N559),BdgtXrefTable[[Detail Key]:[Summary Key]],4,FALSE),\"?\")","v":"?"}]
[null,null,null,null,null,null,null,null,null,null,null,null,null,null,null,null,null,null,null,null,{"$f":"IFERROR(VLOOKUP(\"8000\" & \"|\" & TRIM(L560)& \"|\" & TRIM(N560),BdgtXrefTable[[Detail Key]:[Summary Key]],4,FALSE),\"?\")","v":"?"}]
[null,null,null,null,null,null,null,null,null,null,null,null,null,null,null,null,null,null,null,null,{"$f":"IFERROR(VLOOKUP(\"8000\" & \"|\" & TRIM(L561)& \"|\" & TRIM(N561),BdgtXrefTable[[Detail Key]:[Summary Key]],4,FALSE),\"?\")","v":"?"}]
[null,null,null,null,null,null,null,null,null,null,null,null,null,null,null,null,null,null,null,null,{"$f":"IFERROR(VLOOKUP(\"8000\" & \"|\" & TRIM(L562)& \"|\" & TRIM(N562),BdgtXrefTable[[Detail Key]:[Summary Key]],4,FALSE),\"?\")","v":"?"}]
[null,null,null,null,null,null,null,null,null,null,null,null,null,null,null,null,null,null,null,null,{"$f":"IFERROR(VLOOKUP(\"8000\" & \"|\" & TRIM(L563)& \"|\" & TRIM(N563),BdgtXrefTable[[Detail Key]:[Summary Key]],4,FALSE),\"?\")","v":"?"}]
[null,null,null,null,null,null,null,null,null,null,null,null,null,null,null,null,null,null,null,null,{"$f":"IFERROR(VLOOKUP(\"8000\" & \"|\" & TRIM(L564)& \"|\" & TRIM(N564),BdgtXrefTable[[Detail Key]:[Summary Key]],4,FALSE),\"?\")","v":"?"}]
[null,null,null,null,null,null,null,null,null,null,null,null,null,null,null,null,null,null,null,null,{"$f":"IFERROR(VLOOKUP(\"8000\" & \"|\" & TRIM(L565)& \"|\" & TRIM(N565),BdgtXrefTable[[Detail Key]:[Summary Key]],4,FALSE),\"?\")","v":"?"}]
[null,null,null,null,null,null,null,null,null,null,null,null,null,null,null,null,null,null,null,null,{"$f":"IFERROR(VLOOKUP(\"8000\" & \"|\" & TRIM(L566)& \"|\" & TRIM(N566),BdgtXrefTable[[Detail Key]:[Summary Key]],4,FALSE),\"?\")","v":"?"}]
[null,null,null,null,null,null,null,null,null,null,null,null,null,null,null,null,null,null,null,null,{"$f":"IFERROR(VLOOKUP(\"8000\" & \"|\" & TRIM(L567)& \"|\" & TRIM(N567),BdgtXrefTable[[Detail Key]:[Summary Key]],4,FALSE),\"?\")","v":"?"}]
[null,null,null,null,null,null,null,null,null,null,null,null,null,null,null,null,null,null,null,null,{"$f":"IFERROR(VLOOKUP(\"8000\" & \"|\" & TRIM(L568)& \"|\" & TRIM(N568),BdgtXrefTable[[Detail Key]:[Summary Key]],4,FALSE),\"?\")","v":"?"}]
[null,null,null,null,null,null,null,null,null,null,null,null,null,null,null,null,null,null,null,null,{"$f":"IFERROR(VLOOKUP(\"8000\" & \"|\" & TRIM(L569)& \"|\" & TRIM(N569),BdgtXrefTable[[Detail Key]:[Summary Key]],4,FALSE),\"?\")","v":"?"}]
[null,null,null,null,null,null,null,null,null,null,null,null,null,null,null,null,null,null,null,null,{"$f":"IFERROR(VLOOKUP(\"8000\" & \"|\" & TRIM(L570)& \"|\" & TRIM(N570),BdgtXrefTable[[Detail Key]:[Summary Key]],4,FALSE),\"?\")","v":"?"}]
[null,null,null,null,null,null,null,null,null,null,null,null,null,null,null,null,null,null,null,null,{"$f":"IFERROR(VLOOKUP(\"8000\" & \"|\" & TRIM(L571)& \"|\" & TRIM(N571),BdgtXrefTable[[Detail Key]:[Summary Key]],4,FALSE),\"?\")","v":"?"}]
[null,null,null,null,null,null,null,null,null,null,null,null,null,null,null,null,null,null,null,null,{"$f":"IFERROR(VLOOKUP(\"8000\" & \"|\" & TRIM(L572)& \"|\" & TRIM(N572),BdgtXrefTable[[Detail Key]:[Summary Key]],4,FALSE),\"?\")","v":"?"}]
[null,null,null,null,null,null,null,null,null,null,null,null,null,null,null,null,null,null,null,null,{"$f":"IFERROR(VLOOKUP(\"8000\" & \"|\" & TRIM(L573)& \"|\" & TRIM(N573),BdgtXrefTable[[Detail Key]:[Summary Key]],4,FALSE),\"?\")","v":"?"}]
[null,null,null,null,null,null,null,null,null,null,null,null,null,null,null,null,null,null,null,null,{"$f":"IFERROR(VLOOKUP(\"8000\" & \"|\" & TRIM(L574)& \"|\" & TRIM(N574),BdgtXrefTable[[Detail Key]:[Summary Key]],4,FALSE),\"?\")","v":"?"}]
[null,null,null,null,null,null,null,null,null,null,null,null,null,null,null,null,null,null,null,null,{"$f":"IFERROR(VLOOKUP(\"8000\" & \"|\" & TRIM(L575)& \"|\" & TRIM(N575),BdgtXrefTable[[Detail Key]:[Summary Key]],4,FALSE),\"?\")","v":"?"}]
[null,null,null,null,null,null,null,null,null,null,null,null,null,null,null,null,null,null,null,null,{"$f":"IFERROR(VLOOKUP(\"8000\" & \"|\" & TRIM(L576)& \"|\" & TRIM(N576),BdgtXrefTable[[Detail Key]:[Summary Key]],4,FALSE),\"?\")","v":"?"}]
[null,null,null,null,null,null,null,null,null,null,null,null,null,null,null,null,null,null,null,null,{"$f":"IFERROR(VLOOKUP(\"8000\" & \"|\" & TRIM(L577)& \"|\" & TRIM(N577),BdgtXrefTable[[Detail Key]:[Summary Key]],4,FALSE),\"?\")","v":"?"}]
[null,null,null,null,null,"      ",null,null,null,null,null,null,null,"Total for Object Code:",null,null,{"$f":"SUM(Q508:R577)","v":0}]
[null,"Page 28"]

{"sheet":"Consolidated Transferability","index":4,"n_rows":591,"n_cols":21,"rows_kept":591,"cut":false,"hidden":false,"merged":[[579,1,579,8],[579,9,579,10],[579,11,579,12],[579,13,579,14],[579,16,579,17],[575,9,575,10],[575,11,575,12],[575,13,575,14],[575,16,575,17],[576,1,576,8],[576,9,576,10],[576,11,576,12],[576,13,576,14],[576,16,576,17],[577,1,577,8],[577,9,577,10],[577,11,577,12],[577,13,577,14],[577,16,577,17],[578,1,578,8],[578,9,578,10],[578,11,578,12],[578,13,578,14],[578,16,578,17],[567,1,567,8],[567,9,567,10],[567,11,567,12],[567,13,567,14],[567,16,567,17],[568,1,568,8],[568,9,568,10],[568,11,568,12],[568,13,568,14],[568,16,568,17],[569,1,569,8],[569,9,569,10],[569,11,569,12],[569,13,569,14],[569,16,569,17],[570,1,570,8],[570,9,570,10],[547,1,547,8],[547,9,547,10],[547,11,547,12],[547,13,547,14],[547,16,547,17],[548,1,548,8],[548,9,548,10],[548,11,548,12],[548,13,548,14],[548,16,548,17],[549,1,549,8],[549,9,549,10],[549,11,549,12],[549,13,549,14],[549,16,549,17],[587,1,587,8],[587,9,587,10],[587,11,587,12],[587,13,587,14],[587,16,587,17],[570,11,570,12],[570,13,570,14],[570,16,570,17],[571,1,571,8],[571,9,571,10],[571,11,571,12],[571,13,571,14],[571,16,571,17],[572,1,572,8],[572,9,572,10],[572,11,572,12],[572,13,572,14],[543,1,543,8],[543,9,543,10],[543,11,543,12],[543,13,543,14],[543,16,543,17],[544,1,544,8],[544,9,544,10],[544,11,544,12],[544,13,544,14],[544,16,544,17],[545,1,545,8],[545,9,545,10],[545,11,545,12],[545,13,545,14],[545,16,545,17],[546,1,546,8],[546,9,546,10],[546,11,546,12],[546,13,546,14],[546,16,546,17],[539,1,539,8],[539,9,539,10],[539,11,539,12],[539,13,539,14],[539,16,539,17],[540,1,540,8],[540,9,540,10],[540,11,540,12],[540,13,540,14],[540,16,540,17],[541,1,541,8],[541,9,541,10],[541,11,541,12],[541,13,541,14],[541,16,541,17],[542,1,542,8],[542,9,542,10],[542,11,542,12],[542,13,542,14],[542,16,542,17],[535,1,535,8],[535,9,535,10],[535,11,535,12],[535,13,535,14],[535,16,535,17],[536,1,536,8],[536,9,536,10],[536,11,536,12],[536,13,536,14],[536,16,536,17],[537,1,537,8],[537,9,537,10],[537,11,537,12],[537,13,537,14],[537,16,537,17],[538,1,538,8],[538,9,538,10],[538,11,538,12],[538,13,538,14],[538,16,538,17],[531,1,531,8],[531,9,531,10],[531,11,531,12],[531,13,531,14],[531,16,531,17],[532,1,532,8],[532,9,532,10],[532,11,532,12],[532,13,532,14],[532,16,532,17],[533,1,533,8],[533,9,533,10],[533,11,533,12],[533,13,533,14],[533,16,533,17],[534,1,534,8],[534,9,534,10],[534,11,534,12],[534,13,534,14],[534,16,534,17],[527,1,527,8],[527,9,527,10],[527,11,527,12],[527,13,527,14],[527,16,527,17],[528,1,528,8],[528,9,528,10],[528,11,528,12],[528,13,528,14],[528,16,528,17],[529,1,529,8],[529,9,529,10],[529,11,529,12],[529,13,529,14],[529,16,529,17],[530,1,530,8],[530,9,530,10],[530,11,530,12],[530,13,530,14],[530,16,530,17],[523,13,523,14],[523,16,523,17],[524,1,524,8],[524,9,524,10],[524,11,524,12],[524,13,524,14],[524,16,524,17],[525,1,525,8],[525,9,525,10],[525,11,525,12],[525,13,525,14],[525,16,525,17],[526,1,526,8],[526,9,526,10],[526,11,526,12],[526,13,526,14],[526,16,526,17],[482,1,482,8],[482,9,482,10],[482,11,482,12],[482,13,482,14],[482,16,482,17],[519,1,519,8],[519,9,519,10],[519,11,519,12],[519,13,519,14],[519,16,519,17],[520,1,520,8],[520,9,520,10],[520,11,520,12],[520,13,520,14],[520,16,520,17],[521,1,521,8],[521,9,521,10],[521,11,521,12],[521,13,521,14],[521,16,521,17],[503,13,503,14],[503,16,503,17],[504,1,504,8],[504,9,504,10],[504,11,504,12],[504,13,504,14],[504,16,504,17],[505,1,505,8],[505,9,505,10],[505,11,505,12],[505,13,505,14],[505,16,505,17],[478,1,478,8],[478,9,478,10],[478,11,478,12],[478,13,478,14],[478,16,478,17],[479,1,479,8],[479,9,479,10],[479,11,479,12],[479,13,479,14],[479,16,479,17],[480,1,480,8],[480,9,480,10],[480,11,480,12],[480,13,480,14],[480,16,480,17],[481,1,481,8],[481,9,481,10],[481,11,481,12],[481,13,481,14],[481,16,481,17],[474,1,474,8],[474,9,474,10],[474,11,474,12],[474,13,474,14],[474,16,474,17],[475,1,475,8],[475,9,475,10],[475,11,475,12],[475,13,475,14],[475,16,475,17],[476,1,476,8],[476,9,476,10],[476,11,476,12],[476,13,476,14],[476,16,476,17],[477,1,477,8],[477,9,477,10],[477,11,477,12],[477,13,477,14],[477,16,477,17],[470,1,470,8],[470,9,470,10],[470,11,470,12],[470,13,470,14],[470,16,470,17],[471,1,471,8],[471,9,471,10],[471,11,471,12],[471,13,471,14],[471,16,471,17],[472,1,472,8],[472,9,472,10],[472,11,472,12],[472,13,472,14],[472,16,472,17],[473,1,473,8],[473,9,473,10],[473,11,473,12],[473,13,473,14],[473,16,473,17],[466,1,466,8],[466,9,466,10],[466,11,466,12],[466,13,466,14],[466,16,466,17],[467,1,467,8],[467,9,467,10],[467,11,467,12],[467,13,467,14],[467,16,467,17],[468,1,468,8],[468,9,468,10],[468,11,468,12],[468,13,468,14],[468,16,468,17],[469,1,469,8],[469,9,469,10],[469,11,469,12],[469,13,469,14],[469,16,469,17],[462,1,462,8],[462,9,462,10],[462,11,462,12],[462,13,462,14],[462,16,462,17],[463,1,463,8],[463,9,463,10],[463,11,463,12],[463,13,463,14],[463,16,463,17],[464,1,464,8],[464,9,464,10],[464,11,464,12],[464,13,464,14],[464,16,464,17],[465,1,465,8],[465,9,465,10],[465,11,465,12],[465,13,465,14],[465,16,465,17],[458,1,458,8],[458,9,458,10],[458,11,458,12],[458,13,458,14],[458,16,458,17],[459,1,459,8],[459,9,459,10],[459,11,459,12],[459,13,459,14],[459,16,459,17],[460,1,460,8],[460,9,460,10],[460,11,460,12],[460,13,460,14],[460,16,460,17],[461,1,461,8],[461,9,461,10],[461,11,461,12],[461,13,461,14],[461,16,461,17],[454,9,454,10],[454,11,454,12],[454,13,454,14],[454,16,454,17],[455,1,455,8],[455,9,455,10],[455,11,455,12],[455,13,455,14],[455,16,455,17],[456,1,456,8],[456,9,456,10],[456,11,456,12],[456,13,456,14],[456,16,456,17],[457,1,457,8],[457,9,457,10],[457,11,457,12],[457,13,457,14],[457,16,457,17],[407,1,407,8],[407,9,407,10],[407,11,407,12],[407,13,407,15],[407,16,407,17],[408,1,408,8],[408,9,408,10],[408,11,408,12],[408,13,408,15],[408,16,408,17],[409,1,409,8],[409,9,409,10],[409,11,409,12],[409,13,409,15],[409,16,409,17],[410,1,410,8],[410,9,410,10],[410,11,410,12],[410,13,410,15],[410,16,410,17],[403,1,403,8],[403,9,403,10],[403,11,403,12],[403,13,403,15],[403,16,403,17],[404,1,404,8],[404,9,404,10],[404,11,404,12],[404,13,404,15],[404,16,404,17],[405,1,405,8],[405,9,405,10],[405,11,405,12],[405,13,405,15],[405,16,405,17],[406,1,406,8],[406,9,406,10],[406,11,406,12],[406,13,406,15],[406,16,406,17],[399,1,399,8],[399,9,399,10],[399,11,399,12],[399,13,399,15],[399,16,399,17],[400,1,400,8],[400,9,400,10],[400,11,400,12],[400,13,400,15],[400,16,400,17],[401,1,401,8],[401,9,401,10],[401,11,401,12],[401,13,401,15],[401,16,401,17],[402,1,402,8],[402,9,402,10],[402,11,402,12],[402,13,402,15],[402,16,402,17],[395,1,395,8],[395,9,395,10],[395,11,395,12],[395,13,395,15],[395,16,395,17],[396,1,396,8],[396,9,396,10],[396,11,396,12],[396,13,396,15],[396,16,396,17],[397,1,397,8],[397,9,397,10],[397,11,397,12],[397,13,397,15],[397,16,397,17],[398,1,398,8],[398,9,398,10],[398,11,398,12],[398,13,398,15],[398,16,398,17],[391,1,391,8],[391,9,391,10],[391,11,391,12],[391,13,391,15],[391,16,391,17],[392,1,392,8],[392,9,392,10],[392,11,392,12],[392,13,392,15],[392,16,392,17],[393,1,393,8],[393,9,393,10],[393,11,393,12],[393,13,393,15],[393,16,393,17],[394,1,394,8],[394,9,394,10],[394,11,394,12],[394,13,394,15],[394,16,394,17],[387,9,387,10],[387,11,387,12],[387,13,387,15],[387,16,387,17],[388,1,388,8],[388,9,388,10],[388,11,388,12],[388,13,388,15],[388,16,388,17],[389,1,389,8],[389,9,389,10],[389,11,389,12],[389,13,389,15],[389,16,389,17],[390,1,390,8],[390,9,390,10],[390,11,390,12],[390,13,390,15],[390,16,390,17],[380,1,380,8],[380,9,380,10],[380,11,380,12],[380,13,380,15],[380,16,380,17],[381,1,381,8],[381,9,381,10],[381,11,381,12],[381,13,381,15],[381,16,381,17],[365,13,365,15],[378,9,378,10],[378,11,378,12],[378,13,378,15],[378,16,378,17],[377,1,377,8],[378,1,378,8],[377,16,377,17],[376,13,376,15],[376,16,376,17],[373,1,373,17],[374,1,374,17],[365,16,365,17],[355,1,355,8],[355,9,355,10],[355,11,355,12],[355,13,355,15],[355,16,355,17],[356,1,356,8],[356,9,356,10],[356,11,356,12],[356,13,356,15],[356,16,356,17],[357,1,357,8],[357,9,357,10],[357,11,357,12],[357,13,357,15],[357,16,357,17],[358,1,358,8],[358,9,358,10],[358,11,358,12],[358,13,358,15],[358,16,358,17],[326,1,326,8],[326,9,326,10],[326,11,326,12],[326,13,326,15],[326,16,326,17],[327,1,327,8],[327,9,327,10],[327,11,327,12],[327,13,327,15],[327,16,327,17],[347,1,347,8],[347,9,347,10],[347,11,347,12],[347,13,347,15],[347,16,347,17],[348,1,348,8],[348,9,348,10],[348,11,348,12],[348,13,348,15],[348,16,348,17],[337,13,337,15],[337,16,337,17],[338,9,338,10],[338,11,338,12],[338,13,338,15],[338,16,338,17],[339,9,339,10],[339,11,339,12],[339,13,339,15],[339,16,339,17],[340,9,340,10],[340,11,340,12],[322,1,322,8],[322,9,322,10],[322,11,322,12],[322,13,322,15],[322,16,322,17],[323,1,323,8],[323,9,323,10],[323,11,323,12],[323,13,323,15],[323,16,323,17],[324,1,324,8],[324,9,324,10],[324,11,324,12],[324,13,324,15],[324,16,324,17],[325,1,325,8],[325,9,325,10],[325,11,325,12],[325,13,325,15],[325,16,325,17],[318,1,318,8],[318,9,318,10],[318,11,318,12],[318,13,318,15],[318,16,318,17],[319,1,319,8],[319,9,319,10],[319,11,319,12],[319,13,319,15],[319,16,319,17],[320,1,320,8],[320,9,320,10],[320,11,320,12],[320,13,320,15],[320,16,320,17],[321,1,321,8],[321,9,321,10],[321,11,321,12],[321,13,321,15],[321,16,321,17],[314,1,314,8],[314,9,314,10],[314,11,314,12],[314,13,314,15],[314,16,314,17],[315,1,315,8],[315,9,315,10],[315,11,315,12],[315,13,315,15],[315,16,315,17],[316,1,316,8],[316,9,316,10],[316,11,316,12],[316,13,316,15],[316,16,316,17],[317,1,317,8],[317,9,317,10],[317,11,317,12],[317,13,317,15],[317,16,317,17],[310,1,310,8],[310,9,310,10],[310,11,310,12],[310,13,310,15],[310,16,310,17],[311,1,311,8],[311,9,311,10],[311,11,311,12],[311,13,311,15],[311,16,311,17],[312,1,312,8],[312,9,312,10],[312,11,312,12],[312,13,312,15],[312,16,312,17],[313,1,313,8],[313,9,313,10],[313,11,313,12],[313,13,313,15],[313,16,313,17],[306,1,306,8],[306,9,306,10],[306,11,306,12],[306,13,306,15],[306,16,306,17],[307,1,307,8],[307,9,307,10],[307,11,307,12],[307,13,307,15],[307,16,307,17],[308,1,308,8],[308,9,308,10],[308,11,308,12],[308,13,308,15],[308,16,308,17],[309,1,309,8],[309,9,309,10],[309,11,309,12],[309,13,309,15],[309,16,309,17],[302,1,302,8],[302,9,302,10],[302,11,302,12],[302,13,302,15],[302,16,302,17],[303,1,303,8],[303,9,303,10],[303,11,303,12],[303,13,303,15],[303,16,303,17],[304,1,304,8],[304,9,304,10],[304,11,304,12],[304,13,304,15],[304,16,304,17],[305,1,305,8],[305,9,305,10],[305,11,305,12],[305,13,305,15],[305,16,305,17],[298,1,298,8],[298,9,298,10],[298,11,298,12],[298,13,298,15],[298,16,298,17],[299,1,299,8],[299,9,299,10],[299,11,299,12],[299,13,299,15],[299,16,299,17],[300,1,300,8],[300,9,300,10],[300,11,300,12],[300,13,300,15],[300,16,300,17],[301,1,301,8],[301,9,301,10],[301,11,301,12],[301,13,301,15],[301,16,301,17],[251,1,251,8],[251,9,251,10],[251,11,251,12],[251,13,251,15],[251,16,251,17],[252,1,252,8],[252,9,252,10],[252,11,252,12],[252,13,252,15],[252,16,252,17],[253,1,253,8],[253,9,253,10],[253,11,253,12],[253,13,253,15],[253,16,253,17],[254,1,254,8],[254,9,254,10],[254,11,254,12],[254,13,254,15],[254,16,254,17],[247,1,247,8],[247,9,247,10],[247,11,247,12],[247,13,247,15],[247,16,247,17],[248,1,248,8],[248,9,248,10],[248,11,248,12],[248,13,248,15],[248,16,248,17],[249,1,249,8],[249,9,249,10],[249,11,249,12],[249,13,249,15],[249,16,249,17],[250,1,250,8],[250,9,250,10],[250,11,250,12],[250,13,250,15],[250,16,250,17],[243,1,243,8],[243,9,243,10],[243,11,243,12],[243,13,243,15],[243,16,243,17],[244,1,244,8],[244,9,244,10],[244,11,244,12],[244,13,244,15],[244,16,244,17],[245,1,245,8],[245,9,245,10],[245,11,245,12],[245,13,245,15],[245,16,245,17],[246,1,246,8],[246,9,246,10],[246,11,246,12],[246,13,246,15],[246,16,246,17],[239,1,239,8],[239,9,239,10],[239,11,239,12],[239,13,239,15],[239,16,239,17],[240,1,240,8],[240,9,240,10],[240,11,240,12],[240,13,240,15],[240,16,240,17],[241,1,241,8],[241,9,241,10],[241,11,241,12],[241,13,241,15],[241,16,241,17],[242,1,242,8],[242,9,242,10],[242,11,242,12],[242,13,242,15],[242,16,242,17],[235,1,235,8],[235,9,235,10],[235,11,235,12],[235,13,235,15],[235,16,235,17],[236,1,236,8],[236,9,236,10],[236,11,236,12],[236,13,236,15],[236,16,236,17],[237,1,237,8],[237,9,237,10],[237,11,237,12],[237,13,237,15],[237,16,237,17],[238,1,238,8],[238,9,238,10],[238,11,238,12],[238,13,238,15],[238,16,238,17],[231,1,231,8],[231,9,231,10],[231,11,231,12],[231,13,231,15],[231,16,231,17],[232,1,232,8],[232,9,232,10],[232,11,232,12],[232,13,232,15],[232,16,232,17],[233,1,233,8],[233,9,233,10],[233,11,233,12],[233,13,233,15],[233,16,233,17],[234,1,234,8],[234,9,234,10],[234,11,234,12],[234,13,234,15],[234,16,234,17],[227,1,227,8],[227,9,227,10],[227,11,227,12],[227,13,227,15],[227,16,227,17],[228,1,228,8],[228,9,228,10],[228,11,228,12],[228,13,228,15],[228,16,228,17],[229,1,229,8],[229,9,229,10],[229,11,229,12],[229,13,229,15],[229,16,229,17],[230,1,230,8],[230,9,230,10],[230,11,230,12],[230,13,230,15],[230,16,230,17],[225,1,225,8],[225,9,225,10],[225,11,225,12],[225,13,225,15],[225,16,225,17],[226,1,226,8],[226,9,226,10],[226,11,226,12],[226,13,226,15],[226,16,226,17],[197,9,197,10],[197,11,197,12],[197,13,197,15],[197,16,197,17],[200,9,200,10],[200,11,200,12],[201,16,201,17],[201,13,201,15],[208,1,208,8],[206,1,206,8],[207,1,207,8],[204,1,204,8],[205,1,205,8],[224,1,224,8],[207,9,207,10],[207,11,207,12],[207,13,207,15],[207,16,207,17],[221,1,221,8],[178,1,178,8],[178,9,178,10],[178,11,178,12],[178,13,178,15],[178,16,178,17],[179,1,179,8],[179,9,179,10],[179,11,179,12],[179,13,179,15],[179,16,179,17],[180,1,180,8],[180,9,180,10],[180,11,180,12],[180,13,180,15],[180,16,180,17],[181,1,181,8],[181,9,181,10],[181,11,181,12],[181,13,181,15],[181,16,181,17],[174,1,174,8],[174,9,174,10],[174,11,174,12],[174,13,174,15],[174,16,174,17],[175,1,175,8],[175,9,175,10],[175,11,175,12],[175,13,175,15],[175,16,175,17],[176,1,176,8],[176,9,176,10],[176,11,176,12],[176,13,176,15],[176,16,176,17],[177,1,177,8],[177,9,177,10],[177,11,177,12],[177,13,177,15],[177,16,177,17],[170,1,170,8],[170,9,170,10],[170,11,170,12],[170,13,170,15],[170,16,170,17],[171,1,171,8],[171,9,171,10],[171,11,171,12],[171,13,171,15],[171,16,171,17],[172,1,172,8],[172,9,172,10],[172,11,172,12],[172,13,172,15],[172,16,172,17],[173,1,173,8],[173,9,173,10],[173,11,173,12],[173,13,173,15],[173,16,173,17],[166,1,166,8],[166,9,166,10],[166,11,166,12],[166,13,166,15],[166,16,166,17],[167,1,167,8],[167,9,167,10],[167,11,167,12],[167,13,167,15],[167,16,167,17],[168,1,168,8],[168,9,168,10],[168,11,168,12],[168,13,168,15],[168,16,168,17],[169,1,169,8],[169,9,169,10],[169,11,169,12],[169,13,169,15],[169,16,169,17],[162,1,162,8],[162,9,162,10],[162,11,162,12],[162,13,162,15],[162,16,162,17],[163,1,163,8],[163,9,163,10],[163,11,163,12],[163,13,163,15],[163,16,163,17],[164,1,164,8],[164,9,164,10],[164,11,164,12],[164,13,164,15],[164,16,164,17],[165,1,165,8],[165,9,165,10],[165,11,165,12],[165,13,165,15],[165,16,165,17],[158,1,158,8],[158,9,158,10],[158,11,158,12],[158,13,158,15],[158,16,158,17],[159,1,159,8],[159,9,159,10],[159,11,159,12],[159,13,159,15],[159,16,159,17],[160,1,160,8],[160,9,160,10],[160,11,160,12],[160,13,160,15],[160,16,160,17],[161,1,161,8],[161,9,161,10],[161,11,161,12],[161,13,161,15],[161,16,161,17],[154,11,154,12],[154,13,154,15],[154,16,154,17],[155,1,155,8],[155,9,155,10],[155,11,155,12],[155,13,155,15],[155,16,155,17],[156,1,156,8],[156,9,156,10],[156,11,156,12],[156,13,156,15],[156,16,156,17],[157,1,157,8],[157,9,157,10],[157,11,157,12]],"merged_total":2407,"flags":["merged_cut"]}
[null,{"$f":"'Main Page'!$N$9","v":"2026-2027"},null,"School Division:",{"$f":"'Main Page'!$L$14","v":0},null,null,null,"Division Number:",{"$f":"'Main Page'!$L$15","v":" "},{"$f":"'Main Page'!$B$6","v":"Local Consolidated Application"},null,null,null,null,null,null,null,null,null,"Don't Delete Column - Formulas Exist"]
[null,"H.  TRANSFERABILITY",null,null,null,null,null,null,null,null,null,null,null,null,null,null,null,null,null,null,"Will Hide On Implementation"]
[]
[null,"Section 5103(b)(2) of ESSA allows divisions to transfer all or a portion of the funds received from Title II, Part A, or Title IV, Part A, into: Title I, Part A; Title I, Part C; Title I, Part D; Title II, Part A; Title III, Part A; Title IV, Part A; or Title V, Part B.  "]
[]
[null,"Complete the tab below if funds will be transferred under Section 5103(b)(2). Please note that prior approval is required to transfer funds. The transfer request form is provided at "]
[null,"Transfer Request Form"]
[]
[null,null,null,null,null,"Title I, Part A",null,"Title I, Part C",null,"Title I, Part D",null,"Title II, Part A","Title III, Part A",null,"Title IV, Part A","Title V, Part B",null,"DOES THE BUDGET SUMMARY  MATCH THE DETAILED BUDGET BREAKDOWN?"]
[null,null,null,null,null,"Title II, Part A, Transferability\nAward S367A260044\nProject Code APE61481","Title IV, Part A, Transferability\nAward S424A260048\nProject Code APE60019","Title II, Part A, Transferability\nAward S367A260044\nProject Code APE60014","Title IV, Part A, Transferability\nAward S424A260048\nProject Code APE60020","Title II, Part A, Transferability\nAward S367A260044\nProject Code APE60015","Title IV, Part A, Transferability\nAward S424A260048\nProject Code APE60021","Title IV, Part A, Transferability\nAward S424A260048\nProject Code APE60022","Title II, Part A, Transferability\nAward S367A260044\nProject Code APE60016","Title IV, Part A, Transferability\nAward S424A260048\nProject Code APE60023","Title II, Part A, Transferability\nAward S367A260044\nProject Code APE60017","Title II, Part A, Transferability\nAward S367A260044\nProject Code APE60018","Title IV, Part A, Transferability\nAward S424A260048\nProject Code APE60024"]
[null,"Amount Transferred to Program:",null,null,null,{"$f":"'Coordinated Consolidated Info.'!O81","v":0},{"$f":"'Coordinated Consolidated Info.'!O90","v":0},{"$f":"'Coordinated Consolidated Info.'!O82","v":0},{"$f":"'Coordinated Consolidated Info.'!O91","v":0},{"$f":"'Coordinated Consolidated Info.'!O83","v":0},{"$f":"'Coordinated Consolidated Info.'!O92","v":0},{"$f":"'Coordinated Consolidated Info.'!O93","v":0},{"$f":"'Coordinated Consolidated Info.'!O84","v":0},{"$f":"'Coordinated Consolidated Info.'!O94","v":0},{"$f":"'Coordinated Consolidated Info.'!O85","v":0},{"$f":"'Coordinated Consolidated Info.'!O86","v":0},{"$f":"'Coordinated Consolidated Info.'!O95","v":0}]
[null,"OBJECT CODE","EXPENDITURE"]
[null,"1000 -\nPersonnel Services","Non Set-Aside",null,null,{"$f":"_xlfn.LET(\n_xlpm.objectCode, LEFT(LOOKUP(2, 1/(INDIRECT(\"B\" & ROW() - 6 & \":B\" & ROW())<>\"\"), INDIRECT(\"B\" & ROW() - 6 & \":B\" & ROW())), 4),\n_xlpm.program, TRIM(LEFT(F$10, FIND(\", Transferability\", F$10) - 1) & \" - \" & RIGHT(F$10, 8)),\n_xlpm.criteria, VALUE(_xlpm.objectCode) & \"|\" & _xlpm.program & \"|\" & TRIM($C13),\n_xlpm.criteriaSum, SUMIF(INDEX(TrnsfrConsolidated,,5), _xlpm.criteria, INDEX(TrnsfrConsolidated,,4)),\n_xlpm.criteriaSum\n)","v":0},{"$f":"_xlfn.LET(\n_xlpm.objectCode, LEFT(LOOKUP(2, 1/(INDIRECT(\"B\" & ROW() - 6 & \":B\" & ROW())<>\"\"), INDIRECT(\"B\" & ROW() - 6 & \":B\" & ROW())), 4),\n_xlpm.program, TRIM(LEFT(G$10, FIND(\", Transferability\", G$10) - 1) & \" - \" & RIGHT(G$10, 8)),\n_xlpm.criteria, VALUE(_xlpm.objectCode) & \"|\" & _xlpm.program & \"|\" & TRIM($C13),\n_xlpm.criteriaSum, SUMIF(INDEX(TrnsfrConsolidated,,5), _xlpm.criteria, INDEX(TrnsfrConsolidated,,4)),\n_xlpm.criteriaSum\n)","v":0},{"$f":"_xlfn.LET(\n_xlpm.objectCode, LEFT(LOOKUP(2, 1/(INDIRECT(\"B\" & ROW() - 6 & \":B\" & ROW())<>\"\"), INDIRECT(\"B\" & ROW() - 6 & \":B\" & ROW())), 4),\n_xlpm.program, TRIM(LEFT(H$10, FIND(\", Transferability\", H$10) - 1) & \" - \" & RIGHT(H$10, 8)),\n_xlpm.criteria, VALUE(_xlpm.objectCode) & \"|\" & _xlpm.program & \"|\" & TRIM($C13),\n_xlpm.criteriaSum, SUMIF(INDEX(TrnsfrConsolidated,,5), _xlpm.criteria, INDEX(TrnsfrConsolidated,,4)),\n_xlpm.criteriaSum\n)","v":0},{"$f":"_xlfn.LET(\n_xlpm.objectCode, LEFT(LOOKUP(2, 1/(INDIRECT(\"B\" & ROW() - 6 & \":B\" & ROW())<>\"\"), INDIRECT(\"B\" & ROW() - 6 & \":B\" & ROW())), 4),\n_xlpm.program, TRIM(LEFT(I$10, FIND(\", Transferability\", I$10) - 1) & \" - \" & RIGHT(I$10, 8)),\n_xlpm.criteria, VALUE(_xlpm.objectCode) & \"|\" & _xlpm.program & \"|\" & TRIM($C13),\n_xlpm.criteriaSum, SUMIF(INDEX(TrnsfrConsolidated,,5), _xlpm.criteria, INDEX(TrnsfrConsolidated,,4)),\n_xlpm.criteriaSum\n)","v":0},{"$f":"_xlfn.LET(\n_xlpm.objectCode, LEFT(LOOKUP(2, 1/(INDIRECT(\"B\" & ROW() - 6 & \":B\" & ROW())<>\"\"), INDIRECT(\"B\" & ROW() - 6 & \":B\" & ROW())), 4),\n_xlpm.program, TRIM(LEFT(J$10, FIND(\", Transferability\", J$10) - 1) & \" - \" & RIGHT(J$10, 8)),\n_xlpm.criteria, VALUE(_xlpm.objectCode) & \"|\" & _xlpm.program & \"|\" & TRIM($C13),\n_xlpm.criteriaSum, SUMIF(INDEX(TrnsfrConsolidated,,5), _xlpm.criteria, INDEX(TrnsfrConsolidated,,4)),\n_xlpm.criteriaSum\n)","v":0},{"$f":"_xlfn.LET(\n_xlpm.objectCode, LEFT(LOOKUP(2, 1/(INDIRECT(\"B\" & ROW() - 6 & \":B\" & ROW())<>\"\"), INDIRECT(\"B\" & ROW() - 6 & \":B\" & ROW())), 4),\n_xlpm.program, TRIM(LEFT(K$10, FIND(\", Transferability\", K$10) - 1) & \" - \" & RIGHT(K$10, 8)),\n_xlpm.criteria, VALUE(_xlpm.objectCode) & \"|\" & _xlpm.program & \"|\" & TRIM($C13),\n_xlpm.criteriaSum, SUMIF(INDEX(TrnsfrConsolidated,,5), _xlpm.criteria, INDEX(TrnsfrConsolidated,,4)),\n_xlpm.criteriaSum\n)","v":0},null,null,null,null,{"$f":"_xlfn.LET(\n_xlpm.objectCode, LEFT(LOOKUP(2, 1/(INDIRECT(\"B\" & ROW() - 6 & \":B\" & ROW())<>\"\"), INDIRECT(\"B\" & ROW() - 6 & \":B\" & ROW())), 4),\n_xlpm.program, TRIM(LEFT(P$10, FIND(\", Transferability\", P$10) - 1) & \" - \" & RIGHT(P$10, 8)),\n_xlpm.criteria, VALUE(_xlpm.objectCode) & \"|\" & _xlpm.program & \"|\" & TRIM($C13),\n_xlpm.criteriaSum, SUMIF(INDEX(TrnsfrConsolidated,,5), _xlpm.criteria, INDEX(TrnsfrConsolidated,,4)),\n_xlpm.criteriaSum\n)","v":0},{"$f":"_xlfn.LET(\n_xlpm.objectCode, LEFT(LOOKUP(2, 1/(INDIRECT(\"B\" & ROW() - 6 & \":B\" & ROW())<>\"\"), INDIRECT(\"B\" & ROW() - 6 & \":B\" & ROW())), 4),\n_xlpm.program, TRIM(LEFT(Q$10, FIND(\", Transferability\", Q$10) - 1) & \" - \" & RIGHT(Q$10, 8)),\n_xlpm.criteria, VALUE(_xlpm.objectCode) & \"|\" & _xlpm.program & \"|\" & TRIM($C13),\n_xlpm.criteriaSum, SUMIF(INDEX(TrnsfrConsolidated,,5), _xlpm.criteria, INDEX(TrnsfrConsolidated,,4)),\n_xlpm.criteriaSum\n)","v":0}]
[null,null,"Set-Aside",null,null,{"$f":"_xlfn.LET(\n_xlpm.objectCode, LEFT(LOOKUP(2, 1/(INDIRECT(\"B\" & ROW() - 6 & \":B\" & ROW())<>\"\"), INDIRECT(\"B\" & ROW() - 6 & \":B\" & ROW())), 4),\n_xlpm.program, TRIM(LEFT(F$10, FIND(\", Transferability\", F$10) - 1) & \" - \" & RIGHT(F$10, 8)),\n_xlpm.criteria, VALUE(_xlpm.objectCode) & \"|\" & _xlpm.program & \"|\" & TRIM($C14),\n_xlpm.criteriaSum, SUMIF(INDEX(TrnsfrConsolidated,,5), _xlpm.criteria, INDEX(TrnsfrConsolidated,,4)),\n_xlpm.criteriaSum\n)","v":0},{"$f":"_xlfn.LET(\n_xlpm.objectCode, LEFT(LOOKUP(2, 1/(INDIRECT(\"B\" & ROW() - 6 & \":B\" & ROW())<>\"\"), INDIRECT(\"B\" & ROW() - 6 & \":B\" & ROW())), 4),\n_xlpm.program, TRIM(LEFT(G$10, FIND(\", Transferability\", G$10) - 1) & \" - \" & RIGHT(G$10, 8)),\n_xlpm.criteria, VALUE(_xlpm.objectCode) & \"|\" & _xlpm.program & \"|\" & TRIM($C14),\n_xlpm.criteriaSum, SUMIF(INDEX(TrnsfrConsolidated,,5), _xlpm.criteria, INDEX(TrnsfrConsolidated,,4)),\n_xlpm.criteriaSum\n)","v":0}]
[null,null,"Parent and Family Engagement Set-Aside",null,null,{"$f":"_xlfn.LET(\n_xlpm.objectCode, LEFT(LOOKUP(2, 1/(INDIRECT(\"B\" & ROW() - 6 & \":B\" & ROW())<>\"\"), INDIRECT(\"B\" & ROW() - 6 & \":B\" & ROW())), 4),\n_xlpm.program, TRIM(LEFT(F$10, FIND(\", Transferability\", F$10) - 1) & \" - \" & RIGHT(F$10, 8)),\n_xlpm.criteria, VALUE(_xlpm.objectCode) & \"|\" & _xlpm.program & \"|\" & TRIM($C15),\n_xlpm.criteriaSum, SUMIF(INDEX(TrnsfrConsolidated,,5), _xlpm.criteria, INDEX(TrnsfrConsolidated,,4)),\n_xlpm.criteriaSum\n)","v":0},{"$f":"_xlfn.LET(\n_xlpm.objectCode, LEFT(LOOKUP(2, 1/(INDIRECT(\"B\" & ROW() - 6 & \":B\" & ROW())<>\"\"), INDIRECT(\"B\" & ROW() - 6 & \":B\" & ROW())), 4),\n_xlpm.program, TRIM(LEFT(G$10, FIND(\", Transferability\", G$10) - 1) & \" - \" & RIGHT(G$10, 8)),\n_xlpm.criteria, VALUE(_xlpm.objectCode) & \"|\" & _xlpm.program & \"|\" & TRIM($C15),\n_xlpm.criteriaSum, SUMIF(INDEX(TrnsfrConsolidated,,5), _xlpm.criteria, INDEX(TrnsfrConsolidated,,4)),\n_xlpm.criteriaSum\n)","v":0}]
[null,null,"Private School Set-Aside ",null,null,{"$f":"_xlfn.LET(\n_xlpm.objectCode, LEFT(LOOKUP(2, 1/(INDIRECT(\"B\" & ROW() - 6 & \":B\" & ROW())<>\"\"), INDIRECT(\"B\" & ROW() - 6 & \":B\" & ROW())), 4),\n_xlpm.program, TRIM(LEFT(F$10, FIND(\", Transferability\", F$10) - 1) & \" - \" & RIGHT(F$10, 8)),\n_xlpm.criteria, VALUE(_xlpm.objectCode) & \"|\" & _xlpm.program & \"|\" & TRIM($C16),\n_xlpm.criteriaSum, SUMIF(INDEX(TrnsfrConsolidated,,5), _xlpm.criteria, INDEX(TrnsfrConsolidated,,4)),\n_xlpm.criteriaSum\n)","v":0},{"$f":"_xlfn.LET(\n_xlpm.objectCode, LEFT(LOOKUP(2, 1/(INDIRECT(\"B\" & ROW() - 6 & \":B\" & ROW())<>\"\"), INDIRECT(\"B\" & ROW() - 6 & \":B\" & ROW())), 4),\n_xlpm.program, TRIM(LEFT(G$10, FIND(\", Transferability\", G$10) - 1) & \" - \" & RIGHT(G$10, 8)),\n_xlpm.criteria, VALUE(_xlpm.objectCode) & \"|\" & _xlpm.program & \"|\" & TRIM($C16),\n_xlpm.criteriaSum, SUMIF(INDEX(TrnsfrConsolidated,,5), _xlpm.criteria, INDEX(TrnsfrConsolidated,,4)),\n_xlpm.criteriaSum\n)","v":0},{"$f":"_xlfn.LET(\n_xlpm.objectCode, LEFT(LOOKUP(2, 1/(INDIRECT(\"B\" & ROW() - 6 & \":B\" & ROW())<>\"\"), INDIRECT(\"B\" & ROW() - 6 & \":B\" & ROW())), 4),\n_xlpm.program, TRIM(LEFT(H$10, FIND(\", Transferability\", H$10) - 1) & \" - \" & RIGHT(H$10, 8)),\n_xlpm.criteria, VALUE(_xlpm.objectCode) & \"|\" & _xlpm.program & \"|\" & TRIM($C16),\n_xlpm.criteriaSum, SUMIF(INDEX(TrnsfrConsolidated,,5), _xlpm.criteria, INDEX(TrnsfrConsolidated,,4)),\n_xlpm.criteriaSum\n)","v":0},{"$f":"_xlfn.LET(\n_xlpm.objectCode, LEFT(LOOKUP(2, 1/(INDIRECT(\"B\" & ROW() - 6 & \":B\" & ROW())<>\"\"), INDIRECT(\"B\" & ROW() - 6 & \":B\" & ROW())), 4),\n_xlpm.program, TRIM(LEFT(I$10, FIND(\", Transferability\", I$10) - 1) & \" - \" & RIGHT(I$10, 8)),\n_xlpm.criteria, VALUE(_xlpm.objectCode) & \"|\" & _xlpm.program & \"|\" & TRIM($C16),\n_xlpm.criteriaSum, SUMIF(INDEX(TrnsfrConsolidated,,5), _xlpm.criteria, INDEX(TrnsfrConsolidated,,4)),\n_xlpm.criteriaSum\n)","v":0},null,null,{"$f":"_xlfn.LET(\n_xlpm.objectCode, LEFT(LOOKUP(2, 1/(INDIRECT(\"B\" & ROW() - 6 & \":B\" & ROW())<>\"\"), INDIRECT(\"B\" & ROW() - 6 & \":B\" & ROW())), 4),\n_xlpm.program, TRIM(LEFT(L$10, FIND(\", Transferability\", L$10) - 1) & \" - \" & RIGHT(L$10, 8)),\n_xlpm.criteria, VALUE(_xlpm.objectCode) & \"|\" & _xlpm.program & \"|\" & TRIM($C16),\n_xlpm.criteriaSum, SUMIF(INDEX(TrnsfrConsolidated,,5), _xlpm.criteria, INDEX(TrnsfrConsolidated,,4)),\n_xlpm.criteriaSum\n)","v":0},{"$f":"_xlfn.LET(\n_xlpm.objectCode, LEFT(LOOKUP(2, 1/(INDIRECT(\"B\" & ROW() - 6 & \":B\" & ROW())<>\"\"), INDIRECT(\"B\" & ROW() - 6 & \":B\" & ROW())), 4),\n_xlpm.program, TRIM(LEFT(M$10, FIND(\", Transferability\", M$10) - 1) & \" - \" & RIGHT(M$10, 8)),\n_xlpm.criteria, VALUE(_xlpm.objectCode) & \"|\" & _xlpm.program & \"|\" & TRIM($C16),\n_xlpm.criteriaSum, SUMIF(INDEX(TrnsfrConsolidated,,5), _xlpm.criteria, INDEX(TrnsfrConsolidated,,4)),\n_xlpm.criteriaSum\n)","v":0},{"$f":"_xlfn.LET(\n_xlpm.objectCode, LEFT(LOOKUP(2, 1/(INDIRECT(\"B\" & ROW() - 6 & \":B\" & ROW())<>\"\"), INDIRECT(\"B\" & ROW() - 6 & \":B\" & ROW())), 4),\n_xlpm.program, TRIM(LEFT(N$10, FIND(\", Transferability\", N$10) - 1) & \" - \" & RIGHT(N$10, 8)),\n_xlpm.criteria, VALUE(_xlpm.objectCode) & \"|\" & _xlpm.program & \"|\" & TRIM($C16),\n_xlpm.criteriaSum, SUMIF(INDEX(TrnsfrConsolidated,,5), _xlpm.criteria, INDEX(TrnsfrConsolidated,,4)),\n_xlpm.criteriaSum\n)","v":0},{"$f":"_xlfn.LET(\n_xlpm.objectCode, LEFT(LOOKUP(2, 1/(INDIRECT(\"B\" & ROW() - 6 & \":B\" & ROW())<>\"\"), INDIRECT(\"B\" & ROW() - 6 & \":B\" & ROW())), 4),\n_xlpm.program, TRIM(LEFT(O$10, FIND(\", Transferability\", O$10) - 1) & \" - \" & RIGHT(O$10, 8)),\n_xlpm.criteria, VALUE(_xlpm.objectCode) & \"|\" & _xlpm.program & \"|\" & TRIM($C16),\n_xlpm.criteriaSum, SUMIF(INDEX(TrnsfrConsolidated,,5), _xlpm.criteria, INDEX(TrnsfrConsolidated,,4)),\n_xlpm.criteriaSum\n)","v":0}]
[null,null,"Administrative",null,null,null,null,null,null,null,null,{"$f":"_xlfn.LET(\n_xlpm.objectCode, LEFT(LOOKUP(2, 1/(INDIRECT(\"B\" & ROW() - 6 & \":B\" & ROW())<>\"\"), INDIRECT(\"B\" & ROW() - 6 & \":B\" & ROW())), 4),\n_xlpm.program, TRIM(LEFT(L$10, FIND(\", Transferability\", L$10) - 1) & \" - \" & RIGHT(L$10, 8)),\n_xlpm.criteria, VALUE(_xlpm.objectCode) & \"|\" & _xlpm.program & \"|\" & TRIM($C17),\n_xlpm.criteriaSum, SUMIF(INDEX(TrnsfrConsolidated,,5), _xlpm.criteria, INDEX(TrnsfrConsolidated,,4)),\n_xlpm.criteriaSum\n)","v":0},{"$f":"_xlfn.LET(\n_xlpm.objectCode, LEFT(LOOKUP(2, 1/(INDIRECT(\"B\" & ROW() - 6 & \":B\" & ROW())<>\"\"), INDIRECT(\"B\" & ROW() - 6 & \":B\" & ROW())), 4),\n_xlpm.program, TRIM(LEFT(M$10, FIND(\", Transferability\", M$10) - 1) & \" - \" & RIGHT(M$10, 8)),\n_xlpm.criteria, VALUE(_xlpm.objectCode) & \"|\" & _xlpm.program & \"|\" & TRIM($C17),\n_xlpm.criteriaSum, SUMIF(INDEX(TrnsfrConsolidated,,5), _xlpm.criteria, INDEX(TrnsfrConsolidated,,4)),\n_xlpm.criteriaSum\n)","v":0},{"$f":"_xlfn.LET(\n_xlpm.objectCode, LEFT(LOOKUP(2, 1/(INDIRECT(\"B\" & ROW() - 6 & \":B\" & ROW())<>\"\"), INDIRECT(\"B\" & ROW() - 6 & \":B\" & ROW())), 4),\n_xlpm.program, TRIM(LEFT(N$10, FIND(\", Transferability\", N$10) - 1) & \" - \" & RIGHT(N$10, 8)),\n_xlpm.criteria, VALUE(_xlpm.objectCode) & \"|\" & _xlpm.program & \"|\" & TRIM($C17),\n_xlpm.criteriaSum, SUMIF(INDEX(TrnsfrConsolidated,,5), _xlpm.criteria, INDEX(TrnsfrConsolidated,,4)),\n_xlpm.criteriaSum\n)","v":0},{"$f":"_xlfn.LET(\n_xlpm.objectCode, LEFT(LOOKUP(2, 1/(INDIRECT(\"B\" & ROW() - 6 & \":B\" & ROW())<>\"\"), INDIRECT(\"B\" & ROW() - 6 & \":B\" & ROW())), 4),\n_xlpm.program, TRIM(LEFT(O$10, FIND(\", Transferability\", O$10) - 1) & \" - \" & RIGHT(O$10, 8)),\n_xlpm.criteria, VALUE(_xlpm.objectCode) & \"|\" & _xlpm.program & \"|\" & TRIM($C17),\n_xlpm.criteriaSum, SUMIF(INDEX(TrnsfrConsolidated,,5), _xlpm.criteria, INDEX(TrnsfrConsolidated,,4)),\n_xlpm.criteriaSum\n)","v":0}]
[null,null,"Non-Administrative",null,null,null,null,null,null,null,null,{"$f":"_xlfn.LET(\n_xlpm.objectCode, LEFT(LOOKUP(2, 1/(INDIRECT(\"B\" & ROW() - 6 & \":B\" & ROW())<>\"\"), INDIRECT(\"B\" & ROW() - 6 & \":B\" & ROW())), 4),\n_xlpm.program, TRIM(LEFT(L$10, FIND(\", Transferability\", L$10) - 1) & \" - \" & RIGHT(L$10, 8)),\n_xlpm.criteria, VALUE(_xlpm.objectCode) & \"|\" & _xlpm.program & \"|\" & TRIM($C18),\n_xlpm.criteriaSum, SUMIF(INDEX(TrnsfrConsolidated,,5), _xlpm.criteria, INDEX(TrnsfrConsolidated,,4)),\n_xlpm.criteriaSum\n)","v":0},{"$f":"_xlfn.LET(\n_xlpm.objectCode, LEFT(LOOKUP(2, 1/(INDIRECT(\"B\" & ROW() - 6 & \":B\" & ROW())<>\"\"), INDIRECT(\"B\" & ROW() - 6 & \":B\" & ROW())), 4),\n_xlpm.program, TRIM(LEFT(M$10, FIND(\", Transferability\", M$10) - 1) & \" - \" & RIGHT(M$10, 8)),\n_xlpm.criteria, VALUE(_xlpm.objectCode) & \"|\" & _xlpm.program & \"|\" & TRIM($C18),\n_xlpm.criteriaSum, SUMIF(INDEX(TrnsfrConsolidated,,5), _xlpm.criteria, INDEX(TrnsfrConsolidated,,4)),\n_xlpm.criteriaSum\n)","v":0},{"$f":"_xlfn.LET(\n_xlpm.objectCode, LEFT(LOOKUP(2, 1/(INDIRECT(\"B\" & ROW() - 6 & \":B\" & ROW())<>\"\"), INDIRECT(\"B\" & ROW() - 6 & \":B\" & ROW())), 4),\n_xlpm.program, TRIM(LEFT(N$10, FIND(\", Transferability\", N$10) - 1) & \" - \" & RIGHT(N$10, 8)),\n_xlpm.criteria, VALUE(_xlpm.objectCode) & \"|\" & _xlpm.program & \"|\" & TRIM($C18),\n_xlpm.criteriaSum, SUMIF(INDEX(TrnsfrConsolidated,,5), _xlpm.criteria, INDEX(TrnsfrConsolidated,,4)),\n_xlpm.criteriaSum\n)","v":0},{"$f":"_xlfn.LET(\n_xlpm.objectCode, LEFT(LOOKUP(2, 1/(INDIRECT(\"B\" & ROW() - 6 & \":B\" & ROW())<>\"\"), INDIRECT(\"B\" & ROW() - 6 & \":B\" & ROW())), 4),\n_xlpm.program, TRIM(LEFT(O$10, FIND(\", Transferability\", O$10) - 1) & \" - \" & RIGHT(O$10, 8)),\n_xlpm.criteria, VALUE(_xlpm.objectCode) & \"|\" & _xlpm.program & \"|\" & TRIM($C18),\n_xlpm.criteriaSum, SUMIF(INDEX(TrnsfrConsolidated,,5), _xlpm.criteria, INDEX(TrnsfrConsolidated,,4)),\n_xlpm.criteriaSum\n)","v":0}]
[null,null,"Total  Personnel Services",null,null,{"$f":"SUM(F13:F18)","v":0},{"$f":"SUM(G13:G18)","v":0},0,0,0,0,0,0,0,0,0,0,{"$f":"IF(SUM(Q136)=SUM(F19:Q19),\"Yes\", \"No - Please review your entries.\")","v":"Yes"}]
[null,"2000 -\nEmployee Benefits","Non Set-Aside",null,null,{"$f":"_xlfn.LET(\n_xlpm.objectCode, LEFT(LOOKUP(2, 1/(INDIRECT(\"B\" & ROW() - 6 & \":B\" & ROW())<>\"\"), INDIRECT(\"B\" & ROW() - 6 & \":B\" & ROW())), 4),\n_xlpm.program, TRIM(LEFT(F$10, FIND(\", Transferability\", F$10) - 1) & \" - \" & RIGHT(F$10, 8)),\n_xlpm.criteria, VALUE(_xlpm.objectCode) & \"|\" & _xlpm.program & \"|\" & TRIM($C20),\n_xlpm.criteriaSum, SUMIF(INDEX(TrnsfrConsolidated,,5), _xlpm.criteria, INDEX(TrnsfrConsolidated,,4)),\n_xlpm.criteriaSum\n)","v":0},{"$f":"_xlfn.LET(\n_xlpm.objectCode, LEFT(LOOKUP(2, 1/(INDIRECT(\"B\" & ROW() - 6 & \":B\" & ROW())<>\"\"), INDIRECT(\"B\" & ROW() - 6 & \":B\" & ROW())), 4),\n_xlpm.program, TRIM(LEFT(G$10, FIND(\", Transferability\", G$10) - 1) & \" - \" & RIGHT(G$10, 8)),\n_xlpm.criteria, VALUE(_xlpm.objectCode) & \"|\" & _xlpm.program & \"|\" & TRIM($C20),\n_xlpm.criteriaSum, SUMIF(INDEX(TrnsfrConsolidated,,5), _xlpm.criteria, INDEX(TrnsfrConsolidated,,4)),\n_xlpm.criteriaSum\n)","v":0},{"$f":"_xlfn.LET(\n_xlpm.objectCode, LEFT(LOOKUP(2, 1/(INDIRECT(\"B\" & ROW() - 6 & \":B\" & ROW())<>\"\"), INDIRECT(\"B\" & ROW() - 6 & \":B\" & ROW())), 4),\n_xlpm.program, TRIM(LEFT(H$10, FIND(\", Transferability\", H$10) - 1) & \" - \" & RIGHT(H$10, 8)),\n_xlpm.criteria, VALUE(_xlpm.objectCode) & \"|\" & _xlpm.program & \"|\" & TRIM($C20),\n_xlpm.criteriaSum, SUMIF(INDEX(TrnsfrConsolidated,,5), _xlpm.criteria, INDEX(TrnsfrConsolidated,,4)),\n_xlpm.criteriaSum\n)","v":0},{"$f":"_xlfn.LET(\n_xlpm.objectCode, LEFT(LOOKUP(2, 1/(INDIRECT(\"B\" & ROW() - 6 & \":B\" & ROW())<>\"\"), INDIRECT(\"B\" & ROW() - 6 & \":B\" & ROW())), 4),\n_xlpm.program, TRIM(LEFT(I$10, FIND(\", Transferability\", I$10) - 1) & \" - \" & RIGHT(I$10, 8)),\n_xlpm.criteria, VALUE(_xlpm.objectCode) & \"|\" & _xlpm.program & \"|\" & TRIM($C20),\n_xlpm.criteriaSum, SUMIF(INDEX(TrnsfrConsolidated,,5), _xlpm.criteria, INDEX(TrnsfrConsolidated,,4)),\n_xlpm.criteriaSum\n)","v":0},{"$f":"_xlfn.LET(\n_xlpm.objectCode, LEFT(LOOKUP(2, 1/(INDIRECT(\"B\" & ROW() - 6 & \":B\" & ROW())<>\"\"), INDIRECT(\"B\" & ROW() - 6 & \":B\" & ROW())), 4),\n_xlpm.program, TRIM(LEFT(J$10, FIND(\", Transferability\", J$10) - 1) & \" - \" & RIGHT(J$10, 8)),\n_xlpm.criteria, VALUE(_xlpm.objectCode) & \"|\" & _xlpm.program & \"|\" & TRIM($C20),\n_xlpm.criteriaSum, SUMIF(INDEX(TrnsfrConsolidated,,5), _xlpm.criteria, INDEX(TrnsfrConsolidated,,4)),\n_xlpm.criteriaSum\n)","v":0},{"$f":"_xlfn.LET(\n_xlpm.objectCode, LEFT(LOOKUP(2, 1/(INDIRECT(\"B\" & ROW() - 6 & \":B\" & ROW())<>\"\"), INDIRECT(\"B\" & ROW() - 6 & \":B\" & ROW())), 4),\n_xlpm.program, TRIM(LEFT(K$10, FIND(\", Transferability\", K$10) - 1) & \" - \" & RIGHT(K$10, 8)),\n_xlpm.criteria, VALUE(_xlpm.objectCode) & \"|\" & _xlpm.program & \"|\" & TRIM($C20),\n_xlpm.criteriaSum, SUMIF(INDEX(TrnsfrConsolidated,,5), _xlpm.criteria, INDEX(TrnsfrConsolidated,,4)),\n_xlpm.criteriaSum\n)","v":0},null,null,null,null,{"$f":"_xlfn.LET(\n_xlpm.objectCode, LEFT(LOOKUP(2, 1/(INDIRECT(\"B\" & ROW() - 6 & \":B\" & ROW())<>\"\"), INDIRECT(\"B\" & ROW() - 6 & \":B\" & ROW())), 4),\n_xlpm.program, TRIM(LEFT(P$10, FIND(\", Transferability\", P$10) - 1) & \" - \" & RIGHT(P$10, 8)),\n_xlpm.criteria, VALUE(_xlpm.objectCode) & \"|\" & _xlpm.program & \"|\" & TRIM($C20),\n_xlpm.criteriaSum, SUMIF(INDEX(TrnsfrConsolidated,,5), _xlpm.criteria, INDEX(TrnsfrConsolidated,,4)),\n_xlpm.criteriaSum\n)","v":0},{"$f":"_xlfn.LET(\n_xlpm.objectCode, LEFT(LOOKUP(2, 1/(INDIRECT(\"B\" & ROW() - 6 & \":B\" & ROW())<>\"\"), INDIRECT(\"B\" & ROW() - 6 & \":B\" & ROW())), 4),\n_xlpm.program, TRIM(LEFT(Q$10, FIND(\", Transferability\", Q$10) - 1) & \" - \" & RIGHT(Q$10, 8)),\n_xlpm.criteria, VALUE(_xlpm.objectCode) & \"|\" & _xlpm.program & \"|\" & TRIM($C20),\n_xlpm.criteriaSum, SUMIF(INDEX(TrnsfrConsolidated,,5), _xlpm.criteria, INDEX(TrnsfrConsolidated,,4)),\n_xlpm.criteriaSum\n)","v":0}]
[null,null,"Set-Aside",null,null,{"$f":"_xlfn.LET(\n_xlpm.objectCode, LEFT(LOOKUP(2, 1/(INDIRECT(\"B\" & ROW() - 6 & \":B\" & ROW())<>\"\"), INDIRECT(\"B\" & ROW() - 6 & \":B\" & ROW())), 4),\n_xlpm.program, TRIM(LEFT(F$10, FIND(\", Transferability\", F$10) - 1) & \" - \" & RIGHT(F$10, 8)),\n_xlpm.criteria, VALUE(_xlpm.objectCode) & \"|\" & _xlpm.program & \"|\" & TRIM($C21),\n_xlpm.criteriaSum, SUMIF(INDEX(TrnsfrConsolidated,,5), _xlpm.criteria, INDEX(TrnsfrConsolidated,,4)),\n_xlpm.criteriaSum\n)","v":0},{"$f":"_xlfn.LET(\n_xlpm.objectCode, LEFT(LOOKUP(2, 1/(INDIRECT(\"B\" & ROW() - 6 & \":B\" & ROW())<>\"\"), INDIRECT(\"B\" & ROW() - 6 & \":B\" & ROW())), 4),\n_xlpm.program, TRIM(LEFT(G$10, FIND(\", Transferability\", G$10) - 1) & \" - \" & RIGHT(G$10, 8)),\n_xlpm.criteria, VALUE(_xlpm.objectCode) & \"|\" & _xlpm.program & \"|\" & TRIM($C21),\n_xlpm.criteriaSum, SUMIF(INDEX(TrnsfrConsolidated,,5), _xlpm.criteria, INDEX(TrnsfrConsolidated,,4)),\n_xlpm.criteriaSum\n)","v":0}]
[null,null,"Parent and Family Engagement Set-Aside",null,null,{"$f":"_xlfn.LET(\n_xlpm.objectCode, LEFT(LOOKUP(2, 1/(INDIRECT(\"B\" & ROW() - 6 & \":B\" & ROW())<>\"\"), INDIRECT(\"B\" & ROW() - 6 & \":B\" & ROW())), 4),\n_xlpm.program, TRIM(LEFT(F$10, FIND(\", Transferability\", F$10) - 1) & \" - \" & RIGHT(F$10, 8)),\n_xlpm.criteria, VALUE(_xlpm.objectCode) & \"|\" & _xlpm.program & \"|\" & TRIM($C22),\n_xlpm.criteriaSum, SUMIF(INDEX(TrnsfrConsolidated,,5), _xlpm.criteria, INDEX(TrnsfrConsolidated,,4)),\n_xlpm.criteriaSum\n)","v":0},{"$f":"_xlfn.LET(\n_xlpm.objectCode, LEFT(LOOKUP(2, 1/(INDIRECT(\"B\" & ROW() - 6 & \":B\" & ROW())<>\"\"), INDIRECT(\"B\" & ROW() - 6 & \":B\" & ROW())), 4),\n_xlpm.program, TRIM(LEFT(G$10, FIND(\", Transferability\", G$10) - 1) & \" - \" & RIGHT(G$10, 8)),\n_xlpm.criteria, VALUE(_xlpm.objectCode) & \"|\" & _xlpm.program & \"|\" & TRIM($C22),\n_xlpm.criteriaSum, SUMIF(INDEX(TrnsfrConsolidated,,5), _xlpm.criteria, INDEX(TrnsfrConsolidated,,4)),\n_xlpm.criteriaSum\n)","v":0}]
[null,null,"Private School Set-Aside ",null,null,{"$f":"_xlfn.LET(\n_xlpm.objectCode, LEFT(LOOKUP(2, 1/(INDIRECT(\"B\" & ROW() - 6 & \":B\" & ROW())<>\"\"), INDIRECT(\"B\" & ROW() - 6 & \":B\" & ROW())), 4),\n_xlpm.program, TRIM(LEFT(F$10, FIND(\", Transferability\", F$10) - 1) & \" - \" & RIGHT(F$10, 8)),\n_xlpm.criteria, VALUE(_xlpm.objectCode) & \"|\" & _xlpm.program & \"|\" & TRIM($C23),\n_xlpm.criteriaSum, SUMIF(INDEX(TrnsfrConsolidated,,5), _xlpm.criteria, INDEX(TrnsfrConsolidated,,4)),\n_xlpm.criteriaSum\n)","v":0},{"$f":"_xlfn.LET(\n_xlpm.objectCode, LEFT(LOOKUP(2, 1/(INDIRECT(\"B\" & ROW() - 6 & \":B\" & ROW())<>\"\"), INDIRECT(\"B\" & ROW() - 6 & \":B\" & ROW())), 4),\n_xlpm.program, TRIM(LEFT(G$10, FIND(\", Transferability\", G$10) - 1) & \" - \" & RIGHT(G$10, 8)),\n_xlpm.criteria, VALUE(_xlpm.objectCode) & \"|\" & _xlpm.program & \"|\" & TRIM($C23),\n_xlpm.criteriaSum, SUMIF(INDEX(TrnsfrConsolidated,,5), _xlpm.criteria, INDEX(TrnsfrConsolidated,,4)),\n_xlpm.criteriaSum\n)","v":0},{"$f":"_xlfn.LET(\n_xlpm.objectCode, LEFT(LOOKUP(2, 1/(INDIRECT(\"B\" & ROW() - 6 & \":B\" & ROW())<>\"\"), INDIRECT(\"B\" & ROW() - 6 & \":B\" & ROW())), 4),\n_xlpm.program, TRIM(LEFT(H$10, FIND(\", Transferability\", H$10) - 1) & \" - \" & RIGHT(H$10, 8)),\n_xlpm.criteria, VALUE(_xlpm.objectCode) & \"|\" & _xlpm.program & \"|\" & TRIM($C23),\n_xlpm.criteriaSum, SUMIF(INDEX(TrnsfrConsolidated,,5), _xlpm.criteria, INDEX(TrnsfrConsolidated,,4)),\n_xlpm.criteriaSum\n)","v":0},{"$f":"_xlfn.LET(\n_xlpm.objectCode, LEFT(LOOKUP(2, 1/(INDIRECT(\"B\" & ROW() - 6 & \":B\" & ROW())<>\"\"), INDIRECT(\"B\" & ROW() - 6 & \":B\" & ROW())), 4),\n_xlpm.program, TRIM(LEFT(I$10, FIND(\", Transferability\", I$10) - 1) & \" - \" & RIGHT(I$10, 8)),\n_xlpm.criteria, VALUE(_xlpm.objectCode) & \"|\" & _xlpm.program & \"|\" & TRIM($C23),\n_xlpm.criteriaSum, SUMIF(INDEX(TrnsfrConsolidated,,5), _xlpm.criteria, INDEX(TrnsfrConsolidated,,4)),\n_xlpm.criteriaSum\n)","v":0},null,null,{"$f":"_xlfn.LET(\n_xlpm.objectCode, LEFT(LOOKUP(2, 1/(INDIRECT(\"B\" & ROW() - 6 & \":B\" & ROW())<>\"\"), INDIRECT(\"B\" & ROW() - 6 & \":B\" & ROW())), 4),\n_xlpm.program, TRIM(LEFT(L$10, FIND(\", Transferability\", L$10) - 1) & \" - \" & RIGHT(L$10, 8)),\n_xlpm.criteria, VALUE(_xlpm.objectCode) & \"|\" & _xlpm.program & \"|\" & TRIM($C23),\n_xlpm.criteriaSum, SUMIF(INDEX(TrnsfrConsolidated,,5), _xlpm.criteria, INDEX(TrnsfrConsolidated,,4)),\n_xlpm.criteriaSum\n)","v":0},{"$f":"_xlfn.LET(\n_xlpm.objectCode, LEFT(LOOKUP(2, 1/(INDIRECT(\"B\" & ROW() - 6 & \":B\" & ROW())<>\"\"), INDIRECT(\"B\" & ROW() - 6 & \":B\" & ROW())), 4),\n_xlpm.program, TRIM(LEFT(M$10, FIND(\", Transferability\", M$10) - 1) & \" - \" & RIGHT(M$10, 8)),\n_xlpm.criteria, VALUE(_xlpm.objectCode) & \"|\" & _xlpm.program & \"|\" & TRIM($C23),\n_xlpm.criteriaSum, SUMIF(INDEX(TrnsfrConsolidated,,5), _xlpm.criteria, INDEX(TrnsfrConsolidated,,4)),\n_xlpm.criteriaSum\n)","v":0},{"$f":"_xlfn.LET(\n_xlpm.objectCode, LEFT(LOOKUP(2, 1/(INDIRECT(\"B\" & ROW() - 6 & \":B\" & ROW())<>\"\"), INDIRECT(\"B\" & ROW() - 6 & \":B\" & ROW())), 4),\n_xlpm.program, TRIM(LEFT(N$10, FIND(\", Transferability\", N$10) - 1) & \" - \" & RIGHT(N$10, 8)),\n_xlpm.criteria, VALUE(_xlpm.objectCode) & \"|\" & _xlpm.program & \"|\" & TRIM($C23),\n_xlpm.criteriaSum, SUMIF(INDEX(TrnsfrConsolidated,,5), _xlpm.criteria, INDEX(TrnsfrConsolidated,,4)),\n_xlpm.criteriaSum\n)","v":0},{"$f":"_xlfn.LET(\n_xlpm.objectCode, LEFT(LOOKUP(2, 1/(INDIRECT(\"B\" & ROW() - 6 & \":B\" & ROW())<>\"\"), INDIRECT(\"B\" & ROW() - 6 & \":B\" & ROW())), 4),\n_xlpm.program, TRIM(LEFT(O$10, FIND(\", Transferability\", O$10) - 1) & \" - \" & RIGHT(O$10, 8)),\n_xlpm.criteria, VALUE(_xlpm.objectCode) & \"|\" & _xlpm.program & \"|\" & TRIM($C23),\n_xlpm.criteriaSum, SUMIF(INDEX(TrnsfrConsolidated,,5), _xlpm.criteria, INDEX(TrnsfrConsolidated,,4)),\n_xlpm.criteriaSum\n)","v":0}]
[null,null,"Administrative",null,null,null,null,null,null,null,null,{"$f":"_xlfn.LET(\n_xlpm.objectCode, LEFT(LOOKUP(2, 1/(INDIRECT(\"B\" & ROW() - 6 & \":B\" & ROW())<>\"\"), INDIRECT(\"B\" & ROW() - 6 & \":B\" & ROW())), 4),\n_xlpm.program, TRIM(LEFT(L$10, FIND(\", Transferability\", L$10) - 1) & \" - \" & RIGHT(L$10, 8)),\n_xlpm.criteria, VALUE(_xlpm.objectCode) & \"|\" & _xlpm.program & \"|\" & TRIM($C24),\n_xlpm.criteriaSum, SUMIF(INDEX(TrnsfrConsolidated,,5), _xlpm.criteria, INDEX(TrnsfrConsolidated,,4)),\n_xlpm.criteriaSum\n)","v":0},{"$f":"_xlfn.LET(\n_xlpm.objectCode, LEFT(LOOKUP(2, 1/(INDIRECT(\"B\" & ROW() - 6 & \":B\" & ROW())<>\"\"), INDIRECT(\"B\" & ROW() - 6 & \":B\" & ROW())), 4),\n_xlpm.program, TRIM(LEFT(M$10, FIND(\", Transferability\", M$10) - 1) & \" - \" & RIGHT(M$10, 8)),\n_xlpm.criteria, VALUE(_xlpm.objectCode) & \"|\" & _xlpm.program & \"|\" & TRIM($C24),\n_xlpm.criteriaSum, SUMIF(INDEX(TrnsfrConsolidated,,5), _xlpm.criteria, INDEX(TrnsfrConsolidated,,4)),\n_xlpm.criteriaSum\n)","v":0},{"$f":"_xlfn.LET(\n_xlpm.objectCode, LEFT(LOOKUP(2, 1/(INDIRECT(\"B\" & ROW() - 6 & \":B\" & ROW())<>\"\"), INDIRECT(\"B\" & ROW() - 6 & \":B\" & ROW())), 4),\n_xlpm.program, TRIM(LEFT(N$10, FIND(\", Transferability\", N$10) - 1) & \" - \" & RIGHT(N$10, 8)),\n_xlpm.criteria, VALUE(_xlpm.objectCode) & \"|\" & _xlpm.program & \"|\" & TRIM($C24),\n_xlpm.criteriaSum, SUMIF(INDEX(TrnsfrConsolidated,,5), _xlpm.criteria, INDEX(TrnsfrConsolidated,,4)),\n_xlpm.criteriaSum\n)","v":0},{"$f":"_xlfn.LET(\n_xlpm.objectCode, LEFT(LOOKUP(2, 1/(INDIRECT(\"B\" & ROW() - 6 & \":B\" & ROW())<>\"\"), INDIRECT(\"B\" & ROW() - 6 & \":B\" & ROW())), 4),\n_xlpm.program, TRIM(LEFT(O$10, FIND(\", Transferability\", O$10) - 1) & \" - \" & RIGHT(O$10, 8)),\n_xlpm.criteria, VALUE(_xlpm.objectCode) & \"|\" & _xlpm.program & \"|\" & TRIM($C24),\n_xlpm.criteriaSum, SUMIF(INDEX(TrnsfrConsolidated,,5), _xlpm.criteria, INDEX(TrnsfrConsolidated,,4)),\n_xlpm.criteriaSum\n)","v":0}]
[null,null,"Non-Administrative",null,null,null,null,null,null,null,null,{"$f":"_xlfn.LET(\n_xlpm.objectCode, LEFT(LOOKUP(2, 1/(INDIRECT(\"B\" & ROW() - 6 & \":B\" & ROW())<>\"\"), INDIRECT(\"B\" & ROW() - 6 & \":B\" & ROW())), 4),\n_xlpm.program, TRIM(LEFT(L$10, FIND(\", Transferability\", L$10) - 1) & \" - \" & RIGHT(L$10, 8)),\n_xlpm.criteria, VALUE(_xlpm.objectCode) & \"|\" & _xlpm.program & \"|\" & TRIM($C25),\n_xlpm.criteriaSum, SUMIF(INDEX(TrnsfrConsolidated,,5), _xlpm.criteria, INDEX(TrnsfrConsolidated,,4)),\n_xlpm.criteriaSum\n)","v":0},{"$f":"_xlfn.LET(\n_xlpm.objectCode, LEFT(LOOKUP(2, 1/(INDIRECT(\"B\" & ROW() - 6 & \":B\" & ROW())<>\"\"), INDIRECT(\"B\" & ROW() - 6 & \":B\" & ROW())), 4),\n_xlpm.program, TRIM(LEFT(M$10, FIND(\", Transferability\", M$10) - 1) & \" - \" & RIGHT(M$10, 8)),\n_xlpm.criteria, VALUE(_xlpm.objectCode) & \"|\" & _xlpm.program & \"|\" & TRIM($C25),\n_xlpm.criteriaSum, SUMIF(INDEX(TrnsfrConsolidated,,5), _xlpm.criteria, INDEX(TrnsfrConsolidated,,4)),\n_xlpm.criteriaSum\n)","v":0},{"$f":"_xlfn.LET(\n_xlpm.objectCode, LEFT(LOOKUP(2, 1/(INDIRECT(\"B\" & ROW() - 6 & \":B\" & ROW())<>\"\"), INDIRECT(\"B\" & ROW() - 6 & \":B\" & ROW())), 4),\n_xlpm.program, TRIM(LEFT(N$10, FIND(\", Transferability\", N$10) - 1) & \" - \" & RIGHT(N$10, 8)),\n_xlpm.criteria, VALUE(_xlpm.objectCode) & \"|\" & _xlpm.program & \"|\" & TRIM($C25),\n_xlpm.criteriaSum, SUMIF(INDEX(TrnsfrConsolidated,,5), _xlpm.criteria, INDEX(TrnsfrConsolidated,,4)),\n_xlpm.criteriaSum\n)","v":0},{"$f":"_xlfn.LET(\n_xlpm.objectCode, LEFT(LOOKUP(2, 1/(INDIRECT(\"B\" & ROW() - 6 & \":B\" & ROW())<>\"\"), INDIRECT(\"B\" & ROW() - 6 & \":B\" & ROW())), 4),\n_xlpm.program, TRIM(LEFT(O$10, FIND(\", Transferability\", O$10) - 1) & \" - \" & RIGHT(O$10, 8)),\n_xlpm.criteria, VALUE(_xlpm.objectCode) & \"|\" & _xlpm.program & \"|\" & TRIM($C25),\n_xlpm.criteriaSum, SUMIF(INDEX(TrnsfrConsolidated,,5), _xlpm.criteria, INDEX(TrnsfrConsolidated,,4)),\n_xlpm.criteriaSum\n)","v":0}]
[null,null,"Total Employee Benefits",null,null,{"$f":"SUM(F20:F25)","v":0},{"$f":"SUM(G20:G25)","v":0},0,0,0,0,0,0,0,0,0,0,{"$f":"IF(SUM(Q210)=SUM(F26:Q26),\"Yes\",\"No - Please review your entries.\")","v":"Yes"}]
[null,"3000 - \nPurchased/\nContracted Services","Non Set-Aside",null,null,{"$f":"_xlfn.LET(\n_xlpm.objectCode, LEFT(LOOKUP(2, 1/(INDIRECT(\"B\" & ROW() - 6 & \":B\" & ROW())<>\"\"), INDIRECT(\"B\" & ROW() - 6 & \":B\" & ROW())), 4),\n_xlpm.program, TRIM(LEFT(F$10, FIND(\", Transferability\", F$10) - 1) & \" - \" & RIGHT(F$10, 8)),\n_xlpm.criteria, VALUE(_xlpm.objectCode) & \"|\" & _xlpm.program & \"|\" & TRIM($C27),\n_xlpm.criteriaSum, SUMIF(INDEX(TrnsfrConsolidated,,5), _xlpm.criteria, INDEX(TrnsfrConsolidated,,4)),\n_xlpm.criteriaSum\n)","v":0},{"$f":"_xlfn.LET(\n_xlpm.objectCode, LEFT(LOOKUP(2, 1/(INDIRECT(\"B\" & ROW() - 6 & \":B\" & ROW())<>\"\"), INDIRECT(\"B\" & ROW() - 6 & \":B\" & ROW())), 4),\n_xlpm.program, TRIM(LEFT(G$10, FIND(\", Transferability\", G$10) - 1) & \" - \" & RIGHT(G$10, 8)),\n_xlpm.criteria, VALUE(_xlpm.objectCode) & \"|\" & _xlpm.program & \"|\" & TRIM($C27),\n_xlpm.criteriaSum, SUMIF(INDEX(TrnsfrConsolidated,,5), _xlpm.criteria, INDEX(TrnsfrConsolidated,,4)),\n_xlpm.criteriaSum\n)","v":0},{"$f":"_xlfn.LET(\n_xlpm.objectCode, LEFT(LOOKUP(2, 1/(INDIRECT(\"B\" & ROW() - 6 & \":B\" & ROW())<>\"\"), INDIRECT(\"B\" & ROW() - 6 & \":B\" & ROW())), 4),\n_xlpm.program, TRIM(LEFT(H$10, FIND(\", Transferability\", H$10) - 1) & \" - \" & RIGHT(H$10, 8)),\n_xlpm.criteria, VALUE(_xlpm.objectCode) & \"|\" & _xlpm.program & \"|\" & TRIM($C27),\n_xlpm.criteriaSum, SUMIF(INDEX(TrnsfrConsolidated,,5), _xlpm.criteria, INDEX(TrnsfrConsolidated,,4)),\n_xlpm.criteriaSum\n)","v":0},{"$f":"_xlfn.LET(\n_xlpm.objectCode, LEFT(LOOKUP(2, 1/(INDIRECT(\"B\" & ROW() - 6 & \":B\" & ROW())<>\"\"), INDIRECT(\"B\" & ROW() - 6 & \":B\" & ROW())), 4),\n_xlpm.program, TRIM(LEFT(I$10, FIND(\", Transferability\", I$10) - 1) & \" - \" & RIGHT(I$10, 8)),\n_xlpm.criteria, VALUE(_xlpm.objectCode) & \"|\" & _xlpm.program & \"|\" & TRIM($C27),\n_xlpm.criteriaSum, SUMIF(INDEX(TrnsfrConsolidated,,5), _xlpm.criteria, INDEX(TrnsfrConsolidated,,4)),\n_xlpm.criteriaSum\n)","v":0},{"$f":"_xlfn.LET(\n_xlpm.objectCode, LEFT(LOOKUP(2, 1/(INDIRECT(\"B\" & ROW() - 6 & \":B\" & ROW())<>\"\"), INDIRECT(\"B\" & ROW() - 6 & \":B\" & ROW())), 4),\n_xlpm.program, TRIM(LEFT(J$10, FIND(\", Transferability\", J$10) - 1) & \" - \" & RIGHT(J$10, 8)),\n_xlpm.criteria, VALUE(_xlpm.objectCode) & \"|\" & _xlpm.program & \"|\" & TRIM($C27),\n_xlpm.criteriaSum, SUMIF(INDEX(TrnsfrConsolidated,,5), _xlpm.criteria, INDEX(TrnsfrConsolidated,,4)),\n_xlpm.criteriaSum\n)","v":0},{"$f":"_xlfn.LET(\n_xlpm.objectCode, LEFT(LOOKUP(2, 1/(INDIRECT(\"B\" & ROW() - 6 & \":B\" & ROW())<>\"\"), INDIRECT(\"B\" & ROW() - 6 & \":B\" & ROW())), 4),\n_xlpm.program, TRIM(LEFT(K$10, FIND(\", Transferability\", K$10) - 1) & \" - \" & RIGHT(K$10, 8)),\n_xlpm.criteria, VALUE(_xlpm.objectCode) & \"|\" & _xlpm.program & \"|\" & TRIM($C27),\n_xlpm.criteriaSum, SUMIF(INDEX(TrnsfrConsolidated,,5), _xlpm.criteria, INDEX(TrnsfrConsolidated,,4)),\n_xlpm.criteriaSum\n)","v":0},null,null,null,null,{"$f":"_xlfn.LET(\n_xlpm.objectCode, LEFT(LOOKUP(2, 1/(INDIRECT(\"B\" & ROW() - 6 & \":B\" & ROW())<>\"\"), INDIRECT(\"B\" & ROW() - 6 & \":B\" & ROW())), 4),\n_xlpm.program, TRIM(LEFT(P$10, FIND(\", Transferability\", P$10) - 1) & \" - \" & RIGHT(P$10, 8)),\n_xlpm.criteria, VALUE(_xlpm.objectCode) & \"|\" & _xlpm.program & \"|\" & TRIM($C27),\n_xlpm.criteriaSum, SUMIF(INDEX(TrnsfrConsolidated,,5), _xlpm.criteria, INDEX(TrnsfrConsolidated,,4)),\n_xlpm.criteriaSum\n)","v":0},{"$f":"_xlfn.LET(\n_xlpm.objectCode, LEFT(LOOKUP(2, 1/(INDIRECT(\"B\" & ROW() - 6 & \":B\" & ROW())<>\"\"), INDIRECT(\"B\" & ROW() - 6 & \":B\" & ROW())), 4),\n_xlpm.program, TRIM(LEFT(Q$10, FIND(\", Transferability\", Q$10) - 1) & \" - \" & RIGHT(Q$10, 8)),\n_xlpm.criteria, VALUE(_xlpm.objectCode) & \"|\" & _xlpm.program & \"|\" & TRIM($C27),\n_xlpm.criteriaSum, SUMIF(INDEX(TrnsfrConsolidated,,5), _xlpm.criteria, INDEX(TrnsfrConsolidated,,4)),\n_xlpm.criteriaSum\n)","v":0}]
[null,null,"Set-Aside",null,null,{"$f":"_xlfn.LET(\n_xlpm.objectCode, LEFT(LOOKUP(2, 1/(INDIRECT(\"B\" & ROW() - 6 & \":B\" & ROW())<>\"\"), INDIRECT(\"B\" & ROW() - 6 & \":B\" & ROW())), 4),\n_xlpm.program, TRIM(LEFT(F$10, FIND(\", Transferability\", F$10) - 1) & \" - \" & RIGHT(F$10, 8)),\n_xlpm.criteria, VALUE(_xlpm.objectCode) & \"|\" & _xlpm.program & \"|\" & TRIM($C28),\n_xlpm.criteriaSum, SUMIF(INDEX(TrnsfrConsolidated,,5), _xlpm.criteria, INDEX(TrnsfrConsolidated,,4)),\n_xlpm.criteriaSum\n)","v":0},{"$f":"_xlfn.LET(\n_xlpm.objectCode, LEFT(LOOKUP(2, 1/(INDIRECT(\"B\" & ROW() - 6 & \":B\" & ROW())<>\"\"), INDIRECT(\"B\" & ROW() - 6 & \":B\" & ROW())), 4),\n_xlpm.program, TRIM(LEFT(G$10, FIND(\", Transferability\", G$10) - 1) & \" - \" & RIGHT(G$10, 8)),\n_xlpm.criteria, VALUE(_xlpm.objectCode) & \"|\" & _xlpm.program & \"|\" & TRIM($C28),\n_xlpm.criteriaSum, SUMIF(INDEX(TrnsfrConsolidated,,5), _xlpm.criteria, INDEX(TrnsfrConsolidated,,4)),\n_xlpm.criteriaSum\n)","v":0}]
[null,null,"Parent and Family Engagement Set-Aside",null,null,{"$f":"_xlfn.LET(\n_xlpm.objectCode, LEFT(LOOKUP(2, 1/(INDIRECT(\"B\" & ROW() - 6 & \":B\" & ROW())<>\"\"), INDIRECT(\"B\" & ROW() - 6 & \":B\" & ROW())), 4),\n_xlpm.program, TRIM(LEFT(F$10, FIND(\", Transferability\", F$10) - 1) & \" - \" & RIGHT(F$10, 8)),\n_xlpm.criteria, VALUE(_xlpm.objectCode) & \"|\" & _xlpm.program & \"|\" & TRIM($C29),\n_xlpm.criteriaSum, SUMIF(INDEX(TrnsfrConsolidated,,5), _xlpm.criteria, INDEX(TrnsfrConsolidated,,4)),\n_xlpm.criteriaSum\n)","v":0},{"$f":"_xlfn.LET(\n_xlpm.objectCode, LEFT(LOOKUP(2, 1/(INDIRECT(\"B\" & ROW() - 6 & \":B\" & ROW())<>\"\"), INDIRECT(\"B\" & ROW() - 6 & \":B\" & ROW())), 4),\n_xlpm.program, TRIM(LEFT(G$10, FIND(\", Transferability\", G$10) - 1) & \" - \" & RIGHT(G$10, 8)),\n_xlpm.criteria, VALUE(_xlpm.objectCode) & \"|\" & _xlpm.program & \"|\" & TRIM($C29),\n_xlpm.criteriaSum, SUMIF(INDEX(TrnsfrConsolidated,,5), _xlpm.criteria, INDEX(TrnsfrConsolidated,,4)),\n_xlpm.criteriaSum\n)","v":0}]
[null,null,"Private School Set-Aside ",null,null,{"$f":"_xlfn.LET(\n_xlpm.objectCode, LEFT(LOOKUP(2, 1/(INDIRECT(\"B\" & ROW() - 6 & \":B\" & ROW())<>\"\"), INDIRECT(\"B\" & ROW() - 6 & \":B\" & ROW())), 4),\n_xlpm.program, TRIM(LEFT(F$10, FIND(\", Transferability\", F$10) - 1) & \" - \" & RIGHT(F$10, 8)),\n_xlpm.criteria, VALUE(_xlpm.objectCode) & \"|\" & _xlpm.program & \"|\" & TRIM($C30),\n_xlpm.criteriaSum, SUMIF(INDEX(TrnsfrConsolidated,,5), _xlpm.criteria, INDEX(TrnsfrConsolidated,,4)),\n_xlpm.criteriaSum\n)","v":0},{"$f":"_xlfn.LET(\n_xlpm.objectCode, LEFT(LOOKUP(2, 1/(INDIRECT(\"B\" & ROW() - 6 & \":B\" & ROW())<>\"\"), INDIRECT(\"B\" & ROW() - 6 & \":B\" & ROW())), 4),\n_xlpm.program, TRIM(LEFT(G$10, FIND(\", Transferability\", G$10) - 1) & \" - \" & RIGHT(G$10, 8)),\n_xlpm.criteria, VALUE(_xlpm.objectCode) & \"|\" & _xlpm.program & \"|\" & TRIM($C30),\n_xlpm.criteriaSum, SUMIF(INDEX(TrnsfrConsolidated,,5), _xlpm.criteria, INDEX(TrnsfrConsolidated,,4)),\n_xlpm.criteriaSum\n)","v":0},{"$f":"_xlfn.LET(\n_xlpm.objectCode, LEFT(LOOKUP(2, 1/(INDIRECT(\"B\" & ROW() - 6 & \":B\" & ROW())<>\"\"), INDIRECT(\"B\" & ROW() - 6 & \":B\" & ROW())), 4),\n_xlpm.program, TRIM(LEFT(H$10, FIND(\", Transferability\", H$10) - 1) & \" - \" & RIGHT(H$10, 8)),\n_xlpm.criteria, VALUE(_xlpm.objectCode) & \"|\" & _xlpm.program & \"|\" & TRIM($C30),\n_xlpm.criteriaSum, SUMIF(INDEX(TrnsfrConsolidated,,5), _xlpm.criteria, INDEX(TrnsfrConsolidated,,4)),\n_xlpm.criteriaSum\n)","v":0},{"$f":"_xlfn.LET(\n_xlpm.objectCode, LEFT(LOOKUP(2, 1/(INDIRECT(\"B\" & ROW() - 6 & \":B\" & ROW())<>\"\"), INDIRECT(\"B\" & ROW() - 6 & \":B\" & ROW())), 4),\n_xlpm.program, TRIM(LEFT(I$10, FIND(\", Transferability\", I$10) - 1) & \" - \" & RIGHT(I$10, 8)),\n_xlpm.criteria, VALUE(_xlpm.objectCode) & \"|\" & _xlpm.program & \"|\" & TRIM($C30),\n_xlpm.criteriaSum, SUMIF(INDEX(TrnsfrConsolidated,,5), _xlpm.criteria, INDEX(TrnsfrConsolidated,,4)),\n_xlpm.criteriaSum\n)","v":0},null,null,{"$f":"_xlfn.LET(\n_xlpm.objectCode, LEFT(LOOKUP(2, 1/(INDIRECT(\"B\" & ROW() - 6 & \":B\" & ROW())<>\"\"), INDIRECT(\"B\" & ROW() - 6 & \":B\" & ROW())), 4),\n_xlpm.program, TRIM(LEFT(L$10, FIND(\", Transferability\", L$10) - 1) & \" - \" & RIGHT(L$10, 8)),\n_xlpm.criteria, VALUE(_xlpm.objectCode) & \"|\" & _xlpm.program & \"|\" & TRIM($C30),\n_xlpm.criteriaSum, SUMIF(INDEX(TrnsfrConsolidated,,5), _xlpm.criteria, INDEX(TrnsfrConsolidated,,4)),\n_xlpm.criteriaSum\n)","v":0},{"$f":"_xlfn.LET(\n_xlpm.objectCode, LEFT(LOOKUP(2, 1/(INDIRECT(\"B\" & ROW() - 6 & \":B\" & ROW())<>\"\"), INDIRECT(\"B\" & ROW() - 6 & \":B\" & ROW())), 4),\n_xlpm.program, TRIM(LEFT(M$10, FIND(\", Transferability\", M$10) - 1) & \" - \" & RIGHT(M$10, 8)),\n_xlpm.criteria, VALUE(_xlpm.objectCode) & \"|\" & _xlpm.program & \"|\" & TRIM($C30),\n_xlpm.criteriaSum, SUMIF(INDEX(TrnsfrConsolidated,,5), _xlpm.criteria, INDEX(TrnsfrConsolidated,,4)),\n_xlpm.criteriaSum\n)","v":0},{"$f":"_xlfn.LET(\n_xlpm.objectCode, LEFT(LOOKUP(2, 1/(INDIRECT(\"B\" & ROW() - 6 & \":B\" & ROW())<>\"\"), INDIRECT(\"B\" & ROW() - 6 & \":B\" & ROW())), 4),\n_xlpm.program, TRIM(LEFT(N$10, FIND(\", Transferability\", N$10) - 1) & \" - \" & RIGHT(N$10, 8)),\n_xlpm.criteria, VALUE(_xlpm.objectCode) & \"|\" & _xlpm.program & \"|\" & TRIM($C30),\n_xlpm.criteriaSum, SUMIF(INDEX(TrnsfrConsolidated,,5), _xlpm.criteria, INDEX(TrnsfrConsolidated,,4)),\n_xlpm.criteriaSum\n)","v":0},{"$f":"_xlfn.LET(\n_xlpm.objectCode, LEFT(LOOKUP(2, 1/(INDIRECT(\"B\" & ROW() - 6 & \":B\" & ROW())<>\"\"), INDIRECT(\"B\" & ROW() - 6 & \":B\" & ROW())), 4),\n_xlpm.program, TRIM(LEFT(O$10, FIND(\", Transferability\", O$10) - 1) & \" - \" & RIGHT(O$10, 8)),\n_xlpm.criteria, VALUE(_xlpm.objectCode) & \"|\" & _xlpm.program & \"|\" & TRIM($C30),\n_xlpm.criteriaSum, SUMIF(INDEX(TrnsfrConsolidated,,5), _xlpm.criteria, INDEX(TrnsfrConsolidated,,4)),\n_xlpm.criteriaSum\n)","v":0}]
[null,null,"Administrative",null,null,null,null,null,null,null,null,{"$f":"_xlfn.LET(\n_xlpm.objectCode, LEFT(LOOKUP(2, 1/(INDIRECT(\"B\" & ROW() - 6 & \":B\" & ROW())<>\"\"), INDIRECT(\"B\" & ROW() - 6 & \":B\" & ROW())), 4),\n_xlpm.program, TRIM(LEFT(L$10, FIND(\", Transferability\", L$10) - 1) & \" - \" & RIGHT(L$10, 8)),\n_xlpm.criteria, VALUE(_xlpm.objectCode) & \"|\" & _xlpm.program & \"|\" & TRIM($C31),\n_xlpm.criteriaSum, SUMIF(INDEX(TrnsfrConsolidated,,5), _xlpm.criteria, INDEX(TrnsfrConsolidated,,4)),\n_xlpm.criteriaSum\n)","v":0},null,null,{"$f":"_xlfn.LET(\n_xlpm.objectCode, LEFT(LOOKUP(2, 1/(INDIRECT(\"B\" & ROW() - 6 & \":B\" & ROW())<>\"\"), INDIRECT(\"B\" & ROW() - 6 & \":B\" & ROW())), 4),\n_xlpm.program, TRIM(LEFT(O$10, FIND(\", Transferability\", O$10) - 1) & \" - \" & RIGHT(O$10, 8)),\n_xlpm.criteria, VALUE(_xlpm.objectCode) & \"|\" & _xlpm.program & \"|\" & TRIM($C31),\n_xlpm.criteriaSum, SUMIF(INDEX(TrnsfrConsolidated,,5), _xlpm.criteria, INDEX(TrnsfrConsolidated,,4)),\n_xlpm.criteriaSum\n)","v":0}]
[null,null,"Non-Administrative",null,null,null,null,null,null,null,null,{"$f":"_xlfn.LET(\n_xlpm.objectCode, LEFT(LOOKUP(2, 1/(INDIRECT(\"B\" & ROW() - 6 & \":B\" & ROW())<>\"\"), INDIRECT(\"B\" & ROW() - 6 & \":B\" & ROW())), 4),\n_xlpm.program, TRIM(LEFT(L$10, FIND(\", Transferability\", L$10) - 1) & \" - \" & RIGHT(L$10, 8)),\n_xlpm.criteria, VALUE(_xlpm.objectCode) & \"|\" & _xlpm.program & \"|\" & TRIM($C32),\n_xlpm.criteriaSum, SUMIF(INDEX(TrnsfrConsolidated,,5), _xlpm.criteria, INDEX(TrnsfrConsolidated,,4)),\n_xlpm.criteriaSum\n)","v":0},null,null,{"$f":"_xlfn.LET(\n_xlpm.objectCode, LEFT(LOOKUP(2, 1/(INDIRECT(\"B\" & ROW() - 6 & \":B\" & ROW())<>\"\"), INDIRECT(\"B\" & ROW() - 6 & \":B\" & ROW())), 4),\n_xlpm.program, TRIM(LEFT(O$10, FIND(\", Transferability\", O$10) - 1) & \" - \" & RIGHT(O$10, 8)),\n_xlpm.criteria, VALUE(_xlpm.objectCode) & \"|\" & _xlpm.program & \"|\" & TRIM($C32),\n_xlpm.criteriaSum, SUMIF(INDEX(TrnsfrConsolidated,,5), _xlpm.criteria, INDEX(TrnsfrConsolidated,,4)),\n_xlpm.criteriaSum\n)","v":0}]
[null,null,"Contracted Services",null,null,null,null,null,null,null,null,null,{"$f":"_xlfn.LET(\n_xlpm.objectCode, LEFT(LOOKUP(2, 1/(INDIRECT(\"B\" & ROW() - 6 & \":B\" & ROW())<>\"\"), INDIRECT(\"B\" & ROW() - 6 & \":B\" & ROW())), 4),\n_xlpm.program, TRIM(LEFT(M$10, FIND(\", Transferability\", M$10) - 1) & \" - \" & RIGHT(M$10, 8)),\n_xlpm.criteria, VALUE(_xlpm.objectCode) & \"|\" & _xlpm.program & \"|\" & TRIM($C33),\n_xlpm.criteriaSum, SUMIF(INDEX(TrnsfrConsolidated,,5), _xlpm.criteria, INDEX(TrnsfrConsolidated,,4)),\n_xlpm.criteriaSum\n)","v":0},{"$f":"_xlfn.LET(\n_xlpm.objectCode, LEFT(LOOKUP(2, 1/(INDIRECT(\"B\" & ROW() - 6 & \":B\" & ROW())<>\"\"), INDIRECT(\"B\" & ROW() - 6 & \":B\" & ROW())), 4),\n_xlpm.program, TRIM(LEFT(N$10, FIND(\", Transferability\", N$10) - 1) & \" - \" & RIGHT(N$10, 8)),\n_xlpm.criteria, VALUE(_xlpm.objectCode) & \"|\" & _xlpm.program & \"|\" & TRIM($C33),\n_xlpm.criteriaSum, SUMIF(INDEX(TrnsfrConsolidated,,5), _xlpm.criteria, INDEX(TrnsfrConsolidated,,4)),\n_xlpm.criteriaSum\n)","v":0}]
[null,null,"Total Purchased/Contracted Services",null,null,{"$f":"SUM(F27:F33)","v":0},{"$f":"SUM(G27:G33)","v":0},0,0,0,0,0,0,0,0,0,0,{"$f":"IF(SUM(Q283)=SUM(F34:Q34),\"Yes\",\"No - Please review your entries.\")","v":"Yes"}]
[null,"4000 - \nInternal Services","Non Set-Aside",null,null,{"$f":"_xlfn.LET(\n_xlpm.objectCode, LEFT(LOOKUP(2, 1/(INDIRECT(\"B\" & ROW() - 6 & \":B\" & ROW())<>\"\"), INDIRECT(\"B\" & ROW() - 6 & \":B\" & ROW())), 4),\n_xlpm.program, TRIM(LEFT(F$10, FIND(\", Transferability\", F$10) - 1) & \" - \" & RIGHT(F$10, 8)),\n_xlpm.criteria, VALUE(_xlpm.objectCode) & \"|\" & _xlpm.program & \"|\" & TRIM($C35),\n_xlpm.criteriaSum, SUMIF(INDEX(TrnsfrConsolidated,,5), _xlpm.criteria, INDEX(TrnsfrConsolidated,,4)),\n_xlpm.criteriaSum\n)","v":0},{"$f":"_xlfn.LET(\n_xlpm.objectCode, LEFT(LOOKUP(2, 1/(INDIRECT(\"B\" & ROW() - 6 & \":B\" & ROW())<>\"\"), INDIRECT(\"B\" & ROW() - 6 & \":B\" & ROW())), 4),\n_xlpm.program, TRIM(LEFT(G$10, FIND(\", Transferability\", G$10) - 1) & \" - \" & RIGHT(G$10, 8)),\n_xlpm.criteria, VALUE(_xlpm.objectCode) & \"|\" & _xlpm.program & \"|\" & TRIM($C35),\n_xlpm.criteriaSum, SUMIF(INDEX(TrnsfrConsolidated,,5), _xlpm.criteria, INDEX(TrnsfrConsolidated,,4)),\n_xlpm.criteriaSum\n)","v":0},{"$f":"_xlfn.LET(\n_xlpm.objectCode, LEFT(LOOKUP(2, 1/(INDIRECT(\"B\" & ROW() - 6 & \":B\" & ROW())<>\"\"), INDIRECT(\"B\" & ROW() - 6 & \":B\" & ROW())), 4),\n_xlpm.program, TRIM(LEFT(H$10, FIND(\", Transferability\", H$10) - 1) & \" - \" & RIGHT(H$10, 8)),\n_xlpm.criteria, VALUE(_xlpm.objectCode) & \"|\" & _xlpm.program & \"|\" & TRIM($C35),\n_xlpm.criteriaSum, SUMIF(INDEX(TrnsfrConsolidated,,5), _xlpm.criteria, INDEX(TrnsfrConsolidated,,4)),\n_xlpm.criteriaSum\n)","v":0},{"$f":"_xlfn.LET(\n_xlpm.objectCode, LEFT(LOOKUP(2, 1/(INDIRECT(\"B\" & ROW() - 6 & \":B\" & ROW())<>\"\"), INDIRECT(\"B\" & ROW() - 6 & \":B\" & ROW())), 4),\n_xlpm.program, TRIM(LEFT(I$10, FIND(\", Transferability\", I$10) - 1) & \" - \" & RIGHT(I$10, 8)),\n_xlpm.criteria, VALUE(_xlpm.objectCode) & \"|\" & _xlpm.program & \"|\" & TRIM($C35),\n_xlpm.criteriaSum, SUMIF(INDEX(TrnsfrConsolidated,,5), _xlpm.criteria, INDEX(TrnsfrConsolidated,,4)),\n_xlpm.criteriaSum\n)","v":0},{"$f":"_xlfn.LET(\n_xlpm.objectCode, LEFT(LOOKUP(2, 1/(INDIRECT(\"B\" & ROW() - 6 & \":B\" & ROW())<>\"\"), INDIRECT(\"B\" & ROW() - 6 & \":B\" & ROW())), 4),\n_xlpm.program, TRIM(LEFT(J$10, FIND(\", Transferability\", J$10) - 1) & \" - \" & RIGHT(J$10, 8)),\n_xlpm.criteria, VALUE(_xlpm.objectCode) & \"|\" & _xlpm.program & \"|\" & TRIM($C35),\n_xlpm.criteriaSum, SUMIF(INDEX(TrnsfrConsolidated,,5), _xlpm.criteria, INDEX(TrnsfrConsolidated,,4)),\n_xlpm.criteriaSum\n)","v":0},{"$f":"_xlfn.LET(\n_xlpm.objectCode, LEFT(LOOKUP(2, 1/(INDIRECT(\"B\" & ROW() - 6 & \":B\" & ROW())<>\"\"), INDIRECT(\"B\" & ROW() - 6 & \":B\" & ROW())), 4),\n_xlpm.program, TRIM(LEFT(K$10, FIND(\", Transferability\", K$10) - 1) & \" - \" & RIGHT(K$10, 8)),\n_xlpm.criteria, VALUE(_xlpm.objectCode) & \"|\" & _xlpm.program & \"|\" & TRIM($C35),\n_xlpm.criteriaSum, SUMIF(INDEX(TrnsfrConsolidated,,5), _xlpm.criteria, INDEX(TrnsfrConsolidated,,4)),\n_xlpm.criteriaSum\n)","v":0},null,null,null,null,{"$f":"_xlfn.LET(\n_xlpm.objectCode, LEFT(LOOKUP(2, 1/(INDIRECT(\"B\" & ROW() - 6 & \":B\" & ROW())<>\"\"), INDIRECT(\"B\" & ROW() - 6 & \":B\" & ROW())), 4),\n_xlpm.program, TRIM(LEFT(P$10, FIND(\", Transferability\", P$10) - 1) & \" - \" & RIGHT(P$10, 8)),\n_xlpm.criteria, VALUE(_xlpm.objectCode) & \"|\" & _xlpm.program & \"|\" & TRIM($C35),\n_xlpm.criteriaSum, SUMIF(INDEX(TrnsfrConsolidated,,5), _xlpm.criteria, INDEX(TrnsfrConsolidated,,4)),\n_xlpm.criteriaSum\n)","v":0},{"$f":"_xlfn.LET(\n_xlpm.objectCode, LEFT(LOOKUP(2, 1/(INDIRECT(\"B\" & ROW() - 6 & \":B\" & ROW())<>\"\"), INDIRECT(\"B\" & ROW() - 6 & \":B\" & ROW())), 4),\n_xlpm.program, TRIM(LEFT(Q$10, FIND(\", Transferability\", Q$10) - 1) & \" - \" & RIGHT(Q$10, 8)),\n_xlpm.criteria, VALUE(_xlpm.objectCode) & \"|\" & _xlpm.program & \"|\" & TRIM($C35),\n_xlpm.criteriaSum, SUMIF(INDEX(TrnsfrConsolidated,,5), _xlpm.criteria, INDEX(TrnsfrConsolidated,,4)),\n_xlpm.criteriaSum\n)","v":0}]
[null,null,"Set-Aside",null,null,{"$f":"_xlfn.LET(\n_xlpm.objectCode, LEFT(LOOKUP(2, 1/(INDIRECT(\"B\" & ROW() - 6 & \":B\" & ROW())<>\"\"), INDIRECT(\"B\" & ROW() - 6 & \":B\" & ROW())), 4),\n_xlpm.program, TRIM(LEFT(F$10, FIND(\", Transferability\", F$10) - 1) & \" - \" & RIGHT(F$10, 8)),\n_xlpm.criteria, VALUE(_xlpm.objectCode) & \"|\" & _xlpm.program & \"|\" & TRIM($C36),\n_xlpm.criteriaSum, SUMIF(INDEX(TrnsfrConsolidated,,5), _xlpm.criteria, INDEX(TrnsfrConsolidated,,4)),\n_xlpm.criteriaSum\n)","v":0},{"$f":"_xlfn.LET(\n_xlpm.objectCode, LEFT(LOOKUP(2, 1/(INDIRECT(\"B\" & ROW() - 6 & \":B\" & ROW())<>\"\"), INDIRECT(\"B\" & ROW() - 6 & \":B\" & ROW())), 4),\n_xlpm.program, TRIM(LEFT(G$10, FIND(\", Transferability\", G$10) - 1) & \" - \" & RIGHT(G$10, 8)),\n_xlpm.criteria, VALUE(_xlpm.objectCode) & \"|\" & _xlpm.program & \"|\" & TRIM($C36),\n_xlpm.criteriaSum, SUMIF(INDEX(TrnsfrConsolidated,,5), _xlpm.criteria, INDEX(TrnsfrConsolidated,,4)),\n_xlpm.criteriaSum\n)","v":0}]
[null,null,"Parent and Family Engagement Set-Aside",null,null,{"$f":"_xlfn.LET(\n_xlpm.objectCode, LEFT(LOOKUP(2, 1/(INDIRECT(\"B\" & ROW() - 6 & \":B\" & ROW())<>\"\"), INDIRECT(\"B\" & ROW() - 6 & \":B\" & ROW())), 4),\n_xlpm.program, TRIM(LEFT(F$10, FIND(\", Transferability\", F$10) - 1) & \" - \" & RIGHT(F$10, 8)),\n_xlpm.criteria, VALUE(_xlpm.objectCode) & \"|\" & _xlpm.program & \"|\" & TRIM($C37),\n_xlpm.criteriaSum, SUMIF(INDEX(TrnsfrConsolidated,,5), _xlpm.criteria, INDEX(TrnsfrConsolidated,,4)),\n_xlpm.criteriaSum\n)","v":0},{"$f":"_xlfn.LET(\n_xlpm.objectCode, LEFT(LOOKUP(2, 1/(INDIRECT(\"B\" & ROW() - 6 & \":B\" & ROW())<>\"\"), INDIRECT(\"B\" & ROW() - 6 & \":B\" & ROW())), 4),\n_xlpm.program, TRIM(LEFT(G$10, FIND(\", Transferability\", G$10) - 1) & \" - \" & RIGHT(G$10, 8)),\n_xlpm.criteria, VALUE(_xlpm.objectCode) & \"|\" & _xlpm.program & \"|\" & TRIM($C37),\n_xlpm.criteriaSum, SUMIF(INDEX(TrnsfrConsolidated,,5), _xlpm.criteria, INDEX(TrnsfrConsolidated,,4)),\n_xlpm.criteriaSum\n)","v":0}]
[null,null,"Private School Set-Aside ",null,null,{"$f":"_xlfn.LET(\n_xlpm.objectCode, LEFT(LOOKUP(2, 1/(INDIRECT(\"B\" & ROW() - 6 & \":B\" & ROW())<>\"\"), INDIRECT(\"B\" & ROW() - 6 & \":B\" & ROW())), 4),\n_xlpm.program, TRIM(SUBSTITUTE(SUBSTITUTE(F$10,\", Transferability\" & CHAR(10) & \"Award \",\" - \"),CHAR(10) & \"Project Code \",\" - \")),\n_xlpm.criteria, VALUE(_xlpm.objectCode) & \"|\" & _xlpm.program & \"|\" & TRIM($C38),\nSUMIF(INDEX(TrnsfrConsolidated,,5), _xlpm.criteria, INDEX(TrnsfrConsolidated,,4))\n)","v":0},{"$f":"_xlfn.LET(\n_xlpm.objectCode, LEFT(LOOKUP(2, 1/(INDIRECT(\"B\" & ROW() - 6 & \":B\" & ROW())<>\"\"), INDIRECT(\"B\" & ROW() - 6 & \":B\" & ROW())), 4),\n_xlpm.program, TRIM(SUBSTITUTE(SUBSTITUTE(G$10,\", Transferability\" & CHAR(10) & \"Award \",\" - \"),CHAR(10) & \"Project Code \",\" - \")),\n_xlpm.criteria, VALUE(_xlpm.objectCode) & \"|\" & _xlpm.program & \"|\" & TRIM($C38),\nSUMIF(INDEX(TrnsfrConsolidated,,5), _xlpm.criteria, INDEX(TrnsfrConsolidated,,4))\n)","v":0},{"$f":"_xlfn.LET(\n_xlpm.objectCode, LEFT(LOOKUP(2, 1/(INDIRECT(\"B\" & ROW() - 6 & \":B\" & ROW())<>\"\"), INDIRECT(\"B\" & ROW() - 6 & \":B\" & ROW())), 4),\n_xlpm.program, TRIM(SUBSTITUTE(SUBSTITUTE(H$10,\", Transferability\" & CHAR(10) & \"Award \",\" - \"),CHAR(10) & \"Project Code \",\" - \")),\n_xlpm.criteria, VALUE(_xlpm.objectCode) & \"|\" & _xlpm.program & \"|\" & TRIM($C38),\nSUMIF(INDEX(TrnsfrConsolidated,,5), _xlpm.criteria, INDEX(TrnsfrConsolidated,,4))\n)","v":0},{"$f":"_xlfn.LET(\n_xlpm.objectCode, LEFT(LOOKUP(2, 1/(INDIRECT(\"B\" & ROW() - 6 & \":B\" & ROW())<>\"\"), INDIRECT(\"B\" & ROW() - 6 & \":B\" & ROW())), 4),\n_xlpm.program, TRIM(SUBSTITUTE(SUBSTITUTE(I$10,\", Transferability\" & CHAR(10) & \"Award \",\" - \"),CHAR(10) & \"Project Code \",\" - \")),\n_xlpm.criteria, VALUE(_xlpm.objectCode) & \"|\" & _xlpm.program & \"|\" & TRIM($C38),\nSUMIF(INDEX(TrnsfrConsolidated,,5), _xlpm.criteria, INDEX(TrnsfrConsolidated,,4))\n)","v":0},null,null,null,{"$f":"_xlfn.LET(\n_xlpm.objectCode, LEFT(LOOKUP(2, 1/(INDIRECT(\"B\" & ROW() - 6 & \":B\" & ROW())<>\"\"), INDIRECT(\"B\" & ROW() - 6 & \":B\" & ROW())), 4),\n_xlpm.program, TRIM(SUBSTITUTE(SUBSTITUTE(M$10,\", Transferability\" & CHAR(10) & \"Award \",\" - \"),CHAR(10) & \"Project Code \",\" - \")),\n_xlpm.criteria, VALUE(_xlpm.objectCode) & \"|\" & _xlpm.program & \"|\" & TRIM($C38),\nSUMIF(INDEX(TrnsfrConsolidated,,5), _xlpm.criteria, INDEX(TrnsfrConsolidated,,4))\n)","v":0},{"$f":"_xlfn.LET(\n_xlpm.objectCode, LEFT(LOOKUP(2, 1/(INDIRECT(\"B\" & ROW() - 6 & \":B\" & ROW())<>\"\"), INDIRECT(\"B\" & ROW() - 6 & \":B\" & ROW())), 4),\n_xlpm.program, TRIM(SUBSTITUTE(SUBSTITUTE(N$10,\", Transferability\" & CHAR(10) & \"Award \",\" - \"),CHAR(10) & \"Project Code \",\" - \")),\n_xlpm.criteria, VALUE(_xlpm.objectCode) & \"|\" & _xlpm.program & \"|\" & TRIM($C38),\nSUMIF(INDEX(TrnsfrConsolidated,,5), _xlpm.criteria, INDEX(TrnsfrConsolidated,,4))\n)","v":0},{"$f":"_xlfn.LET(\n_xlpm.objectCode, LEFT(LOOKUP(2, 1/(INDIRECT(\"B\" & ROW() - 6 & \":B\" & ROW())<>\"\"), INDIRECT(\"B\" & ROW() - 6 & \":B\" & ROW())), 4),\n_xlpm.program, TRIM(SUBSTITUTE(SUBSTITUTE(O$10,\", Transferability\" & CHAR(10) & \"Award \",\" - \"),CHAR(10) & \"Project Code \",\" - \")),\n_xlpm.criteria, VALUE(_xlpm.objectCode) & \"|\" & _xlpm.program & \"|\" & TRIM($C38),\nSUMIF(INDEX(TrnsfrConsolidated,,5), _xlpm.criteria, INDEX(TrnsfrConsolidated,,4))\n)","v":0}]
[null,null,"Administrative",null,null,null,null,null,null,null,null,{"$f":"_xlfn.LET(\n_xlpm.objectCode, LEFT(LOOKUP(2, 1/(INDIRECT(\"B\" & ROW() - 6 & \":B\" & ROW())<>\"\"), INDIRECT(\"B\" & ROW() - 6 & \":B\" & ROW())), 4),\n_xlpm.program, LEFT(L$10, FIND(\", Transferability\", L$10) - 1) & \" - \" & RIGHT(L$10, 8),\n_xlpm.criteria, VALUE(_xlpm.objectCode) & \"|\" & _xlpm.program & \"|\" & TRIM($C39),\n_xlpm.sumForCriteria, SUMIF(INDEX(TrnsfrConsolidated,,5), _xlpm.criteria, INDEX(TrnsfrConsolidated,,4)),\n_xlpm.sumForCriteria\n)","v":0}]
[null,null,"Non-Administrative"]
[null,null,"Internal Services",null,null,null,null,null,null,null,null,{"$f":"_xlfn.LET(\n_xlpm.objectCode, LEFT(LOOKUP(2, 1/(INDIRECT(\"B\" & ROW() - 6 & \":B\" & ROW())<>\"\"), INDIRECT(\"B\" & ROW() - 6 & \":B\" & ROW())), 4),\n_xlpm.program, TRIM(LEFT(L$10, FIND(\", Transferability\", L$10) - 1) & \" - \" & RIGHT(L$10, 8)),\n_xlpm.criteria, VALUE(_xlpm.objectCode) & \"|\" & _xlpm.program & \"|\" & TRIM($C41),\n_xlpm.criteriaSum, SUMIF(INDEX(TrnsfrConsolidated,,5), _xlpm.criteria, INDEX(TrnsfrConsolidated,,4)),\n_xlpm.criteriaSum\n)","v":0},{"$f":"_xlfn.LET(\n_xlpm.objectCode, LEFT(LOOKUP(2, 1/(INDIRECT(\"B\" & ROW() - 6 & \":B\" & ROW())<>\"\"), INDIRECT(\"B\" & ROW() - 6 & \":B\" & ROW())), 4),\n_xlpm.program, TRIM(LEFT(M$10, FIND(\", Transferability\", M$10) - 1) & \" - \" & RIGHT(M$10, 8)),\n_xlpm.criteria, VALUE(_xlpm.objectCode) & \"|\" & _xlpm.program & \"|\" & TRIM($C41),\n_xlpm.criteriaSum, SUMIF(INDEX(TrnsfrConsolidated,,5), _xlpm.criteria, INDEX(TrnsfrConsolidated,,4)),\n_xlpm.criteriaSum\n)","v":0},{"$f":"_xlfn.LET(\n_xlpm.objectCode, LEFT(LOOKUP(2, 1/(INDIRECT(\"B\" & ROW() - 6 & \":B\" & ROW())<>\"\"), INDIRECT(\"B\" & ROW() - 6 & \":B\" & ROW())), 4),\n_xlpm.program, TRIM(LEFT(N$10, FIND(\", Transferability\", N$10) - 1) & \" - \" & RIGHT(N$10, 8)),\n_xlpm.criteria, VALUE(_xlpm.objectCode) & \"|\" & _xlpm.program & \"|\" & TRIM($C41),\n_xlpm.criteriaSum, SUMIF(INDEX(TrnsfrConsolidated,,5), _xlpm.criteria, INDEX(TrnsfrConsolidated,,4)),\n_xlpm.criteriaSum\n)","v":0},{"$f":"_xlfn.LET(\n_xlpm.objectCode, LEFT(LOOKUP(2, 1/(INDIRECT(\"B\" & ROW() - 6 & \":B\" & ROW())<>\"\"), INDIRECT(\"B\" & ROW() - 6 & \":B\" & ROW())), 4),\n_xlpm.program, TRIM(LEFT(O$10, FIND(\", Transferability\", O$10) - 1) & \" - \" & RIGHT(O$10, 8)),\n_xlpm.criteria, VALUE(_xlpm.objectCode) & \"|\" & _xlpm.program & \"|\" & TRIM($C41),\n_xlpm.criteriaSum, SUMIF(INDEX(TrnsfrConsolidated,,5), _xlpm.criteria, INDEX(TrnsfrConsolidated,,4)),\n_xlpm.criteriaSum\n)","v":0}]
[null,null,"Total Internal Services",null,null,{"$f":"SUM(F35:F41)","v":0},{"$f":"SUM(G35:G41)","v":0},0,0,0,0,{"$f":"SUM(L35:L41)","v":0},0,0,0,0,0,{"$f":"IF(SUM(Q366)=SUM(F42:Q42),\"Yes\",\"No - Please review your entries.\")","v":"Yes"}]
[null,"5000 - \nOther  \nCharges","Non Set-Aside",null,null,{"$f":"_xlfn.LET(\n_xlpm.objectCode, LEFT(LOOKUP(2, 1/(INDIRECT(\"B\" & ROW() - 6 & \":B\" & ROW())<>\"\"), INDIRECT(\"B\" & ROW() - 6 & \":B\" & ROW())), 4),\n_xlpm.program, TRIM(LEFT(F$10, FIND(\", Transferability\", F$10) - 1) & \" - \" & RIGHT(F$10, 8)),\n_xlpm.criteria, VALUE(_xlpm.objectCode) & \"|\" & _xlpm.program & \"|\" & TRIM($C43),\n_xlpm.criteriaSum, SUMIF(INDEX(TrnsfrConsolidated,,5), _xlpm.criteria, INDEX(TrnsfrConsolidated,,4)),\n_xlpm.criteriaSum\n)","v":0},{"$f":"_xlfn.LET(\n_xlpm.objectCode, LEFT(LOOKUP(2, 1/(INDIRECT(\"B\" & ROW() - 6 & \":B\" & ROW())<>\"\"), INDIRECT(\"B\" & ROW() - 6 & \":B\" & ROW())), 4),\n_xlpm.program, TRIM(LEFT(G$10, FIND(\", Transferability\", G$10) - 1) & \" - \" & RIGHT(G$10, 8)),\n_xlpm.criteria, VALUE(_xlpm.objectCode) & \"|\" & _xlpm.program & \"|\" & TRIM($C43),\n_xlpm.criteriaSum, SUMIF(INDEX(TrnsfrConsolidated,,5), _xlpm.criteria, INDEX(TrnsfrConsolidated,,4)),\n_xlpm.criteriaSum\n)","v":0},{"$f":"_xlfn.LET(\n_xlpm.objectCode, LEFT(LOOKUP(2, 1/(INDIRECT(\"B\" & ROW() - 6 & \":B\" & ROW())<>\"\"), INDIRECT(\"B\" & ROW() - 6 & \":B\" & ROW())), 4),\n_xlpm.program, TRIM(LEFT(H$10, FIND(\", Transferability\", H$10) - 1) & \" - \" & RIGHT(H$10, 8)),\n_xlpm.criteria, VALUE(_xlpm.objectCode) & \"|\" & _xlpm.program & \"|\" & TRIM($C43),\n_xlpm.criteriaSum, SUMIF(INDEX(TrnsfrConsolidated,,5), _xlpm.criteria, INDEX(TrnsfrConsolidated,,4)),\n_xlpm.criteriaSum\n)","v":0},{"$f":"_xlfn.LET(\n_xlpm.objectCode, LEFT(LOOKUP(2, 1/(INDIRECT(\"B\" & ROW() - 6 & \":B\" & ROW())<>\"\"), INDIRECT(\"B\" & ROW() - 6 & \":B\" & ROW())), 4),\n_xlpm.program, TRIM(LEFT(I$10, FIND(\", Transferability\", I$10) - 1) & \" - \" & RIGHT(I$10, 8)),\n_xlpm.criteria, VALUE(_xlpm.objectCode) & \"|\" & _xlpm.program & \"|\" & TRIM($C43),\n_xlpm.criteriaSum, SUMIF(INDEX(TrnsfrConsolidated,,5), _xlpm.criteria, INDEX(TrnsfrConsolidated,,4)),\n_xlpm.criteriaSum\n)","v":0},{"$f":"_xlfn.LET(\n_xlpm.objectCode, LEFT(LOOKUP(2, 1/(INDIRECT(\"B\" & ROW() - 6 & \":B\" & ROW())<>\"\"), INDIRECT(\"B\" & ROW() - 6 & \":B\" & ROW())), 4),\n_xlpm.program, TRIM(LEFT(J$10, FIND(\", Transferability\", J$10) - 1) & \" - \" & RIGHT(J$10, 8)),\n_xlpm.criteria, VALUE(_xlpm.objectCode) & \"|\" & _xlpm.program & \"|\" & TRIM($C43),\n_xlpm.criteriaSum, SUMIF(INDEX(TrnsfrConsolidated,,5), _xlpm.criteria, INDEX(TrnsfrConsolidated,,4)),\n_xlpm.criteriaSum\n)","v":0},{"$f":"_xlfn.LET(\n_xlpm.objectCode, LEFT(LOOKUP(2, 1/(INDIRECT(\"B\" & ROW() - 6 & \":B\" & ROW())<>\"\"), INDIRECT(\"B\" & ROW() - 6 & \":B\" & ROW())), 4),\n_xlpm.program, TRIM(LEFT(K$10, FIND(\", Transferability\", K$10) - 1) & \" - \" & RIGHT(K$10, 8)),\n_xlpm.criteria, VALUE(_xlpm.objectCode) & \"|\" & _xlpm.program & \"|\" & TRIM($C43),\n_xlpm.criteriaSum, SUMIF(INDEX(TrnsfrConsolidated,,5), _xlpm.criteria, INDEX(TrnsfrConsolidated,,4)),\n_xlpm.criteriaSum\n)","v":0},null,null,null,null,{"$f":"_xlfn.LET(\n_xlpm.objectCode, LEFT(LOOKUP(2, 1/(INDIRECT(\"B\" & ROW() - 6 & \":B\" & ROW())<>\"\"), INDIRECT(\"B\" & ROW() - 6 & \":B\" & ROW())), 4),\n_xlpm.program, TRIM(LEFT(P$10, FIND(\", Transferability\", P$10) - 1) & \" - \" & RIGHT(P$10, 8)),\n_xlpm.criteria, VALUE(_xlpm.objectCode) & \"|\" & _xlpm.program & \"|\" & TRIM($C43),\n_xlpm.criteriaSum, SUMIF(INDEX(TrnsfrConsolidated,,5), _xlpm.criteria, INDEX(TrnsfrConsolidated,,4)),\n_xlpm.criteriaSum\n)","v":0},{"$f":"_xlfn.LET(\n_xlpm.objectCode, LEFT(LOOKUP(2, 1/(INDIRECT(\"B\" & ROW() - 6 & \":B\" & ROW())<>\"\"), INDIRECT(\"B\" & ROW() - 6 & \":B\" & ROW())), 4),\n_xlpm.program, TRIM(LEFT(Q$10, FIND(\", Transferability\", Q$10) - 1) & \" - \" & RIGHT(Q$10, 8)),\n_xlpm.criteria, VALUE(_xlpm.objectCode) & \"|\" & _xlpm.program & \"|\" & TRIM($C43),\n_xlpm.criteriaSum, SUMIF(INDEX(TrnsfrConsolidated,,5), _xlpm.criteria, INDEX(TrnsfrConsolidated,,4)),\n_xlpm.criteriaSum\n)","v":0}]
[null,null,"Set-Aside",null,null,{"$f":"_xlfn.LET(\n_xlpm.objectCode, LEFT(LOOKUP(2, 1/(INDIRECT(\"B\" & ROW() - 6 & \":B\" & ROW())<>\"\"), INDIRECT(\"B\" & ROW() - 6 & \":B\" & ROW())), 4),\n_xlpm.program, TRIM(LEFT(F$10, FIND(\", Transferability\", F$10) - 1) & \" - \" & RIGHT(F$10, 8)),\n_xlpm.criteria, VALUE(_xlpm.objectCode) & \"|\" & _xlpm.program & \"|\" & TRIM($C44),\n_xlpm.criteriaSum, SUMIF(INDEX(TrnsfrConsolidated,,5), _xlpm.criteria, INDEX(TrnsfrConsolidated,,4)),\n_xlpm.criteriaSum\n)","v":0},{"$f":"_xlfn.LET(\n_xlpm.objectCode, LEFT(LOOKUP(2, 1/(INDIRECT(\"B\" & ROW() - 6 & \":B\" & ROW())<>\"\"), INDIRECT(\"B\" & ROW() - 6 & \":B\" & ROW())), 4),\n_xlpm.program, TRIM(LEFT(G$10, FIND(\", Transferability\", G$10) - 1) & \" - \" & RIGHT(G$10, 8)),\n_xlpm.criteria, VALUE(_xlpm.objectCode) & \"|\" & _xlpm.program & \"|\" & TRIM($C44),\n_xlpm.criteriaSum, SUMIF(INDEX(TrnsfrConsolidated,,5), _xlpm.criteria, INDEX(TrnsfrConsolidated,,4)),\n_xlpm.criteriaSum\n)","v":0}]
[null,null,"Parent and Family Engagement Set-Aside",null,null,{"$f":"_xlfn.LET(\n_xlpm.objectCode, LEFT(LOOKUP(2, 1/(INDIRECT(\"B\" & ROW() - 6 & \":B\" & ROW())<>\"\"), INDIRECT(\"B\" & ROW() - 6 & \":B\" & ROW())), 4),\n_xlpm.program, TRIM(LEFT(F$10, FIND(\", Transferability\", F$10) - 1) & \" - \" & RIGHT(F$10, 8)),\n_xlpm.criteria, VALUE(_xlpm.objectCode) & \"|\" & _xlpm.program & \"|\" & TRIM($C45),\n_xlpm.criteriaSum, SUMIF(INDEX(TrnsfrConsolidated,,5), _xlpm.criteria, INDEX(TrnsfrConsolidated,,4)),\n_xlpm.criteriaSum\n)","v":0},{"$f":"_xlfn.LET(\n_xlpm.objectCode, LEFT(LOOKUP(2, 1/(INDIRECT(\"B\" & ROW() - 6 & \":B\" & ROW())<>\"\"), INDIRECT(\"B\" & ROW() - 6 & \":B\" & ROW())), 4),\n_xlpm.program, TRIM(LEFT(G$10, FIND(\", Transferability\", G$10) - 1) & \" - \" & RIGHT(G$10, 8)),\n_xlpm.criteria, VALUE(_xlpm.objectCode) & \"|\" & _xlpm.program & \"|\" & TRIM($C45),\n_xlpm.criteriaSum, SUMIF(INDEX(TrnsfrConsolidated,,5), _xlpm.criteria, INDEX(TrnsfrConsolidated,,4)),\n_xlpm.criteriaSum\n)","v":0}]
[null,null,"Private School Set-Aside ",null,null,{"$f":"_xlfn.LET(\n_xlpm.objectCode, LEFT(LOOKUP(2, 1/(INDIRECT(\"B\" & ROW() - 6 & \":B\" & ROW())<>\"\"), INDIRECT(\"B\" & ROW() - 6 & \":B\" & ROW())), 4),\n_xlpm.program, TRIM(LEFT(F$10, FIND(\", Transferability\", F$10) - 1) & \" - \" & RIGHT(F$10, 8)),\n_xlpm.criteria, VALUE(_xlpm.objectCode) & \"|\" & _xlpm.program & \"|\" & TRIM($C46),\n_xlpm.criteriaSum, SUMIF(INDEX(TrnsfrConsolidated,,5), _xlpm.criteria, INDEX(TrnsfrConsolidated,,4)),\n_xlpm.criteriaSum\n)","v":0},{"$f":"_xlfn.LET(\n_xlpm.objectCode, LEFT(LOOKUP(2, 1/(INDIRECT(\"B\" & ROW() - 6 & \":B\" & ROW())<>\"\"), INDIRECT(\"B\" & ROW() - 6 & \":B\" & ROW())), 4),\n_xlpm.program, TRIM(LEFT(G$10, FIND(\", Transferability\", G$10) - 1) & \" - \" & RIGHT(G$10, 8)),\n_xlpm.criteria, VALUE(_xlpm.objectCode) & \"|\" & _xlpm.program & \"|\" & TRIM($C46),\n_xlpm.criteriaSum, SUMIF(INDEX(TrnsfrConsolidated,,5), _xlpm.criteria, INDEX(TrnsfrConsolidated,,4)),\n_xlpm.criteriaSum\n)","v":0},{"$f":"_xlfn.LET(\n_xlpm.objectCode, LEFT(LOOKUP(2, 1/(INDIRECT(\"B\" & ROW() - 6 & \":B\" & ROW())<>\"\"), INDIRECT(\"B\" & ROW() - 6 & \":B\" & ROW())), 4),\n_xlpm.program, TRIM(LEFT(H$10, FIND(\", Transferability\", H$10) - 1) & \" - \" & RIGHT(H$10, 8)),\n_xlpm.criteria, VALUE(_xlpm.objectCode) & \"|\" & _xlpm.program & \"|\" & TRIM($C46),\n_xlpm.criteriaSum, SUMIF(INDEX(TrnsfrConsolidated,,5), _xlpm.criteria, INDEX(TrnsfrConsolidated,,4)),\n_xlpm.criteriaSum\n)","v":0},{"$f":"_xlfn.LET(\n_xlpm.objectCode, LEFT(LOOKUP(2, 1/(INDIRECT(\"B\" & ROW() - 6 & \":B\" & ROW())<>\"\"), INDIRECT(\"B\" & ROW() - 6 & \":B\" & ROW())), 4),\n_xlpm.program, TRIM(LEFT(I$10, FIND(\", Transferability\", I$10) - 1) & \" - \" & RIGHT(I$10, 8)),\n_xlpm.criteria, VALUE(_xlpm.objectCode) & \"|\" & _xlpm.program & \"|\" & TRIM($C46),\n_xlpm.criteriaSum, SUMIF(INDEX(TrnsfrConsolidated,,5), _xlpm.criteria, INDEX(TrnsfrConsolidated,,4)),\n_xlpm.criteriaSum\n)","v":0},null,null,{"$f":"_xlfn.LET(\n_xlpm.objectCode, LEFT(LOOKUP(2, 1/(INDIRECT(\"B\" & ROW() - 6 & \":B\" & ROW())<>\"\"), INDIRECT(\"B\" & ROW() - 6 & \":B\" & ROW())), 4),\n_xlpm.program, TRIM(LEFT(L$10, FIND(\", Transferability\", L$10) - 1) & \" - \" & RIGHT(L$10, 8)),\n_xlpm.criteria, VALUE(_xlpm.objectCode) & \"|\" & _xlpm.program & \"|\" & TRIM($C46),\n_xlpm.criteriaSum, SUMIF(INDEX(TrnsfrConsolidated,,5), _xlpm.criteria, INDEX(TrnsfrConsolidated,,4)),\n_xlpm.criteriaSum\n)","v":0},{"$f":"_xlfn.LET(\n_xlpm.objectCode, LEFT(LOOKUP(2, 1/(INDIRECT(\"B\" & ROW() - 6 & \":B\" & ROW())<>\"\"), INDIRECT(\"B\" & ROW() - 6 & \":B\" & ROW())), 4),\n_xlpm.program, TRIM(LEFT(M$10, FIND(\", Transferability\", M$10) - 1) & \" - \" & RIGHT(M$10, 8)),\n_xlpm.criteria, VALUE(_xlpm.objectCode) & \"|\" & _xlpm.program & \"|\" & TRIM($C46),\n_xlpm.criteriaSum, SUMIF(INDEX(TrnsfrConsolidated,,5), _xlpm.criteria, INDEX(TrnsfrConsolidated,,4)),\n_xlpm.criteriaSum\n)","v":0},{"$f":"_xlfn.LET(\n_xlpm.objectCode, LEFT(LOOKUP(2, 1/(INDIRECT(\"B\" & ROW() - 6 & \":B\" & ROW())<>\"\"), INDIRECT(\"B\" & ROW() - 6 & \":B\" & ROW())), 4),\n_xlpm.program, TRIM(LEFT(N$10, FIND(\", Transferability\", N$10) - 1) & \" - \" & RIGHT(N$10, 8)),\n_xlpm.criteria, VALUE(_xlpm.objectCode) & \"|\" & _xlpm.program & \"|\" & TRIM($C46),\n_xlpm.criteriaSum, SUMIF(INDEX(TrnsfrConsolidated,,5), _xlpm.criteria, INDEX(TrnsfrConsolidated,,4)),\n_xlpm.criteriaSum\n)","v":0},{"$f":"_xlfn.LET(\n_xlpm.objectCode, LEFT(LOOKUP(2, 1/(INDIRECT(\"B\" & ROW() - 6 & \":B\" & ROW())<>\"\"), INDIRECT(\"B\" & ROW() - 6 & \":B\" & ROW())), 4),\n_xlpm.program, TRIM(LEFT(O$10, FIND(\", Transferability\", O$10) - 1) & \" - \" & RIGHT(O$10, 8)),\n_xlpm.criteria, VALUE(_xlpm.objectCode) & \"|\" & _xlpm.program & \"|\" & TRIM($C46),\n_xlpm.criteriaSum, SUMIF(INDEX(TrnsfrConsolidated,,5), _xlpm.criteria, INDEX(TrnsfrConsolidated,,4)),\n_xlpm.criteriaSum\n)","v":0}]
[null,null,"Administrative",null,null,null,null,null,null,null,null,{"$f":"_xlfn.LET(\n_xlpm.objectCode, LEFT(LOOKUP(2, 1/(INDIRECT(\"B\" & ROW() - 6 & \":B\" & ROW())<>\"\"), INDIRECT(\"B\" & ROW() - 6 & \":B\" & ROW())), 4),\n_xlpm.program, TRIM(LEFT(L$10, FIND(\", Transferability\", L$10) - 1) & \" - \" & RIGHT(L$10, 8)),\n_xlpm.criteria, VALUE(_xlpm.objectCode) & \"|\" & _xlpm.program & \"|\" & TRIM($C47),\n_xlpm.criteriaSum, SUMIF(INDEX(TrnsfrConsolidated,,5), _xlpm.criteria, INDEX(TrnsfrConsolidated,,4)),\n_xlpm.criteriaSum\n)","v":0}]
[null,null,"Non-Administrative",null,null,null,null,null,null,null,null,{"$f":"_xlfn.LET(\n_xlpm.objectCode, LEFT(LOOKUP(2, 1/(INDIRECT(\"B\" & ROW() - 6 & \":B\" & ROW())<>\"\"), INDIRECT(\"B\" & ROW() - 6 & \":B\" & ROW())), 4),\n_xlpm.program, TRIM(LEFT(L$10, FIND(\", Transferability\", L$10) - 1) & \" - \" & RIGHT(L$10, 8)),\n_xlpm.criteria, VALUE(_xlpm.objectCode) & \"|\" & _xlpm.program & \"|\" & TRIM($C48),\n_xlpm.criteriaSum, SUMIF(INDEX(TrnsfrConsolidated,,5), _xlpm.criteria, INDEX(TrnsfrConsolidated,,4)),\n_xlpm.criteriaSum\n)","v":0},{"$f":"_xlfn.LET(\n_xlpm.objectCode, LEFT(LOOKUP(2, 1/(INDIRECT(\"B\" & ROW() - 6 & \":B\" & ROW())<>\"\"), INDIRECT(\"B\" & ROW() - 6 & \":B\" & ROW())), 4),\n_xlpm.program, TRIM(LEFT(M$10, FIND(\", Transferability\", M$10) - 1) & \" - \" & RIGHT(M$10, 8)),\n_xlpm.criteria, VALUE(_xlpm.objectCode) & \"|\" & _xlpm.program & \"|\" & TRIM($C48),\n_xlpm.criteriaSum, SUMIF(INDEX(TrnsfrConsolidated,,5), _xlpm.criteria, INDEX(TrnsfrConsolidated,,4)),\n_xlpm.criteriaSum\n)","v":0},{"$f":"_xlfn.LET(\n_xlpm.objectCode, LEFT(LOOKUP(2, 1/(INDIRECT(\"B\" & ROW() - 6 & \":B\" & ROW())<>\"\"), INDIRECT(\"B\" & ROW() - 6 & \":B\" & ROW())), 4),\n_xlpm.program, TRIM(LEFT(N$10, FIND(\", Transferability\", N$10) - 1) & \" - \" & RIGHT(N$10, 8)),\n_xlpm.criteria, VALUE(_xlpm.objectCode) & \"|\" & _xlpm.program & \"|\" & TRIM($C48),\n_xlpm.criteriaSum, SUMIF(INDEX(TrnsfrConsolidated,,5), _xlpm.criteria, INDEX(TrnsfrConsolidated,,4)),\n_xlpm.criteriaSum\n)","v":0},{"$f":"_xlfn.LET(\n_xlpm.objectCode, LEFT(LOOKUP(2, 1/(INDIRECT(\"B\" & ROW() - 6 & \":B\" & ROW())<>\"\"), INDIRECT(\"B\" & ROW() - 6 & \":B\" & ROW())), 4),\n_xlpm.program, TRIM(LEFT(O$10, FIND(\", Transferability\", O$10) - 1) & \" - \" & RIGHT(O$10, 8)),\n_xlpm.criteria, VALUE(_xlpm.objectCode) & \"|\" & _xlpm.program & \"|\" & TRIM($C48),\n_xlpm.criteriaSum, SUMIF(INDEX(TrnsfrConsolidated,,5), _xlpm.criteria, INDEX(TrnsfrConsolidated,,4)),\n_xlpm.criteriaSum\n)","v":0}]
[null,null,"Indirect Costs",null,null,null,null,null,null,null,null,{"$f":"_xlfn.LET(\n_xlpm.objectCode, LEFT(LOOKUP(2, 1/(INDIRECT(\"B\" & ROW() - 6 & \":B\" & ROW())<>\"\"), INDIRECT(\"B\" & ROW() - 6 & \":B\" & ROW())), 4),\n_xlpm.program, TRIM(LEFT(L$10, FIND(\", Transferability\", L$10) - 1) & \" - \" & RIGHT(L$10, 8)),\n_xlpm.criteria, VALUE(_xlpm.objectCode) & \"|\" & _xlpm.program & \"|\" & TRIM($C49),\n_xlpm.criteriaSum, SUMIF(INDEX(TrnsfrConsolidated,,5), _xlpm.criteria, INDEX(TrnsfrConsolidated,,4)),\n_xlpm.criteriaSum\n)","v":0},{"$f":"_xlfn.LET(\n_xlpm.objectCode, LEFT(LOOKUP(2, 1/(INDIRECT(\"B\" & ROW() - 6 & \":B\" & ROW())<>\"\"), INDIRECT(\"B\" & ROW() - 6 & \":B\" & ROW())), 4),\n_xlpm.program, TRIM(LEFT(M$10, FIND(\", Transferability\", M$10) - 1) & \" - \" & RIGHT(M$10, 8)),\n_xlpm.criteria, VALUE(_xlpm.objectCode) & \"|\" & _xlpm.program & \"|\" & TRIM($C49),\n_xlpm.criteriaSum, SUMIF(INDEX(TrnsfrConsolidated,,5), _xlpm.criteria, INDEX(TrnsfrConsolidated,,4)),\n_xlpm.criteriaSum\n)","v":0},{"$f":"_xlfn.LET(\n_xlpm.objectCode, LEFT(LOOKUP(2, 1/(INDIRECT(\"B\" & ROW() - 6 & \":B\" & ROW())<>\"\"), INDIRECT(\"B\" & ROW() - 6 & \":B\" & ROW())), 4),\n_xlpm.program, TRIM(LEFT(N$10, FIND(\", Transferability\", N$10) - 1) & \" - \" & RIGHT(N$10, 8)),\n_xlpm.criteria, VALUE(_xlpm.objectCode) & \"|\" & _xlpm.program & \"|\" & TRIM($C49),\n_xlpm.criteriaSum, SUMIF(INDEX(TrnsfrConsolidated,,5), _xlpm.criteria, INDEX(TrnsfrConsolidated,,4)),\n_xlpm.criteriaSum\n)","v":0},{"$f":"_xlfn.LET(\n_xlpm.objectCode, LEFT(LOOKUP(2, 1/(INDIRECT(\"B\" & ROW() - 6 & \":B\" & ROW())<>\"\"), INDIRECT(\"B\" & ROW() - 6 & \":B\" & ROW())), 4),\n_xlpm.program, TRIM(LEFT(O$10, FIND(\", Transferability\", O$10) - 1) & \" - \" & RIGHT(O$10, 8)),\n_xlpm.criteria, VALUE(_xlpm.objectCode) & \"|\" & _xlpm.program & \"|\" & TRIM($C49),\n_xlpm.criteriaSum, SUMIF(INDEX(TrnsfrConsolidated,,5), _xlpm.criteria, INDEX(TrnsfrConsolidated,,4)),\n_xlpm.criteriaSum\n)","v":0}]
[null,null,"Total Other Charges",null,null,{"$f":"SUM(F43:F49)","v":0},{"$f":"SUM(G43:G49)","v":0},0,0,0,0,0,0,0,0,0,0,{"$f":"IF(SUM(Q438)=SUM(F50:Q50),\"Yes\",\"No - Please review your entries.\")","v":"Yes"}]
[null,"6000 - \nMaterials\nand Supplies","Non Set-Aside",null,null,{"$f":"_xlfn.LET(\n_xlpm.objectCode, LEFT(LOOKUP(2, 1/(INDIRECT(\"B\" & ROW() - 6 & \":B\" & ROW())<>\"\"), INDIRECT(\"B\" & ROW() - 6 & \":B\" & ROW())), 4),\n_xlpm.program, TRIM(LEFT(F$10, FIND(\", Transferability\", F$10) - 1) & \" - \" & RIGHT(F$10, 8)),\n_xlpm.criteria, VALUE(_xlpm.objectCode) & \"|\" & _xlpm.program & \"|\" & TRIM($C51),\n_xlpm.criteriaSum, SUMIF(INDEX(TrnsfrConsolidated,,5), _xlpm.criteria, INDEX(TrnsfrConsolidated,,4)),\n_xlpm.criteriaSum\n)","v":0},{"$f":"_xlfn.LET(\n_xlpm.objectCode, LEFT(LOOKUP(2, 1/(INDIRECT(\"B\" & ROW() - 6 & \":B\" & ROW())<>\"\"), INDIRECT(\"B\" & ROW() - 6 & \":B\" & ROW())), 4),\n_xlpm.program, TRIM(LEFT(G$10, FIND(\", Transferability\", G$10) - 1) & \" - \" & RIGHT(G$10, 8)),\n_xlpm.criteria, VALUE(_xlpm.objectCode) & \"|\" & _xlpm.program & \"|\" & TRIM($C51),\n_xlpm.criteriaSum, SUMIF(INDEX(TrnsfrConsolidated,,5), _xlpm.criteria, INDEX(TrnsfrConsolidated,,4)),\n_xlpm.criteriaSum\n)","v":0},{"$f":"_xlfn.LET(\n_xlpm.objectCode, LEFT(LOOKUP(2, 1/(INDIRECT(\"B\" & ROW() - 6 & \":B\" & ROW())<>\"\"), INDIRECT(\"B\" & ROW() - 6 & \":B\" & ROW())), 4),\n_xlpm.program, TRIM(LEFT(H$10, FIND(\", Transferability\", H$10) - 1) & \" - \" & RIGHT(H$10, 8)),\n_xlpm.criteria, VALUE(_xlpm.objectCode) & \"|\" & _xlpm.program & \"|\" & TRIM($C51),\n_xlpm.criteriaSum, SUMIF(INDEX(TrnsfrConsolidated,,5), _xlpm.criteria, INDEX(TrnsfrConsolidated,,4)),\n_xlpm.criteriaSum\n)","v":0},{"$f":"_xlfn.LET(\n_xlpm.objectCode, LEFT(LOOKUP(2, 1/(INDIRECT(\"B\" & ROW() - 6 & \":B\" & ROW())<>\"\"), INDIRECT(\"B\" & ROW() - 6 & \":B\" & ROW())), 4),\n_xlpm.program, TRIM(LEFT(I$10, FIND(\", Transferability\", I$10) - 1) & \" - \" & RIGHT(I$10, 8)),\n_xlpm.criteria, VALUE(_xlpm.objectCode) & \"|\" & _xlpm.program & \"|\" & TRIM($C51),\n_xlpm.criteriaSum, SUMIF(INDEX(TrnsfrConsolidated,,5), _xlpm.criteria, INDEX(TrnsfrConsolidated,,4)),\n_xlpm.criteriaSum\n)","v":0},{"$f":"_xlfn.LET(\n_xlpm.objectCode, LEFT(LOOKUP(2, 1/(INDIRECT(\"B\" & ROW() - 6 & \":B\" & ROW())<>\"\"), INDIRECT(\"B\" & ROW() - 6 & \":B\" & ROW())), 4),\n_xlpm.program, TRIM(LEFT(J$10, FIND(\", Transferability\", J$10) - 1) & \" - \" & RIGHT(J$10, 8)),\n_xlpm.criteria, VALUE(_xlpm.objectCode) & \"|\" & _xlpm.program & \"|\" & TRIM($C51),\n_xlpm.criteriaSum, SUMIF(INDEX(TrnsfrConsolidated,,5), _xlpm.criteria, INDEX(TrnsfrConsolidated,,4)),\n_xlpm.criteriaSum\n)","v":0},{"$f":"_xlfn.LET(\n_xlpm.objectCode, LEFT(LOOKUP(2, 1/(INDIRECT(\"B\" & ROW() - 6 & \":B\" & ROW())<>\"\"), INDIRECT(\"B\" & ROW() - 6 & \":B\" & ROW())), 4),\n_xlpm.program, TRIM(LEFT(K$10, FIND(\", Transferability\", K$10) - 1) & \" - \" & RIGHT(K$10, 8)),\n_xlpm.criteria, VALUE(_xlpm.objectCode) & \"|\" & _xlpm.program & \"|\" & TRIM($C51),\n_xlpm.criteriaSum, SUMIF(INDEX(TrnsfrConsolidated,,5), _xlpm.criteria, INDEX(TrnsfrConsolidated,,4)),\n_xlpm.criteriaSum\n)","v":0},null,null,null,null,{"$f":"_xlfn.LET(\n_xlpm.objectCode, LEFT(LOOKUP(2, 1/(INDIRECT(\"B\" & ROW() - 6 & \":B\" & ROW())<>\"\"), INDIRECT(\"B\" & ROW() - 6 & \":B\" & ROW())), 4),\n_xlpm.program, TRIM(LEFT(P$10, FIND(\", Transferability\", P$10) - 1) & \" - \" & RIGHT(P$10, 8)),\n_xlpm.criteria, VALUE(_xlpm.objectCode) & \"|\" & _xlpm.program & \"|\" & TRIM($C51),\n_xlpm.criteriaSum, SUMIF(INDEX(TrnsfrConsolidated,,5), _xlpm.criteria, INDEX(TrnsfrConsolidated,,4)),\n_xlpm.criteriaSum\n)","v":0},{"$f":"_xlfn.LET(\n_xlpm.objectCode, LEFT(LOOKUP(2, 1/(INDIRECT(\"B\" & ROW() - 6 & \":B\" & ROW())<>\"\"), INDIRECT(\"B\" & ROW() - 6 & \":B\" & ROW())), 4),\n_xlpm.program, TRIM(LEFT(Q$10, FIND(\", Transferability\", Q$10) - 1) & \" - \" & RIGHT(Q$10, 8)),\n_xlpm.criteria, VALUE(_xlpm.objectCode) & \"|\" & _xlpm.program & \"|\" & TRIM($C51),\n_xlpm.criteriaSum, SUMIF(INDEX(TrnsfrConsolidated,,5), _xlpm.criteria, INDEX(TrnsfrConsolidated,,4)),\n_xlpm.criteriaSum\n)","v":0}]
[null,null,"Set-Aside",null,null,{"$f":"_xlfn.LET(\n_xlpm.objectCode, LEFT(LOOKUP(2, 1/(INDIRECT(\"B\" & ROW() - 6 & \":B\" & ROW())<>\"\"), INDIRECT(\"B\" & ROW() - 6 & \":B\" & ROW())), 4),\n_xlpm.program, TRIM(LEFT(F$10, FIND(\", Transferability\", F$10) - 1) & \" - \" & RIGHT(F$10, 8)),\n_xlpm.criteria, VALUE(_xlpm.objectCode) & \"|\" & _xlpm.program & \"|\" & TRIM($C52),\n_xlpm.criteriaSum, SUMIF(INDEX(TrnsfrConsolidated,,5), _xlpm.criteria, INDEX(TrnsfrConsolidated,,4)),\n_xlpm.criteriaSum\n)","v":0},{"$f":"_xlfn.LET(\n_xlpm.objectCode, LEFT(LOOKUP(2, 1/(INDIRECT(\"B\" & ROW() - 6 & \":B\" & ROW())<>\"\"), INDIRECT(\"B\" & ROW() - 6 & \":B\" & ROW())), 4),\n_xlpm.program, TRIM(LEFT(G$10, FIND(\", Transferability\", G$10) - 1) & \" - \" & RIGHT(G$10, 8)),\n_xlpm.criteria, VALUE(_xlpm.objectCode) & \"|\" & _xlpm.program & \"|\" & TRIM($C52),\n_xlpm.criteriaSum, SUMIF(INDEX(TrnsfrConsolidated,,5), _xlpm.criteria, INDEX(TrnsfrConsolidated,,4)),\n_xlpm.criteriaSum\n)","v":0}]
[null,null,"Parent and Family Engagement Set-Aside",null,null,{"$f":"_xlfn.LET(\n_xlpm.objectCode, LEFT(LOOKUP(2, 1/(INDIRECT(\"B\" & ROW() - 6 & \":B\" & ROW())<>\"\"), INDIRECT(\"B\" & ROW() - 6 & \":B\" & ROW())), 4),\n_xlpm.program, TRIM(LEFT(F$10, FIND(\", Transferability\", F$10) - 1) & \" - \" & RIGHT(F$10, 8)),\n_xlpm.criteria, VALUE(_xlpm.objectCode) & \"|\" & _xlpm.program & \"|\" & TRIM($C53),\n_xlpm.criteriaSum, SUMIF(INDEX(TrnsfrConsolidated,,5), _xlpm.criteria, INDEX(TrnsfrConsolidated,,4)),\n_xlpm.criteriaSum\n)","v":0},{"$f":"_xlfn.LET(\n_xlpm.objectCode, LEFT(LOOKUP(2, 1/(INDIRECT(\"B\" & ROW() - 6 & \":B\" & ROW())<>\"\"), INDIRECT(\"B\" & ROW() - 6 & \":B\" & ROW())), 4),\n_xlpm.program, TRIM(LEFT(G$10, FIND(\", Transferability\", G$10) - 1) & \" - \" & RIGHT(G$10, 8)),\n_xlpm.criteria, VALUE(_xlpm.objectCode) & \"|\" & _xlpm.program & \"|\" & TRIM($C53),\n_xlpm.criteriaSum, SUMIF(INDEX(TrnsfrConsolidated,,5), _xlpm.criteria, INDEX(TrnsfrConsolidated,,4)),\n_xlpm.criteriaSum\n)","v":0}]
[null,null,"Private School Set-Aside ",null,null,{"$f":"_xlfn.LET(\n_xlpm.objectCode, LEFT(LOOKUP(2, 1/(INDIRECT(\"B\" & ROW() - 6 & \":B\" & ROW())<>\"\"), INDIRECT(\"B\" & ROW() - 6 & \":B\" & ROW())), 4),\n_xlpm.program, TRIM(LEFT(F$10, FIND(\", Transferability\", F$10) - 1) & \" - \" & RIGHT(F$10, 8)),\n_xlpm.criteria, VALUE(_xlpm.objectCode) & \"|\" & _xlpm.program & \"|\" & TRIM($C54),\n_xlpm.criteriaSum, SUMIF(INDEX(TrnsfrConsolidated,,5), _xlpm.criteria, INDEX(TrnsfrConsolidated,,4)),\n_xlpm.criteriaSum\n)","v":0},{"$f":"_xlfn.LET(\n_xlpm.objectCode, LEFT(LOOKUP(2, 1/(INDIRECT(\"B\" & ROW() - 6 & \":B\" & ROW())<>\"\"), INDIRECT(\"B\" & ROW() - 6 & \":B\" & ROW())), 4),\n_xlpm.program, TRIM(LEFT(G$10, FIND(\", Transferability\", G$10) - 1) & \" - \" & RIGHT(G$10, 8)),\n_xlpm.criteria, VALUE(_xlpm.objectCode) & \"|\" & _xlpm.program & \"|\" & TRIM($C54),\n_xlpm.criteriaSum, SUMIF(INDEX(TrnsfrConsolidated,,5), _xlpm.criteria, INDEX(TrnsfrConsolidated,,4)),\n_xlpm.criteriaSum\n)","v":0},{"$f":"_xlfn.LET(\n_xlpm.objectCode, LEFT(LOOKUP(2, 1/(INDIRECT(\"B\" & ROW() - 6 & \":B\" & ROW())<>\"\"), INDIRECT(\"B\" & ROW() - 6 & \":B\" & ROW())), 4),\n_xlpm.program, TRIM(LEFT(H$10, FIND(\", Transferability\", H$10) - 1) & \" - \" & RIGHT(H$10, 8)),\n_xlpm.criteria, VALUE(_xlpm.objectCode) & \"|\" & _xlpm.program & \"|\" & TRIM($C54),\n_xlpm.criteriaSum, SUMIF(INDEX(TrnsfrConsolidated,,5), _xlpm.criteria, INDEX(TrnsfrConsolidated,,4)),\n_xlpm.criteriaSum\n)","v":0},{"$f":"_xlfn.LET(\n_xlpm.objectCode, LEFT(LOOKUP(2, 1/(INDIRECT(\"B\" & ROW() - 6 & \":B\" & ROW())<>\"\"), INDIRECT(\"B\" & ROW() - 6 & \":B\" & ROW())), 4),\n_xlpm.program, TRIM(LEFT(I$10, FIND(\", Transferability\", I$10) - 1) & \" - \" & RIGHT(I$10, 8)),\n_xlpm.criteria, VALUE(_xlpm.objectCode) & \"|\" & _xlpm.program & \"|\" & TRIM($C54),\n_xlpm.criteriaSum, SUMIF(INDEX(TrnsfrConsolidated,,5), _xlpm.criteria, INDEX(TrnsfrConsolidated,,4)),\n_xlpm.criteriaSum\n)","v":0},null,null,{"$f":"_xlfn.LET(\n_xlpm.objectCode, LEFT(LOOKUP(2, 1/(INDIRECT(\"B\" & ROW() - 6 & \":B\" & ROW())<>\"\"), INDIRECT(\"B\" & ROW() - 6 & \":B\" & ROW())), 4),\n_xlpm.program, TRIM(LEFT(L$10, FIND(\", Transferability\", L$10) - 1) & \" - \" & RIGHT(L$10, 8)),\n_xlpm.criteria, VALUE(_xlpm.objectCode) & \"|\" & _xlpm.program & \"|\" & TRIM($C54),\n_xlpm.criteriaSum, SUMIF(INDEX(TrnsfrConsolidated,,5), _xlpm.criteria, INDEX(TrnsfrConsolidated,,4)),\n_xlpm.criteriaSum\n)","v":0},{"$f":"_xlfn.LET(\n_xlpm.objectCode, LEFT(LOOKUP(2, 1/(INDIRECT(\"B\" & ROW() - 6 & \":B\" & ROW())<>\"\"), INDIRECT(\"B\" & ROW() - 6 & \":B\" & ROW())), 4),\n_xlpm.program, TRIM(LEFT(M$10, FIND(\", Transferability\", M$10) - 1) & \" - \" & RIGHT(M$10, 8)),\n_xlpm.criteria, VALUE(_xlpm.objectCode) & \"|\" & _xlpm.program & \"|\" & TRIM($C54),\n_xlpm.criteriaSum, SUMIF(INDEX(TrnsfrConsolidated,,5), _xlpm.criteria, INDEX(TrnsfrConsolidated,,4)),\n_xlpm.criteriaSum\n)","v":0},{"$f":"_xlfn.LET(\n_xlpm.objectCode, LEFT(LOOKUP(2, 1/(INDIRECT(\"B\" & ROW() - 6 & \":B\" & ROW())<>\"\"), INDIRECT(\"B\" & ROW() - 6 & \":B\" & ROW())), 4),\n_xlpm.program, TRIM(LEFT(N$10, FIND(\", Transferability\", N$10) - 1) & \" - \" & RIGHT(N$10, 8)),\n_xlpm.criteria, VALUE(_xlpm.objectCode) & \"|\" & _xlpm.program & \"|\" & TRIM($C54),\n_xlpm.criteriaSum, SUMIF(INDEX(TrnsfrConsolidated,,5), _xlpm.criteria, INDEX(TrnsfrConsolidated,,4)),\n_xlpm.criteriaSum\n)","v":0},{"$f":"_xlfn.LET(\n_xlpm.objectCode, LEFT(LOOKUP(2, 1/(INDIRECT(\"B\" & ROW() - 6 & \":B\" & ROW())<>\"\"), INDIRECT(\"B\" & ROW() - 6 & \":B\" & ROW())), 4),\n_xlpm.program, TRIM(LEFT(O$10, FIND(\", Transferability\", O$10) - 1) & \" - \" & RIGHT(O$10, 8)),\n_xlpm.criteria, VALUE(_xlpm.objectCode) & \"|\" & _xlpm.program & \"|\" & TRIM($C54),\n_xlpm.criteriaSum, SUMIF(INDEX(TrnsfrConsolidated,,5), _xlpm.criteria, INDEX(TrnsfrConsolidated,,4)),\n_xlpm.criteriaSum\n)","v":0}]
[null,null,"Administrative",null,null,null,null,null,null,null,null,{"$f":"_xlfn.LET(\n_xlpm.objectCode, LEFT(LOOKUP(2, 1/(INDIRECT(\"B\" & ROW() - 6 & \":B\" & ROW())<>\"\"), INDIRECT(\"B\" & ROW() - 6 & \":B\" & ROW())), 4),\n_xlpm.program, TRIM(LEFT(L$10, FIND(\", Transferability\", L$10) - 1) & \" - \" & RIGHT(L$10, 8)),\n_xlpm.criteria, VALUE(_xlpm.objectCode) & \"|\" & _xlpm.program & \"|\" & TRIM($C55),\n_xlpm.criteriaSum, SUMIF(INDEX(TrnsfrConsolidated,,5), _xlpm.criteria, INDEX(TrnsfrConsolidated,,4)),\n_xlpm.criteriaSum\n)","v":0},{"$f":"_xlfn.LET(\n_xlpm.objectCode, LEFT(LOOKUP(2, 1/(INDIRECT(\"B\" & ROW() - 6 & \":B\" & ROW())<>\"\"), INDIRECT(\"B\" & ROW() - 6 & \":B\" & ROW())), 4),\n_xlpm.program, TRIM(LEFT(M$10, FIND(\", Transferability\", M$10) - 1) & \" - \" & RIGHT(M$10, 8)),\n_xlpm.criteria, VALUE(_xlpm.objectCode) & \"|\" & _xlpm.program & \"|\" & TRIM($C55),\n_xlpm.criteriaSum, SUMIF(INDEX(TrnsfrConsolidated,,5), _xlpm.criteria, INDEX(TrnsfrConsolidated,,4)),\n_xlpm.criteriaSum\n)","v":0},{"$f":"_xlfn.LET(\n_xlpm.objectCode, LEFT(LOOKUP(2, 1/(INDIRECT(\"B\" & ROW() - 6 & \":B\" & ROW())<>\"\"), INDIRECT(\"B\" & ROW() - 6 & \":B\" & ROW())), 4),\n_xlpm.program, TRIM(LEFT(N$10, FIND(\", Transferability\", N$10) - 1) & \" - \" & RIGHT(N$10, 8)),\n_xlpm.criteria, VALUE(_xlpm.objectCode) & \"|\" & _xlpm.program & \"|\" & TRIM($C55),\n_xlpm.criteriaSum, SUMIF(INDEX(TrnsfrConsolidated,,5), _xlpm.criteria, INDEX(TrnsfrConsolidated,,4)),\n_xlpm.criteriaSum\n)","v":0},{"$f":"_xlfn.LET(\n_xlpm.objectCode, LEFT(LOOKUP(2, 1/(INDIRECT(\"B\" & ROW() - 6 & \":B\" & ROW())<>\"\"), INDIRECT(\"B\" & ROW() - 6 & \":B\" & ROW())), 4),\n_xlpm.program, TRIM(LEFT(O$10, FIND(\", Transferability\", O$10) - 1) & \" - \" & RIGHT(O$10, 8)),\n_xlpm.criteria, VALUE(_xlpm.objectCode) & \"|\" & _xlpm.program & \"|\" & TRIM($C55),\n_xlpm.criteriaSum, SUMIF(INDEX(TrnsfrConsolidated,,5), _xlpm.criteria, INDEX(TrnsfrConsolidated,,4)),\n_xlpm.criteriaSum\n)","v":0}]
[null,null,"Non-Administrative",null,null,null,null,null,null,null,null,{"$f":"_xlfn.LET(\n_xlpm.objectCode, LEFT(LOOKUP(2, 1/(INDIRECT(\"B\" & ROW() - 6 & \":B\" & ROW())<>\"\"), INDIRECT(\"B\" & ROW() - 6 & \":B\" & ROW())), 4),\n_xlpm.program, TRIM(LEFT(L$10, FIND(\", Transferability\", L$10) - 1) & \" - \" & RIGHT(L$10, 8)),\n_xlpm.criteria, VALUE(_xlpm.objectCode) & \"|\" & _xlpm.program & \"|\" & TRIM($C56),\n_xlpm.criteriaSum, SUMIF(INDEX(TrnsfrConsolidated,,5), _xlpm.criteria, INDEX(TrnsfrConsolidated,,4)),\n_xlpm.criteriaSum\n)","v":0},null,null,{"$f":"_xlfn.LET(\n_xlpm.objectCode, LEFT(LOOKUP(2, 1/(INDIRECT(\"B\" & ROW() - 6 & \":B\" & ROW())<>\"\"), INDIRECT(\"B\" & ROW() - 6 & \":B\" & ROW())), 4),\n_xlpm.program, TRIM(LEFT(O$10, FIND(\", Transferability\", O$10) - 1) & \" - \" & RIGHT(O$10, 8)),\n_xlpm.criteria, VALUE(_xlpm.objectCode) & \"|\" & _xlpm.program & \"|\" & TRIM($C56),\n_xlpm.criteriaSum, SUMIF(INDEX(TrnsfrConsolidated,,5), _xlpm.criteria, INDEX(TrnsfrConsolidated,,4)),\n_xlpm.criteriaSum\n)","v":0}]
[null,null,"Materials",null,null,null,null,null,null,null,null,null,{"$f":"_xlfn.LET(\n_xlpm.objectCode, LEFT(LOOKUP(2, 1/(INDIRECT(\"B\" & ROW() - 6 & \":B\" & ROW())<>\"\"), INDIRECT(\"B\" & ROW() - 6 & \":B\" & ROW())), 4),\n_xlpm.program, TRIM(LEFT(M$10, FIND(\", Transferability\", M$10) - 1) & \" - \" & RIGHT(M$10, 8)),\n_xlpm.criteria, VALUE(_xlpm.objectCode) & \"|\" & _xlpm.program & \"|\" & TRIM($C57),\n_xlpm.criteriaSum, SUMIF(INDEX(TrnsfrConsolidated,,5), _xlpm.criteria, INDEX(TrnsfrConsolidated,,4)),\n_xlpm.criteriaSum\n)","v":0},{"$f":"_xlfn.LET(\n_xlpm.objectCode, LEFT(LOOKUP(2, 1/(INDIRECT(\"B\" & ROW() - 6 & \":B\" & ROW())<>\"\"), INDIRECT(\"B\" & ROW() - 6 & \":B\" & ROW())), 4),\n_xlpm.program, TRIM(LEFT(N$10, FIND(\", Transferability\", N$10) - 1) & \" - \" & RIGHT(N$10, 8)),\n_xlpm.criteria, VALUE(_xlpm.objectCode) & \"|\" & _xlpm.program & \"|\" & TRIM($C57),\n_xlpm.criteriaSum, SUMIF(INDEX(TrnsfrConsolidated,,5), _xlpm.criteria, INDEX(TrnsfrConsolidated,,4)),\n_xlpm.criteriaSum\n)","v":0}]
[null,null,"Total Materials and Supplies",null,null,{"$f":"SUM(F51:F57)","v":0},0,0,0,0,0,0,0,0,0,0,0,{"$f":"IF(SUM(Q510)=SUM(F58:Q58),\"Yes\",\"No - Please review your entries.\")","v":"Yes"}]
[null,"8000 - \nCapital\nOutlay","Non Set-Aside",null,null,{"$f":"_xlfn.LET(\n_xlpm.objectCode, LEFT(LOOKUP(2, 1/(INDIRECT(\"B\" & ROW() - 6 & \":B\" & ROW())<>\"\"), INDIRECT(\"B\" & ROW() - 6 & \":B\" & ROW())), 4),\n_xlpm.program, TRIM(LEFT(F$10, FIND(\", Transferability\", F$10) - 1) & \" - \" & RIGHT(F$10, 8)),\n_xlpm.criteria, VALUE(_xlpm.objectCode) & \"|\" & _xlpm.program & \"|\" & TRIM($C59),\n_xlpm.criteriaSum, SUMIF(INDEX(TrnsfrConsolidated,,5), _xlpm.criteria, INDEX(TrnsfrConsolidated,,4)),\n_xlpm.criteriaSum\n)","v":0},{"$f":"_xlfn.LET(\n_xlpm.objectCode, LEFT(LOOKUP(2, 1/(INDIRECT(\"B\" & ROW() - 6 & \":B\" & ROW())<>\"\"), INDIRECT(\"B\" & ROW() - 6 & \":B\" & ROW())), 4),\n_xlpm.program, TRIM(LEFT(G$10, FIND(\", Transferability\", G$10) - 1) & \" - \" & RIGHT(G$10, 8)),\n_xlpm.criteria, VALUE(_xlpm.objectCode) & \"|\" & _xlpm.program & \"|\" & TRIM($C59),\n_xlpm.criteriaSum, SUMIF(INDEX(TrnsfrConsolidated,,5), _xlpm.criteria, INDEX(TrnsfrConsolidated,,4)),\n_xlpm.criteriaSum\n)","v":0},{"$f":"_xlfn.LET(\n_xlpm.objectCode, LEFT(LOOKUP(2, 1/(INDIRECT(\"B\" & ROW() - 6 & \":B\" & ROW())<>\"\"), INDIRECT(\"B\" & ROW() - 6 & \":B\" & ROW())), 4),\n_xlpm.program, TRIM(LEFT(H$10, FIND(\", Transferability\", H$10) - 1) & \" - \" & RIGHT(H$10, 8)),\n_xlpm.criteria, VALUE(_xlpm.objectCode) & \"|\" & _xlpm.program & \"|\" & TRIM($C59),\n_xlpm.criteriaSum, SUMIF(INDEX(TrnsfrConsolidated,,5), _xlpm.criteria, INDEX(TrnsfrConsolidated,,4)),\n_xlpm.criteriaSum\n)","v":0},{"$f":"_xlfn.LET(\n_xlpm.objectCode, LEFT(LOOKUP(2, 1/(INDIRECT(\"B\" & ROW() - 6 & \":B\" & ROW())<>\"\"), INDIRECT(\"B\" & ROW() - 6 & \":B\" & ROW())), 4),\n_xlpm.program, TRIM(LEFT(I$10, FIND(\", Transferability\", I$10) - 1) & \" - \" & RIGHT(I$10, 8)),\n_xlpm.criteria, VALUE(_xlpm.objectCode) & \"|\" & _xlpm.program & \"|\" & TRIM($C59),\n_xlpm.criteriaSum, SUMIF(INDEX(TrnsfrConsolidated,,5), _xlpm.criteria, INDEX(TrnsfrConsolidated,,4)),\n_xlpm.criteriaSum\n)","v":0},{"$f":"_xlfn.LET(\n_xlpm.objectCode, LEFT(LOOKUP(2, 1/(INDIRECT(\"B\" & ROW() - 6 & \":B\" & ROW())<>\"\"), INDIRECT(\"B\" & ROW() - 6 & \":B\" & ROW())), 4),\n_xlpm.program, TRIM(LEFT(J$10, FIND(\", Transferability\", J$10) - 1) & \" - \" & RIGHT(J$10, 8)),\n_xlpm.criteria, VALUE(_xlpm.objectCode) & \"|\" & _xlpm.program & \"|\" & TRIM($C59),\n_xlpm.criteriaSum, SUMIF(INDEX(TrnsfrConsolidated,,5), _xlpm.criteria, INDEX(TrnsfrConsolidated,,4)),\n_xlpm.criteriaSum\n)","v":0},{"$f":"_xlfn.LET(\n_xlpm.objectCode, LEFT(LOOKUP(2, 1/(INDIRECT(\"B\" & ROW() - 6 & \":B\" & ROW())<>\"\"), INDIRECT(\"B\" & ROW() - 6 & \":B\" & ROW())), 4),\n_xlpm.program, TRIM(LEFT(K$10, FIND(\", Transferability\", K$10) - 1) & \" - \" & RIGHT(K$10, 8)),\n_xlpm.criteria, VALUE(_xlpm.objectCode) & \"|\" & _xlpm.program & \"|\" & TRIM($C59),\n_xlpm.criteriaSum, SUMIF(INDEX(TrnsfrConsolidated,,5), _xlpm.criteria, INDEX(TrnsfrConsolidated,,4)),\n_xlpm.criteriaSum\n)","v":0},null,null,null,null,{"$f":"_xlfn.LET(\n_xlpm.objectCode, LEFT(LOOKUP(2, 1/(INDIRECT(\"B\" & ROW() - 6 & \":B\" & ROW())<>\"\"), INDIRECT(\"B\" & ROW() - 6 & \":B\" & ROW())), 4),\n_xlpm.program, TRIM(LEFT(P$10, FIND(\", Transferability\", P$10) - 1) & \" - \" & RIGHT(P$10, 8)),\n_xlpm.criteria, VALUE(_xlpm.objectCode) & \"|\" & _xlpm.program & \"|\" & TRIM($C59),\n_xlpm.criteriaSum, SUMIF(INDEX(TrnsfrConsolidated,,5), _xlpm.criteria, INDEX(TrnsfrConsolidated,,4)),\n_xlpm.criteriaSum\n)","v":0},{"$f":"_xlfn.LET(\n_xlpm.objectCode, LEFT(LOOKUP(2, 1/(INDIRECT(\"B\" & ROW() - 6 & \":B\" & ROW())<>\"\"), INDIRECT(\"B\" & ROW() - 6 & \":B\" & ROW())), 4),\n_xlpm.program, TRIM(LEFT(Q$10, FIND(\", Transferability\", Q$10) - 1) & \" - \" & RIGHT(Q$10, 8)),\n_xlpm.criteria, VALUE(_xlpm.objectCode) & \"|\" & _xlpm.program & \"|\" & TRIM($C59),\n_xlpm.criteriaSum, SUMIF(INDEX(TrnsfrConsolidated,,5), _xlpm.criteria, INDEX(TrnsfrConsolidated,,4)),\n_xlpm.criteriaSum\n)","v":0}]
[null,null,"Set-Aside",null,null,{"$f":"_xlfn.LET(\n_xlpm.objectCode, LEFT(LOOKUP(2, 1/(INDIRECT(\"B\" & ROW() - 6 & \":B\" & ROW())<>\"\"), INDIRECT(\"B\" & ROW() - 6 & \":B\" & ROW())), 4),\n_xlpm.program, TRIM(LEFT(F$10, FIND(\", Transferability\", F$10) - 1) & \" - \" & RIGHT(F$10, 8)),\n_xlpm.criteria, VALUE(_xlpm.objectCode) & \"|\" & _xlpm.program & \"|\" & TRIM($C60),\n_xlpm.criteriaSum, SUMIF(INDEX(TrnsfrConsolidated,,5), _xlpm.criteria, INDEX(TrnsfrConsolidated,,4)),\n_xlpm.criteriaSum\n)","v":0},{"$f":"_xlfn.LET(\n_xlpm.objectCode, LEFT(LOOKUP(2, 1/(INDIRECT(\"B\" & ROW() - 6 & \":B\" & ROW())<>\"\"), INDIRECT(\"B\" & ROW() - 6 & \":B\" & ROW())), 4),\n_xlpm.program, TRIM(LEFT(G$10, FIND(\", Transferability\", G$10) - 1) & \" - \" & RIGHT(G$10, 8)),\n_xlpm.criteria, VALUE(_xlpm.objectCode) & \"|\" & _xlpm.program & \"|\" & TRIM($C60),\n_xlpm.criteriaSum, SUMIF(INDEX(TrnsfrConsolidated,,5), _xlpm.criteria, INDEX(TrnsfrConsolidated,,4)),\n_xlpm.criteriaSum\n)","v":0}]
[null,null,"Parent and Family Engagement Set-Aside",null,null,{"$f":"_xlfn.LET(\n_xlpm.objectCode, LEFT(LOOKUP(2, 1/(INDIRECT(\"B\" & ROW() - 6 & \":B\" & ROW())<>\"\"), INDIRECT(\"B\" & ROW() - 6 & \":B\" & ROW())), 4),\n_xlpm.program, TRIM(LEFT(F$10, FIND(\", Transferability\", F$10) - 1) & \" - \" & RIGHT(F$10, 8)),\n_xlpm.criteria, VALUE(_xlpm.objectCode) & \"|\" & _xlpm.program & \"|\" & TRIM($C61),\n_xlpm.criteriaSum, SUMIF(INDEX(TrnsfrConsolidated,,5), _xlpm.criteria, INDEX(TrnsfrConsolidated,,4)),\n_xlpm.criteriaSum\n)","v":0},{"$f":"_xlfn.LET(\n_xlpm.objectCode, LEFT(LOOKUP(2, 1/(INDIRECT(\"B\" & ROW() - 6 & \":B\" & ROW())<>\"\"), INDIRECT(\"B\" & ROW() - 6 & \":B\" & ROW())), 4),\n_xlpm.program, TRIM(LEFT(G$10, FIND(\", Transferability\", G$10) - 1) & \" - \" & RIGHT(G$10, 8)),\n_xlpm.criteria, VALUE(_xlpm.objectCode) & \"|\" & _xlpm.program & \"|\" & TRIM($C61),\n_xlpm.criteriaSum, SUMIF(INDEX(TrnsfrConsolidated,,5), _xlpm.criteria, INDEX(TrnsfrConsolidated,,4)),\n_xlpm.criteriaSum\n)","v":0}]
[null,null,"Private School Set-Aside ",null,null,{"$f":"_xlfn.LET(\n_xlpm.objectCode, LEFT(LOOKUP(2, 1/(INDIRECT(\"B\" & ROW() - 6 & \":B\" & ROW())<>\"\"), INDIRECT(\"B\" & ROW() - 6 & \":B\" & ROW())), 4),\n_xlpm.program, TRIM(LEFT(F$10, FIND(\", Transferability\", F$10) - 1) & \" - \" & RIGHT(F$10, 8)),\n_xlpm.criteria, VALUE(_xlpm.objectCode) & \"|\" & _xlpm.program & \"|\" & TRIM($C62),\n_xlpm.criteriaSum, SUMIF(INDEX(TrnsfrConsolidated,,5), _xlpm.criteria, INDEX(TrnsfrConsolidated,,4)),\n_xlpm.criteriaSum\n)","v":0},{"$f":"_xlfn.LET(\n_xlpm.objectCode, LEFT(LOOKUP(2, 1/(INDIRECT(\"B\" & ROW() - 6 & \":B\" & ROW())<>\"\"), INDIRECT(\"B\" & ROW() - 6 & \":B\" & ROW())), 4),\n_xlpm.program, TRIM(LEFT(G$10, FIND(\", Transferability\", G$10) - 1) & \" - \" & RIGHT(G$10, 8)),\n_xlpm.criteria, VALUE(_xlpm.objectCode) & \"|\" & _xlpm.program & \"|\" & TRIM($C62),\n_xlpm.criteriaSum, SUMIF(INDEX(TrnsfrConsolidated,,5), _xlpm.criteria, INDEX(TrnsfrConsolidated,,4)),\n_xlpm.criteriaSum\n)","v":0},{"$f":"_xlfn.LET(\n_xlpm.objectCode, LEFT(LOOKUP(2, 1/(INDIRECT(\"B\" & ROW() - 6 & \":B\" & ROW())<>\"\"), INDIRECT(\"B\" & ROW() - 6 & \":B\" & ROW())), 4),\n_xlpm.program, TRIM(LEFT(H$10, FIND(\", Transferability\", H$10) - 1) & \" - \" & RIGHT(H$10, 8)),\n_xlpm.criteria, VALUE(_xlpm.objectCode) & \"|\" & _xlpm.program & \"|\" & TRIM($C62),\n_xlpm.criteriaSum, SUMIF(INDEX(TrnsfrConsolidated,,5), _xlpm.criteria, INDEX(TrnsfrConsolidated,,4)),\n_xlpm.criteriaSum\n)","v":0},{"$f":"_xlfn.LET(\n_xlpm.objectCode, LEFT(LOOKUP(2, 1/(INDIRECT(\"B\" & ROW() - 6 & \":B\" & ROW())<>\"\"), INDIRECT(\"B\" & ROW() - 6 & \":B\" & ROW())), 4),\n_xlpm.program, TRIM(LEFT(I$10, FIND(\", Transferability\", I$10) - 1) & \" - \" & RIGHT(I$10, 8)),\n_xlpm.criteria, VALUE(_xlpm.objectCode) & \"|\" & _xlpm.program & \"|\" & TRIM($C62),\n_xlpm.criteriaSum, SUMIF(INDEX(TrnsfrConsolidated,,5), _xlpm.criteria, INDEX(TrnsfrConsolidated,,4)),\n_xlpm.criteriaSum\n)","v":0},null,null,null,null,null,{"$f":"_xlfn.LET(\n_xlpm.objectCode, LEFT(LOOKUP(2, 1/(INDIRECT(\"B\" & ROW() - 6 & \":B\" & ROW())<>\"\"), INDIRECT(\"B\" & ROW() - 6 & \":B\" & ROW())), 4),\n_xlpm.program, TRIM(LEFT(O$10, FIND(\", Transferability\", O$10) - 1) & \" - \" & RIGHT(O$10, 8)),\n_xlpm.criteria, VALUE(_xlpm.objectCode) & \"|\" & _xlpm.program & \"|\" & TRIM($C62),\n_xlpm.criteriaSum, SUMIF(INDEX(TrnsfrConsolidated,,5), _xlpm.criteria, INDEX(TrnsfrConsolidated,,4)),\n_xlpm.criteriaSum\n)","v":0}]
[null,null,"Non-Administrative",null,null,null,null,null,null,null,null,{"$f":"_xlfn.LET(\n_xlpm.objectCode, LEFT(LOOKUP(2, 1/(INDIRECT(\"B\" & ROW() - 6 & \":B\" & ROW())<>\"\"), INDIRECT(\"B\" & ROW() - 6 & \":B\" & ROW())), 4),\n_xlpm.program, TRIM(LEFT(L$10, FIND(\", Transferability\", L$10) - 1) & \" - \" & RIGHT(L$10, 8)),\n_xlpm.criteria, VALUE(_xlpm.objectCode) & \"|\" & _xlpm.program & \"|\" & TRIM($C63),\n_xlpm.criteriaSum, SUMIF(INDEX(TrnsfrConsolidated,,5), _xlpm.criteria, INDEX(TrnsfrConsolidated,,4)),\n_xlpm.criteriaSum\n)","v":0},{"$f":"_xlfn.LET(\n_xlpm.objectCode, LEFT(LOOKUP(2, 1/(INDIRECT(\"B\" & ROW() - 6 & \":B\" & ROW())<>\"\"), INDIRECT(\"B\" & ROW() - 6 & \":B\" & ROW())), 4),\n_xlpm.program, TRIM(LEFT(M$10, FIND(\", Transferability\", M$10) - 1) & \" - \" & RIGHT(M$10, 8)),\n_xlpm.criteria, VALUE(_xlpm.objectCode) & \"|\" & _xlpm.program & \"|\" & TRIM($C63),\n_xlpm.criteriaSum, SUMIF(INDEX(TrnsfrConsolidated,,5), _xlpm.criteria, INDEX(TrnsfrConsolidated,,4)),\n_xlpm.criteriaSum\n)","v":0},{"$f":"_xlfn.LET(\n_xlpm.objectCode, LEFT(LOOKUP(2, 1/(INDIRECT(\"B\" & ROW() - 6 & \":B\" & ROW())<>\"\"), INDIRECT(\"B\" & ROW() - 6 & \":B\" & ROW())), 4),\n_xlpm.program, TRIM(LEFT(N$10, FIND(\", Transferability\", N$10) - 1) & \" - \" & RIGHT(N$10, 8)),\n_xlpm.criteria, VALUE(_xlpm.objectCode) & \"|\" & _xlpm.program & \"|\" & TRIM($C63),\n_xlpm.criteriaSum, SUMIF(INDEX(TrnsfrConsolidated,,5), _xlpm.criteria, INDEX(TrnsfrConsolidated,,4)),\n_xlpm.criteriaSum\n)","v":0},{"$f":"_xlfn.LET(\n_xlpm.objectCode, LEFT(LOOKUP(2, 1/(INDIRECT(\"B\" & ROW() - 6 & \":B\" & ROW())<>\"\"), INDIRECT(\"B\" & ROW() - 6 & \":B\" & ROW())), 4),\n_xlpm.program, TRIM(LEFT(O$10, FIND(\", Transferability\", O$10) - 1) & \" - \" & RIGHT(O$10, 8)),\n_xlpm.criteria, VALUE(_xlpm.objectCode) & \"|\" & _xlpm.program & \"|\" & TRIM($C63),\n_xlpm.criteriaSum, SUMIF(INDEX(TrnsfrConsolidated,,5), _xlpm.criteria, INDEX(TrnsfrConsolidated,,4)),\n_xlpm.criteriaSum\n)","v":0}]
[null,null,"Total Capital Outlay",null,null,{"$f":"SUM(F59:F63)","v":0},{"$f":"SUM(G59:G63)","v":0},0,0,0,0,0,0,0,0,0,0,{"$f":"IF(SUM(Q590)=SUM(F64:Q64),\"Yes\",\"No - Please review your entries.\")","v":"Yes"}]
[null,null,"TOTAL BUDGET",null,null,{"$f":"SUM(F64,F58,F50,F42,F34,F26,F19)","v":0},0,0,0,0,0,0,0,0,0,0,0]
[null,null,"TOTAL PARENT AND FAMILY ENGAGEMENT SET-ASIDE",null,null,{"$f":"SUM(F15,F22,F29,F37,F45,F53,F61)","v":0},{"$f":"SUM(G15,G22,G29,G37,G45,G53,G61)","v":0},"N/A","N/A","N/A","N/A","N/A","N/A","N/A","N/A","N/A","N/A"]
[null,null,"TOTAL SET-ASIDE BUDGET (ADMINISTRATIVE COSTS FOR TITLE II, PART A)",null,null,{"$f":"SUM(F14,F21,F28,F36,F44,F52,F60)","v":0},{"$f":"SUM(G14,G21,G28,G36,G44,G52,G60)","v":0},"N/A","N/A","N/A","N/A",{"$f":"SUM(L17,L21,L31,L39,L47,L49,L55)","v":0},{"$f":"SUM(M17,M24,M49,M55)","v":0},{"$f":"SUM(N17,N24,N49,N55)","v":0},{"$f":"SUM(O17,O24,O31,O49,O55)","v":0},"N/A","N/A"]
[null,null,"TOTAL PRIVATE SCHOOL SET-ASIDE ",null,null,{"$f":"SUM(F16,F23,F30,F38,F46,F54,F62)","v":0},{"$f":"SUM(G16,G23,G30,G38,G46,G54,G62)","v":0},"N/A","N/A","N/A","N/A",{"$f":"SUM(L16,L23,L30,L38,L46,L54,L62)","v":0},{"$f":"SUM(M16,M23,M30,M38,M46,M54,M62)","v":0},{"$f":"SUM(N16,N23,N30,N38,N46,N54,N62)","v":0},{"$f":"SUM(O16,O23,O30,O38,O46,O54,O62)","v":0},"N/A","N/A"]
[null,null,"DOES THE PRIVATE SCHOOL SET-ASIDE MATCH THE VALUE OF ADDITIONAL SERVICES ON THE PRIVATE SCHOOL TAB?",null,null,null,null,"N/A","N/A","N/A","N/A",{"$f":"IF(SUM(L68)=SUM('Title II, Part A'!H133),\"Yes\",\"No - Please review your entries.\")","v":"Yes"},{"$f":"IF(SUM(M68:N68)=SUM('Title III, Part A'!P213),\"Yes\",\"No - Please review your entries.\")","v":"Yes"},null,{"$f":"IF(SUM(O68)=SUM('Title IV, Part A'!H179),\"Yes\",\"No - Please review your entries.\")","v":"Yes"},"N/A","N/A","Difference"]
[null,null,"DOES THE TRANSFERABILITY BUDGET SUMMARY MATCH THE TRANSFERABILITY ALLOCATION?",null,null,{"$f":"IF(SUM(F65)=SUM(F11),\"Yes\",\"No - Please review your entries.\")","v":"Yes"},{"$f":"IF(SUM(G65)=SUM(G11),\"Yes\",\"No - Please review your entries.\")","v":"Yes"},"Yes","Yes","Yes","Yes","Yes","Yes","Yes","Yes","Yes","Yes",{"$f":"SUM(F65:Q65)-SUM(F11:Q11)","v":0}]
[]
[null,"Page 29"]
[null,{"$f":"'Main Page'!$N$9","v":"2026-2027"},null,"School Division:",{"$f":"'Main Page'!$L$14","v":0},null,null,null,"Division Number:",{"$f":"'Main Page'!$L$15","v":" "},{"$f":"'Main Page'!$B$6","v":"Local Consolidated Application"}]
[null,"I.  DETAILED BUDGET BREAKDOWN"]
[null,"Prepare a detailed breakdown of the budget categories for Object Codes 1000-6000 and 8000.  Choose the appropriate category for each expense in the dropdown list under \"Federal Program Funding Source\" and \"Category.\""]
[null,"Does the Transferability Detailed Budget Breakdown Match the Transferability Allocation?",null,null,null,null,null,null,{"$f":"IF(SUM(F65:Q65)=SUM(Q136,Q210,Q283, Q366, Q438, Q510, Q590),\"Yes\",\"No - Please review your entries.\")","v":"Yes"}]
[]
[null,"DETAILED BUDGET DESCRIPTION OF OBJECT CODE 1000"]
[null,"Provide a description of the positions supported with funds from this program. Indicate if any positions are newly funded under this program.  Explain the supplementary nature of any new positions. Required if staff positions are to be funded by federal funds."]
[]
[]
[]
[null,"Please provide a detailed description of Title II, Part A and Title III, Part A Private School activities (if no private school set-aside is present, please enter N/A). "]
[]
[null,"Types of Staff Positions\nAdministrative, Teacher, Paraprofessional, Reading Specialist, Home School Coordinator, Other",null,null,null,null,null,null,null,"Measurable Objective",null,"Federal Program Funding Source",null,"Category",null,"FTEs","Total Cost"]
[null,"Value of professional development personnel-related services or stipends on behalf of private schools",null,null,null,null,null,null,null,null,null,null,null,null,null,null,null,null,null,null,{"$f":"IFERROR(VLOOKUP(\"1000\" & \"|\" & TRIM(L86)& \"|\" & TRIM(N86),TrnsfrXrefTable[[Detail Key]:[Summary Key]],4,FALSE),\"?\")","v":"?"}]
[null,null,null,null,null,null,null,null,null,null,null,null,null,null,null,null,null,null,null,null,{"$f":"IFERROR(VLOOKUP(\"1000\" & \"|\" & TRIM(L87)& \"|\" & TRIM(N87),TrnsfrXrefTable[[Detail Key]:[Summary Key]],4,FALSE),\"?\")","v":"?"}]
[null,null,null,null,null,null,null,null,null,null,null,null,null,null,null,null,null,null,null,null,{"$f":"IFERROR(VLOOKUP(\"1000\" & \"|\" & TRIM(L88)& \"|\" & TRIM(N88),TrnsfrXrefTable[[Detail Key]:[Summary Key]],4,FALSE),\"?\")","v":"?"}]
[null,null,null,null,null,null,null,null,null,null,null,null,null,null,null,null,null,null,null,null,{"$f":"IFERROR(VLOOKUP(\"1000\" & \"|\" & TRIM(L89)& \"|\" & TRIM(N89),TrnsfrXrefTable[[Detail Key]:[Summary Key]],4,FALSE),\"?\")","v":"?"}]
[null,null,null,null,null,null,null,null,null,null,null,null,null,null,null,null,null,null,null,null,{"$f":"IFERROR(VLOOKUP(\"1000\" & \"|\" & TRIM(L90)& \"|\" & TRIM(N90),TrnsfrXrefTable[[Detail Key]:[Summary Key]],4,FALSE),\"?\")","v":"?"}]
[null,null,null,null,null,null,null,null,null,null,null,null,null,null,null,null,null,null,null,null,{"$f":"IFERROR(VLOOKUP(\"1000\" & \"|\" & TRIM(L91)& \"|\" & TRIM(N91),TrnsfrXrefTable[[Detail Key]:[Summary Key]],4,FALSE),\"?\")","v":"?"}]
[null,null,null,null,null,null,null,null,null,null,null,null,null,null,null,null,null,null,null,null,{"$f":"IFERROR(VLOOKUP(\"1000\" & \"|\" & TRIM(L92)& \"|\" & TRIM(N92),TrnsfrXrefTable[[Detail Key]:[Summary Key]],4,FALSE),\"?\")","v":"?"}]
[null,null,null,null,null,null,null,null,null,null,null,null,null,null,null,null,null,null,null,null,{"$f":"IFERROR(VLOOKUP(\"1000\" & \"|\" & TRIM(L93)& \"|\" & TRIM(N93),TrnsfrXrefTable[[Detail Key]:[Summary Key]],4,FALSE),\"?\")","v":"?"}]
[null,null,null,null,null,null,null,null,null,null,null,null,null,null,null,null,null,null,null,null,{"$f":"IFERROR(VLOOKUP(\"1000\" & \"|\" & TRIM(L94)& \"|\" & TRIM(N94),TrnsfrXrefTable[[Detail Key]:[Summary Key]],4,FALSE),\"?\")","v":"?"}]
[null,null,null,null,null,null,null,null,null,null,null,null,null,null,null,null,null,null,null,null,{"$f":"IFERROR(VLOOKUP(\"1000\" & \"|\" & TRIM(L95)& \"|\" & TRIM(N95),TrnsfrXrefTable[[Detail Key]:[Summary Key]],4,FALSE),\"?\")","v":"?"}]
[null,null,null,null,null,null,null,null,null,null,null,null,null,null,null,null,null,null,null,null,{"$f":"IFERROR(VLOOKUP(\"1000\" & \"|\" & TRIM(L96)& \"|\" & TRIM(N96),TrnsfrXrefTable[[Detail Key]:[Summary Key]],4,FALSE),\"?\")","v":"?"}]
[null,null,null,null,null,null,null,null,null,null,null,null,null,null,null,null,null,null,null,null,{"$f":"IFERROR(VLOOKUP(\"1000\" & \"|\" & TRIM(L97)& \"|\" & TRIM(N97),TrnsfrXrefTable[[Detail Key]:[Summary Key]],4,FALSE),\"?\")","v":"?"}]
[null,null,null,null,null,null,null,null,null,null,null,null,null,null,null,null,null,null,null,null,{"$f":"IFERROR(VLOOKUP(\"1000\" & \"|\" & TRIM(L98)& \"|\" & TRIM(N98),TrnsfrXrefTable[[Detail Key]:[Summary Key]],4,FALSE),\"?\")","v":"?"}]
[null,null,null,null,null,null,null,null,null,null,null,null,null,null,null,null,null,null,null,null,{"$f":"IFERROR(VLOOKUP(\"1000\" & \"|\" & TRIM(L99)& \"|\" & TRIM(N99),TrnsfrXrefTable[[Detail Key]:[Summary Key]],4,FALSE),\"?\")","v":"?"}]
[null,null,null,null,null,null,null,null,null,null,null,null,null,null,null,null,null,null,null,null,{"$f":"IFERROR(VLOOKUP(\"1000\" & \"|\" & TRIM(L100)& \"|\" & TRIM(N100),TrnsfrXrefTable[[Detail Key]:[Summary Key]],4,FALSE),\"?\")","v":"?"}]
[null,null,null,null,null,null,null,null,null,null,null,null,null,null,null,null,null,null,null,null,{"$f":"IFERROR(VLOOKUP(\"1000\" & \"|\" & TRIM(L101)& \"|\" & TRIM(N101),TrnsfrXrefTable[[Detail Key]:[Summary Key]],4,FALSE),\"?\")","v":"?"}]
[null,null,null,null,null,null,null,null,null,null,null,null,null,null,null,null,null,null,null,null,{"$f":"IFERROR(VLOOKUP(\"1000\" & \"|\" & TRIM(L102)& \"|\" & TRIM(N102),TrnsfrXrefTable[[Detail Key]:[Summary Key]],4,FALSE),\"?\")","v":"?"}]
[null,null,null,null,null,null,null,null,null,null,null,null,null,null,null,null,null,null,null,null,{"$f":"IFERROR(VLOOKUP(\"1000\" & \"|\" & TRIM(L103)& \"|\" & TRIM(N103),TrnsfrXrefTable[[Detail Key]:[Summary Key]],4,FALSE),\"?\")","v":"?"}]
[null,null,null,null,null,null,null,null,null,null,null,null,null,null,null,null,null,null,null,null,{"$f":"IFERROR(VLOOKUP(\"1000\" & \"|\" & TRIM(L104)& \"|\" & TRIM(N104),TrnsfrXrefTable[[Detail Key]:[Summary Key]],4,FALSE),\"?\")","v":"?"}]
[null,null,null,null,null,null,null,null,null,null,null,null,null,null,null,null,null,null,null,null,{"$f":"IFERROR(VLOOKUP(\"1000\" & \"|\" & TRIM(L105)& \"|\" & TRIM(N105),TrnsfrXrefTable[[Detail Key]:[Summary Key]],4,FALSE),\"?\")","v":"?"}]
[null,null,null,null,null,null,null,null,null,null,null,null,null,null,null,null,null,null,null,null,{"$f":"IFERROR(VLOOKUP(\"1000\" & \"|\" & TRIM(L106)& \"|\" & TRIM(N106),TrnsfrXrefTable[[Detail Key]:[Summary Key]],4,FALSE),\"?\")","v":"?"}]
[null,null,null,null,null,null,null,null,null,null,null,null,null,null,null,null,null,null,null,null,{"$f":"IFERROR(VLOOKUP(\"1000\" & \"|\" & TRIM(L107)& \"|\" & TRIM(N107),TrnsfrXrefTable[[Detail Key]:[Summary Key]],4,FALSE),\"?\")","v":"?"}]
[null,null,null,null,null,null,null,null,null,null,null,null,null,null,null,null,null,null,null,null,{"$f":"IFERROR(VLOOKUP(\"1000\" & \"|\" & TRIM(L108)& \"|\" & TRIM(N108),TrnsfrXrefTable[[Detail Key]:[Summary Key]],4,FALSE),\"?\")","v":"?"}]
[null,null,null,null,null,null,null,null,null,null,null,null,null,null,null,null,null,null,null,null,{"$f":"IFERROR(VLOOKUP(\"1000\" & \"|\" & TRIM(L109)& \"|\" & TRIM(N109),TrnsfrXrefTable[[Detail Key]:[Summary Key]],4,FALSE),\"?\")","v":"?"}]
[null,null,null,null,null,null,null,null,null,null,null,null,null,null,null,null,null,null,null,null,{"$f":"IFERROR(VLOOKUP(\"1000\" & \"|\" & TRIM(L110)& \"|\" & TRIM(N110),TrnsfrXrefTable[[Detail Key]:[Summary Key]],4,FALSE),\"?\")","v":"?"}]
[null,null,null,null,null,null,null,null,null,null,null,null,null,null,null,null,null,null,null,null,{"$f":"IFERROR(VLOOKUP(\"1000\" & \"|\" & TRIM(L111)& \"|\" & TRIM(N111),TrnsfrXrefTable[[Detail Key]:[Summary Key]],4,FALSE),\"?\")","v":"?"}]
[null,null,null,null,null,null,null,null,null,null,null,null,null,null,null,null,null,null,null,null,{"$f":"IFERROR(VLOOKUP(\"1000\" & \"|\" & TRIM(L112)& \"|\" & TRIM(N112),TrnsfrXrefTable[[Detail Key]:[Summary Key]],4,FALSE),\"?\")","v":"?"}]
[null,null,null,null,null,null,null,null,null,null,null,null,null,null,null,null,null,null,null,null,{"$f":"IFERROR(VLOOKUP(\"1000\" & \"|\" & TRIM(L113)& \"|\" & TRIM(N113),TrnsfrXrefTable[[Detail Key]:[Summary Key]],4,FALSE),\"?\")","v":"?"}]
[null,null,null,null,null,null,null,null,null,null,null,null,null,null,null,null,null,null,null,null,{"$f":"IFERROR(VLOOKUP(\"1000\" & \"|\" & TRIM(L114)& \"|\" & TRIM(N114),TrnsfrXrefTable[[Detail Key]:[Summary Key]],4,FALSE),\"?\")","v":"?"}]
[null,null,null,null,null,null,null,null,null,null,null,null,null,null,null,null,null,null,null,null,{"$f":"IFERROR(VLOOKUP(\"1000\" & \"|\" & TRIM(L115)& \"|\" & TRIM(N115),TrnsfrXrefTable[[Detail Key]:[Summary Key]],4,FALSE),\"?\")","v":"?"}]
[null,null,null,null,null,null,null,null,null,null,null,null,null,null,null,null,null,null,null,null,{"$f":"IFERROR(VLOOKUP(\"1000\" & \"|\" & TRIM(L116)& \"|\" & TRIM(N116),TrnsfrXrefTable[[Detail Key]:[Summary Key]],4,FALSE),\"?\")","v":"?"}]
[null,null,null,null,null,null,null,null,null,null,null,null,null,null,null,null,null,null,null,null,{"$f":"IFERROR(VLOOKUP(\"1000\" & \"|\" & TRIM(L117)& \"|\" & TRIM(N117),TrnsfrXrefTable[[Detail Key]:[Summary Key]],4,FALSE),\"?\")","v":"?"}]
[null,null,null,null,null,null,null,null,null,null,null,null,null,null,null,null,null,null,null,null,{"$f":"IFERROR(VLOOKUP(\"1000\" & \"|\" & TRIM(L118)& \"|\" & TRIM(N118),TrnsfrXrefTable[[Detail Key]:[Summary Key]],4,FALSE),\"?\")","v":"?"}]
[null,null,null,null,null,null,null,null,null,null,null,null,null,null,null,null,null,null,null,null,{"$f":"IFERROR(VLOOKUP(\"1000\" & \"|\" & TRIM(L119)& \"|\" & TRIM(N119),TrnsfrXrefTable[[Detail Key]:[Summary Key]],4,FALSE),\"?\")","v":"?"}]
[null,null,null,null,null,null,null,null,null,null,null,null,null,null,null,null,null,null,null,null,{"$f":"IFERROR(VLOOKUP(\"1000\" & \"|\" & TRIM(L120)& \"|\" & TRIM(N120),TrnsfrXrefTable[[Detail Key]:[Summary Key]],4,FALSE),\"?\")","v":"?"}]
[null,null,null,null,null,null,null,null,null,null,null,null,null,null,null,null,null,null,null,null,{"$f":"IFERROR(VLOOKUP(\"1000\" & \"|\" & TRIM(L121)& \"|\" & TRIM(N121),TrnsfrXrefTable[[Detail Key]:[Summary Key]],4,FALSE),\"?\")","v":"?"}]
[null,null,null,null,null,null,null,null,null,null,null,null,null,null,null,null,null,null,null,null,{"$f":"IFERROR(VLOOKUP(\"1000\" & \"|\" & TRIM(L122)& \"|\" & TRIM(N122),TrnsfrXrefTable[[Detail Key]:[Summary Key]],4,FALSE),\"?\")","v":"?"}]
[null,null,null,null,null,null,null,null,null,null,null,null,null,null,null,null,null,null,null,null,{"$f":"IFERROR(VLOOKUP(\"1000\" & \"|\" & TRIM(L123)& \"|\" & TRIM(N123),TrnsfrXrefTable[[Detail Key]:[Summary Key]],4,FALSE),\"?\")","v":"?"}]
[null,null,null,null,null,null,null,null,null,null,null,null,null,null,null,null,null,null,null,null,{"$f":"IFERROR(VLOOKUP(\"1000\" & \"|\" & TRIM(L124)& \"|\" & TRIM(N124),TrnsfrXrefTable[[Detail Key]:[Summary Key]],4,FALSE),\"?\")","v":"?"}]
[null,null,null,null,null,null,null,null,null,null,null,null,null,null,null,null,null,null,null,null,{"$f":"IFERROR(VLOOKUP(\"1000\" & \"|\" & TRIM(L125)& \"|\" & TRIM(N125),TrnsfrXrefTable[[Detail Key]:[Summary Key]],4,FALSE),\"?\")","v":"?"}]
[null,null,null,null,null,null,null,null,null,null,null,null,null,null,null,null,null,null,null,null,{"$f":"IFERROR(VLOOKUP(\"1000\" & \"|\" & TRIM(L126)& \"|\" & TRIM(N126),TrnsfrXrefTable[[Detail Key]:[Summary Key]],4,FALSE),\"?\")","v":"?"}]
[null,null,null,null,null,null,null,null,null,null,null,null,null,null,null,null,null,null,null,null,{"$f":"IFERROR(VLOOKUP(\"1000\" & \"|\" & TRIM(L127)& \"|\" & TRIM(N127),TrnsfrXrefTable[[Detail Key]:[Summary Key]],4,FALSE),\"?\")","v":"?"}]
[null,null,null,null,null,null,null,null,null,null,null,null,null,null,null,null,null,null,null,null,{"$f":"IFERROR(VLOOKUP(\"1000\" & \"|\" & TRIM(L128)& \"|\" & TRIM(N128),TrnsfrXrefTable[[Detail Key]:[Summary Key]],4,FALSE),\"?\")","v":"?"}]
[null,null,null,null,null,null,null,null,null,null,null,null,null,null,null,null,null,null,null,null,{"$f":"IFERROR(VLOOKUP(\"1000\" & \"|\" & TRIM(L129)& \"|\" & TRIM(N129),TrnsfrXrefTable[[Detail Key]:[Summary Key]],4,FALSE),\"?\")","v":"?"}]
[null,null,null,null,null,null,null,null,null,null,null,null,null,null,null,null,null,null,null,null,{"$f":"IFERROR(VLOOKUP(\"1000\" & \"|\" & TRIM(L130)& \"|\" & TRIM(N130),TrnsfrXrefTable[[Detail Key]:[Summary Key]],4,FALSE),\"?\")","v":"?"}]
[null,null,null,null,null,null,null,null,null,null,null,null,null,null,null,null,null,null,null,null,{"$f":"IFERROR(VLOOKUP(\"1000\" & \"|\" & TRIM(L131)& \"|\" & TRIM(N131),TrnsfrXrefTable[[Detail Key]:[Summary Key]],4,FALSE),\"?\")","v":"?"}]
[null,null,null,null,null,null,null,null,null,null,null,null,null,null,null,null,null,null,null,null,{"$f":"IFERROR(VLOOKUP(\"1000\" & \"|\" & TRIM(L132)& \"|\" & TRIM(N132),TrnsfrXrefTable[[Detail Key]:[Summary Key]],4,FALSE),\"?\")","v":"?"}]
[null,null,null,null,null,null,null,null,null,null,null,null,null,null,null,null,null,null,null,null,{"$f":"IFERROR(VLOOKUP(\"1000\" & \"|\" & TRIM(L133)& \"|\" & TRIM(N133),TrnsfrXrefTable[[Detail Key]:[Summary Key]],4,FALSE),\"?\")","v":"?"}]
[null,null,null,null,null,null,null,null,null,null,null,null,null,null,null,null,null,null,null,null,{"$f":"IFERROR(VLOOKUP(\"1000\" & \"|\" & TRIM(L134)& \"|\" & TRIM(N134),TrnsfrXrefTable[[Detail Key]:[Summary Key]],4,FALSE),\"?\")","v":"?"}]
[null,null,null,null,null,null,null,null,null,null,null,null,null,null,null,null,null,null,null,null,{"$f":"IFERROR(VLOOKUP(\"1000\" & \"|\" & TRIM(L135)& \"|\" & TRIM(N135),TrnsfrXrefTable[[Detail Key]:[Summary Key]],4,FALSE),\"?\")","v":"?"}]
[null,null,null,null,null,"      ",null,null,null,null,null,null,null,"Total for Object Code:",null,{"$f":"SUM(P86:P135)","v":0},{"$f":"SUM(Q86:R135)","v":0}]
[]
[null,"Page 30"]
[null,{"$f":"'Main Page'!$N$9","v":"2026-2027"},null,"School Division:",{"$f":"'Main Page'!$L$14","v":0},null,null,null,"Division Number:",{"$f":"'Main Page'!$L$15","v":" "},{"$f":"'Main Page'!$B$6","v":"Local Consolidated Application"}]
[null,"DETAILED BUDGET DESCRIPTION OF OBJECT CODE 2000"]
[null,"Indicate the fixed charge categories (such as FICA, health, etc.) and specify the amount of each."]
[]
[]
[]
[null,"Please provide a detailed description of Title II, Part A and Title III, Part A Private School activities (if no private school set-aside is present, please enter N/A). "]
[]
[null,"Item Description",null,null,null,null,null,null,null,"Measurable Objective",null,"Federal Program Funding Source",null,"Category",null,null,"Total Cost"]
[null,"Private School Set-aside",null,null,null,null,null,null,null,null,null,null,null,null,null,null,null,null,null,null,{"$f":"IFERROR(VLOOKUP(\"2000\" & \"|\" & TRIM(L148)& \"|\" & TRIM(N148),TrnsfrXrefTable[[Detail Key]:[Summary Key]],4,FALSE),\"?\")","v":"?"}]
[null,null,null,null,null,null,null,null,null,null,null,null,null,null,null,null,null,null,null,null,{"$f":"IFERROR(VLOOKUP(\"2000\" & \"|\" & TRIM(L149)& \"|\" & TRIM(N149),TrnsfrXrefTable[[Detail Key]:[Summary Key]],4,FALSE),\"?\")","v":"?"}]
[null,null,null,null,null,null,null,null,null,null,null,null,null,null,null,null,null,null,null,null,{"$f":"IFERROR(VLOOKUP(\"2000\" & \"|\" & TRIM(L150)& \"|\" & TRIM(N150),TrnsfrXrefTable[[Detail Key]:[Summary Key]],4,FALSE),\"?\")","v":"?"}]
[null,null,null,null,null,null,null,null,null,null,null,null,null,null,null,null,null,null,null,null,{"$f":"IFERROR(VLOOKUP(\"2000\" & \"|\" & TRIM(L151)& \"|\" & TRIM(N151),TrnsfrXrefTable[[Detail Key]:[Summary Key]],4,FALSE),\"?\")","v":"?"}]
[null,null,null,null,null,null,null,null,null,null,null,null,null,null,null,null,null,null,null,null,{"$f":"IFERROR(VLOOKUP(\"2000\" & \"|\" & TRIM(L152)& \"|\" & TRIM(N152),TrnsfrXrefTable[[Detail Key]:[Summary Key]],4,FALSE),\"?\")","v":"?"}]
[null,null,null,null,null,null,null,null,null,null,null,null,null,null,null,null,null,null,null,null,{"$f":"IFERROR(VLOOKUP(\"2000\" & \"|\" & TRIM(L153)& \"|\" & TRIM(N153),TrnsfrXrefTable[[Detail Key]:[Summary Key]],4,FALSE),\"?\")","v":"?"}]
[null,null,null,null,null,null,null,null,null,null,null,null,null,null,null,null,null,null,null,null,{"$f":"IFERROR(VLOOKUP(\"2000\" & \"|\" & TRIM(L154)& \"|\" & TRIM(N154),TrnsfrXrefTable[[Detail Key]:[Summary Key]],4,FALSE),\"?\")","v":"?"}]
[null,null,null,null,null,null,null,null,null,null,null,null,null,null,null,null,null,null,null,null,{"$f":"IFERROR(VLOOKUP(\"2000\" & \"|\" & TRIM(L155)& \"|\" & TRIM(N155),TrnsfrXrefTable[[Detail Key]:[Summary Key]],4,FALSE),\"?\")","v":"?"}]
[null,null,null,null,null,null,null,null,null,null,null,null,null,null,null,null,null,null,null,null,{"$f":"IFERROR(VLOOKUP(\"2000\" & \"|\" & TRIM(L156)& \"|\" & TRIM(N156),TrnsfrXrefTable[[Detail Key]:[Summary Key]],4,FALSE),\"?\")","v":"?"}]
[null,null,null,null,null,null,null,null,null,null,null,null,null,null,null,null,null,null,null,null,{"$f":"IFERROR(VLOOKUP(\"2000\" & \"|\" & TRIM(L157)& \"|\" & TRIM(N157),TrnsfrXrefTable[[Detail Key]:[Summary Key]],4,FALSE),\"?\")","v":"?"}]
[null,null,null,null,null,null,null,null,null,null,null,null,null,null,null,null,null,null,null,null,{"$f":"IFERROR(VLOOKUP(\"2000\" & \"|\" & TRIM(L158)& \"|\" & TRIM(N158),TrnsfrXrefTable[[Detail Key]:[Summary Key]],4,FALSE),\"?\")","v":"?"}]
[null,null,null,null,null,null,null,null,null,null,null,null,null,null,null,null,null,null,null,null,{"$f":"IFERROR(VLOOKUP(\"2000\" & \"|\" & TRIM(L159)& \"|\" & TRIM(N159),TrnsfrXrefTable[[Detail Key]:[Summary Key]],4,FALSE),\"?\")","v":"?"}]
[null,null,null,null,null,null,null,null,null,null,null,null,null,null,null,null,null,null,null,null,{"$f":"IFERROR(VLOOKUP(\"2000\" & \"|\" & TRIM(L160)& \"|\" & TRIM(N160),TrnsfrXrefTable[[Detail Key]:[Summary Key]],4,FALSE),\"?\")","v":"?"}]
[null,null,null,null,null,null,null,null,null,null,null,null,null,null,null,null,null,null,null,null,{"$f":"IFERROR(VLOOKUP(\"2000\" & \"|\" & TRIM(L161)& \"|\" & TRIM(N161),TrnsfrXrefTable[[Detail Key]:[Summary Key]],4,FALSE),\"?\")","v":"?"}]
[null,null,null,null,null,null,null,null,null,null,null,null,null,null,null,null,null,null,null,null,{"$f":"IFERROR(VLOOKUP(\"2000\" & \"|\" & TRIM(L162)& \"|\" & TRIM(N162),TrnsfrXrefTable[[Detail Key]:[Summary Key]],4,FALSE),\"?\")","v":"?"}]
[null,null,null,null,null,null,null,null,null,null,null,null,null,null,null,null,null,null,null,null,{"$f":"IFERROR(VLOOKUP(\"2000\" & \"|\" & TRIM(L163)& \"|\" & TRIM(N163),TrnsfrXrefTable[[Detail Key]:[Summary Key]],4,FALSE),\"?\")","v":"?"}]
[null,null,null,null,null,null,null,null,null,null,null,null,null,null,null,null,null,null,null,null,{"$f":"IFERROR(VLOOKUP(\"2000\" & \"|\" & TRIM(L164)& \"|\" & TRIM(N164),TrnsfrXrefTable[[Detail Key]:[Summary Key]],4,FALSE),\"?\")","v":"?"}]
[null,null,null,null,null,null,null,null,null,null,null,null,null,null,null,null,null,null,null,null,{"$f":"IFERROR(VLOOKUP(\"2000\" & \"|\" & TRIM(L165)& \"|\" & TRIM(N165),TrnsfrXrefTable[[Detail Key]:[Summary Key]],4,FALSE),\"?\")","v":"?"}]
[null,null,null,null,null,null,null,null,null,null,null,null,null,null,null,null,null,null,null,null,{"$f":"IFERROR(VLOOKUP(\"2000\" & \"|\" & TRIM(L166)& \"|\" & TRIM(N166),TrnsfrXrefTable[[Detail Key]:[Summary Key]],4,FALSE),\"?\")","v":"?"}]
[null,null,null,null,null,null,null,null,null,null,null,null,null,null,null,null,null,null,null,null,{"$f":"IFERROR(VLOOKUP(\"2000\" & \"|\" & TRIM(L167)& \"|\" & TRIM(N167),TrnsfrXrefTable[[Detail Key]:[Summary Key]],4,FALSE),\"?\")","v":"?"}]
[null,null,null,null,null,null,null,null,null,null,null,null,null,null,null,null,null,null,null,null,{"$f":"IFERROR(VLOOKUP(\"2000\" & \"|\" & TRIM(L168)& \"|\" & TRIM(N168),TrnsfrXrefTable[[Detail Key]:[Summary Key]],4,FALSE),\"?\")","v":"?"}]
[null,null,null,null,null,null,null,null,null,null,null,null,null,null,null,null,null,null,null,null,{"$f":"IFERROR(VLOOKUP(\"2000\" & \"|\" & TRIM(L169)& \"|\" & TRIM(N169),TrnsfrXrefTable[[Detail Key]:[Summary Key]],4,FALSE),\"?\")","v":"?"}]
[null,null,null,null,null,null,null,null,null,null,null,null,null,null,null,null,null,null,null,null,{"$f":"IFERROR(VLOOKUP(\"2000\" & \"|\" & TRIM(L170)& \"|\" & TRIM(N170),TrnsfrXrefTable[[Detail Key]:[Summary Key]],4,FALSE),\"?\")","v":"?"}]
[null,null,null,null,null,null,null,null,null,null,null,null,null,null,null,null,null,null,null,null,{"$f":"IFERROR(VLOOKUP(\"2000\" & \"|\" & TRIM(L171)& \"|\" & TRIM(N171),TrnsfrXrefTable[[Detail Key]:[Summary Key]],4,FALSE),\"?\")","v":"?"}]
[null,null,null,null,null,null,null,null,null,null,null,null,null,null,null,null,null,null,null,null,{"$f":"IFERROR(VLOOKUP(\"2000\" & \"|\" & TRIM(L172)& \"|\" & TRIM(N172),TrnsfrXrefTable[[Detail Key]:[Summary Key]],4,FALSE),\"?\")","v":"?"}]
[null,null,null,null,null,null,null,null,null,null,null,null,null,null,null,null,null,null,null,null,{"$f":"IFERROR(VLOOKUP(\"2000\" & \"|\" & TRIM(L173)& \"|\" & TRIM(N173),TrnsfrXrefTable[[Detail Key]:[Summary Key]],4,FALSE),\"?\")","v":"?"}]
[null,null,null,null,null,null,null,null,null,null,null,null,null,null,null,null,null,null,null,null,{"$f":"IFERROR(VLOOKUP(\"2000\" & \"|\" & TRIM(L174)& \"|\" & TRIM(N174),TrnsfrXrefTable[[Detail Key]:[Summary Key]],4,FALSE),\"?\")","v":"?"}]
[null,null,null,null,null,null,null,null,null,null,null,null,null,null,null,null,null,null,null,null,{"$f":"IFERROR(VLOOKUP(\"2000\" & \"|\" & TRIM(L175)& \"|\" & TRIM(N175),TrnsfrXrefTable[[Detail Key]:[Summary Key]],4,FALSE),\"?\")","v":"?"}]
[null,null,null,null,null,null,null,null,null,null,null,null,null,null,null,null,null,null,null,null,{"$f":"IFERROR(VLOOKUP(\"2000\" & \"|\" & TRIM(L176)& \"|\" & TRIM(N176),TrnsfrXrefTable[[Detail Key]:[Summary Key]],4,FALSE),\"?\")","v":"?"}]
[null,null,null,null,null,null,null,null,null,null,null,null,null,null,null,null,null,null,null,null,{"$f":"IFERROR(VLOOKUP(\"2000\" & \"|\" & TRIM(L177)& \"|\" & TRIM(N177),TrnsfrXrefTable[[Detail Key]:[Summary Key]],4,FALSE),\"?\")","v":"?"}]
[null,null,null,null,null,null,null,null,null,null,null,null,null,null,null,null,null,null,null,null,{"$f":"IFERROR(VLOOKUP(\"2000\" & \"|\" & TRIM(L178)& \"|\" & TRIM(N178),TrnsfrXrefTable[[Detail Key]:[Summary Key]],4,FALSE),\"?\")","v":"?"}]
[null,null,null,null,null,null,null,null,null,null,null,null,null,null,null,null,null,null,null,null,{"$f":"IFERROR(VLOOKUP(\"2000\" & \"|\" & TRIM(L179)& \"|\" & TRIM(N179),TrnsfrXrefTable[[Detail Key]:[Summary Key]],4,FALSE),\"?\")","v":"?"}]
[null,null,null,null,null,null,null,null,null,null,null,null,null,null,null,null,null,null,null,null,{"$f":"IFERROR(VLOOKUP(\"2000\" & \"|\" & TRIM(L180)& \"|\" & TRIM(N180),TrnsfrXrefTable[[Detail Key]:[Summary Key]],4,FALSE),\"?\")","v":"?"}]
[null,null,null,null,null,null,null,null,null,null,null,null,null,null,null,null,null,null,null,null,{"$f":"IFERROR(VLOOKUP(\"2000\" & \"|\" & TRIM(L181)& \"|\" & TRIM(N181),TrnsfrXrefTable[[Detail Key]:[Summary Key]],4,FALSE),\"?\")","v":"?"}]
[null,null,null,null,null,null,null,null,null,null,null,null,null,null,null,null,null,null,null,null,{"$f":"IFERROR(VLOOKUP(\"2000\" & \"|\" & TRIM(L182)& \"|\" & TRIM(N182),TrnsfrXrefTable[[Detail Key]:[Summary Key]],4,FALSE),\"?\")","v":"?"}]
[null,null,null,null,null,null,null,null,null,null,null,null,null,null,null,null,null,null,null,null,{"$f":"IFERROR(VLOOKUP(\"2000\" & \"|\" & TRIM(L183)& \"|\" & TRIM(N183),TrnsfrXrefTable[[Detail Key]:[Summary Key]],4,FALSE),\"?\")","v":"?"}]
[null,null,null,null,null,null,null,null,null,null,null,null,null,null,null,null,null,null,null,null,{"$f":"IFERROR(VLOOKUP(\"2000\" & \"|\" & TRIM(L184)& \"|\" & TRIM(N184),TrnsfrXrefTable[[Detail Key]:[Summary Key]],4,FALSE),\"?\")","v":"?"}]
[null,null,null,null,null,null,null,null,null,null,null,null,null,null,null,null,null,null,null,null,{"$f":"IFERROR(VLOOKUP(\"2000\" & \"|\" & TRIM(L185)& \"|\" & TRIM(N185),TrnsfrXrefTable[[Detail Key]:[Summary Key]],4,FALSE),\"?\")","v":"?"}]
[null,null,null,null,null,null,null,null,null,null,null,null,null,null,null,null,null,null,null,null,{"$f":"IFERROR(VLOOKUP(\"2000\" & \"|\" & TRIM(L186)& \"|\" & TRIM(N186),TrnsfrXrefTable[[Detail Key]:[Summary Key]],4,FALSE),\"?\")","v":"?"}]
[null,null,null,null,null,null,null,null,null,null,null,null,null,null,null,null,null,null,null,null,{"$f":"IFERROR(VLOOKUP(\"2000\" & \"|\" & TRIM(L187)& \"|\" & TRIM(N187),TrnsfrXrefTable[[Detail Key]:[Summary Key]],4,FALSE),\"?\")","v":"?"}]
[null,null,null,null,null,null,null,null,null,null,null,null,null,null,null,null,null,null,null,null,{"$f":"IFERROR(VLOOKUP(\"2000\" & \"|\" & TRIM(L188)& \"|\" & TRIM(N188),TrnsfrXrefTable[[Detail Key]:[Summary Key]],4,FALSE),\"?\")","v":"?"}]
[null,null,null,null,null,null,null,null,null,null,null,null,null,null,null,null,null,null,null,null,{"$f":"IFERROR(VLOOKUP(\"2000\" & \"|\" & TRIM(L189)& \"|\" & TRIM(N189),TrnsfrXrefTable[[Detail Key]:[Summary Key]],4,FALSE),\"?\")","v":"?"}]
[null,null,null,null,null,null,null,null,null,null,null,null,null,null,null,null,null,null,null,null,{"$f":"IFERROR(VLOOKUP(\"2000\" & \"|\" & TRIM(L190)& \"|\" & TRIM(N190),TrnsfrXrefTable[[Detail Key]:[Summary Key]],4,FALSE),\"?\")","v":"?"}]
[null,null,null,null,null,null,null,null,null,null,null,null,null,null,null,null,null,null,null,null,{"$f":"IFERROR(VLOOKUP(\"2000\" & \"|\" & TRIM(L191)& \"|\" & TRIM(N191),TrnsfrXrefTable[[Detail Key]:[Summary Key]],4,FALSE),\"?\")","v":"?"}]
[null,null,null,null,null,null,null,null,null,null,null,null,null,null,null,null,null,null,null,null,{"$f":"IFERROR(VLOOKUP(\"2000\" & \"|\" & TRIM(L192)& \"|\" & TRIM(N192),TrnsfrXrefTable[[Detail Key]:[Summary Key]],4,FALSE),\"?\")","v":"?"}]
[null,null,null,null,null,null,null,null,null,null,null,null,null,null,null,null,null,null,null,null,{"$f":"IFERROR(VLOOKUP(\"2000\" & \"|\" & TRIM(L193)& \"|\" & TRIM(N193),TrnsfrXrefTable[[Detail Key]:[Summary Key]],4,FALSE),\"?\")","v":"?"}]
[null,null,null,null,null,null,null,null,null,null,null,null,null,null,null,null,null,null,null,null,{"$f":"IFERROR(VLOOKUP(\"2000\" & \"|\" & TRIM(L194)& \"|\" & TRIM(N194),TrnsfrXrefTable[[Detail Key]:[Summary Key]],4,FALSE),\"?\")","v":"?"}]
[null,null,null,null,null,null,null,null,null,null,null,null,null,null,null,null,null,null,null,null,{"$f":"IFERROR(VLOOKUP(\"2000\" & \"|\" & TRIM(L195)& \"|\" & TRIM(N195),TrnsfrXrefTable[[Detail Key]:[Summary Key]],4,FALSE),\"?\")","v":"?"}]
[null,null,null,null,null,null,null,null,null,null,null,null,null,null,null,null,null,null,null,null,{"$f":"IFERROR(VLOOKUP(\"2000\" & \"|\" & TRIM(L196)& \"|\" & TRIM(N196),TrnsfrXrefTable[[Detail Key]:[Summary Key]],4,FALSE),\"?\")","v":"?"}]
[null,null,null,null,null,null,null,null,null,null,null,null,null,null,null,null,null,null,null,null,{"$f":"IFERROR(VLOOKUP(\"2000\" & \"|\" & TRIM(L197)& \"|\" & TRIM(N197),TrnsfrXrefTable[[Detail Key]:[Summary Key]],4,FALSE),\"?\")","v":"?"}]
[null,null,null,null,null,null,null,null,null,null,null,null,null,null,null,null,null,null,null,null,{"$f":"IFERROR(VLOOKUP(\"2000\" & \"|\" & TRIM(L198)& \"|\" & TRIM(N198),TrnsfrXrefTable[[Detail Key]:[Summary Key]],4,FALSE),\"?\")","v":"?"}]
[null,null,null,null,null,null,null,null,null,null,null,null,null,null,null,null,null,null,null,null,{"$f":"IFERROR(VLOOKUP(\"2000\" & \"|\" & TRIM(L199)& \"|\" & TRIM(N199),TrnsfrXrefTable[[Detail Key]:[Summary Key]],4,FALSE),\"?\")","v":"?"}]
[null,null,null,null,null,null,null,null,null,null,null,null,null,null,null,null,null,null,null,null,{"$f":"IFERROR(VLOOKUP(\"2000\" & \"|\" & TRIM(L200)& \"|\" & TRIM(N200),TrnsfrXrefTable[[Detail Key]:[Summary Key]],4,FALSE),\"?\")","v":"?"}]
[null,null,null,null,null,null,null,null,null,null,null,null,null,null,null,null,null,null,null,null,{"$f":"IFERROR(VLOOKUP(\"2000\" & \"|\" & TRIM(L201)& \"|\" & TRIM(N201),TrnsfrXrefTable[[Detail Key]:[Summary Key]],4,FALSE),\"?\")","v":"?"}]
[null,null,null,null,null,null,null,null,null,null,null,null,null,null,null,null,null,null,null,null,{"$f":"IFERROR(VLOOKUP(\"2000\" & \"|\" & TRIM(L202)& \"|\" & TRIM(N202),TrnsfrXrefTable[[Detail Key]:[Summary Key]],4,FALSE),\"?\")","v":"?"}]
[null,null,null,null,null,null,null,null,null,null,null,null,null,null,null,null,null,null,null,null,{"$f":"IFERROR(VLOOKUP(\"2000\" & \"|\" & TRIM(L203)& \"|\" & TRIM(N203),TrnsfrXrefTable[[Detail Key]:[Summary Key]],4,FALSE),\"?\")","v":"?"}]
[null,null,null,null,null,null,null,null,null,null,null,null,null,null,null,null,null,null,null,null,{"$f":"IFERROR(VLOOKUP(\"2000\" & \"|\" & TRIM(L204)& \"|\" & TRIM(N204),TrnsfrXrefTable[[Detail Key]:[Summary Key]],4,FALSE),\"?\")","v":"?"}]
[null,null,null,null,null,null,null,null,null,null,null,null,null,null,null,null,null,null,null,null,{"$f":"IFERROR(VLOOKUP(\"2000\" & \"|\" & TRIM(L205)& \"|\" & TRIM(N205),TrnsfrXrefTable[[Detail Key]:[Summary Key]],4,FALSE),\"?\")","v":"?"}]
[null,null,null,null,null,null,null,null,null,null,null,null,null,null,null,null,null,null,null,null,{"$f":"IFERROR(VLOOKUP(\"2000\" & \"|\" & TRIM(L206)& \"|\" & TRIM(N206),TrnsfrXrefTable[[Detail Key]:[Summary Key]],4,FALSE),\"?\")","v":"?"}]
[null,null,null,null,null,null,null,null,null,null,null,null,null,null,null,null,null,null,null,null,{"$f":"IFERROR(VLOOKUP(\"2000\" & \"|\" & TRIM(L207)& \"|\" & TRIM(N207),TrnsfrXrefTable[[Detail Key]:[Summary Key]],4,FALSE),\"?\")","v":"?"}]
[null,null,null,null,null,null,null,null,null,null,null,null,null,null,null,null,null,null,null,null,{"$f":"IFERROR(VLOOKUP(\"2000\" & \"|\" & TRIM(L208)& \"|\" & TRIM(N208),TrnsfrXrefTable[[Detail Key]:[Summary Key]],4,FALSE),\"?\")","v":"?"}]
[null,null,null,null,null,null,null,null,null,null,null,null,null,null,null,null,null,null,null,null,{"$f":"IFERROR(VLOOKUP(\"2000\" & \"|\" & TRIM(L209)& \"|\" & TRIM(N209),TrnsfrXrefTable[[Detail Key]:[Summary Key]],4,FALSE),\"?\")","v":"?"}]
[null,null,null,null,null,"      ",null,null,null,null,null,null,null,"Total for Object Code:",null,null,{"$f":"SUM(Q148:R209)","v":0}]
[null,"Page 31"]
[null,{"$f":"'Main Page'!$N$9","v":"2026-2027"},null,"School Division:",{"$f":"'Main Page'!$L$14","v":0},null,null,null,"Division Number:",{"$f":"'Main Page'!$L$15","v":" "},{"$f":"'Main Page'!$B$6","v":"Local Consolidated Application"}]
[null,"DETAILED BUDGET DESCRIPTION OF OBJECT CODE 3000"]
[null,"Please indicate how these funds will support any services and activities that are described in this application.  If program funds are expended for professional development, justify such expenditures by demonstrating a relationship between the proposed expenditure for professional development and the program services and activities described in the application. "]
[]
[]
[]
[null,"Please provide a detailed description of Title II, Part A and Title III, Part A Private School activities (if no private school set-aside is present, please enter N/A). "]
[]
[null,"Item Description",null,null,null,null,null,null,null,"Measurable Objective",null,"Federal Program Funding Source",null,"Category",null,null,"Total Cost"]
[null,"Private School Set-aside",null,null,null,null,null,null,null,null,null,null,null,null,null,null,null,null,null,null,{"$f":"IFERROR(VLOOKUP(\"3000\" & \"|\" & TRIM(L221)& \"|\" & TRIM(N221),TrnsfrXrefTable[[Detail Key]:[Summary Key]],4,FALSE),\"?\")","v":"?"}]
[null,"Private School Set-aside",null,null,null,null,null,null,null,null,null,null,null,null,null,null,null,null,null,null,{"$f":"IFERROR(VLOOKUP(\"3000\" & \"|\" & TRIM(L222)& \"|\" & TRIM(N222),TrnsfrXrefTable[[Detail Key]:[Summary Key]],4,FALSE),\"?\")","v":"?"}]
[null,null,null,null,null,null,null,null,null,null,null,null,null,null,null,null,null,null,null,null,{"$f":"IFERROR(VLOOKUP(\"3000\" & \"|\" & TRIM(L223)& \"|\" & TRIM(N223),TrnsfrXrefTable[[Detail Key]:[Summary Key]],4,FALSE),\"?\")","v":"?"}]
[null,null,null,null,null,null,null,null,null,null,null,null,null,null,null,null,null,null,null,null,{"$f":"IFERROR(VLOOKUP(\"3000\" & \"|\" & TRIM(L224)& \"|\" & TRIM(N224),TrnsfrXrefTable[[Detail Key]:[Summary Key]],4,FALSE),\"?\")","v":"?"}]
[null,null,null,null,null,null,null,null,null,null,null,null,null,null,null,null,null,null,null,null,{"$f":"IFERROR(VLOOKUP(\"3000\" & \"|\" & TRIM(L225)& \"|\" & TRIM(N225),TrnsfrXrefTable[[Detail Key]:[Summary Key]],4,FALSE),\"?\")","v":"?"}]
[null,null,null,null,null,null,null,null,null,null,null,null,null,null,null,null,null,null,null,null,{"$f":"IFERROR(VLOOKUP(\"3000\" & \"|\" & TRIM(L226)& \"|\" & TRIM(N226),TrnsfrXrefTable[[Detail Key]:[Summary Key]],4,FALSE),\"?\")","v":"?"}]
[null,null,null,null,null,null,null,null,null,null,null,null,null,null,null,null,null,null,null,null,{"$f":"IFERROR(VLOOKUP(\"3000\" & \"|\" & TRIM(L227)& \"|\" & TRIM(N227),TrnsfrXrefTable[[Detail Key]:[Summary Key]],4,FALSE),\"?\")","v":"?"}]
[null,null,null,null,null,null,null,null,null,null,null,null,null,null,null,null,null,null,null,null,{"$f":"IFERROR(VLOOKUP(\"3000\" & \"|\" & TRIM(L228)& \"|\" & TRIM(N228),TrnsfrXrefTable[[Detail Key]:[Summary Key]],4,FALSE),\"?\")","v":"?"}]
[null,null,null,null,null,null,null,null,null,null,null,null,null,null,null,null,null,null,null,null,{"$f":"IFERROR(VLOOKUP(\"3000\" & \"|\" & TRIM(L229)& \"|\" & TRIM(N229),TrnsfrXrefTable[[Detail Key]:[Summary Key]],4,FALSE),\"?\")","v":"?"}]
[null,null,null,null,null,null,null,null,null,null,null,null,null,null,null,null,null,null,null,null,{"$f":"IFERROR(VLOOKUP(\"3000\" & \"|\" & TRIM(L230)& \"|\" & TRIM(N230),TrnsfrXrefTable[[Detail Key]:[Summary Key]],4,FALSE),\"?\")","v":"?"}]
[null,null,null,null,null,null,null,null,null,null,null,null,null,null,null,null,null,null,null,null,{"$f":"IFERROR(VLOOKUP(\"3000\" & \"|\" & TRIM(L231)& \"|\" & TRIM(N231),TrnsfrXrefTable[[Detail Key]:[Summary Key]],4,FALSE),\"?\")","v":"?"}]
[null,null,null,null,null,null,null,null,null,null,null,null,null,null,null,null,null,null,null,null,{"$f":"IFERROR(VLOOKUP(\"3000\" & \"|\" & TRIM(L232)& \"|\" & TRIM(N232),TrnsfrXrefTable[[Detail Key]:[Summary Key]],4,FALSE),\"?\")","v":"?"}]
[null,null,null,null,null,null,null,null,null,null,null,null,null,null,null,null,null,null,null,null,{"$f":"IFERROR(VLOOKUP(\"3000\" & \"|\" & TRIM(L233)& \"|\" & TRIM(N233),TrnsfrXrefTable[[Detail Key]:[Summary Key]],4,FALSE),\"?\")","v":"?"}]
[null,null,null,null,null,null,null,null,null,null,null,null,null,null,null,null,null,null,null,null,{"$f":"IFERROR(VLOOKUP(\"3000\" & \"|\" & TRIM(L234)& \"|\" & TRIM(N234),TrnsfrXrefTable[[Detail Key]:[Summary Key]],4,FALSE),\"?\")","v":"?"}]
[null,null,null,null,null,null,null,null,null,null,null,null,null,null,null,null,null,null,null,null,{"$f":"IFERROR(VLOOKUP(\"3000\" & \"|\" & TRIM(L235)& \"|\" & TRIM(N235),TrnsfrXrefTable[[Detail Key]:[Summary Key]],4,FALSE),\"?\")","v":"?"}]
[null,null,null,null,null,null,null,null,null,null,null,null,null,null,null,null,null,null,null,null,{"$f":"IFERROR(VLOOKUP(\"3000\" & \"|\" & TRIM(L236)& \"|\" & TRIM(N236),TrnsfrXrefTable[[Detail Key]:[Summary Key]],4,FALSE),\"?\")","v":"?"}]
[null,null,null,null,null,null,null,null,null,null,null,null,null,null,null,null,null,null,null,null,{"$f":"IFERROR(VLOOKUP(\"3000\" & \"|\" & TRIM(L237)& \"|\" & TRIM(N237),TrnsfrXrefTable[[Detail Key]:[Summary Key]],4,FALSE),\"?\")","v":"?"}]
[null,null,null,null,null,null,null,null,null,null,null,null,null,null,null,null,null,null,null,null,{"$f":"IFERROR(VLOOKUP(\"3000\" & \"|\" & TRIM(L238)& \"|\" & TRIM(N238),TrnsfrXrefTable[[Detail Key]:[Summary Key]],4,FALSE),\"?\")","v":"?"}]
[null,null,null,null,null,null,null,null,null,null,null,null,null,null,null,null,null,null,null,null,{"$f":"IFERROR(VLOOKUP(\"3000\" & \"|\" & TRIM(L239)& \"|\" & TRIM(N239),TrnsfrXrefTable[[Detail Key]:[Summary Key]],4,FALSE),\"?\")","v":"?"}]
[null,null,null,null,null,null,null,null,null,null,null,null,null,null,null,null,null,null,null,null,{"$f":"IFERROR(VLOOKUP(\"3000\" & \"|\" & TRIM(L240)& \"|\" & TRIM(N240),TrnsfrXrefTable[[Detail Key]:[Summary Key]],4,FALSE),\"?\")","v":"?"}]
[null,null,null,null,null,null,null,null,null,null,null,null,null,null,null,null,null,null,null,null,{"$f":"IFERROR(VLOOKUP(\"3000\" & \"|\" & TRIM(L241)& \"|\" & TRIM(N241),TrnsfrXrefTable[[Detail Key]:[Summary Key]],4,FALSE),\"?\")","v":"?"}]
[null,null,null,null,null,null,null,null,null,null,null,null,null,null,null,null,null,null,null,null,{"$f":"IFERROR(VLOOKUP(\"3000\" & \"|\" & TRIM(L242)& \"|\" & TRIM(N242),TrnsfrXrefTable[[Detail Key]:[Summary Key]],4,FALSE),\"?\")","v":"?"}]
[null,null,null,null,null,null,null,null,null,null,null,null,null,null,null,null,null,null,null,null,{"$f":"IFERROR(VLOOKUP(\"3000\" & \"|\" & TRIM(L243)& \"|\" & TRIM(N243),TrnsfrXrefTable[[Detail Key]:[Summary Key]],4,FALSE),\"?\")","v":"?"}]
[null,null,null,null,null,null,null,null,null,null,null,null,null,null,null,null,null,null,null,null,{"$f":"IFERROR(VLOOKUP(\"3000\" & \"|\" & TRIM(L244)& \"|\" & TRIM(N244),TrnsfrXrefTable[[Detail Key]:[Summary Key]],4,FALSE),\"?\")","v":"?"}]
[null,null,null,null,null,null,null,null,null,null,null,null,null,null,null,null,null,null,null,null,{"$f":"IFERROR(VLOOKUP(\"3000\" & \"|\" & TRIM(L245)& \"|\" & TRIM(N245),TrnsfrXrefTable[[Detail Key]:[Summary Key]],4,FALSE),\"?\")","v":"?"}]
[null,null,null,null,null,null,null,null,null,null,null,null,null,null,null,null,null,null,null,null,{"$f":"IFERROR(VLOOKUP(\"3000\" & \"|\" & TRIM(L246)& \"|\" & TRIM(N246),TrnsfrXrefTable[[Detail Key]:[Summary Key]],4,FALSE),\"?\")","v":"?"}]
[null,null,null,null,null,null,null,null,null,null,null,null,null,null,null,null,null,null,null,null,{"$f":"IFERROR(VLOOKUP(\"3000\" & \"|\" & TRIM(L247)& \"|\" & TRIM(N247),TrnsfrXrefTable[[Detail Key]:[Summary Key]],4,FALSE),\"?\")","v":"?"}]
[null,null,null,null,null,null,null,null,null,null,null,null,null,null,null,null,null,null,null,null,{"$f":"IFERROR(VLOOKUP(\"3000\" & \"|\" & TRIM(L248)& \"|\" & TRIM(N248),TrnsfrXrefTable[[Detail Key]:[Summary Key]],4,FALSE),\"?\")","v":"?"}]
[null,null,null,null,null,null,null,null,null,null,null,null,null,null,null,null,null,null,null,null,{"$f":"IFERROR(VLOOKUP(\"3000\" & \"|\" & TRIM(L249)& \"|\" & TRIM(N249),TrnsfrXrefTable[[Detail Key]:[Summary Key]],4,FALSE),\"?\")","v":"?"}]
[null,null,null,null,null,null,null,null,null,null,null,null,null,null,null,null,null,null,null,null,{"$f":"IFERROR(VLOOKUP(\"3000\" & \"|\" & TRIM(L250)& \"|\" & TRIM(N250),TrnsfrXrefTable[[Detail Key]:[Summary Key]],4,FALSE),\"?\")","v":"?"}]
[null,null,null,null,null,null,null,null,null,null,null,null,null,null,null,null,null,null,null,null,{"$f":"IFERROR(VLOOKUP(\"3000\" & \"|\" & TRIM(L251)& \"|\" & TRIM(N251),TrnsfrXrefTable[[Detail Key]:[Summary Key]],4,FALSE),\"?\")","v":"?"}]
[null,null,null,null,null,null,null,null,null,null,null,null,null,null,null,null,null,null,null,null,{"$f":"IFERROR(VLOOKUP(\"3000\" & \"|\" & TRIM(L252)& \"|\" & TRIM(N252),TrnsfrXrefTable[[Detail Key]:[Summary Key]],4,FALSE),\"?\")","v":"?"}]
[null,null,null,null,null,null,null,null,null,null,null,null,null,null,null,null,null,null,null,null,{"$f":"IFERROR(VLOOKUP(\"3000\" & \"|\" & TRIM(L253)& \"|\" & TRIM(N253),TrnsfrXrefTable[[Detail Key]:[Summary Key]],4,FALSE),\"?\")","v":"?"}]
[null,null,null,null,null,null,null,null,null,null,null,null,null,null,null,null,null,null,null,null,{"$f":"IFERROR(VLOOKUP(\"3000\" & \"|\" & TRIM(L254)& \"|\" & TRIM(N254),TrnsfrXrefTable[[Detail Key]:[Summary Key]],4,FALSE),\"?\")","v":"?"}]
[null,null,null,null,null,null,null,null,null,null,null,null,null,null,null,null,null,null,null,null,{"$f":"IFERROR(VLOOKUP(\"3000\" & \"|\" & TRIM(L255)& \"|\" & TRIM(N255),TrnsfrXrefTable[[Detail Key]:[Summary Key]],4,FALSE),\"?\")","v":"?"}]
[null,null,null,null,null,null,null,null,null,null,null,null,null,null,null,null,null,null,null,null,{"$f":"IFERROR(VLOOKUP(\"3000\" & \"|\" & TRIM(L256)& \"|\" & TRIM(N256),TrnsfrXrefTable[[Detail Key]:[Summary Key]],4,FALSE),\"?\")","v":"?"}]
[null,null,null,null,null,null,null,null,null,null,null,null,null,null,null,null,null,null,null,null,{"$f":"IFERROR(VLOOKUP(\"3000\" & \"|\" & TRIM(L257)& \"|\" & TRIM(N257),TrnsfrXrefTable[[Detail Key]:[Summary Key]],4,FALSE),\"?\")","v":"?"}]
[null,null,null,null,null,null,null,null,null,null,null,null,null,null,null,null,null,null,null,null,{"$f":"IFERROR(VLOOKUP(\"3000\" & \"|\" & TRIM(L258)& \"|\" & TRIM(N258),TrnsfrXrefTable[[Detail Key]:[Summary Key]],4,FALSE),\"?\")","v":"?"}]
[null,null,null,null,null,null,null,null,null,null,null,null,null,null,null,null,null,null,null,null,{"$f":"IFERROR(VLOOKUP(\"3000\" & \"|\" & TRIM(L259)& \"|\" & TRIM(N259),TrnsfrXrefTable[[Detail Key]:[Summary Key]],4,FALSE),\"?\")","v":"?"}]
[null,null,null,null,null,null,null,null,null,null,null,null,null,null,null,null,null,null,null,null,{"$f":"IFERROR(VLOOKUP(\"3000\" & \"|\" & TRIM(L260)& \"|\" & TRIM(N260),TrnsfrXrefTable[[Detail Key]:[Summary Key]],4,FALSE),\"?\")","v":"?"}]
[null,null,null,null,null,null,null,null,null,null,null,null,null,null,null,null,null,null,null,null,{"$f":"IFERROR(VLOOKUP(\"3000\" & \"|\" & TRIM(L261)& \"|\" & TRIM(N261),TrnsfrXrefTable[[Detail Key]:[Summary Key]],4,FALSE),\"?\")","v":"?"}]
[null,null,null,null,null,null,null,null,null,null,null,null,null,null,null,null,null,null,null,null,{"$f":"IFERROR(VLOOKUP(\"3000\" & \"|\" & TRIM(L262)& \"|\" & TRIM(N262),TrnsfrXrefTable[[Detail Key]:[Summary Key]],4,FALSE),\"?\")","v":"?"}]
[null,null,null,null,null,null,null,null,null,null,null,null,null,null,null,null,null,null,null,null,{"$f":"IFERROR(VLOOKUP(\"3000\" & \"|\" & TRIM(L263)& \"|\" & TRIM(N263),TrnsfrXrefTable[[Detail Key]:[Summary Key]],4,FALSE),\"?\")","v":"?"}]
[null,null,null,null,null,null,null,null,null,null,null,null,null,null,null,null,null,null,null,null,{"$f":"IFERROR(VLOOKUP(\"3000\" & \"|\" & TRIM(L264)& \"|\" & TRIM(N264),TrnsfrXrefTable[[Detail Key]:[Summary Key]],4,FALSE),\"?\")","v":"?"}]
[null,null,null,null,null,null,null,null,null,null,null,null,null,null,null,null,null,null,null,null,{"$f":"IFERROR(VLOOKUP(\"3000\" & \"|\" & TRIM(L265)& \"|\" & TRIM(N265),TrnsfrXrefTable[[Detail Key]:[Summary Key]],4,FALSE),\"?\")","v":"?"}]
[null,null,null,null,null,null,null,null,null,null,null,null,null,null,null,null,null,null,null,null,{"$f":"IFERROR(VLOOKUP(\"3000\" & \"|\" & TRIM(L266)& \"|\" & TRIM(N266),TrnsfrXrefTable[[Detail Key]:[Summary Key]],4,FALSE),\"?\")","v":"?"}]
[null,null,null,null,null,null,null,null,null,null,null,null,null,null,null,null,null,null,null,null,{"$f":"IFERROR(VLOOKUP(\"3000\" & \"|\" & TRIM(L267)& \"|\" & TRIM(N267),TrnsfrXrefTable[[Detail Key]:[Summary Key]],4,FALSE),\"?\")","v":"?"}]
[null,null,null,null,null,null,null,null,null,null,null,null,null,null,null,null,null,null,null,null,{"$f":"IFERROR(VLOOKUP(\"3000\" & \"|\" & TRIM(L268)& \"|\" & TRIM(N268),TrnsfrXrefTable[[Detail Key]:[Summary Key]],4,FALSE),\"?\")","v":"?"}]
[null,null,null,null,null,null,null,null,null,null,null,null,null,null,null,null,null,null,null,null,{"$f":"IFERROR(VLOOKUP(\"3000\" & \"|\" & TRIM(L269)& \"|\" & TRIM(N269),TrnsfrXrefTable[[Detail Key]:[Summary Key]],4,FALSE),\"?\")","v":"?"}]
[null,null,null,null,null,null,null,null,null,null,null,null,null,null,null,null,null,null,null,null,{"$f":"IFERROR(VLOOKUP(\"3000\" & \"|\" & TRIM(L270)& \"|\" & TRIM(N270),TrnsfrXrefTable[[Detail Key]:[Summary Key]],4,FALSE),\"?\")","v":"?"}]
[null,null,null,null,null,null,null,null,null,null,null,null,null,null,null,null,null,null,null,null,{"$f":"IFERROR(VLOOKUP(\"3000\" & \"|\" & TRIM(L271)& \"|\" & TRIM(N271),TrnsfrXrefTable[[Detail Key]:[Summary Key]],4,FALSE),\"?\")","v":"?"}]
[null,null,null,null,null,null,null,null,null,null,null,null,null,null,null,null,null,null,null,null,{"$f":"IFERROR(VLOOKUP(\"3000\" & \"|\" & TRIM(L272)& \"|\" & TRIM(N272),TrnsfrXrefTable[[Detail Key]:[Summary Key]],4,FALSE),\"?\")","v":"?"}]
[null,null,null,null,null,null,null,null,null,null,null,null,null,null,null,null,null,null,null,null,{"$f":"IFERROR(VLOOKUP(\"3000\" & \"|\" & TRIM(L273)& \"|\" & TRIM(N273),TrnsfrXrefTable[[Detail Key]:[Summary Key]],4,FALSE),\"?\")","v":"?"}]
[null,null,null,null,null,null,null,null,null,null,null,null,null,null,null,null,null,null,null,null,{"$f":"IFERROR(VLOOKUP(\"3000\" & \"|\" & TRIM(L274)& \"|\" & TRIM(N274),TrnsfrXrefTable[[Detail Key]:[Summary Key]],4,FALSE),\"?\")","v":"?"}]
[null,null,null,null,null,null,null,null,null,null,null,null,null,null,null,null,null,null,null,null,{"$f":"IFERROR(VLOOKUP(\"3000\" & \"|\" & TRIM(L275)& \"|\" & TRIM(N275),TrnsfrXrefTable[[Detail Key]:[Summary Key]],4,FALSE),\"?\")","v":"?"}]
[null,null,null,null,null,null,null,null,null,null,null,null,null,null,null,null,null,null,null,null,{"$f":"IFERROR(VLOOKUP(\"3000\" & \"|\" & TRIM(L276)& \"|\" & TRIM(N276),TrnsfrXrefTable[[Detail Key]:[Summary Key]],4,FALSE),\"?\")","v":"?"}]
[null,null,null,null,null,null,null,null,null,null,null,null,null,null,null,null,null,null,null,null,{"$f":"IFERROR(VLOOKUP(\"3000\" & \"|\" & TRIM(L277)& \"|\" & TRIM(N277),TrnsfrXrefTable[[Detail Key]:[Summary Key]],4,FALSE),\"?\")","v":"?"}]
[null,null,null,null,null,null,null,null,null,null,null,null,null,null,null,null,null,null,null,null,{"$f":"IFERROR(VLOOKUP(\"3000\" & \"|\" & TRIM(L278)& \"|\" & TRIM(N278),TrnsfrXrefTable[[Detail Key]:[Summary Key]],4,FALSE),\"?\")","v":"?"}]
[null,null,null,null,null,null,null,null,null,null,null,null,null,null,null,null,null,null,null,null,{"$f":"IFERROR(VLOOKUP(\"3000\" & \"|\" & TRIM(L279)& \"|\" & TRIM(N279),TrnsfrXrefTable[[Detail Key]:[Summary Key]],4,FALSE),\"?\")","v":"?"}]
[null,null,null,null,null,null,null,null,null,null,null,null,null,null,null,null,null,null,null,null,{"$f":"IFERROR(VLOOKUP(\"3000\" & \"|\" & TRIM(L280)& \"|\" & TRIM(N280),TrnsfrXrefTable[[Detail Key]:[Summary Key]],4,FALSE),\"?\")","v":"?"}]
[null,null,null,null,null,null,null,null,null,null,null,null,null,null,null,null,null,null,null,null,{"$f":"IFERROR(VLOOKUP(\"3000\" & \"|\" & TRIM(L281)& \"|\" & TRIM(N281),TrnsfrXrefTable[[Detail Key]:[Summary Key]],4,FALSE),\"?\")","v":"?"}]
[null,null,null,null,null,null,null,null,null,null,null,null,null,null,null,null,null,null,null,null,{"$f":"IFERROR(VLOOKUP(\"3000\" & \"|\" & TRIM(L282)& \"|\" & TRIM(N282),TrnsfrXrefTable[[Detail Key]:[Summary Key]],4,FALSE),\"?\")","v":"?"}]
[null,null,null,null,null,"      ",null,null,null,null,null,null,null,"Total for Object Code:",null,null,{"$f":"SUM(Q221:R282)","v":0}]
[]
[null,"Page 32"]
[null,{"$f":"'Main Page'!$N$9","v":"2026-2027"},null,"School Division:",{"$f":"'Main Page'!$L$14","v":0},null,null,null,"Division Number:",{"$f":"'Main Page'!$L$15","v":" "},{"$f":"'Main Page'!$B$6","v":"Local Consolidated Application"}]
[null,"DETAILED BUDGET DESCRIPTION OF OBJECT CODE 4000"]
[null,"Provide a description of charges from an Internal Service Fund to other functions/activities/elements of the local government for the use of intergovernmental services.  "]
[]
[]
[]
[null,"Item Description",null,null,null,null,null,null,null,"Measurable Objective",null,"Federal Program Funding Source",null,"Category",null,null,"Total Cost"]
[null,null,null,null,null,null,null,null,null,null,null,null,null,null,null,null,null,null,null,null,{"$f":"IFERROR(VLOOKUP(\"4000\" & \"|\" & TRIM(L293)& \"|\" & TRIM(N293),TrnsfrXrefTable[[Detail Key]:[Summary Key]],4,FALSE),\"?\")","v":"?"}]
[null,null,null,null,null,null,null,null,null,null,null,null,null,null,null,null,null,null,null,null,{"$f":"IFERROR(VLOOKUP(\"4000\" & \"|\" & TRIM(L294)& \"|\" & TRIM(N294),TrnsfrXrefTable[[Detail Key]:[Summary Key]],4,FALSE),\"?\")","v":"?"}]
[null,null,null,null,null,null,null,null,null,null,null,null,null,null,null,null,null,null,null,null,{"$f":"IFERROR(VLOOKUP(\"4000\" & \"|\" & TRIM(L295)& \"|\" & TRIM(N295),TrnsfrXrefTable[[Detail Key]:[Summary Key]],4,FALSE),\"?\")","v":"?"}]
[null,null,null,null,null,null,null,null,null,null,null,null,null,null,null,null,null,null,null,null,{"$f":"IFERROR(VLOOKUP(\"4000\" & \"|\" & TRIM(L296)& \"|\" & TRIM(N296),TrnsfrXrefTable[[Detail Key]:[Summary Key]],4,FALSE),\"?\")","v":"?"}]
[null,null,null,null,null,null,null,null,null,null,null,null,null,null,null,null,null,null,null,null,{"$f":"IFERROR(VLOOKUP(\"4000\" & \"|\" & TRIM(L297)& \"|\" & TRIM(N297),TrnsfrXrefTable[[Detail Key]:[Summary Key]],4,FALSE),\"?\")","v":"?"}]
[null,null,null,null,null,null,null,null,null,null,null,null,null,null,null,null,null,null,null,null,{"$f":"IFERROR(VLOOKUP(\"4000\" & \"|\" & TRIM(L298)& \"|\" & TRIM(N298),TrnsfrXrefTable[[Detail Key]:[Summary Key]],4,FALSE),\"?\")","v":"?"}]
[null,null,null,null,null,null,null,null,null,null,null,null,null,null,null,null,null,null,null,null,{"$f":"IFERROR(VLOOKUP(\"4000\" & \"|\" & TRIM(L299)& \"|\" & TRIM(N299),TrnsfrXrefTable[[Detail Key]:[Summary Key]],4,FALSE),\"?\")","v":"?"}]
[null,null,null,null,null,null,null,null,null,null,null,null,null,null,null,null,null,null,null,null,{"$f":"IFERROR(VLOOKUP(\"4000\" & \"|\" & TRIM(L300)& \"|\" & TRIM(N300),TrnsfrXrefTable[[Detail Key]:[Summary Key]],4,FALSE),\"?\")","v":"?"}]
[null,null,null,null,null,null,null,null,null,null,null,null,null,null,null,null,null,null,null,null,{"$f":"IFERROR(VLOOKUP(\"4000\" & \"|\" & TRIM(L301)& \"|\" & TRIM(N301),TrnsfrXrefTable[[Detail Key]:[Summary Key]],4,FALSE),\"?\")","v":"?"}]
[null,null,null,null,null,null,null,null,null,null,null,null,null,null,null,null,null,null,null,null,{"$f":"IFERROR(VLOOKUP(\"4000\" & \"|\" & TRIM(L302)& \"|\" & TRIM(N302),TrnsfrXrefTable[[Detail Key]:[Summary Key]],4,FALSE),\"?\")","v":"?"}]
[null,null,null,null,null,null,null,null,null,null,null,null,null,null,null,null,null,null,null,null,{"$f":"IFERROR(VLOOKUP(\"4000\" & \"|\" & TRIM(L303)& \"|\" & TRIM(N303),TrnsfrXrefTable[[Detail Key]:[Summary Key]],4,FALSE),\"?\")","v":"?"}]
[null,null,null,null,null,null,null,null,null,null,null,null,null,null,null,null,null,null,null,null,{"$f":"IFERROR(VLOOKUP(\"4000\" & \"|\" & TRIM(L304)& \"|\" & TRIM(N304),TrnsfrXrefTable[[Detail Key]:[Summary Key]],4,FALSE),\"?\")","v":"?"}]
[null,null,null,null,null,null,null,null,null,null,null,null,null,null,null,null,null,null,null,null,{"$f":"IFERROR(VLOOKUP(\"4000\" & \"|\" & TRIM(L305)& \"|\" & TRIM(N305),TrnsfrXrefTable[[Detail Key]:[Summary Key]],4,FALSE),\"?\")","v":"?"}]
[null,null,null,null,null,null,null,null,null,null,null,null,null,null,null,null,null,null,null,null,{"$f":"IFERROR(VLOOKUP(\"4000\" & \"|\" & TRIM(L306)& \"|\" & TRIM(N306),TrnsfrXrefTable[[Detail Key]:[Summary Key]],4,FALSE),\"?\")","v":"?"}]
[null,null,null,null,null,null,null,null,null,null,null,null,null,null,null,null,null,null,null,null,{"$f":"IFERROR(VLOOKUP(\"4000\" & \"|\" & TRIM(L307)& \"|\" & TRIM(N307),TrnsfrXrefTable[[Detail Key]:[Summary Key]],4,FALSE),\"?\")","v":"?"}]
[null,null,null,null,null,null,null,null,null,null,null,null,null,null,null,null,null,null,null,null,{"$f":"IFERROR(VLOOKUP(\"4000\" & \"|\" & TRIM(L308)& \"|\" & TRIM(N308),TrnsfrXrefTable[[Detail Key]:[Summary Key]],4,FALSE),\"?\")","v":"?"}]
[null,null,null,null,null,null,null,null,null,null,null,null,null,null,null,null,null,null,null,null,{"$f":"IFERROR(VLOOKUP(\"4000\" & \"|\" & TRIM(L309)& \"|\" & TRIM(N309),TrnsfrXrefTable[[Detail Key]:[Summary Key]],4,FALSE),\"?\")","v":"?"}]
[null,null,null,null,null,null,null,null,null,null,null,null,null,null,null,null,null,null,null,null,{"$f":"IFERROR(VLOOKUP(\"4000\" & \"|\" & TRIM(L310)& \"|\" & TRIM(N310),TrnsfrXrefTable[[Detail Key]:[Summary Key]],4,FALSE),\"?\")","v":"?"}]
[null,null,null,null,null,null,null,null,null,null,null,null,null,null,null,null,null,null,null,null,{"$f":"IFERROR(VLOOKUP(\"4000\" & \"|\" & TRIM(L311)& \"|\" & TRIM(N311),TrnsfrXrefTable[[Detail Key]:[Summary Key]],4,FALSE),\"?\")","v":"?"}]
[null,null,null,null,null,null,null,null,null,null,null,null,null,null,null,null,null,null,null,null,{"$f":"IFERROR(VLOOKUP(\"4000\" & \"|\" & TRIM(L312)& \"|\" & TRIM(N312),TrnsfrXrefTable[[Detail Key]:[Summary Key]],4,FALSE),\"?\")","v":"?"}]
[null,null,null,null,null,null,null,null,null,null,null,null,null,null,null,null,null,null,null,null,{"$f":"IFERROR(VLOOKUP(\"4000\" & \"|\" & TRIM(L313)& \"|\" & TRIM(N313),TrnsfrXrefTable[[Detail Key]:[Summary Key]],4,FALSE),\"?\")","v":"?"}]
[null,null,null,null,null,null,null,null,null,null,null,null,null,null,null,null,null,null,null,null,{"$f":"IFERROR(VLOOKUP(\"4000\" & \"|\" & TRIM(L314)& \"|\" & TRIM(N314),TrnsfrXrefTable[[Detail Key]:[Summary Key]],4,FALSE),\"?\")","v":"?"}]
[null,null,null,null,null,null,null,null,null,null,null,null,null,null,null,null,null,null,null,null,{"$f":"IFERROR(VLOOKUP(\"4000\" & \"|\" & TRIM(L315)& \"|\" & TRIM(N315),TrnsfrXrefTable[[Detail Key]:[Summary Key]],4,FALSE),\"?\")","v":"?"}]
[null,null,null,null,null,null,null,null,null,null,null,null,null,null,null,null,null,null,null,null,{"$f":"IFERROR(VLOOKUP(\"4000\" & \"|\" & TRIM(L316)& \"|\" & TRIM(N316),TrnsfrXrefTable[[Detail Key]:[Summary Key]],4,FALSE),\"?\")","v":"?"}]
[null,null,null,null,null,null,null,null,null,null,null,null,null,null,null,null,null,null,null,null,{"$f":"IFERROR(VLOOKUP(\"4000\" & \"|\" & TRIM(L317)& \"|\" & TRIM(N317),TrnsfrXrefTable[[Detail Key]:[Summary Key]],4,FALSE),\"?\")","v":"?"}]
[null,null,null,null,null,null,null,null,null,null,null,null,null,null,null,null,null,null,null,null,{"$f":"IFERROR(VLOOKUP(\"4000\" & \"|\" & TRIM(L318)& \"|\" & TRIM(N318),TrnsfrXrefTable[[Detail Key]:[Summary Key]],4,FALSE),\"?\")","v":"?"}]
[null,null,null,null,null,null,null,null,null,null,null,null,null,null,null,null,null,null,null,null,{"$f":"IFERROR(VLOOKUP(\"4000\" & \"|\" & TRIM(L319)& \"|\" & TRIM(N319),TrnsfrXrefTable[[Detail Key]:[Summary Key]],4,FALSE),\"?\")","v":"?"}]
[null,null,null,null,null,null,null,null,null,null,null,null,null,null,null,null,null,null,null,null,{"$f":"IFERROR(VLOOKUP(\"4000\" & \"|\" & TRIM(L320)& \"|\" & TRIM(N320),TrnsfrXrefTable[[Detail Key]:[Summary Key]],4,FALSE),\"?\")","v":"?"}]
[null,null,null,null,null,null,null,null,null,null,null,null,null,null,null,null,null,null,null,null,{"$f":"IFERROR(VLOOKUP(\"4000\" & \"|\" & TRIM(L321)& \"|\" & TRIM(N321),TrnsfrXrefTable[[Detail Key]:[Summary Key]],4,FALSE),\"?\")","v":"?"}]
[null,null,null,null,null,null,null,null,null,null,null,null,null,null,null,null,null,null,null,null,{"$f":"IFERROR(VLOOKUP(\"4000\" & \"|\" & TRIM(L322)& \"|\" & TRIM(N322),TrnsfrXrefTable[[Detail Key]:[Summary Key]],4,FALSE),\"?\")","v":"?"}]
[null,null,null,null,null,null,null,null,null,null,null,null,null,null,null,null,null,null,null,null,{"$f":"IFERROR(VLOOKUP(\"4000\" & \"|\" & TRIM(L323)& \"|\" & TRIM(N323),TrnsfrXrefTable[[Detail Key]:[Summary Key]],4,FALSE),\"?\")","v":"?"}]
[null,null,null,null,null,null,null,null,null,null,null,null,null,null,null,null,null,null,null,null,{"$f":"IFERROR(VLOOKUP(\"4000\" & \"|\" & TRIM(L324)& \"|\" & TRIM(N324),TrnsfrXrefTable[[Detail Key]:[Summary Key]],4,FALSE),\"?\")","v":"?"}]
[null,null,null,null,null,null,null,null,null,null,null,null,null,null,null,null,null,null,null,null,{"$f":"IFERROR(VLOOKUP(\"4000\" & \"|\" & TRIM(L325)& \"|\" & TRIM(N325),TrnsfrXrefTable[[Detail Key]:[Summary Key]],4,FALSE),\"?\")","v":"?"}]
[null,null,null,null,null,null,null,null,null,null,null,null,null,null,null,null,null,null,null,null,{"$f":"IFERROR(VLOOKUP(\"4000\" & \"|\" & TRIM(L326)& \"|\" & TRIM(N326),TrnsfrXrefTable[[Detail Key]:[Summary Key]],4,FALSE),\"?\")","v":"?"}]
[null,null,null,null,null,null,null,null,null,null,null,null,null,null,null,null,null,null,null,null,{"$f":"IFERROR(VLOOKUP(\"4000\" & \"|\" & TRIM(L327)& \"|\" & TRIM(N327),TrnsfrXrefTable[[Detail Key]:[Summary Key]],4,FALSE),\"?\")","v":"?"}]
[null,null,null,null,null,null,null,null,null,null,null,null,null,null,null,null,null,null,null,null,{"$f":"IFERROR(VLOOKUP(\"4000\" & \"|\" & TRIM(L328)& \"|\" & TRIM(N328),TrnsfrXrefTable[[Detail Key]:[Summary Key]],4,FALSE),\"?\")","v":"?"}]
[null,null,null,null,null,null,null,null,null,null,null,null,null,null,null,null,null,null,null,null,{"$f":"IFERROR(VLOOKUP(\"4000\" & \"|\" & TRIM(L329)& \"|\" & TRIM(N329),TrnsfrXrefTable[[Detail Key]:[Summary Key]],4,FALSE),\"?\")","v":"?"}]
[null,null,null,null,null,null,null,null,null,null,null,null,null,null,null,null,null,null,null,null,{"$f":"IFERROR(VLOOKUP(\"4000\" & \"|\" & TRIM(L330)& \"|\" & TRIM(N330),TrnsfrXrefTable[[Detail Key]:[Summary Key]],4,FALSE),\"?\")","v":"?"}]
[null,null,null,null,null,null,null,null,null,null,null,null,null,null,null,null,null,null,null,null,{"$f":"IFERROR(VLOOKUP(\"4000\" & \"|\" & TRIM(L331)& \"|\" & TRIM(N331),TrnsfrXrefTable[[Detail Key]:[Summary Key]],4,FALSE),\"?\")","v":"?"}]
[null,null,null,null,null,null,null,null,null,null,null,null,null,null,null,null,null,null,null,null,{"$f":"IFERROR(VLOOKUP(\"4000\" & \"|\" & TRIM(L332)& \"|\" & TRIM(N332),TrnsfrXrefTable[[Detail Key]:[Summary Key]],4,FALSE),\"?\")","v":"?"}]
[null,null,null,null,null,null,null,null,null,null,null,null,null,null,null,null,null,null,null,null,{"$f":"IFERROR(VLOOKUP(\"4000\" & \"|\" & TRIM(L333)& \"|\" & TRIM(N333),TrnsfrXrefTable[[Detail Key]:[Summary Key]],4,FALSE),\"?\")","v":"?"}]
[null,null,null,null,null,null,null,null,null,null,null,null,null,null,null,null,null,null,null,null,{"$f":"IFERROR(VLOOKUP(\"4000\" & \"|\" & TRIM(L334)& \"|\" & TRIM(N334),TrnsfrXrefTable[[Detail Key]:[Summary Key]],4,FALSE),\"?\")","v":"?"}]
[null,null,null,null,null,null,null,null,null,null,null,null,null,null,null,null,null,null,null,null,{"$f":"IFERROR(VLOOKUP(\"4000\" & \"|\" & TRIM(L335)& \"|\" & TRIM(N335),TrnsfrXrefTable[[Detail Key]:[Summary Key]],4,FALSE),\"?\")","v":"?"}]
[null,null,null,null,null,null,null,null,null,null,null,null,null,null,null,null,null,null,null,null,{"$f":"IFERROR(VLOOKUP(\"4000\" & \"|\" & TRIM(L336)& \"|\" & TRIM(N336),TrnsfrXrefTable[[Detail Key]:[Summary Key]],4,FALSE),\"?\")","v":"?"}]
[null,null,null,null,null,null,null,null,null,null,null,null,null,null,null,null,null,null,null,null,{"$f":"IFERROR(VLOOKUP(\"4000\" & \"|\" & TRIM(L337)& \"|\" & TRIM(N337),TrnsfrXrefTable[[Detail Key]:[Summary Key]],4,FALSE),\"?\")","v":"?"}]
[null,null,null,null,null,null,null,null,null,null,null,null,null,null,null,null,null,null,null,null,{"$f":"IFERROR(VLOOKUP(\"4000\" & \"|\" & TRIM(L338)& \"|\" & TRIM(N338),TrnsfrXrefTable[[Detail Key]:[Summary Key]],4,FALSE),\"?\")","v":"?"}]
[null,null,null,null,null,null,null,null,null,null,null,null,null,null,null,null,null,null,null,null,{"$f":"IFERROR(VLOOKUP(\"4000\" & \"|\" & TRIM(L339)& \"|\" & TRIM(N339),TrnsfrXrefTable[[Detail Key]:[Summary Key]],4,FALSE),\"?\")","v":"?"}]
[null,null,null,null,null,null,null,null,null,null,null,null,null,null,null,null,null,null,null,null,{"$f":"IFERROR(VLOOKUP(\"4000\" & \"|\" & TRIM(L340)& \"|\" & TRIM(N340),TrnsfrXrefTable[[Detail Key]:[Summary Key]],4,FALSE),\"?\")","v":"?"}]
[null,null,null,null,null,null,null,null,null,null,null,null,null,null,null,null,null,null,null,null,{"$f":"IFERROR(VLOOKUP(\"4000\" & \"|\" & TRIM(L341)& \"|\" & TRIM(N341),TrnsfrXrefTable[[Detail Key]:[Summary Key]],4,FALSE),\"?\")","v":"?"}]
[null,null,null,null,null,null,null,null,null,null,null,null,null,null,null,null,null,null,null,null,{"$f":"IFERROR(VLOOKUP(\"4000\" & \"|\" & TRIM(L342)& \"|\" & TRIM(N342),TrnsfrXrefTable[[Detail Key]:[Summary Key]],4,FALSE),\"?\")","v":"?"}]
[null,null,null,null,null,null,null,null,null,null,null,null,null,null,null,null,null,null,null,null,{"$f":"IFERROR(VLOOKUP(\"4000\" & \"|\" & TRIM(L343)& \"|\" & TRIM(N343),TrnsfrXrefTable[[Detail Key]:[Summary Key]],4,FALSE),\"?\")","v":"?"}]
[null,null,null,null,null,null,null,null,null,null,null,null,null,null,null,null,null,null,null,null,{"$f":"IFERROR(VLOOKUP(\"4000\" & \"|\" & TRIM(L344)& \"|\" & TRIM(N344),TrnsfrXrefTable[[Detail Key]:[Summary Key]],4,FALSE),\"?\")","v":"?"}]
[null,null,null,null,null,null,null,null,null,null,null,null,null,null,null,null,null,null,null,null,{"$f":"IFERROR(VLOOKUP(\"4000\" & \"|\" & TRIM(L345)& \"|\" & TRIM(N345),TrnsfrXrefTable[[Detail Key]:[Summary Key]],4,FALSE),\"?\")","v":"?"}]
[null,null,null,null,null,null,null,null,null,null,null,null,null,null,null,null,null,null,null,null,{"$f":"IFERROR(VLOOKUP(\"4000\" & \"|\" & TRIM(L346)& \"|\" & TRIM(N346),TrnsfrXrefTable[[Detail Key]:[Summary Key]],4,FALSE),\"?\")","v":"?"}]
[null,null,null,null,null,null,null,null,null,null,null,null,null,null,null,null,null,null,null,null,{"$f":"IFERROR(VLOOKUP(\"4000\" & \"|\" & TRIM(L347)& \"|\" & TRIM(N347),TrnsfrXrefTable[[Detail Key]:[Summary Key]],4,FALSE),\"?\")","v":"?"}]
[null,null,null,null,null,null,null,null,null,null,null,null,null,null,null,null,null,null,null,null,{"$f":"IFERROR(VLOOKUP(\"4000\" & \"|\" & TRIM(L348)& \"|\" & TRIM(N348),TrnsfrXrefTable[[Detail Key]:[Summary Key]],4,FALSE),\"?\")","v":"?"}]
[null,null,null,null,null,null,null,null,null,null,null,null,null,null,null,null,null,null,null,null,{"$f":"IFERROR(VLOOKUP(\"4000\" & \"|\" & TRIM(L349)& \"|\" & TRIM(N349),TrnsfrXrefTable[[Detail Key]:[Summary Key]],4,FALSE),\"?\")","v":"?"}]
[null,null,null,null,null,null,null,null,null,null,null,null,null,null,null,null,null,null,null,null,{"$f":"IFERROR(VLOOKUP(\"4000\" & \"|\" & TRIM(L350)& \"|\" & TRIM(N350),TrnsfrXrefTable[[Detail Key]:[Summary Key]],4,FALSE),\"?\")","v":"?"}]
[null,null,null,null,null,null,null,null,null,null,null,null,null,null,null,null,null,null,null,null,{"$f":"IFERROR(VLOOKUP(\"4000\" & \"|\" & TRIM(L351)& \"|\" & TRIM(N351),TrnsfrXrefTable[[Detail Key]:[Summary Key]],4,FALSE),\"?\")","v":"?"}]
[null,null,null,null,null,null,null,null,null,null,null,null,null,null,null,null,null,null,null,null,{"$f":"IFERROR(VLOOKUP(\"4000\" & \"|\" & TRIM(L352)& \"|\" & TRIM(N352),TrnsfrXrefTable[[Detail Key]:[Summary Key]],4,FALSE),\"?\")","v":"?"}]
[null,null,null,null,null,null,null,null,null,null,null,null,null,null,null,null,null,null,null,null,{"$f":"IFERROR(VLOOKUP(\"4000\" & \"|\" & TRIM(L353)& \"|\" & TRIM(N353),TrnsfrXrefTable[[Detail Key]:[Summary Key]],4,FALSE),\"?\")","v":"?"}]
[null,null,null,null,null,null,null,null,null,null,null,null,null,null,null,null,null,null,null,null,{"$f":"IFERROR(VLOOKUP(\"4000\" & \"|\" & TRIM(L354)& \"|\" & TRIM(N354),TrnsfrXrefTable[[Detail Key]:[Summary Key]],4,FALSE),\"?\")","v":"?"}]
[null,null,null,null,null,null,null,null,null,null,null,null,null,null,null,null,null,null,null,null,{"$f":"IFERROR(VLOOKUP(\"4000\" & \"|\" & TRIM(L355)& \"|\" & TRIM(N355),TrnsfrXrefTable[[Detail Key]:[Summary Key]],4,FALSE),\"?\")","v":"?"}]
[null,null,null,null,null,null,null,null,null,null,null,null,null,null,null,null,null,null,null,null,{"$f":"IFERROR(VLOOKUP(\"4000\" & \"|\" & TRIM(L356)& \"|\" & TRIM(N356),TrnsfrXrefTable[[Detail Key]:[Summary Key]],4,FALSE),\"?\")","v":"?"}]
[null,null,null,null,null,null,null,null,null,null,null,null,null,null,null,null,null,null,null,null,{"$f":"IFERROR(VLOOKUP(\"4000\" & \"|\" & TRIM(L357)& \"|\" & TRIM(N357),TrnsfrXrefTable[[Detail Key]:[Summary Key]],4,FALSE),\"?\")","v":"?"}]
[null,null,null,null,null,null,null,null,null,null,null,null,null,null,null,null,null,null,null,null,{"$f":"IFERROR(VLOOKUP(\"4000\" & \"|\" & TRIM(L358)& \"|\" & TRIM(N358),TrnsfrXrefTable[[Detail Key]:[Summary Key]],4,FALSE),\"?\")","v":"?"}]
[null,null,null,null,null,null,null,null,null,null,null,null,null,null,null,null,null,null,null,null,{"$f":"IFERROR(VLOOKUP(\"4000\" & \"|\" & TRIM(L359)& \"|\" & TRIM(N359),TrnsfrXrefTable[[Detail Key]:[Summary Key]],4,FALSE),\"?\")","v":"?"}]
[null,null,null,null,null,null,null,null,null,null,null,null,null,null,null,null,null,null,null,null,{"$f":"IFERROR(VLOOKUP(\"4000\" & \"|\" & TRIM(L360)& \"|\" & TRIM(N360),TrnsfrXrefTable[[Detail Key]:[Summary Key]],4,FALSE),\"?\")","v":"?"}]
[null,null,null,null,null,null,null,null,null,null,null,null,null,null,null,null,null,null,null,null,{"$f":"IFERROR(VLOOKUP(\"4000\" & \"|\" & TRIM(L361)& \"|\" & TRIM(N361),TrnsfrXrefTable[[Detail Key]:[Summary Key]],4,FALSE),\"?\")","v":"?"}]
[null,null,null,null,null,null,null,null,null,null,null,null,null,null,null,null,null,null,null,null,{"$f":"IFERROR(VLOOKUP(\"4000\" & \"|\" & TRIM(L362)& \"|\" & TRIM(N362),TrnsfrXrefTable[[Detail Key]:[Summary Key]],4,FALSE),\"?\")","v":"?"}]
[null,null,null,null,null,null,null,null,null,null,null,null,null,null,null,null,null,null,null,null,{"$f":"IFERROR(VLOOKUP(\"4000\" & \"|\" & TRIM(L363)& \"|\" & TRIM(N363),TrnsfrXrefTable[[Detail Key]:[Summary Key]],4,FALSE),\"?\")","v":"?"}]
[null,null,null,null,null,null,null,null,null,null,null,null,null,null,null,null,null,null,null,null,{"$f":"IFERROR(VLOOKUP(\"4000\" & \"|\" & TRIM(L364)& \"|\" & TRIM(N364),TrnsfrXrefTable[[Detail Key]:[Summary Key]],4,FALSE),\"?\")","v":"?"}]
[null,null,null,null,null,null,null,null,null,null,null,null,null,null,null,null,null,null,null,null,{"$f":"IFERROR(VLOOKUP(\"4000\" & \"|\" & TRIM(L365)& \"|\" & TRIM(N365),TrnsfrXrefTable[[Detail Key]:[Summary Key]],4,FALSE),\"?\")","v":"?"}]
[null,null,null,null,null,"      ",null,null,null,null,null,null,null,"Total for Object Code:",null,null,{"$f":"SUM(Q293:R365)","v":0}]
[null,"Page 33"]
[null,{"$f":"'Main Page'!$N$9","v":"2026-2027"},null,"School Division:",{"$f":"'Main Page'!$L$14","v":0},null,null,null,"Division Number:",{"$f":"'Main Page'!$L$15","v":" "},{"$f":"'Main Page'!$B$6","v":"Local Consolidated Application"}]
[null,"DETAILED BUDGET DESCRIPTION OF OBJECT CODE 5000"]
[null,"Provide a description of the expenditures that support the program, including utilities (maintenance and operation of plant), staff/administrative/consultant travel, office phone charges, training, leases/rental, indirect cost, and other.   Indirect costs cannot be claimed against capital outlay and equipment."]
[]
[]
[]
[null,"Please provide a detailed description of Title II, Part A and Title III, Part A Private School activities (if no private school set-aside is present, please enter N/A). "]
[]
[null,"Item Description",null,null,null,null,null,null,null,"Measurable Objective",null,"Federal Program Funding Source",null,"Category",null,null,"Total Cost"]
[null,"Private School Set-aside",null,null,null,null,null,null,null,null,null,null,null,null,null,null,null,null,null,null,{"$f":"IFERROR(VLOOKUP(\"5000\" & \"|\" & TRIM(L377)& \"|\" & TRIM(N377),TrnsfrXrefTable[[Detail Key]:[Summary Key]],4,FALSE),\"?\")","v":"?"}]
[null,"Private School Set-aside",null,null,null,null,null,null,null,null,null,null,null,null,null,null,null,null,null,null,{"$f":"IFERROR(VLOOKUP(\"5000\" & \"|\" & TRIM(L378)& \"|\" & TRIM(N378),TrnsfrXrefTable[[Detail Key]:[Summary Key]],4,FALSE),\"?\")","v":"?"}]
[null,null,null,null,null,null,null,null,null,null,null,null,null,null,null,null,null,null,null,null,{"$f":"IFERROR(VLOOKUP(\"5000\" & \"|\" & TRIM(L379)& \"|\" & TRIM(N379),TrnsfrXrefTable[[Detail Key]:[Summary Key]],4,FALSE),\"?\")","v":"?"}]
[null,null,null,null,null,null,null,null,null,null,null,null,null,null,null,null,null,null,null,null,{"$f":"IFERROR(VLOOKUP(\"5000\" & \"|\" & TRIM(L380)& \"|\" & TRIM(N380),TrnsfrXrefTable[[Detail Key]:[Summary Key]],4,FALSE),\"?\")","v":"?"}]
[null,null,null,null,null,null,null,null,null,null,null,null,null,null,null,null,null,null,null,null,{"$f":"IFERROR(VLOOKUP(\"5000\" & \"|\" & TRIM(L381)& \"|\" & TRIM(N381),TrnsfrXrefTable[[Detail Key]:[Summary Key]],4,FALSE),\"?\")","v":"?"}]
[null,null,null,null,null,null,null,null,null,null,null,null,null,null,null,null,null,null,null,null,{"$f":"IFERROR(VLOOKUP(\"5000\" & \"|\" & TRIM(L382)& \"|\" & TRIM(N382),TrnsfrXrefTable[[Detail Key]:[Summary Key]],4,FALSE),\"?\")","v":"?"}]
[null,null,null,null,null,null,null,null,null,null,null,null,null,null,null,null,null,null,null,null,{"$f":"IFERROR(VLOOKUP(\"5000\" & \"|\" & TRIM(L383)& \"|\" & TRIM(N383),TrnsfrXrefTable[[Detail Key]:[Summary Key]],4,FALSE),\"?\")","v":"?"}]
[null,null,null,null,null,null,null,null,null,null,null,null,null,null,null,null,null,null,null,null,{"$f":"IFERROR(VLOOKUP(\"5000\" & \"|\" & TRIM(L384)& \"|\" & TRIM(N384),TrnsfrXrefTable[[Detail Key]:[Summary Key]],4,FALSE),\"?\")","v":"?"}]
[null,null,null,null,null,null,null,null,null,null,null,null,null,null,null,null,null,null,null,null,{"$f":"IFERROR(VLOOKUP(\"5000\" & \"|\" & TRIM(L385)& \"|\" & TRIM(N385),TrnsfrXrefTable[[Detail Key]:[Summary Key]],4,FALSE),\"?\")","v":"?"}]
[null,null,null,null,null,null,null,null,null,null,null,null,null,null,null,null,null,null,null,null,{"$f":"IFERROR(VLOOKUP(\"5000\" & \"|\" & TRIM(L386)& \"|\" & TRIM(N386),TrnsfrXrefTable[[Detail Key]:[Summary Key]],4,FALSE),\"?\")","v":"?"}]
[null,null,null,null,null,null,null,null,null,null,null,null,null,null,null,null,null,null,null,null,{"$f":"IFERROR(VLOOKUP(\"5000\" & \"|\" & TRIM(L387)& \"|\" & TRIM(N387),TrnsfrXrefTable[[Detail Key]:[Summary Key]],4,FALSE),\"?\")","v":"?"}]
[null,null,null,null,null,null,null,null,null,null,null,null,null,null,null,null,null,null,null,null,{"$f":"IFERROR(VLOOKUP(\"5000\" & \"|\" & TRIM(L388)& \"|\" & TRIM(N388),TrnsfrXrefTable[[Detail Key]:[Summary Key]],4,FALSE),\"?\")","v":"?"}]
[null,null,null,null,null,null,null,null,null,null,null,null,null,null,null,null,null,null,null,null,{"$f":"IFERROR(VLOOKUP(\"5000\" & \"|\" & TRIM(L389)& \"|\" & TRIM(N389),TrnsfrXrefTable[[Detail Key]:[Summary Key]],4,FALSE),\"?\")","v":"?"}]
[null,null,null,null,null,null,null,null,null,null,null,null,null,null,null,null,null,null,null,null,{"$f":"IFERROR(VLOOKUP(\"5000\" & \"|\" & TRIM(L390)& \"|\" & TRIM(N390),TrnsfrXrefTable[[Detail Key]:[Summary Key]],4,FALSE),\"?\")","v":"?"}]
[null,null,null,null,null,null,null,null,null,null,null,null,null,null,null,null,null,null,null,null,{"$f":"IFERROR(VLOOKUP(\"5000\" & \"|\" & TRIM(L391)& \"|\" & TRIM(N391),TrnsfrXrefTable[[Detail Key]:[Summary Key]],4,FALSE),\"?\")","v":"?"}]
[null,null,null,null,null,null,null,null,null,null,null,null,null,null,null,null,null,null,null,null,{"$f":"IFERROR(VLOOKUP(\"5000\" & \"|\" & TRIM(L392)& \"|\" & TRIM(N392),TrnsfrXrefTable[[Detail Key]:[Summary Key]],4,FALSE),\"?\")","v":"?"}]
[null,null,null,null,null,null,null,null,null,null,null,null,null,null,null,null,null,null,null,null,{"$f":"IFERROR(VLOOKUP(\"5000\" & \"|\" & TRIM(L393)& \"|\" & TRIM(N393),TrnsfrXrefTable[[Detail Key]:[Summary Key]],4,FALSE),\"?\")","v":"?"}]
[null,null,null,null,null,null,null,null,null,null,null,null,null,null,null,null,null,null,null,null,{"$f":"IFERROR(VLOOKUP(\"5000\" & \"|\" & TRIM(L394)& \"|\" & TRIM(N394),TrnsfrXrefTable[[Detail Key]:[Summary Key]],4,FALSE),\"?\")","v":"?"}]
[null,null,null,null,null,null,null,null,null,null,null,null,null,null,null,null,null,null,null,null,{"$f":"IFERROR(VLOOKUP(\"5000\" & \"|\" & TRIM(L395)& \"|\" & TRIM(N395),TrnsfrXrefTable[[Detail Key]:[Summary Key]],4,FALSE),\"?\")","v":"?"}]
[null,null,null,null,null,null,null,null,null,null,null,null,null,null,null,null,null,null,null,null,{"$f":"IFERROR(VLOOKUP(\"5000\" & \"|\" & TRIM(L396)& \"|\" & TRIM(N396),TrnsfrXrefTable[[Detail Key]:[Summary Key]],4,FALSE),\"?\")","v":"?"}]
[null,null,null,null,null,null,null,null,null,null,null,null,null,null,null,null,null,null,null,null,{"$f":"IFERROR(VLOOKUP(\"5000\" & \"|\" & TRIM(L397)& \"|\" & TRIM(N397),TrnsfrXrefTable[[Detail Key]:[Summary Key]],4,FALSE),\"?\")","v":"?"}]
[null,null,null,null,null,null,null,null,null,null,null,null,null,null,null,null,null,null,null,null,{"$f":"IFERROR(VLOOKUP(\"5000\" & \"|\" & TRIM(L398)& \"|\" & TRIM(N398),TrnsfrXrefTable[[Detail Key]:[Summary Key]],4,FALSE),\"?\")","v":"?"}]
[null,null,null,null,null,null,null,null,null,null,null,null,null,null,null,null,null,null,null,null,{"$f":"IFERROR(VLOOKUP(\"5000\" & \"|\" & TRIM(L399)& \"|\" & TRIM(N399),TrnsfrXrefTable[[Detail Key]:[Summary Key]],4,FALSE),\"?\")","v":"?"}]
[null,null,null,null,null,null,null,null,null,null,null,null,null,null,null,null,null,null,null,null,{"$f":"IFERROR(VLOOKUP(\"5000\" & \"|\" & TRIM(L400)& \"|\" & TRIM(N400),TrnsfrXrefTable[[Detail Key]:[Summary Key]],4,FALSE),\"?\")","v":"?"}]
[null,null,null,null,null,null,null,null,null,null,null,null,null,null,null,null,null,null,null,null,{"$f":"IFERROR(VLOOKUP(\"5000\" & \"|\" & TRIM(L401)& \"|\" & TRIM(N401),TrnsfrXrefTable[[Detail Key]:[Summary Key]],4,FALSE),\"?\")","v":"?"}]
[null,null,null,null,null,null,null,null,null,null,null,null,null,null,null,null,null,null,null,null,{"$f":"IFERROR(VLOOKUP(\"5000\" & \"|\" & TRIM(L402)& \"|\" & TRIM(N402),TrnsfrXrefTable[[Detail Key]:[Summary Key]],4,FALSE),\"?\")","v":"?"}]
[null,null,null,null,null,null,null,null,null,null,null,null,null,null,null,null,null,null,null,null,{"$f":"IFERROR(VLOOKUP(\"5000\" & \"|\" & TRIM(L403)& \"|\" & TRIM(N403),TrnsfrXrefTable[[Detail Key]:[Summary Key]],4,FALSE),\"?\")","v":"?"}]
[null,null,null,null,null,null,null,null,null,null,null,null,null,null,null,null,null,null,null,null,{"$f":"IFERROR(VLOOKUP(\"5000\" & \"|\" & TRIM(L404)& \"|\" & TRIM(N404),TrnsfrXrefTable[[Detail Key]:[Summary Key]],4,FALSE),\"?\")","v":"?"}]
[null,null,null,null,null,null,null,null,null,null,null,null,null,null,null,null,null,null,null,null,{"$f":"IFERROR(VLOOKUP(\"5000\" & \"|\" & TRIM(L405)& \"|\" & TRIM(N405),TrnsfrXrefTable[[Detail Key]:[Summary Key]],4,FALSE),\"?\")","v":"?"}]
[null,null,null,null,null,null,null,null,null,null,null,null,null,null,null,null,null,null,null,null,{"$f":"IFERROR(VLOOKUP(\"5000\" & \"|\" & TRIM(L406)& \"|\" & TRIM(N406),TrnsfrXrefTable[[Detail Key]:[Summary Key]],4,FALSE),\"?\")","v":"?"}]
[null,null,null,null,null,null,null,null,null,null,null,null,null,null,null,null,null,null,null,null,{"$f":"IFERROR(VLOOKUP(\"5000\" & \"|\" & TRIM(L407)& \"|\" & TRIM(N407),TrnsfrXrefTable[[Detail Key]:[Summary Key]],4,FALSE),\"?\")","v":"?"}]
[null,null,null,null,null,null,null,null,null,null,null,null,null,null,null,null,null,null,null,null,{"$f":"IFERROR(VLOOKUP(\"5000\" & \"|\" & TRIM(L408)& \"|\" & TRIM(N408),TrnsfrXrefTable[[Detail Key]:[Summary Key]],4,FALSE),\"?\")","v":"?"}]
[null,null,null,null,null,null,null,null,null,null,null,null,null,null,null,null,null,null,null,null,{"$f":"IFERROR(VLOOKUP(\"5000\" & \"|\" & TRIM(L409)& \"|\" & TRIM(N409),TrnsfrXrefTable[[Detail Key]:[Summary Key]],4,FALSE),\"?\")","v":"?"}]
[null,null,null,null,null,null,null,null,null,null,null,null,null,null,null,null,null,null,null,null,{"$f":"IFERROR(VLOOKUP(\"5000\" & \"|\" & TRIM(L410)& \"|\" & TRIM(N410),TrnsfrXrefTable[[Detail Key]:[Summary Key]],4,FALSE),\"?\")","v":"?"}]
[null,null,null,null,null,null,null,null,null,null,null,null,null,null,null,null,null,null,null,null,{"$f":"IFERROR(VLOOKUP(\"5000\" & \"|\" & TRIM(L411)& \"|\" & TRIM(N411),TrnsfrXrefTable[[Detail Key]:[Summary Key]],4,FALSE),\"?\")","v":"?"}]
[null,null,null,null,null,null,null,null,null,null,null,null,null,null,null,null,null,null,null,null,{"$f":"IFERROR(VLOOKUP(\"5000\" & \"|\" & TRIM(L412)& \"|\" & TRIM(N412),TrnsfrXrefTable[[Detail Key]:[Summary Key]],4,FALSE),\"?\")","v":"?"}]
[null,null,null,null,null,null,null,null,null,null,null,null,null,null,null,null,null,null,null,null,{"$f":"IFERROR(VLOOKUP(\"5000\" & \"|\" & TRIM(L413)& \"|\" & TRIM(N413),TrnsfrXrefTable[[Detail Key]:[Summary Key]],4,FALSE),\"?\")","v":"?"}]
[null,null,null,null,null,null,null,null,null,null,null,null,null,null,null,null,null,null,null,null,{"$f":"IFERROR(VLOOKUP(\"5000\" & \"|\" & TRIM(L414)& \"|\" & TRIM(N414),TrnsfrXrefTable[[Detail Key]:[Summary Key]],4,FALSE),\"?\")","v":"?"}]
[null,null,null,null,null,null,null,null,null,null,null,null,null,null,null,null,null,null,null,null,{"$f":"IFERROR(VLOOKUP(\"5000\" & \"|\" & TRIM(L415)& \"|\" & TRIM(N415),TrnsfrXrefTable[[Detail Key]:[Summary Key]],4,FALSE),\"?\")","v":"?"}]
[null,null,null,null,null,null,null,null,null,null,null,null,null,null,null,null,null,null,null,null,{"$f":"IFERROR(VLOOKUP(\"5000\" & \"|\" & TRIM(L416)& \"|\" & TRIM(N416),TrnsfrXrefTable[[Detail Key]:[Summary Key]],4,FALSE),\"?\")","v":"?"}]
[null,null,null,null,null,null,null,null,null,null,null,null,null,null,null,null,null,null,null,null,{"$f":"IFERROR(VLOOKUP(\"5000\" & \"|\" & TRIM(L417)& \"|\" & TRIM(N417),TrnsfrXrefTable[[Detail Key]:[Summary Key]],4,FALSE),\"?\")","v":"?"}]
[null,null,null,null,null,null,null,null,null,null,null,null,null,null,null,null,null,null,null,null,{"$f":"IFERROR(VLOOKUP(\"5000\" & \"|\" & TRIM(L418)& \"|\" & TRIM(N418),TrnsfrXrefTable[[Detail Key]:[Summary Key]],4,FALSE),\"?\")","v":"?"}]
[null,null,null,null,null,null,null,null,null,null,null,null,null,null,null,null,null,null,null,null,{"$f":"IFERROR(VLOOKUP(\"5000\" & \"|\" & TRIM(L419)& \"|\" & TRIM(N419),TrnsfrXrefTable[[Detail Key]:[Summary Key]],4,FALSE),\"?\")","v":"?"}]
[null,null,null,null,null,null,null,null,null,null,null,null,null,null,null,null,null,null,null,null,{"$f":"IFERROR(VLOOKUP(\"5000\" & \"|\" & TRIM(L420)& \"|\" & TRIM(N420),TrnsfrXrefTable[[Detail Key]:[Summary Key]],4,FALSE),\"?\")","v":"?"}]
[null,null,null,null,null,null,null,null,null,null,null,null,null,null,null,null,null,null,null,null,{"$f":"IFERROR(VLOOKUP(\"5000\" & \"|\" & TRIM(L421)& \"|\" & TRIM(N421),TrnsfrXrefTable[[Detail Key]:[Summary Key]],4,FALSE),\"?\")","v":"?"}]
[null,null,null,null,null,null,null,null,null,null,null,null,null,null,null,null,null,null,null,null,{"$f":"IFERROR(VLOOKUP(\"5000\" & \"|\" & TRIM(L422)& \"|\" & TRIM(N422),TrnsfrXrefTable[[Detail Key]:[Summary Key]],4,FALSE),\"?\")","v":"?"}]
[null,null,null,null,null,null,null,null,null,null,null,null,null,null,null,null,null,null,null,null,{"$f":"IFERROR(VLOOKUP(\"5000\" & \"|\" & TRIM(L423)& \"|\" & TRIM(N423),TrnsfrXrefTable[[Detail Key]:[Summary Key]],4,FALSE),\"?\")","v":"?"}]
[null,null,null,null,null,null,null,null,null,null,null,null,null,null,null,null,null,null,null,null,{"$f":"IFERROR(VLOOKUP(\"5000\" & \"|\" & TRIM(L424)& \"|\" & TRIM(N424),TrnsfrXrefTable[[Detail Key]:[Summary Key]],4,FALSE),\"?\")","v":"?"}]
[null,null,null,null,null,null,null,null,null,null,null,null,null,null,null,null,null,null,null,null,{"$f":"IFERROR(VLOOKUP(\"5000\" & \"|\" & TRIM(L425)& \"|\" & TRIM(N425),TrnsfrXrefTable[[Detail Key]:[Summary Key]],4,FALSE),\"?\")","v":"?"}]
[null,null,null,null,null,null,null,null,null,null,null,null,null,null,null,null,null,null,null,null,{"$f":"IFERROR(VLOOKUP(\"5000\" & \"|\" & TRIM(L426)& \"|\" & TRIM(N426),TrnsfrXrefTable[[Detail Key]:[Summary Key]],4,FALSE),\"?\")","v":"?"}]
[null,null,null,null,null,null,null,null,null,null,null,null,null,null,null,null,null,null,null,null,{"$f":"IFERROR(VLOOKUP(\"5000\" & \"|\" & TRIM(L427)& \"|\" & TRIM(N427),TrnsfrXrefTable[[Detail Key]:[Summary Key]],4,FALSE),\"?\")","v":"?"}]
[null,null,null,null,null,null,null,null,null,null,null,null,null,null,null,null,null,null,null,null,{"$f":"IFERROR(VLOOKUP(\"5000\" & \"|\" & TRIM(L428)& \"|\" & TRIM(N428),TrnsfrXrefTable[[Detail Key]:[Summary Key]],4,FALSE),\"?\")","v":"?"}]
[null,null,null,null,null,null,null,null,null,null,null,null,null,null,null,null,null,null,null,null,{"$f":"IFERROR(VLOOKUP(\"5000\" & \"|\" & TRIM(L429)& \"|\" & TRIM(N429),TrnsfrXrefTable[[Detail Key]:[Summary Key]],4,FALSE),\"?\")","v":"?"}]
[null,null,null,null,null,null,null,null,null,null,null,null,null,null,null,null,null,null,null,null,{"$f":"IFERROR(VLOOKUP(\"5000\" & \"|\" & TRIM(L430)& \"|\" & TRIM(N430),TrnsfrXrefTable[[Detail Key]:[Summary Key]],4,FALSE),\"?\")","v":"?"}]
[null,null,null,null,null,null,null,null,null,null,null,null,null,null,null,null,null,null,null,null,{"$f":"IFERROR(VLOOKUP(\"5000\" & \"|\" & TRIM(L431)& \"|\" & TRIM(N431),TrnsfrXrefTable[[Detail Key]:[Summary Key]],4,FALSE),\"?\")","v":"?"}]
[null,null,null,null,null,null,null,null,null,null,null,null,null,null,null,null,null,null,null,null,{"$f":"IFERROR(VLOOKUP(\"5000\" & \"|\" & TRIM(L432)& \"|\" & TRIM(N432),TrnsfrXrefTable[[Detail Key]:[Summary Key]],4,FALSE),\"?\")","v":"?"}]
[null,null,null,null,null,null,null,null,null,null,null,null,null,null,null,null,null,null,null,null,{"$f":"IFERROR(VLOOKUP(\"5000\" & \"|\" & TRIM(L433)& \"|\" & TRIM(N433),TrnsfrXrefTable[[Detail Key]:[Summary Key]],4,FALSE),\"?\")","v":"?"}]
[null,null,null,null,null,null,null,null,null,null,null,null,null,null,null,null,null,null,null,null,{"$f":"IFERROR(VLOOKUP(\"5000\" & \"|\" & TRIM(L434)& \"|\" & TRIM(N434),TrnsfrXrefTable[[Detail Key]:[Summary Key]],4,FALSE),\"?\")","v":"?"}]
[null,null,null,null,null,null,null,null,null,null,null,null,null,null,null,null,null,null,null,null,{"$f":"IFERROR(VLOOKUP(\"5000\" & \"|\" & TRIM(L435)& \"|\" & TRIM(N435),TrnsfrXrefTable[[Detail Key]:[Summary Key]],4,FALSE),\"?\")","v":"?"}]
[null,null,null,null,null,null,null,null,null,null,null,null,null,null,null,null,null,null,null,null,{"$f":"IFERROR(VLOOKUP(\"5000\" & \"|\" & TRIM(L436)& \"|\" & TRIM(N436),TrnsfrXrefTable[[Detail Key]:[Summary Key]],4,FALSE),\"?\")","v":"?"}]
[null,null,null,null,null,null,null,null,null,null,null,null,null,null,null,null,null,null,null,null,{"$f":"IFERROR(VLOOKUP(\"5000\" & \"|\" & TRIM(L437)& \"|\" & TRIM(N437),TrnsfrXrefTable[[Detail Key]:[Summary Key]],4,FALSE),\"?\")","v":"?"}]
[null,null,null,null,null,"      ",null,null,null,null,null,null,null,"Total for Object Code:",null,null,{"$f":"SUM(Q377:R437)","v":0}]
[null,"Page 34"]
[null,{"$f":"'Main Page'!$N$9","v":"2026-2027"},null,"School Division:",{"$f":"'Main Page'!$L$14","v":0},null,null,null,"Division Number:",{"$f":"'Main Page'!$L$15","v":" "},{"$f":"'Main Page'!$B$6","v":"Local Consolidated Application"}]
[null,"DETAILED BUDGET DESCRIPTION OF OBJECT CODE 6000"]
[null,"Provide a description for expenses related to object code 6000 Materials and Supplies.  Include items that are consumed or materially altered when used and minor equipment that is not capitalized. Equipment, including computer equipment, should be reported under this object code based on the LEA's policy for capitalization threshold.  Indicate the quantity for each item. Indicate the quantity for each item.  "]
[]
[]
[]
[null,"Please provide a detailed description of Title II, Part A and Title III, Part A Private School activities (if no private school set-aside is present, please enter N/A). "]
[]
[null,"Item Description",null,null,null,null,null,null,null,"Measurable Objective",null,"Federal Program Funding Source",null,"Category",null,"Quantity","Total Cost"]
[null,"Private School Set-aside",null,null,null,null,null,null,null,null,null,null,null,null,null,null,null,null,null,null,{"$f":"IFERROR(VLOOKUP(\"6000\" & \"|\" & TRIM(L449)& \"|\" & TRIM(N449),TrnsfrXrefTable[[Detail Key]:[Summary Key]],4,FALSE),\"?\")","v":"?"}]
[null,"Private School Set-aside",null,null,null,null,null,null,null,null,null,null,null,null,null,null,null,null,null,null,{"$f":"IFERROR(VLOOKUP(\"6000\" & \"|\" & TRIM(L450)& \"|\" & TRIM(N450),TrnsfrXrefTable[[Detail Key]:[Summary Key]],4,FALSE),\"?\")","v":"?"}]
[null,null,null,null,null,null,null,null,null,null,null,null,null,null,null,null,null,null,null,null,{"$f":"IFERROR(VLOOKUP(\"6000\" & \"|\" & TRIM(L451)& \"|\" & TRIM(N451),TrnsfrXrefTable[[Detail Key]:[Summary Key]],4,FALSE),\"?\")","v":"?"}]
[null,null,null,null,null,null,null,null,null,null,null,null,null,null,null,null,null,null,null,null,{"$f":"IFERROR(VLOOKUP(\"6000\" & \"|\" & TRIM(L452)& \"|\" & TRIM(N452),TrnsfrXrefTable[[Detail Key]:[Summary Key]],4,FALSE),\"?\")","v":"?"}]
[null,null,null,null,null,null,null,null,null,null,null,null,null,null,null,null,null,null,null,null,{"$f":"IFERROR(VLOOKUP(\"6000\" & \"|\" & TRIM(L453)& \"|\" & TRIM(N453),TrnsfrXrefTable[[Detail Key]:[Summary Key]],4,FALSE),\"?\")","v":"?"}]
[null,null,null,null,null,null,null,null,null,null,null,null,null,null,null,null,null,null,null,null,{"$f":"IFERROR(VLOOKUP(\"6000\" & \"|\" & TRIM(L454)& \"|\" & TRIM(N454),TrnsfrXrefTable[[Detail Key]:[Summary Key]],4,FALSE),\"?\")","v":"?"}]
[null,null,null,null,null,null,null,null,null,null,null,null,null,null,null,null,null,null,null,null,{"$f":"IFERROR(VLOOKUP(\"6000\" & \"|\" & TRIM(L455)& \"|\" & TRIM(N455),TrnsfrXrefTable[[Detail Key]:[Summary Key]],4,FALSE),\"?\")","v":"?"}]
[null,null,null,null,null,null,null,null,null,null,null,null,null,null,null,null,null,null,null,null,{"$f":"IFERROR(VLOOKUP(\"6000\" & \"|\" & TRIM(L456)& \"|\" & TRIM(N456),TrnsfrXrefTable[[Detail Key]:[Summary Key]],4,FALSE),\"?\")","v":"?"}]
[null,null,null,null,null,null,null,null,null,null,null,null,null,null,null,null,null,null,null,null,{"$f":"IFERROR(VLOOKUP(\"6000\" & \"|\" & TRIM(L457)& \"|\" & TRIM(N457),TrnsfrXrefTable[[Detail Key]:[Summary Key]],4,FALSE),\"?\")","v":"?"}]
[null,null,null,null,null,null,null,null,null,null,null,null,null,null,null,null,null,null,null,null,{"$f":"IFERROR(VLOOKUP(\"6000\" & \"|\" & TRIM(L458)& \"|\" & TRIM(N458),TrnsfrXrefTable[[Detail Key]:[Summary Key]],4,FALSE),\"?\")","v":"?"}]
[null,null,null,null,null,null,null,null,null,null,null,null,null,null,null,null,null,null,null,null,{"$f":"IFERROR(VLOOKUP(\"6000\" & \"|\" & TRIM(L459)& \"|\" & TRIM(N459),TrnsfrXrefTable[[Detail Key]:[Summary Key]],4,FALSE),\"?\")","v":"?"}]
[null,null,null,null,null,null,null,null,null,null,null,null,null,null,null,null,null,null,null,null,{"$f":"IFERROR(VLOOKUP(\"6000\" & \"|\" & TRIM(L460)& \"|\" & TRIM(N460),TrnsfrXrefTable[[Detail Key]:[Summary Key]],4,FALSE),\"?\")","v":"?"}]
[null,null,null,null,null,null,null,null,null,null,null,null,null,null,null,null,null,null,null,null,{"$f":"IFERROR(VLOOKUP(\"6000\" & \"|\" & TRIM(L461)& \"|\" & TRIM(N461),TrnsfrXrefTable[[Detail Key]:[Summary Key]],4,FALSE),\"?\")","v":"?"}]
[null,null,null,null,null,null,null,null,null,null,null,null,null,null,null,null,null,null,null,null,{"$f":"IFERROR(VLOOKUP(\"6000\" & \"|\" & TRIM(L462)& \"|\" & TRIM(N462),TrnsfrXrefTable[[Detail Key]:[Summary Key]],4,FALSE),\"?\")","v":"?"}]
[null,null,null,null,null,null,null,null,null,null,null,null,null,null,null,null,null,null,null,null,{"$f":"IFERROR(VLOOKUP(\"6000\" & \"|\" & TRIM(L463)& \"|\" & TRIM(N463),TrnsfrXrefTable[[Detail Key]:[Summary Key]],4,FALSE),\"?\")","v":"?"}]
[null,null,null,null,null,null,null,null,null,null,null,null,null,null,null,null,null,null,null,null,{"$f":"IFERROR(VLOOKUP(\"6000\" & \"|\" & TRIM(L464)& \"|\" & TRIM(N464),TrnsfrXrefTable[[Detail Key]:[Summary Key]],4,FALSE),\"?\")","v":"?"}]
[null,null,null,null,null,null,null,null,null,null,null,null,null,null,null,null,null,null,null,null,{"$f":"IFERROR(VLOOKUP(\"6000\" & \"|\" & TRIM(L465)& \"|\" & TRIM(N465),TrnsfrXrefTable[[Detail Key]:[Summary Key]],4,FALSE),\"?\")","v":"?"}]
[null,null,null,null,null,null,null,null,null,null,null,null,null,null,null,null,null,null,null,null,{"$f":"IFERROR(VLOOKUP(\"6000\" & \"|\" & TRIM(L466)& \"|\" & TRIM(N466),TrnsfrXrefTable[[Detail Key]:[Summary Key]],4,FALSE),\"?\")","v":"?"}]
[null,null,null,null,null,null,null,null,null,null,null,null,null,null,null,null,null,null,null,null,{"$f":"IFERROR(VLOOKUP(\"6000\" & \"|\" & TRIM(L467)& \"|\" & TRIM(N467),TrnsfrXrefTable[[Detail Key]:[Summary Key]],4,FALSE),\"?\")","v":"?"}]
[null,null,null,null,null,null,null,null,null,null,null,null,null,null,null,null,null,null,null,null,{"$f":"IFERROR(VLOOKUP(\"6000\" & \"|\" & TRIM(L468)& \"|\" & TRIM(N468),TrnsfrXrefTable[[Detail Key]:[Summary Key]],4,FALSE),\"?\")","v":"?"}]
[null,null,null,null,null,null,null,null,null,null,null,null,null,null,null,null,null,null,null,null,{"$f":"IFERROR(VLOOKUP(\"6000\" & \"|\" & TRIM(L469)& \"|\" & TRIM(N469),TrnsfrXrefTable[[Detail Key]:[Summary Key]],4,FALSE),\"?\")","v":"?"}]
[null,null,null,null,null,null,null,null,null,null,null,null,null,null,null,null,null,null,null,null,{"$f":"IFERROR(VLOOKUP(\"6000\" & \"|\" & TRIM(L470)& \"|\" & TRIM(N470),TrnsfrXrefTable[[Detail Key]:[Summary Key]],4,FALSE),\"?\")","v":"?"}]
[null,null,null,null,null,null,null,null,null,null,null,null,null,null,null,null,null,null,null,null,{"$f":"IFERROR(VLOOKUP(\"6000\" & \"|\" & TRIM(L471)& \"|\" & TRIM(N471),TrnsfrXrefTable[[Detail Key]:[Summary Key]],4,FALSE),\"?\")","v":"?"}]
[null,null,null,null,null,null,null,null,null,null,null,null,null,null,null,null,null,null,null,null,{"$f":"IFERROR(VLOOKUP(\"6000\" & \"|\" & TRIM(L472)& \"|\" & TRIM(N472),TrnsfrXrefTable[[Detail Key]:[Summary Key]],4,FALSE),\"?\")","v":"?"}]
[null,null,null,null,null,null,null,null,null,null,null,null,null,null,null,null,null,null,null,null,{"$f":"IFERROR(VLOOKUP(\"6000\" & \"|\" & TRIM(L473)& \"|\" & TRIM(N473),TrnsfrXrefTable[[Detail Key]:[Summary Key]],4,FALSE),\"?\")","v":"?"}]
[null,null,null,null,null,null,null,null,null,null,null,null,null,null,null,null,null,null,null,null,{"$f":"IFERROR(VLOOKUP(\"6000\" & \"|\" & TRIM(L474)& \"|\" & TRIM(N474),TrnsfrXrefTable[[Detail Key]:[Summary Key]],4,FALSE),\"?\")","v":"?"}]
[null,null,null,null,null,null,null,null,null,null,null,null,null,null,null,null,null,null,null,null,{"$f":"IFERROR(VLOOKUP(\"6000\" & \"|\" & TRIM(L475)& \"|\" & TRIM(N475),TrnsfrXrefTable[[Detail Key]:[Summary Key]],4,FALSE),\"?\")","v":"?"}]
[null,null,null,null,null,null,null,null,null,null,null,null,null,null,null,null,null,null,null,null,{"$f":"IFERROR(VLOOKUP(\"6000\" & \"|\" & TRIM(L476)& \"|\" & TRIM(N476),TrnsfrXrefTable[[Detail Key]:[Summary Key]],4,FALSE),\"?\")","v":"?"}]
[null,null,null,null,null,null,null,null,null,null,null,null,null,null,null,null,null,null,null,null,{"$f":"IFERROR(VLOOKUP(\"6000\" & \"|\" & TRIM(L477)& \"|\" & TRIM(N477),TrnsfrXrefTable[[Detail Key]:[Summary Key]],4,FALSE),\"?\")","v":"?"}]
[null,null,null,null,null,null,null,null,null,null,null,null,null,null,null,null,null,null,null,null,{"$f":"IFERROR(VLOOKUP(\"6000\" & \"|\" & TRIM(L478)& \"|\" & TRIM(N478),TrnsfrXrefTable[[Detail Key]:[Summary Key]],4,FALSE),\"?\")","v":"?"}]
[null,null,null,null,null,null,null,null,null,null,null,null,null,null,null,null,null,null,null,null,{"$f":"IFERROR(VLOOKUP(\"6000\" & \"|\" & TRIM(L479)& \"|\" & TRIM(N479),TrnsfrXrefTable[[Detail Key]:[Summary Key]],4,FALSE),\"?\")","v":"?"}]
[null,null,null,null,null,null,null,null,null,null,null,null,null,null,null,null,null,null,null,null,{"$f":"IFERROR(VLOOKUP(\"6000\" & \"|\" & TRIM(L480)& \"|\" & TRIM(N480),TrnsfrXrefTable[[Detail Key]:[Summary Key]],4,FALSE),\"?\")","v":"?"}]
[null,null,null,null,null,null,null,null,null,null,null,null,null,null,null,null,null,null,null,null,{"$f":"IFERROR(VLOOKUP(\"6000\" & \"|\" & TRIM(L481)& \"|\" & TRIM(N481),TrnsfrXrefTable[[Detail Key]:[Summary Key]],4,FALSE),\"?\")","v":"?"}]
[null,null,null,null,null,null,null,null,null,null,null,null,null,null,null,null,null,null,null,null,{"$f":"IFERROR(VLOOKUP(\"6000\" & \"|\" & TRIM(L482)& \"|\" & TRIM(N482),TrnsfrXrefTable[[Detail Key]:[Summary Key]],4,FALSE),\"?\")","v":"?"}]
[null,null,null,null,null,null,null,null,null,null,null,null,null,null,null,null,null,null,null,null,{"$f":"IFERROR(VLOOKUP(\"6000\" & \"|\" & TRIM(L483)& \"|\" & TRIM(N483),TrnsfrXrefTable[[Detail Key]:[Summary Key]],4,FALSE),\"?\")","v":"?"}]
[null,null,null,null,null,null,null,null,null,null,null,null,null,null,null,null,null,null,null,null,{"$f":"IFERROR(VLOOKUP(\"6000\" & \"|\" & TRIM(L484)& \"|\" & TRIM(N484),TrnsfrXrefTable[[Detail Key]:[Summary Key]],4,FALSE),\"?\")","v":"?"}]
[null,null,null,null,null,null,null,null,null,null,null,null,null,null,null,null,null,null,null,null,{"$f":"IFERROR(VLOOKUP(\"6000\" & \"|\" & TRIM(L485)& \"|\" & TRIM(N485),TrnsfrXrefTable[[Detail Key]:[Summary Key]],4,FALSE),\"?\")","v":"?"}]
[null,null,null,null,null,null,null,null,null,null,null,null,null,null,null,null,null,null,null,null,{"$f":"IFERROR(VLOOKUP(\"6000\" & \"|\" & TRIM(L486)& \"|\" & TRIM(N486),TrnsfrXrefTable[[Detail Key]:[Summary Key]],4,FALSE),\"?\")","v":"?"}]
[null,null,null,null,null,null,null,null,null,null,null,null,null,null,null,null,null,null,null,null,{"$f":"IFERROR(VLOOKUP(\"6000\" & \"|\" & TRIM(L487)& \"|\" & TRIM(N487),TrnsfrXrefTable[[Detail Key]:[Summary Key]],4,FALSE),\"?\")","v":"?"}]
[null,null,null,null,null,null,null,null,null,null,null,null,null,null,null,null,null,null,null,null,{"$f":"IFERROR(VLOOKUP(\"6000\" & \"|\" & TRIM(L488)& \"|\" & TRIM(N488),TrnsfrXrefTable[[Detail Key]:[Summary Key]],4,FALSE),\"?\")","v":"?"}]
[null,null,null,null,null,null,null,null,null,null,null,null,null,null,null,null,null,null,null,null,{"$f":"IFERROR(VLOOKUP(\"6000\" & \"|\" & TRIM(L489)& \"|\" & TRIM(N489),TrnsfrXrefTable[[Detail Key]:[Summary Key]],4,FALSE),\"?\")","v":"?"}]
[null,null,null,null,null,null,null,null,null,null,null,null,null,null,null,null,null,null,null,null,{"$f":"IFERROR(VLOOKUP(\"6000\" & \"|\" & TRIM(L490)& \"|\" & TRIM(N490),TrnsfrXrefTable[[Detail Key]:[Summary Key]],4,FALSE),\"?\")","v":"?"}]
[null,null,null,null,null,null,null,null,null,null,null,null,null,null,null,null,null,null,null,null,{"$f":"IFERROR(VLOOKUP(\"6000\" & \"|\" & TRIM(L491)& \"|\" & TRIM(N491),TrnsfrXrefTable[[Detail Key]:[Summary Key]],4,FALSE),\"?\")","v":"?"}]
[null,null,null,null,null,null,null,null,null,null,null,null,null,null,null,null,null,null,null,null,{"$f":"IFERROR(VLOOKUP(\"6000\" & \"|\" & TRIM(L492)& \"|\" & TRIM(N492),TrnsfrXrefTable[[Detail Key]:[Summary Key]],4,FALSE),\"?\")","v":"?"}]
[null,null,null,null,null,null,null,null,null,null,null,null,null,null,null,null,null,null,null,null,{"$f":"IFERROR(VLOOKUP(\"6000\" & \"|\" & TRIM(L493)& \"|\" & TRIM(N493),TrnsfrXrefTable[[Detail Key]:[Summary Key]],4,FALSE),\"?\")","v":"?"}]
[null,null,null,null,null,null,null,null,null,null,null,null,null,null,null,null,null,null,null,null,{"$f":"IFERROR(VLOOKUP(\"6000\" & \"|\" & TRIM(L494)& \"|\" & TRIM(N494),TrnsfrXrefTable[[Detail Key]:[Summary Key]],4,FALSE),\"?\")","v":"?"}]
[null,null,null,null,null,null,null,null,null,null,null,null,null,null,null,null,null,null,null,null,{"$f":"IFERROR(VLOOKUP(\"6000\" & \"|\" & TRIM(L495)& \"|\" & TRIM(N495),TrnsfrXrefTable[[Detail Key]:[Summary Key]],4,FALSE),\"?\")","v":"?"}]
[null,null,null,null,null,null,null,null,null,null,null,null,null,null,null,null,null,null,null,null,{"$f":"IFERROR(VLOOKUP(\"6000\" & \"|\" & TRIM(L496)& \"|\" & TRIM(N496),TrnsfrXrefTable[[Detail Key]:[Summary Key]],4,FALSE),\"?\")","v":"?"}]
[null,null,null,null,null,null,null,null,null,null,null,null,null,null,null,null,null,null,null,null,{"$f":"IFERROR(VLOOKUP(\"6000\" & \"|\" & TRIM(L497)& \"|\" & TRIM(N497),TrnsfrXrefTable[[Detail Key]:[Summary Key]],4,FALSE),\"?\")","v":"?"}]
[null,null,null,null,null,null,null,null,null,null,null,null,null,null,null,null,null,null,null,null,{"$f":"IFERROR(VLOOKUP(\"6000\" & \"|\" & TRIM(L498)& \"|\" & TRIM(N498),TrnsfrXrefTable[[Detail Key]:[Summary Key]],4,FALSE),\"?\")","v":"?"}]
[null,null,null,null,null,null,null,null,null,null,null,null,null,null,null,null,null,null,null,null,{"$f":"IFERROR(VLOOKUP(\"6000\" & \"|\" & TRIM(L499)& \"|\" & TRIM(N499),TrnsfrXrefTable[[Detail Key]:[Summary Key]],4,FALSE),\"?\")","v":"?"}]
[null,null,null,null,null,null,null,null,null,null,null,null,null,null,null,null,null,null,null,null,{"$f":"IFERROR(VLOOKUP(\"6000\" & \"|\" & TRIM(L500)& \"|\" & TRIM(N500),TrnsfrXrefTable[[Detail Key]:[Summary Key]],4,FALSE),\"?\")","v":"?"}]
[null,null,null,null,null,null,null,null,null,null,null,null,null,null,null,null,null,null,null,null,{"$f":"IFERROR(VLOOKUP(\"6000\" & \"|\" & TRIM(L501)& \"|\" & TRIM(N501),TrnsfrXrefTable[[Detail Key]:[Summary Key]],4,FALSE),\"?\")","v":"?"}]
[null,null,null,null,null,null,null,null,null,null,null,null,null,null,null,null,null,null,null,null,{"$f":"IFERROR(VLOOKUP(\"6000\" & \"|\" & TRIM(L502)& \"|\" & TRIM(N502),TrnsfrXrefTable[[Detail Key]:[Summary Key]],4,FALSE),\"?\")","v":"?"}]
[null,null,null,null,null,null,null,null,null,null,null,null,null,null,null,null,null,null,null,null,{"$f":"IFERROR(VLOOKUP(\"6000\" & \"|\" & TRIM(L503)& \"|\" & TRIM(N503),TrnsfrXrefTable[[Detail Key]:[Summary Key]],4,FALSE),\"?\")","v":"?"}]
[null,null,null,null,null,null,null,null,null,null,null,null,null,null,null,null,null,null,null,null,{"$f":"IFERROR(VLOOKUP(\"6000\" & \"|\" & TRIM(L504)& \"|\" & TRIM(N504),TrnsfrXrefTable[[Detail Key]:[Summary Key]],4,FALSE),\"?\")","v":"?"}]
[null,null,null,null,null,null,null,null,null,null,null,null,null,null,null,null,null,null,null,null,{"$f":"IFERROR(VLOOKUP(\"6000\" & \"|\" & TRIM(L505)& \"|\" & TRIM(N505),TrnsfrXrefTable[[Detail Key]:[Summary Key]],4,FALSE),\"?\")","v":"?"}]
[null,null,null,null,null,null,null,null,null,null,null,null,null,null,null,null,null,null,null,null,{"$f":"IFERROR(VLOOKUP(\"6000\" & \"|\" & TRIM(L506)& \"|\" & TRIM(N506),TrnsfrXrefTable[[Detail Key]:[Summary Key]],4,FALSE),\"?\")","v":"?"}]
[null,null,null,null,null,null,null,null,null,null,null,null,null,null,null,null,null,null,null,null,{"$f":"IFERROR(VLOOKUP(\"6000\" & \"|\" & TRIM(L507)& \"|\" & TRIM(N507),TrnsfrXrefTable[[Detail Key]:[Summary Key]],4,FALSE),\"?\")","v":"?"}]
[null,null,null,null,null,null,null,null,null,null,null,null,null,null,null,null,null,null,null,null,{"$f":"IFERROR(VLOOKUP(\"6000\" & \"|\" & TRIM(L508)& \"|\" & TRIM(N508),TrnsfrXrefTable[[Detail Key]:[Summary Key]],4,FALSE),\"?\")","v":"?"}]
[null,null,null,null,null,null,null,null,null,null,null,null,null,null,null,null,null,null,null,null,{"$f":"IFERROR(VLOOKUP(\"6000\" & \"|\" & TRIM(L509)& \"|\" & TRIM(N509),TrnsfrXrefTable[[Detail Key]:[Summary Key]],4,FALSE),\"?\")","v":"?"}]
[null,null,null,null,null,"      ",null,null,null,null,null,null,null,"Total for Object Code:",null,null,{"$f":"SUM(Q449:R509)","v":0}]
[null,"Page 35"]
[null,{"$f":"'Main Page'!$N$9","v":"2026-2027"},null,"School Division:",{"$f":"'Main Page'!$L$14","v":0},null,null,null,"Division Number:",{"$f":"'Main Page'!$L$15","v":" "},{"$f":"'Main Page'!$B$6","v":"Local Consolidated Application"}]
[null,"DETAILED BUDGET DESCRIPTION OF OBJECT CODE 8000"]
[null,"Provide a description for expenses related to object code 8000.  All capital outlay expenditures over your division's threshold up to over $10,000 per unit must be approved by the Virginia Department of Education through the application submission and approval process. If the local school division has established a threshold of a lesser amount, items equal to that amount or greater must be itemized in Object Code 6000.  Specify equipment quantities."]
[]
[]
[]
[null,"Item Description",null,null,null,null,null,null,null,"Measurable Objective",null,"Federal Program Funding Source",null,"Category",null,"Quantity","Total Cost"]
[null,null,null,null,null,null,null,null,null,null,null,null,null,null,null,null,null,null,null,null,{"$f":"IFERROR(VLOOKUP(\"8000\" & \"|\" & TRIM(L519)& \"|\" & TRIM(N519),TrnsfrXrefTable[[Detail Key]:[Summary Key]],4,FALSE),\"?\")","v":"?"}]
[null,null,null,null,null,null,null,null,null,null,null,null,null,null,null,null,null,null,null,null,{"$f":"IFERROR(VLOOKUP(\"8000\" & \"|\" & TRIM(L520)& \"|\" & TRIM(N520),TrnsfrXrefTable[[Detail Key]:[Summary Key]],4,FALSE),\"?\")","v":"?"}]
[null,null,null,null,null,null,null,null,null,null,null,null,null,null,null,null,null,null,null,null,{"$f":"IFERROR(VLOOKUP(\"8000\" & \"|\" & TRIM(L521)& \"|\" & TRIM(N521),TrnsfrXrefTable[[Detail Key]:[Summary Key]],4,FALSE),\"?\")","v":"?"}]
[null,null,null,null,null,null,null,null,null,null,null,null,null,null,null,null,null,null,null,null,{"$f":"IFERROR(VLOOKUP(\"8000\" & \"|\" & TRIM(L522)& \"|\" & TRIM(N522),TrnsfrXrefTable[[Detail Key]:[Summary Key]],4,FALSE),\"?\")","v":"?"}]
[null,null,null,null,null,null,null,null,null,null,null,null,null,null,null,null,null,null,null,null,{"$f":"IFERROR(VLOOKUP(\"8000\" & \"|\" & TRIM(L523)& \"|\" & TRIM(N523),TrnsfrXrefTable[[Detail Key]:[Summary Key]],4,FALSE),\"?\")","v":"?"}]
[null,null,null,null,null,null,null,null,null,null,null,null,null,null,null,null,null,null,null,null,{"$f":"IFERROR(VLOOKUP(\"8000\" & \"|\" & TRIM(L524)& \"|\" & TRIM(N524),TrnsfrXrefTable[[Detail Key]:[Summary Key]],4,FALSE),\"?\")","v":"?"}]
[null,null,null,null,null,null,null,null,null,null,null,null,null,null,null,null,null,null,null,null,{"$f":"IFERROR(VLOOKUP(\"8000\" & \"|\" & TRIM(L525)& \"|\" & TRIM(N525),TrnsfrXrefTable[[Detail Key]:[Summary Key]],4,FALSE),\"?\")","v":"?"}]
[null,null,null,null,null,null,null,null,null,null,null,null,null,null,null,null,null,null,null,null,{"$f":"IFERROR(VLOOKUP(\"8000\" & \"|\" & TRIM(L526)& \"|\" & TRIM(N526),TrnsfrXrefTable[[Detail Key]:[Summary Key]],4,FALSE),\"?\")","v":"?"}]
[null,null,null,null,null,null,null,null,null,null,null,null,null,null,null,null,null,null,null,null,{"$f":"IFERROR(VLOOKUP(\"8000\" & \"|\" & TRIM(L527)& \"|\" & TRIM(N527),TrnsfrXrefTable[[Detail Key]:[Summary Key]],4,FALSE),\"?\")","v":"?"}]
[null,null,null,null,null,null,null,null,null,null,null,null,null,null,null,null,null,null,null,null,{"$f":"IFERROR(VLOOKUP(\"8000\" & \"|\" & TRIM(L528)& \"|\" & TRIM(N528),TrnsfrXrefTable[[Detail Key]:[Summary Key]],4,FALSE),\"?\")","v":"?"}]
[null,null,null,null,null,null,null,null,null,null,null,null,null,null,null,null,null,null,null,null,{"$f":"IFERROR(VLOOKUP(\"8000\" & \"|\" & TRIM(L529)& \"|\" & TRIM(N529),TrnsfrXrefTable[[Detail Key]:[Summary Key]],4,FALSE),\"?\")","v":"?"}]
[null,null,null,null,null,null,null,null,null,null,null,null,null,null,null,null,null,null,null,null,{"$f":"IFERROR(VLOOKUP(\"8000\" & \"|\" & TRIM(L530)& \"|\" & TRIM(N530),TrnsfrXrefTable[[Detail Key]:[Summary Key]],4,FALSE),\"?\")","v":"?"}]
[null,null,null,null,null,null,null,null,null,null,null,null,null,null,null,null,null,null,null,null,{"$f":"IFERROR(VLOOKUP(\"8000\" & \"|\" & TRIM(L531)& \"|\" & TRIM(N531),TrnsfrXrefTable[[Detail Key]:[Summary Key]],4,FALSE),\"?\")","v":"?"}]
[null,null,null,null,null,null,null,null,null,null,null,null,null,null,null,null,null,null,null,null,{"$f":"IFERROR(VLOOKUP(\"8000\" & \"|\" & TRIM(L532)& \"|\" & TRIM(N532),TrnsfrXrefTable[[Detail Key]:[Summary Key]],4,FALSE),\"?\")","v":"?"}]
[null,null,null,null,null,null,null,null,null,null,null,null,null,null,null,null,null,null,null,null,{"$f":"IFERROR(VLOOKUP(\"8000\" & \"|\" & TRIM(L533)& \"|\" & TRIM(N533),TrnsfrXrefTable[[Detail Key]:[Summary Key]],4,FALSE),\"?\")","v":"?"}]
[null,null,null,null,null,null,null,null,null,null,null,null,null,null,null,null,null,null,null,null,{"$f":"IFERROR(VLOOKUP(\"8000\" & \"|\" & TRIM(L534)& \"|\" & TRIM(N534),TrnsfrXrefTable[[Detail Key]:[Summary Key]],4,FALSE),\"?\")","v":"?"}]
[null,null,null,null,null,null,null,null,null,null,null,null,null,null,null,null,null,null,null,null,{"$f":"IFERROR(VLOOKUP(\"8000\" & \"|\" & TRIM(L535)& \"|\" & TRIM(N535),TrnsfrXrefTable[[Detail Key]:[Summary Key]],4,FALSE),\"?\")","v":"?"}]
[null,null,null,null,null,null,null,null,null,null,null,null,null,null,null,null,null,null,null,null,{"$f":"IFERROR(VLOOKUP(\"8000\" & \"|\" & TRIM(L536)& \"|\" & TRIM(N536),TrnsfrXrefTable[[Detail Key]:[Summary Key]],4,FALSE),\"?\")","v":"?"}]
[null,null,null,null,null,null,null,null,null,null,null,null,null,null,null,null,null,null,null,null,{"$f":"IFERROR(VLOOKUP(\"8000\" & \"|\" & TRIM(L537)& \"|\" & TRIM(N537),TrnsfrXrefTable[[Detail Key]:[Summary Key]],4,FALSE),\"?\")","v":"?"}]
[null,null,null,null,null,null,null,null,null,null,null,null,null,null,null,null,null,null,null,null,{"$f":"IFERROR(VLOOKUP(\"8000\" & \"|\" & TRIM(L538)& \"|\" & TRIM(N538),TrnsfrXrefTable[[Detail Key]:[Summary Key]],4,FALSE),\"?\")","v":"?"}]
[null,null,null,null,null,null,null,null,null,null,null,null,null,null,null,null,null,null,null,null,{"$f":"IFERROR(VLOOKUP(\"8000\" & \"|\" & TRIM(L539)& \"|\" & TRIM(N539),TrnsfrXrefTable[[Detail Key]:[Summary Key]],4,FALSE),\"?\")","v":"?"}]
[null,null,null,null,null,null,null,null,null,null,null,null,null,null,null,null,null,null,null,null,{"$f":"IFERROR(VLOOKUP(\"8000\" & \"|\" & TRIM(L540)& \"|\" & TRIM(N540),TrnsfrXrefTable[[Detail Key]:[Summary Key]],4,FALSE),\"?\")","v":"?"}]
[null,null,null,null,null,null,null,null,null,null,null,null,null,null,null,null,null,null,null,null,{"$f":"IFERROR(VLOOKUP(\"8000\" & \"|\" & TRIM(L541)& \"|\" & TRIM(N541),TrnsfrXrefTable[[Detail Key]:[Summary Key]],4,FALSE),\"?\")","v":"?"}]
[null,null,null,null,null,null,null,null,null,null,null,null,null,null,null,null,null,null,null,null,{"$f":"IFERROR(VLOOKUP(\"8000\" & \"|\" & TRIM(L542)& \"|\" & TRIM(N542),TrnsfrXrefTable[[Detail Key]:[Summary Key]],4,FALSE),\"?\")","v":"?"}]
[null,null,null,null,null,null,null,null,null,null,null,null,null,null,null,null,null,null,null,null,{"$f":"IFERROR(VLOOKUP(\"8000\" & \"|\" & TRIM(L543)& \"|\" & TRIM(N543),TrnsfrXrefTable[[Detail Key]:[Summary Key]],4,FALSE),\"?\")","v":"?"}]
[null,null,null,null,null,null,null,null,null,null,null,null,null,null,null,null,null,null,null,null,{"$f":"IFERROR(VLOOKUP(\"8000\" & \"|\" & TRIM(L544)& \"|\" & TRIM(N544),TrnsfrXrefTable[[Detail Key]:[Summary Key]],4,FALSE),\"?\")","v":"?"}]
[null,null,null,null,null,null,null,null,null,null,null,null,null,null,null,null,null,null,null,null,{"$f":"IFERROR(VLOOKUP(\"8000\" & \"|\" & TRIM(L545)& \"|\" & TRIM(N545),TrnsfrXrefTable[[Detail Key]:[Summary Key]],4,FALSE),\"?\")","v":"?"}]
[null,null,null,null,null,null,null,null,null,null,null,null,null,null,null,null,null,null,null,null,{"$f":"IFERROR(VLOOKUP(\"8000\" & \"|\" & TRIM(L546)& \"|\" & TRIM(N546),TrnsfrXrefTable[[Detail Key]:[Summary Key]],4,FALSE),\"?\")","v":"?"}]
[null,null,null,null,null,null,null,null,null,null,null,null,null,null,null,null,null,null,null,null,{"$f":"IFERROR(VLOOKUP(\"8000\" & \"|\" & TRIM(L547)& \"|\" & TRIM(N547),TrnsfrXrefTable[[Detail Key]:[Summary Key]],4,FALSE),\"?\")","v":"?"}]
[null,null,null,null,null,null,null,null,null,null,null,null,null,null,null,null,null,null,null,null,{"$f":"IFERROR(VLOOKUP(\"8000\" & \"|\" & TRIM(L548)& \"|\" & TRIM(N548),TrnsfrXrefTable[[Detail Key]:[Summary Key]],4,FALSE),\"?\")","v":"?"}]
[null,null,null,null,null,null,null,null,null,null,null,null,null,null,null,null,null,null,null,null,{"$f":"IFERROR(VLOOKUP(\"8000\" & \"|\" & TRIM(L549)& \"|\" & TRIM(N549),TrnsfrXrefTable[[Detail Key]:[Summary Key]],4,FALSE),\"?\")","v":"?"}]
[null,null,null,null,null,null,null,null,null,null,null,null,null,null,null,null,null,null,null,null,{"$f":"IFERROR(VLOOKUP(\"8000\" & \"|\" & TRIM(L550)& \"|\" & TRIM(N550),TrnsfrXrefTable[[Detail Key]:[Summary Key]],4,FALSE),\"?\")","v":"?"}]
[null,null,null,null,null,null,null,null,null,null,null,null,null,null,null,null,null,null,null,null,{"$f":"IFERROR(VLOOKUP(\"8000\" & \"|\" & TRIM(L551)& \"|\" & TRIM(N551),TrnsfrXrefTable[[Detail Key]:[Summary Key]],4,FALSE),\"?\")","v":"?"}]
[null,null,null,null,null,null,null,null,null,null,null,null,null,null,null,null,null,null,null,null,{"$f":"IFERROR(VLOOKUP(\"8000\" & \"|\" & TRIM(L552)& \"|\" & TRIM(N552),TrnsfrXrefTable[[Detail Key]:[Summary Key]],4,FALSE),\"?\")","v":"?"}]
[null,null,null,null,null,null,null,null,null,null,null,null,null,null,null,null,null,null,null,null,{"$f":"IFERROR(VLOOKUP(\"8000\" & \"|\" & TRIM(L553)& \"|\" & TRIM(N553),TrnsfrXrefTable[[Detail Key]:[Summary Key]],4,FALSE),\"?\")","v":"?"}]
[null,null,null,null,null,null,null,null,null,null,null,null,null,null,null,null,null,null,null,null,{"$f":"IFERROR(VLOOKUP(\"8000\" & \"|\" & TRIM(L554)& \"|\" & TRIM(N554),TrnsfrXrefTable[[Detail Key]:[Summary Key]],4,FALSE),\"?\")","v":"?"}]
[null,null,null,null,null,null,null,null,null,null,null,null,null,null,null,null,null,null,null,null,{"$f":"IFERROR(VLOOKUP(\"8000\" & \"|\" & TRIM(L555)& \"|\" & TRIM(N555),TrnsfrXrefTable[[Detail Key]:[Summary Key]],4,FALSE),\"?\")","v":"?"}]
[null,null,null,null,null,null,null,null,null,null,null,null,null,null,null,null,null,null,null,null,{"$f":"IFERROR(VLOOKUP(\"8000\" & \"|\" & TRIM(L556)& \"|\" & TRIM(N556),TrnsfrXrefTable[[Detail Key]:[Summary Key]],4,FALSE),\"?\")","v":"?"}]
[null,null,null,null,null,null,null,null,null,null,null,null,null,null,null,null,null,null,null,null,{"$f":"IFERROR(VLOOKUP(\"8000\" & \"|\" & TRIM(L557)& \"|\" & TRIM(N557),TrnsfrXrefTable[[Detail Key]:[Summary Key]],4,FALSE),\"?\")","v":"?"}]
[null,null,null,null,null,null,null,null,null,null,null,null,null,null,null,null,null,null,null,null,{"$f":"IFERROR(VLOOKUP(\"8000\" & \"|\" & TRIM(L558)& \"|\" & TRIM(N558),TrnsfrXrefTable[[Detail Key]:[Summary Key]],4,FALSE),\"?\")","v":"?"}]
[null,null,null,null,null,null,null,null,null,null,null,null,null,null,null,null,null,null,null,null,{"$f":"IFERROR(VLOOKUP(\"8000\" & \"|\" & TRIM(L559)& \"|\" & TRIM(N559),TrnsfrXrefTable[[Detail Key]:[Summary Key]],4,FALSE),\"?\")","v":"?"}]
[null,null,null,null,null,null,null,null,null,null,null,null,null,null,null,null,null,null,null,null,{"$f":"IFERROR(VLOOKUP(\"8000\" & \"|\" & TRIM(L560)& \"|\" & TRIM(N560),TrnsfrXrefTable[[Detail Key]:[Summary Key]],4,FALSE),\"?\")","v":"?"}]
[null,null,null,null,null,null,null,null,null,null,null,null,null,null,null,null,null,null,null,null,{"$f":"IFERROR(VLOOKUP(\"8000\" & \"|\" & TRIM(L561)& \"|\" & TRIM(N561),TrnsfrXrefTable[[Detail Key]:[Summary Key]],4,FALSE),\"?\")","v":"?"}]
[null,null,null,null,null,null,null,null,null,null,null,null,null,null,null,null,null,null,null,null,{"$f":"IFERROR(VLOOKUP(\"8000\" & \"|\" & TRIM(L562)& \"|\" & TRIM(N562),TrnsfrXrefTable[[Detail Key]:[Summary Key]],4,FALSE),\"?\")","v":"?"}]
[null,null,null,null,null,null,null,null,null,null,null,null,null,null,null,null,null,null,null,null,{"$f":"IFERROR(VLOOKUP(\"8000\" & \"|\" & TRIM(L563)& \"|\" & TRIM(N563),TrnsfrXrefTable[[Detail Key]:[Summary Key]],4,FALSE),\"?\")","v":"?"}]
[null,null,null,null,null,null,null,null,null,null,null,null,null,null,null,null,null,null,null,null,{"$f":"IFERROR(VLOOKUP(\"8000\" & \"|\" & TRIM(L564)& \"|\" & TRIM(N564),TrnsfrXrefTable[[Detail Key]:[Summary Key]],4,FALSE),\"?\")","v":"?"}]
[null,null,null,null,null,null,null,null,null,null,null,null,null,null,null,null,null,null,null,null,{"$f":"IFERROR(VLOOKUP(\"8000\" & \"|\" & TRIM(L565)& \"|\" & TRIM(N565),TrnsfrXrefTable[[Detail Key]:[Summary Key]],4,FALSE),\"?\")","v":"?"}]
[null,null,null,null,null,null,null,null,null,null,null,null,null,null,null,null,null,null,null,null,{"$f":"IFERROR(VLOOKUP(\"8000\" & \"|\" & TRIM(L566)& \"|\" & TRIM(N566),TrnsfrXrefTable[[Detail Key]:[Summary Key]],4,FALSE),\"?\")","v":"?"}]
[null,null,null,null,null,null,null,null,null,null,null,null,null,null,null,null,null,null,null,null,{"$f":"IFERROR(VLOOKUP(\"8000\" & \"|\" & TRIM(L567)& \"|\" & TRIM(N567),TrnsfrXrefTable[[Detail Key]:[Summary Key]],4,FALSE),\"?\")","v":"?"}]
[null,null,null,null,null,null,null,null,null,null,null,null,null,null,null,null,null,null,null,null,{"$f":"IFERROR(VLOOKUP(\"8000\" & \"|\" & TRIM(L568)& \"|\" & TRIM(N568),TrnsfrXrefTable[[Detail Key]:[Summary Key]],4,FALSE),\"?\")","v":"?"}]
[null,null,null,null,null,null,null,null,null,null,null,null,null,null,null,null,null,null,null,null,{"$f":"IFERROR(VLOOKUP(\"8000\" & \"|\" & TRIM(L569)& \"|\" & TRIM(N569),TrnsfrXrefTable[[Detail Key]:[Summary Key]],4,FALSE),\"?\")","v":"?"}]
[null,null,null,null,null,null,null,null,null,null,null,null,null,null,null,null,null,null,null,null,{"$f":"IFERROR(VLOOKUP(\"8000\" & \"|\" & TRIM(L570)& \"|\" & TRIM(N570),TrnsfrXrefTable[[Detail Key]:[Summary Key]],4,FALSE),\"?\")","v":"?"}]
[null,null,null,null,null,null,null,null,null,null,null,null,null,null,null,null,null,null,null,null,{"$f":"IFERROR(VLOOKUP(\"8000\" & \"|\" & TRIM(L571)& \"|\" & TRIM(N571),TrnsfrXrefTable[[Detail Key]:[Summary Key]],4,FALSE),\"?\")","v":"?"}]
[null,null,null,null,null,null,null,null,null,null,null,null,null,null,null,null,null,null,null,null,{"$f":"IFERROR(VLOOKUP(\"8000\" & \"|\" & TRIM(L572)& \"|\" & TRIM(N572),TrnsfrXrefTable[[Detail Key]:[Summary Key]],4,FALSE),\"?\")","v":"?"}]
[null,null,null,null,null,null,null,null,null,null,null,null,null,null,null,null,null,null,null,null,{"$f":"IFERROR(VLOOKUP(\"8000\" & \"|\" & TRIM(L573)& \"|\" & TRIM(N573),TrnsfrXrefTable[[Detail Key]:[Summary Key]],4,FALSE),\"?\")","v":"?"}]
[null,null,null,null,null,null,null,null,null,null,null,null,null,null,null,null,null,null,null,null,{"$f":"IFERROR(VLOOKUP(\"8000\" & \"|\" & TRIM(L574)& \"|\" & TRIM(N574),TrnsfrXrefTable[[Detail Key]:[Summary Key]],4,FALSE),\"?\")","v":"?"}]
[null,null,null,null,null,null,null,null,null,null,null,null,null,null,null,null,null,null,null,null,{"$f":"IFERROR(VLOOKUP(\"8000\" & \"|\" & TRIM(L575)& \"|\" & TRIM(N575),TrnsfrXrefTable[[Detail Key]:[Summary Key]],4,FALSE),\"?\")","v":"?"}]
[null,null,null,null,null,null,null,null,null,null,null,null,null,null,null,null,null,null,null,null,{"$f":"IFERROR(VLOOKUP(\"8000\" & \"|\" & TRIM(L576)& \"|\" & TRIM(N576),TrnsfrXrefTable[[Detail Key]:[Summary Key]],4,FALSE),\"?\")","v":"?"}]
[null,null,null,null,null,null,null,null,null,null,null,null,null,null,null,null,null,null,null,null,{"$f":"IFERROR(VLOOKUP(\"8000\" & \"|\" & TRIM(L577)& \"|\" & TRIM(N577),TrnsfrXrefTable[[Detail Key]:[Summary Key]],4,FALSE),\"?\")","v":"?"}]
[null,null,null,null,null,null,null,null,null,null,null,null,null,null,null,null,null,null,null,null,{"$f":"IFERROR(VLOOKUP(\"8000\" & \"|\" & TRIM(L578)& \"|\" & TRIM(N578),TrnsfrXrefTable[[Detail Key]:[Summary Key]],4,FALSE),\"?\")","v":"?"}]
[null,null,null,null,null,null,null,null,null,null,null,null,null,null,null,null,null,null,null,null,{"$f":"IFERROR(VLOOKUP(\"8000\" & \"|\" & TRIM(L579)& \"|\" & TRIM(N579),TrnsfrXrefTable[[Detail Key]:[Summary Key]],4,FALSE),\"?\")","v":"?"}]
[null,null,null,null,null,null,null,null,null,null,null,null,null,null,null,null,null,null,null,null,{"$f":"IFERROR(VLOOKUP(\"8000\" & \"|\" & TRIM(L580)& \"|\" & TRIM(N580),TrnsfrXrefTable[[Detail Key]:[Summary Key]],4,FALSE),\"?\")","v":"?"}]
[null,null,null,null,null,null,null,null,null,null,null,null,null,null,null,null,null,null,null,null,{"$f":"IFERROR(VLOOKUP(\"8000\" & \"|\" & TRIM(L581)& \"|\" & TRIM(N581),TrnsfrXrefTable[[Detail Key]:[Summary Key]],4,FALSE),\"?\")","v":"?"}]
[null,null,null,null,null,null,null,null,null,null,null,null,null,null,null,null,null,null,null,null,{"$f":"IFERROR(VLOOKUP(\"8000\" & \"|\" & TRIM(L582)& \"|\" & TRIM(N582),TrnsfrXrefTable[[Detail Key]:[Summary Key]],4,FALSE),\"?\")","v":"?"}]
[null,null,null,null,null,null,null,null,null,null,null,null,null,null,null,null,null,null,null,null,{"$f":"IFERROR(VLOOKUP(\"8000\" & \"|\" & TRIM(L583)& \"|\" & TRIM(N583),TrnsfrXrefTable[[Detail Key]:[Summary Key]],4,FALSE),\"?\")","v":"?"}]
[null,null,null,null,null,null,null,null,null,null,null,null,null,null,null,null,null,null,null,null,{"$f":"IFERROR(VLOOKUP(\"8000\" & \"|\" & TRIM(L584)& \"|\" & TRIM(N584),TrnsfrXrefTable[[Detail Key]:[Summary Key]],4,FALSE),\"?\")","v":"?"}]
[null,null,null,null,null,null,null,null,null,null,null,null,null,null,null,null,null,null,null,null,{"$f":"IFERROR(VLOOKUP(\"8000\" & \"|\" & TRIM(L585)& \"|\" & TRIM(N585),TrnsfrXrefTable[[Detail Key]:[Summary Key]],4,FALSE),\"?\")","v":"?"}]
[null,null,null,null,null,null,null,null,null,null,null,null,null,null,null,null,null,null,null,null,{"$f":"IFERROR(VLOOKUP(\"8000\" & \"|\" & TRIM(L586)& \"|\" & TRIM(N586),TrnsfrXrefTable[[Detail Key]:[Summary Key]],4,FALSE),\"?\")","v":"?"}]
[null,null,null,null,null,null,null,null,null,null,null,null,null,null,null,null,null,null,null,null,{"$f":"IFERROR(VLOOKUP(\"8000\" & \"|\" & TRIM(L587)& \"|\" & TRIM(N587),TrnsfrXrefTable[[Detail Key]:[Summary Key]],4,FALSE),\"?\")","v":"?"}]
[null,null,null,null,null,null,null,null,null,null,null,null,null,null,null,null,null,null,null,null,{"$f":"IFERROR(VLOOKUP(\"8000\" & \"|\" & TRIM(L588)& \"|\" & TRIM(N588),TrnsfrXrefTable[[Detail Key]:[Summary Key]],4,FALSE),\"?\")","v":"?"}]
[null,null,null,null,null,null,null,null,null,null,null,null,null,null,null,null,null,null,null,null,{"$f":"IFERROR(VLOOKUP(\"8000\" & \"|\" & TRIM(L589)& \"|\" & TRIM(N589),TrnsfrXrefTable[[Detail Key]:[Summary Key]],4,FALSE),\"?\")","v":"?"}]
[null,null,null,null,null,"      ",null,null,null,null,null,null,null,"Total for Object Code:",null,null,{"$f":"SUM(Q519:R589)","v":0}]
[null,"Page 36"]

{"sheet":"GEPA","index":5,"n_rows":9,"n_cols":11,"rows_kept":9,"cut":false,"hidden":false,"merged":[[11,6,11,7],[11,8,11,9],[11,10,11,11],[12,6,12,7],[12,8,12,9],[12,10,12,11],[0,17,8,17],[0,0,1048575,0],[1,1,1,16],[3,1,3,16],[5,1,5,16],[6,1,6,16],[0,10,0,16],[4,1,4,16],[7,1,7,16],[8,1,8,16],[10,6,10,7],[10,8,10,9],[10,10,10,11],[13,6,13,7],[13,8,13,9],[13,10,13,11]]}
[null,{"$f":"'Main Page'!$N$9","v":"2026-2027"},null,"School Division:",{"$f":"'Main Page'!$L$14","v":0},null,null,null,"Division Number:",{"$f":"'Main Page'!$L$15","v":" "},{"$f":"'Main Page'!$B$6","v":"Local Consolidated Application"}]
[null,"J.  GENERAL EDUCATION PROVISIONS ACT (GEPA) SECTION 427"]
[]
[null,"Section 427 of the General Education Provisions Act (GEPA) requires applicants for federal funds to include in their applications a description of the steps the applicant will take to ensure equitable access to, and participation in, federally-assisted programs for students, teachers, and other program beneficiaries with special needs. The provision allows applicants discretion in developing the required description. The statute highlights six types of barriers that can impede equitable access or participation: gender, race, national origin, color, disability, or age. Based on local circumstances, the applicant should determine whether these or other barriers may prevent students, teachers, etc., from such access or participation in the federally-funded project or activity. The description in the application of steps to be taken to overcome these barriers need not be lengthy; the application may provide a clear and succinct description of how the applicant plans to address those barriers that are applicable to their circumstances."]
[]
[null,"Describe the steps the division will take to ensure equitable access to, and participation in, grant-funded programs for students, teachers, and other program beneficiaries with special needs as required by the General Education Provisions Act (GEPA) 427, OMB Control No. 1894-00045, Section 427."]
[]
[]
[null,"Page 37"]

{"sheet":"Title I, Part A","index":6,"n_rows":388,"n_cols":19,"rows_kept":388,"cut":false,"hidden":false,"merged":[[372,10,372,12],[373,10,373,12],[374,10,374,12],[375,10,375,12],[376,10,376,12],[377,10,377,12],[366,10,366,12],[367,10,367,12],[368,10,368,12],[369,10,369,12],[370,10,370,12],[371,10,371,12],[384,10,384,12],[385,10,385,12],[386,10,386,12],[387,1,387,16],[378,10,378,12],[379,10,379,12],[380,10,380,12],[381,10,381,12],[382,10,382,12],[383,10,383,12],[360,10,360,12],[361,10,361,12],[362,10,362,12],[363,10,363,12],[364,10,364,12],[365,10,365,12],[354,10,354,12],[355,10,355,12],[356,10,356,12],[357,10,357,12],[358,10,358,12],[359,10,359,12],[348,10,348,12],[349,10,349,12],[350,10,350,12],[351,10,351,12],[352,10,352,12],[353,10,353,12],[342,10,342,12],[343,10,343,12],[344,10,344,12],[345,10,345,12],[346,10,346,12],[347,10,347,12],[336,10,336,12],[337,10,337,12],[338,10,338,12],[339,10,339,12],[340,10,340,12],[341,10,341,12],[332,4,332,8],[332,9,332,13],[333,10,333,12],[334,10,334,12],[335,10,335,12],[331,1,331,16],[109,1,109,3],[109,4,109,5],[326,1,326,16],[328,1,328,16],[329,10,329,16],[330,1,330,16],[105,18,106,18],[106,1,106,13],[107,6,107,13],[107,15,108,17],[108,1,108,3],[108,4,108,5],[99,10,99,16],[101,1,101,16],[102,1,102,16],[103,1,103,16],[104,1,104,16],[105,1,105,16],[93,1,93,8],[94,1,94,16],[95,1,95,16],[96,5,96,6],[96,10,96,16],[98,1,98,16],[93,13,93,16],[93,10,93,11],[96,1,96,3],[90,1,90,2],[90,3,90,4],[90,9,90,10],[91,1,91,16],[92,1,92,16],[86,1,86,16],[87,2,87,8],[87,10,87,11],[87,13,87,16],[88,1,88,16],[89,1,89,16],[90,14,90,15],[90,11,90,13],[90,5,90,8],[82,2,82,8],[82,10,82,16],[83,2,83,8],[83,10,83,16],[84,1,84,16],[85,1,85,16],[76,1,76,16],[77,2,77,16],[78,1,78,16],[79,1,79,16],[80,1,80,16],[81,1,81,8],[81,10,81,16],[72,2,72,16],[73,1,73,16],[74,1,74,16],[75,1,75,4],[75,5,75,6],[75,12,75,13],[66,10,66,16],[68,2,68,16],[69,1,69,16],[70,1,70,2],[70,3,70,16],[71,1,71,16],[75,7,75,11],[75,14,75,16],[60,1,60,16],[62,1,62,16],[63,1,63,16],[64,1,64,16],[65,1,65,16],[61,2,61,16],[57,2,57,13],[56,1,56,16],[59,2,59,9],[58,12,58,13],[58,10,58,11],[58,2,58,9],[59,12,59,13],[59,10,59,11],[54,2,54,13],[49,2,49,9],[49,10,49,11],[49,12,49,13],[50,2,50,9],[50,10,50,11],[50,12,50,13],[55,2,55,16],[53,2,53,9],[52,2,52,9],[51,2,51,9],[53,12,53,13],[52,12,52,13],[51,12,51,13],[53,10,53,11],[52,10,52,11],[51,10,51,11],[48,2,48,9],[48,10,48,11],[48,12,48,13],[44,2,44,13],[46,2,46,9],[46,10,46,11],[46,12,46,13],[47,2,47,13],[45,1,45,16],[38,1,38,16],[41,1,41,16],[32,1,32,16],[33,1,33,16],[34,1,34,16],[35,1,35,16],[37,1,37,16],[42,10,42,16],[43,2,43,16],[40,1,40,3],[39,1,39,16],[36,1,36,16],[40,8,40,16],[25,1,25,16],[26,1,26,16],[27,2,27,16],[29,1,29,16],[30,1,30,16],[21,1,21,16],[24,1,24,16],[31,2,31,16],[28,1,28,16],[23,2,23,16],[0,10,0,16],[1,1,1,16],[2,1,2,16],[3,2,3,16],[4,2,4,16],[5,1,5,16],[20,1,20,16],[15,1,15,16],[16,1,16,16],[9,1,9,16],[11,1,11,16],[19,1,19,16],[17,2,17,16],[14,3,14,16],[13,3,13,16],[12,1,12,16],[10,2,10,16],[6,1,6,16],[8,1,8,16]]}
[null,{"$f":"'Main Page'!$N$9","v":"2026-2027"},null,"School Division:",{"$f":"'Main Page'!$L$14","v":0},null,null,null,"Division Number:",{"$f":"'Main Page'!$L$15","v":" "},{"$f":"'Main Page'!$B$6","v":"Local Consolidated Application"}]
[null,"K.  SPECIFIC PROGRAM APPLICATION FORMS"]
[null,"     "]
[null,"1.","TITLE I, PART A - IMPROVING BASIC PROGRAMS"]
[null,null,"a.  Instructional Programs "]
[null,"List the core instruction reading program(s) and any supplemental or intervention reading programs used in both Title I and non-Title I schools."]
[]
[]
[null,"Identify the core instruction math program(s) and any supplemental or intervention math programs used in both Title I and non-Title I schools."]
[]
[null,null,"b.  Effective Transitions "]
[]
[null,"Describe how the local educational agency will implement strategies to facilitate effective transitions for students from middle grades to high school and from high school to postsecondary education including, if applicable-"]
[null,null,"i.","through coordination with institutions of higher education, employers, and other local partners; and"]
[null,null,"ii.","through increased student access to early college high school or dual or concurrent enrollment opportunities, or career counseling to identify student interests and skills."]
[]
[]
[null,null,"c.  Reduction of Exclusionary Discipline Practices"]
[]
[null,"Describe how the local educational agency will support efforts to reduce the overuse of discipline practices that remove students from the classroom, which may include identifying and supporting schools with high rates of discipline, disaggregated by each of the subgroups of students, as defined in section 1111(c)(2)."]
[]
[null,"Page 38"]
[null,{"$f":"'Main Page'!$N$9","v":"2026-2027"},null,"School Division:",{"$f":"'Main Page'!$L$14","v":0},null,null,null,"Division Number:",{"$f":"'Main Page'!$L$15","v":" "},{"$f":"'Main Page'!$B$6","v":"Local Consolidated Application"}]
[null,null,"d.  Student Eligibility Criteria for Title I Targeted Assistance Schools "]
[]
[null,"Describe the targeted assistance program in Title I schools. Include the approximate number of students served, who provides services, and how often services are provided."]
[]
[]
[null,"Describe the eligibility criteria by subject area that will be used to select students for participation in the Title I program in Targeted Assistance schools.  Eligible children are children identified by the school as failing, or most at risk of failing, to meet the state’s challenging student academic achievement standards on the basis of multiple, educationally related, objective criteria established by the school divisions with input from the schools.  Children from Early Childhood through grade 2 shall be selected solely on the basis of such criteria as teacher judgment, interviews with parents, and developmentally appropriate measures.  [ESEA, Title I, Part A, Section 1115].    "]
[null,"   "]
[]
[null,null,{"$f":"\"e.  Title I, Part A, New Schoolwide School Programs for \" & 'Main Page'!$N$9","v":"e.  Title I, Part A, New Schoolwide School Programs for 2026-2027"}]
[]
[null,"Plans for any new schoolwide programs must be submitted in advance of the application.  Contact your Title I specialist in the Office of ESEA Programs for due date and additional information.  For those schools that are already schoolwide, remember that you must do an annual review including a need assessment.  Funds should be targeted in accordance with the academic needs of the students."]
[]
[null,{"$f":"\"Name of School(s) Implementing New Schoolwide Programs for \"&'Main Page'!L13&\". Were new schoolwide schools identified on the Identification of Title I Schools Form submitted in the spring? Have schoolwide plans for new schoolwide schools been reviewed by a Title I specialist?\"","v":"Name of School(s) Implementing New Schoolwide Programs for . Were new schoolwide schools identified on the Identification of Title I Schools Form submitted in the spring? Have schoolwide plans for new schoolwide schools been reviewed by a Title I specialist?"}]
[]
[]
[null,"Name of schools below 40% poverty for which the division applied for a schoolwide waiver:"]
[]
[null,"Was the waiver granted by the SEA?",null,null,null,"Yes",null,"No"]
[null,"Page 39"]
[null,{"$f":"'Main Page'!$N$9","v":"2026-2027"},null,"School Division:",{"$f":"'Main Page'!$L$14","v":0},null,null,null,"Division Number:",{"$f":"'Main Page'!$L$15","v":" "},{"$f":"'Main Page'!$B$6","v":"Local Consolidated Application"}]
[null,null,"f.  Staff Information for Title I, Part A:  Targeted Assistance Programs "]
[]
[null,"Provide the number of full-time equivalent (FTE) staff funded through Title I, Part A, participating in targeted assistance programs by job category.  For administrators and supervisors who serve both targeted assistance and schoolwide programs, report the FTE attributable to the targeted assistance duties only. See guidelines for full description of staff categories. Staffing information in this section must be identical to the information listed on the 35% and Above or Below 35% Low-Income tab (whichever is applicable), in the TITLE I, PART A, ALLOCATION TO ELIGIBLE SCHOOLS section in Columns 8-11 for Targeted Assistance Program.\n"]
[]
[null,null,{"$f":"\"Please include staff FTE and percentage qualified for the \" & 'Main Page'!$N$9  & \" school year.\"","v":"Please include staff FTE and percentage qualified for the 2026-2027 school year."}]
[null,null,"Staff Category",null,null,null,null,null,null,null,{"$f":"\"Staff FTE\n \" & 'Main Page'!$N$9","v":"Staff FTE\n 2026-2027"},null,{"$f":"\"Percentage Qualified\n\" &'Main Page'!$N$9","v":"Percentage Qualified\n2026-2027"}]
[null,null,"Teachers"]
[null,null,"Paraprofessionals"]
[null,null,"Other Paraprofessionals (paraprofessionals that do not provide instructional support)."]
[null,null,"Clerical support staff"]
[null,null,"Administrators (nonclerical)"]
[]
[null,null,"g.  Staff Information for Title I, Part A:  Schoolwide Programs "]
[]
[null,"\n","Provide the number of FTE paraprofessionals who serve in schoolwide program schools and the percentage of these paraprofessionals who are qualified in accordance with Section 1119 (c) and (d) of ESEA.  This number includes ALL paraprofessionals, not only Title I funded paraprofessionals."]
[null,null,null,null,null,null,null,null,null,null,{"$f":"\"Paraprofessionals FTE\n\" & 'Main Page'!$N$9","v":"Paraprofessionals FTE\n2026-2027"},null,{"$f":"\"Percentage  Qualified\n\" & 'Main Page'!$N$9","v":"Percentage  Qualified\n2026-2027"}]
[null,null,"Paraprofessionals"]
[]
[null,null,"h.  Recruitment and Retention of Properly Licensed and Endorsed Teachers"]
[]
[null,"Describe how the local educational agency will identify and address, as required under State plans as described in section 1111(g)(1)(B), any disparities that result in low-income students and minority students being taught at higher rates than other students by ineffective, inexperienced, or out-of-field teachers."]
[]
[null,"Page 40"]
[null,{"$f":"'Main Page'!$N$9","v":"2026-2027"},null,"School Division:",{"$f":"'Main Page'!$L$14","v":0},null,null,null,"Division Number:",{"$f":"'Main Page'!$L$15","v":" "},{"$f":"'Main Page'!$B$6","v":"Local Consolidated Application"}]
[]
[null,null,"i.  Improvement Plan Requirements"]
[]
[null,null,null,"The LEA understands that schools designated as comprehensive support and targeted support and improvement schools will be required to use an improvement planning tool as determined by the Office of School Quality."]
[]
[null,null,"j.  Title I, Part A, Maintenance of Effort "]
[]
[null,"Average Per Pupil Expenditure from Non-Federal Funds:"]
[null,{"$f":"\"(A) For FY Ending June 30, \" &  YEAR('Main Page'!N8)-2","v":"(A) For FY Ending June 30, 2024"},null,null,null,null,null,{"$f":"\"(B) For FY Ending June 30, \"  &  YEAR('Main Page'!N8)-1","v":"(B) For FY Ending June 30, 2025"}]
[]
[null,null,"k.  Title I, Part A, Eligible Attendance Areas "]
[]
[null,"SOURCES OF DATA FOR DETERMINING UNDUPLICATED NUMBER OF CHILDREN, AGES 5-17, FROM LOW-INCOME FAMILIES  (Indicate ALL Sources with an “X”)"]
[]
[null,null,null,null,null,null,null,null,null,null,"CEP"]
[null,null," Free/Reduced Lunch/Household Applications",null,null,null,null,null,null,null,"Children Eligible for Medicaid"]
[null,null," Temporary Assistance for Needy Families (TANF)  ",null,null,null,null,null,null,null,"Most Recent U. S. Census Bureau Information"]
[null,"ELIGIBLE ATTENDANCE AREAS (Indicate with an “X”)"]
[]
[null,"Rank by:"]
[null,null,"Grade-Span Ranking - select the Grade Span(s) you are serving below",null,null,null,null,null,null,null,"Rank Order",null,null,"Division Average"]
[]
[null,"Grade Span(s) Served:"]
[null,"First Grade Span",null,null,null,"Second Grade Span, if applicable",null,null,null,null,null,"Third Grade Span, if applicable"]
[]
[]
[]
[]
[]
[]
[]
[null,"Page 41"]
[null,{"$f":"'Main Page'!$N$9","v":"2026-2027"},null,"School Division:",{"$f":"'Main Page'!$L$14","v":0},null,null,null,"Division Number:",{"$f":"'Main Page'!$L$15","v":" "},{"$f":"'Main Page'!$B$6","v":"Local Consolidated Application"}]
[]
[null,"ELIGIBLE ATTENDANCE AREAS (Indicate requested information in columns.)\nAfter completing the ELIGIBLE ATTENDANCE AREAS section, continue to the bottom of the sheet.\n\n",null,null,null,null,null,null,null,null,null,null,null,null,null,null,null,null,"Cells effected by SORT & Names of Public Schools is in cell (S106)"]
[]
[null,"Provide information about the data that was used to identify low-income students, include the type of data, month, and year."]
[null,null,null,null,null,null,null,null,null,null,null,null,null,null,null,null,null,null,"In this column \"S106\" is the lines that will be sorted. \n\nIf you add or remove lines  you must change the range in cells (S106)   "]
[null,null,null,null,null,null,null,null,null,null,null,null,null,null,null,null,null,null,"B111:N325"]
[null,"Do Not Copy & Paste Information into this Section"]
[null,null,null,null,null,null,"Total Number of Children Residing in Attendance Areas",null,null,null,null,null,null,null,null,"*For more information on the Community Eligibility Provision (CEP), refer to the Eligible Attendance Areas section of the Application Guidelines, Instructions, and Assurances."]
[null,"Name of Public School",null,null,"Grade Span of School",null,"Total School Membership","Low-Income Private School Membership","Low-Income Public School Membership","Total Low-Income ","CEP School*  (Yes/No)","CEP Multiplier Applied* (Yes/No)","Low-Income Count used to Allocate Title I Funds","Percentage of Low-Income"]
[null,1,null,null,"2",null,"3","4","5","6","7","8","9","10"]
[null,null,null,null,null,null,null,null,null,{"$f":"SUM(H111:I111)","v":0},null,null,{"$f":"IF(R111>=G111,G111,IF(R111<G111,R111))","v":0},{"$f":"IF(G111 >0,IF(L111=\"Yes\",M111/G111, I111/G111),0)","v":0},null,null,null,{"$f":"IF(L111=\"Yes\",I111*1.6,I111)","v":0}]
[null,null,null,null,null,null,null,null,null,0,null,null,0,0,null,null,null,{"$f":"IF(L112=\"Yes\",I112*1.6,I112)","v":0}]
[null,null,null,null,null,null,null,null,null,0,null,null,0,0,null,null,null,0]
[null,null,null,null,null,null,null,null,null,0,null,null,0,0,null,null,null,0]
[null,null,null,null,null,null,null,null,null,0,null,null,0,0,null,null,null,0]
[null,null,null,null,null,null,null,null,null,0,null,null,0,0,null,null,null,0]
[null,null,null,null,null,null,null,null,null,0,null,null,0,0,null,null,null,0]
[null,null,null,null,null,null,null,null,null,0,null,null,0,0,null,null,null,0]
[null,null,null,null,null,null,null,null,null,0,null,null,0,0,null,null,null,0]
[null,null,null,null,null,null,null,null,null,0,null,null,0,0,null,null,null,0]
[null,null,null,null,null,null,null,null,null,0,null,null,0,0,null,null,null,0]
[null,null,null,null,null,null,null,null,null,0,null,null,0,0,null,null,null,0]
[null,null,null,null,null,null,null,null,null,0,null,null,0,0,null,null,null,0]
[null,null,null,null,null,null,null,null,null,0,null,null,0,0,null,null,null,0]
[null,null,null,null,null,null,null,null,null,0,null,null,0,0,null,null,null,0]
[null,null,null,null,null,null,null,null,null,0,null,null,0,0,null,null,null,0]
[null,null,null,null,null,null,null,null,null,0,null,null,0,0,null,null,null,0]
[null,null,null,null,null,null,null,null,null,0,null,null,0,0,null,null,null,0]
[null,null,null,null,null,null,null,null,null,0,null,null,0,0,null,null,null,0]
[null,null,null,null,null,null,null,null,null,0,null,null,0,0,null,null,null,0]
[null,null,null,null,null,null,null,null,null,0,null,null,0,0,null,null,null,0]
[null,null,null,null,null,null,null,null,null,0,null,null,0,0,null,null,null,0]
[null,null,null,null,null,null,null,null,null,0,null,null,0,0,null,null,null,0]
[null,null,null,null,null,null,null,null,null,0,null,null,0,0,null,null,null,0]
[null,null,null,null,null,null,null,null,null,0,null,null,0,0,null,null,null,0]
[null,null,null,null,null,null,null,null,null,0,null,null,0,0,null,null,null,0]
[null,null,null,null,null,null,null,null,null,0,null,null,0,0,null,null,null,0]
[null,null,null,null,null,null,null,null,null,0,null,null,0,0,null,null,null,0]
[null,null,null,null,null,null,null,null,null,0,null,null,0,0,null,null,null,0]
[null,null,null,null,null,null,null,null,null,0,null,null,0,0,null,null,null,0]
[null,null,null,null,null,null,null,null,null,0,null,null,0,0,null,null,null,0]
[null,null,null,null,null,null,null,null,null,0,null,null,0,0,null,null,null,0]
[null,null,null,null,null,null,null,null,null,0,null,null,0,0,null,null,null,0]
[null,null,null,null,null,null,null,null,null,0,null,null,0,0,null,null,null,0]
[null,null,null,null,null,null,null,null,null,0,null,null,0,0,null,null,null,0]
[null,null,null,null,null,null,null,null,null,0,null,null,0,0,null,null,null,0]
[null,null,null,null,null,null,null,null,null,0,null,null,0,0,null,null,null,0]
[null,null,null,null,null,null,null,null,null,0,null,null,0,0,null,null,null,0]
[null,null,null,null,null,null,null,null,null,0,null,null,0,0,null,null,null,0]
[null,null,null,null,null,null,null,null,null,0,null,null,0,0,null,null,null,0]
[null,null,null,null,null,null,null,null,null,0,null,null,0,0,null,null,null,0]
[null,null,null,null,null,null,null,null,null,0,null,null,0,0,null,null,null,0]
[null,null,null,null,null,null,null,null,null,0,null,null,0,0,null,null,null,0]
[null,null,null,null,null,null,null,null,null,0,null,null,0,0,null,null,null,0]
[null,null,null,null,null,null,null,null,null,0,null,null,0,0,null,null,null,0]
[null,null,null,null,null,null,null,null,null,0,null,null,0,0,null,null,null,0]
[null,null,null,null,null,null,null,null,null,0,null,null,0,0,null,null,null,0]
[null,null,null,null,null,null,null,null,null,0,null,null,0,0,null,null,null,0]
[null,null,null,null,null,null,null,null,null,0,null,null,0,0,null,null,null,0]
[null,null,null,null,null,null,null,null,null,0,null,null,0,0,null,null,null,0]
[null,null,null,null,null,null,null,null,null,0,null,null,0,0,null,null,null,0]
[null,null,null,null,null,null,null,null,null,0,null,null,0,0,null,null,null,0]
[null,null,null,null,null,null,null,null,null,0,null,null,0,0,null,null,null,0]
[null,null,null,null,null,null,null,null,null,0,null,null,0,0,null,null,null,0]
[null,null,null,null,null,null,null,null,null,0,null,null,0,0,null,null,null,0]
[null,null,null,null,null,null,null,null,null,0,null,null,0,0,null,null,null,0]
[null,null,null,null,null,null,null,null,null,0,null,null,0,0,null,null,null,0]
[null,null,null,null,null,null,null,null,null,0,null,null,0,0,null,null,null,0]
[null,null,null,null,null,null,null,null,null,0,null,null,0,0,null,null,null,0]
[null,null,null,null,null,null,null,null,null,0,null,null,0,0,null,null,null,0]
[null,null,null,null,null,null,null,null,null,0,null,null,0,0,null,null,null,0]
[null,null,null,null,null,null,null,null,null,0,null,null,0,0,null,null,null,0]
[null,null,null,null,null,null,null,null,null,0,null,null,0,0,null,null,null,0]
[null,null,null,null,null,null,null,null,null,0,null,null,0,0,null,null,null,0]
[null,null,null,null,null,null,null,null,null,{"$f":"SUM(H175:I175)","v":0},null,null,{"$f":"IF(R175>=G175,G175,IF(R175<G175,R175))","v":0},{"$f":"IF(G175 >0,IF(L175=\"Yes\",M175/G175, I175/G175),0)","v":0},null,null,null,0]
[null,null,null,null,null,null,null,null,null,0,null,null,0,0,null,null,null,{"$f":"IF(L176=\"Yes\",I176*1.6,I176)","v":0}]
[null,null,null,null,null,null,null,null,null,0,null,null,0,0,null,null,null,0]
[null,null,null,null,null,null,null,null,null,0,null,null,0,0,null,null,null,0]
[null,null,null,null,null,null,null,null,null,0,null,null,0,0,null,null,null,0]
[null,null,null,null,null,null,null,null,null,0,null,null,0,0,null,null,null,0]
[null,null,null,null,null,null,null,null,null,0,null,null,0,0,null,null,null,0]
[null,null,null,null,null,null,null,null,null,0,null,null,0,0,null,null,null,0]
[null,null,null,null,null,null,null,null,null,0,null,null,0,0,null,null,null,0]
[null,null,null,null,null,null,null,null,null,0,null,null,0,0,null,null,null,0]
[null,null,null,null,null,null,null,null,null,0,null,null,0,0,null,null,null,0]
[null,null,null,null,null,null,null,null,null,0,null,null,0,0,null,null,null,0]
[null,null,null,null,null,null,null,null,null,0,null,null,0,0,null,null,null,0]
[null,null,null,null,null,null,null,null,null,0,null,null,0,0,null,null,null,0]
[null,null,null,null,null,null,null,null,null,0,null,null,0,0,null,null,null,0]
[null,null,null,null,null,null,null,null,null,0,null,null,0,0,null,null,null,0]
[null,null,null,null,null,null,null,null,null,0,null,null,0,0,null,null,null,0]
[null,null,null,null,null,null,null,null,null,0,null,null,0,0,null,null,null,0]
[null,null,null,null,null,null,null,null,null,0,null,null,0,0,null,null,null,0]
[null,null,null,null,null,null,null,null,null,0,null,null,0,0,null,null,null,0]
[null,null,null,null,null,null,null,null,null,0,null,null,0,0,null,null,null,0]
[null,null,null,null,null,null,null,null,null,0,null,null,0,0,null,null,null,0]
[null,null,null,null,null,null,null,null,null,0,null,null,0,0,null,null,null,0]
[null,null,null,null,null,null,null,null,null,0,null,null,0,0,null,null,null,0]
[null,null,null,null,null,null,null,null,null,0,null,null,0,0,null,null,null,0]
[null,null,null,null,null,null,null,null,null,0,null,null,0,0,null,null,null,0]
[null,null,null,null,null,null,null,null,null,0,null,null,0,0,null,null,null,0]
[null,null,null,null,null,null,null,null,null,0,null,null,0,0,null,null,null,0]
[null,null,null,null,null,null,null,null,null,0,null,null,0,0,null,null,null,0]
[null,null,null,null,null,null,null,null,null,0,null,null,0,0,null,null,null,0]
[null,null,null,null,null,null,null,null,null,0,null,null,0,0,null,null,null,0]
[null,null,null,null,null,null,null,null,null,0,null,null,0,0,null,null,null,0]
[null,null,null,null,null,null,null,null,null,0,null,null,0,0,null,null,null,0]
[null,null,null,null,null,null,null,null,null,0,null,null,0,0,null,null,null,0]
[null,null,null,null,null,null,null,null,null,0,null,null,0,0,null,null,null,0]
[null,null,null,null,null,null,null,null,null,0,null,null,0,0,null,null,null,0]
[null,null,null,null,null,null,null,null,null,0,null,null,0,0,null,null,null,0]
[null,null,null,null,null,null,null,null,null,0,null,null,0,0,null,null,null,0]
[null,null,null,null,null,null,null,null,null,0,null,null,0,0,null,null,null,0]
[null,null,null,null,null,null,null,null,null,0,null,null,0,0,null,null,null,0]
[null,null,null,null,null,null,null,null,null,0,null,null,0,0,null,null,null,0]
[null,null,null,null,null,null,null,null,null,0,null,null,0,0,null,null,null,0]
[null,null,null,null,null,null,null,null,null,0,null,null,0,0,null,null,null,0]
[null,null,null,null,null,null,null,null,null,0,null,null,0,0,null,null,null,0]
[null,null,null,null,null,null,null,null,null,0,null,null,0,0,null,null,null,0]
[null,null,null,null,null,null,null,null,null,0,null,null,0,0,null,null,null,0]
[null,null,null,null,null,null,null,null,null,0,null,null,0,0,null,null,null,0]
[null,null,null,null,null,null,null,null,null,0,null,null,0,0,null,null,null,0]
[null,null,null,null,null,null,null,null,null,0,null,null,0,0,null,null,null,0]
[null,null,null,null,null,null,null,null,null,0,null,null,0,0,null,null,null,0]
[null,null,null,null,null,null,null,null,null,0,null,null,0,0,null,null,null,0]
[null,null,null,null,null,null,null,null,null,0,null,null,0,0,null,null,null,0]
[null,null,null,null,null,null,null,null,null,0,null,null,0,0,null,null,null,0]
[null,null,null,null,null,null,null,null,null,0,null,null,0,0,null,null,null,0]
[null,null,null,null,null,null,null,null,null,0,null,null,0,0,null,null,null,0]
[null,null,null,null,null,null,null,null,null,0,null,null,0,0,null,null,null,0]
[null,null,null,null,null,null,null,null,null,0,null,null,0,0,null,null,null,0]
[null,null,null,null,null,null,null,null,null,0,null,null,0,0,null,null,null,0]
[null,null,null,null,null,null,null,null,null,0,null,null,0,0,null,null,null,0]
[null,null,null,null,null,null,null,null,null,0,null,null,0,0,null,null,null,0]
[null,null,null,null,null,null,null,null,null,0,null,null,0,0,null,null,null,0]
[null,null,null,null,null,null,null,null,null,0,null,null,0,0,null,null,null,0]
[null,null,null,null,null,null,null,null,null,0,null,null,0,0,null,null,null,0]
[null,null,null,null,null,null,null,null,null,0,null,null,0,0,null,null,null,0]
[null,null,null,null,null,null,null,null,null,{"$f":"SUM(H239:I239)","v":0},null,null,{"$f":"IF(R239>=G239,G239,IF(R239<G239,R239))","v":0},{"$f":"IF(G239 >0,IF(L239=\"Yes\",M239/G239, I239/G239),0)","v":0},null,null,null,0]
[null,null,null,null,null,null,null,null,null,0,null,null,0,0,null,null,null,{"$f":"IF(L240=\"Yes\",I240*1.6,I240)","v":0}]
[null,null,null,null,null,null,null,null,null,0,null,null,0,0,null,null,null,0]
[null,null,null,null,null,null,null,null,null,0,null,null,0,0,null,null,null,0]
[null,null,null,null,null,null,null,null,null,0,null,null,0,0,null,null,null,0]
[null,null,null,null,null,null,null,null,null,0,null,null,0,0,null,null,null,0]
[null,null,null,null,null,null,null,null,null,0,null,null,0,0,null,null,null,0]
[null,null,null,null,null,null,null,null,null,0,null,null,0,0,null,null,null,0]
[null,null,null,null,null,null,null,null,null,0,null,null,0,0,null,null,null,0]
[null,null,null,null,null,null,null,null,null,0,null,null,0,0,null,null,null,0]
[null,null,null,null,null,null,null,null,null,0,null,null,0,0,null,null,null,0]
[null,null,null,null,null,null,null,null,null,0,null,null,0,0,null,null,null,0]
[null,null,null,null,null,null,null,null,null,0,null,null,0,0,null,null,null,0]
[null,null,null,null,null,null,null,null,null,0,null,null,0,0,null,null,null,0]
[null,null,null,null,null,null,null,null,null,0,null,null,0,0,null,null,null,0]
[null,null,null,null,null,null,null,null,null,0,null,null,0,0,null,null,null,0]
[null,null,null,null,null,null,null,null,null,0,null,null,0,0,null,null,null,0]
[null,null,null,null,null,null,null,null,null,0,null,null,0,0,null,null,null,0]
[null,null,null,null,null,null,null,null,null,0,null,null,0,0,null,null,null,0]
[null,null,null,null,null,null,null,null,null,0,null,null,0,0,null,null,null,0]
[null,null,null,null,null,null,null,null,null,0,null,null,0,0,null,null,null,0]
[null,null,null,null,null,null,null,null,null,0,null,null,0,0,null,null,null,0]
[null,null,null,null,null,null,null,null,null,0,null,null,0,0,null,null,null,0]
[null,null,null,null,null,null,null,null,null,0,null,null,0,0,null,null,null,0]
[null,null,null,null,null,null,null,null,null,0,null,null,0,0,null,null,null,0]
[null,null,null,null,null,null,null,null,null,0,null,null,0,0,null,null,null,0]
[null,null,null,null,null,null,null,null,null,0,null,null,0,0,null,null,null,0]
[null,null,null,null,null,null,null,null,null,0,null,null,0,0,null,null,null,0]
[null,null,null,null,null,null,null,null,null,0,null,null,0,0,null,null,null,0]
[null,null,null,null,null,null,null,null,null,0,null,null,0,0,null,null,null,0]
[null,null,null,null,null,null,null,null,null,0,null,null,0,0,null,null,null,0]
[null,null,null,null,null,null,null,null,null,0,null,null,0,0,null,null,null,0]
[null,null,null,null,null,null,null,null,null,0,null,null,0,0,null,null,null,0]
[null,null,null,null,null,null,null,null,null,0,null,null,0,0,null,null,null,0]
[null,null,null,null,null,null,null,null,null,0,null,null,0,0,null,null,null,0]
[null,null,null,null,null,null,null,null,null,0,null,null,0,0,null,null,null,0]
[null,null,null,null,null,null,null,null,null,0,null,null,0,0,null,null,null,0]
[null,null,null,null,null,null,null,null,null,0,null,null,0,0,null,null,null,0]
[null,null,null,null,null,null,null,null,null,0,null,null,0,0,null,null,null,0]
[null,null,null,null,null,null,null,null,null,0,null,null,0,0,null,null,null,0]
[null,null,null,null,null,null,null,null,null,0,null,null,0,0,null,null,null,0]
[null,null,null,null,null,null,null,null,null,0,null,null,0,0,null,null,null,0]
[null,null,null,null,null,null,null,null,null,0,null,null,0,0,null,null,null,0]
[null,null,null,null,null,null,null,null,null,0,null,null,0,0,null,null,null,0]
[null,null,null,null,null,null,null,null,null,0,null,null,0,0,null,null,null,0]
[null,null,null,null,null,null,null,null,null,0,null,null,0,0,null,null,null,0]
[null,null,null,null,null,null,null,null,null,0,null,null,0,0,null,null,null,0]
[null,null,null,null,null,null,null,null,null,0,null,null,0,0,null,null,null,0]
[null,null,null,null,null,null,null,null,null,0,null,null,0,0,null,null,null,0]
[null,null,null,null,null,null,null,null,null,0,null,null,0,0,null,null,null,0]
[null,null,null,null,null,null,null,null,null,0,null,null,0,0,null,null,null,0]
[null,null,null,null,null,null,null,null,null,0,null,null,0,0,null,null,null,0]
[null,null,null,null,null,null,null,null,null,0,null,null,0,0,null,null,null,0]
[null,null,null,null,null,null,null,null,null,0,null,null,0,0,null,null,null,0]
[null,null,null,null,null,null,null,null,null,0,null,null,0,0,null,null,null,0]
[null,null,null,null,null,null,null,null,null,0,null,null,0,0,null,null,null,0]
[null,null,null,null,null,null,null,null,null,0,null,null,0,0,null,null,null,0]
[null,null,null,null,null,null,null,null,null,0,null,null,0,0,null,null,null,0]
[null,null,null,null,null,null,null,null,null,0,null,null,0,0,null,null,null,0]
[null,null,null,null,null,null,null,null,null,0,null,null,0,0,null,null,null,0]
[null,null,null,null,null,null,null,null,null,0,null,null,0,0,null,null,null,0]
[null,null,null,null,null,null,null,null,null,0,null,null,0,0,null,null,null,0]
[null,null,null,null,null,null,null,null,null,0,null,null,0,0,null,null,null,0]
[null,null,null,null,null,null,null,null,null,0,null,null,0,0,null,null,null,0]
[null,null,null,null,null,null,null,null,null,{"$f":"SUM(H303:I303)","v":0},null,null,{"$f":"IF(R303>=G303,G303,IF(R303<G303,R303))","v":0},{"$f":"IF(G303 >0,IF(L303=\"Yes\",M303/G303, I303/G303),0)","v":0},null,null,null,0]
[null,null,null,null,null,null,null,null,null,0,null,null,0,0,null,null,null,{"$f":"IF(L304=\"Yes\",I304*1.6,I304)","v":0}]
[null,null,null,null,null,null,null,null,null,0,null,null,0,0,null,null,null,0]
[null,null,null,null,null,null,null,null,null,0,null,null,0,0,null,null,null,0]
[null,null,null,null,null,null,null,null,null,0,null,null,0,0,null,null,null,0]
[null,null,null,null,null,null,null,null,null,0,null,null,0,0,null,null,null,0]
[null,null,null,null,null,null,null,null,null,0,null,null,0,0,null,null,null,0]
[null,null,null,null,null,null,null,null,null,0,null,null,0,0,null,null,null,0]
[null,null,null,null,null,null,null,null,null,0,null,null,0,0,null,null,null,0]
[null,null,null,null,null,null,null,null,null,0,null,null,0,0,null,null,null,0]
[null,null,null,null,null,null,null,null,null,0,null,null,0,0,null,null,null,0]
[null,null,null,null,null,null,null,null,null,0,null,null,0,0,null,null,null,0]
[null,null,null,null,null,null,null,null,null,0,null,null,0,0,null,null,null,0]
[null,null,null,null,null,null,null,null,null,0,null,null,0,0,null,null,null,0]
[null,null,null,null,null,null,null,null,null,0,null,null,0,0,null,null,null,0]
[null,null,null,null,null,null,null,null,null,0,null,null,0,0,null,null,null,0]
[null,null,null,null,null,null,null,null,null,0,null,null,0,0,null,null,null,0]
[null,null,null,null,null,null,null,null,null,0,null,null,0,0,null,null,null,0]
[null,null,null,null,null,null,null,null,null,0,null,null,0,0,null,null,null,0]
[null,null,null,null,null,null,null,null,null,0,null,null,0,0,null,null,null,0]
[null,null,null,null,null,null,null,null,null,0,null,null,0,0,null,null,null,0]
[null,null,null,null,null,null,null,null,null,0,null,null,0,0,null,null,null,0]
[null,null,null,null,null,null,null,null,null,0,null,null,0,0,null,null,null,0]
[null,null,null,null,null,"Total",{"$f":"SUM(G111:G325)","v":0},{"$f":"SUM(H111:H325)","v":0},{"$f":"SUM(I111:I325)","v":0},{"$f":"SUM(J111:J325)","v":0},null,null,{"$f":"SUM(M111:M325)","v":0}]
[]
[null,null,null,null,null,null,null,null,null,"Divisionwide Average",null,null,null,{"$f":"IF(ISERROR(M326/G326),0,M326/G326)","v":0}]
[null,"Page 44"]
[null,{"$f":"'Main Page'!$N$9","v":"2026-2027"},null,"School Division:",{"$f":"'Main Page'!$L$14","v":0},null,null,null,"Division Number:",{"$f":"'Main Page'!$L$15","v":" "},{"$f":"'Main Page'!$B$6","v":"Local Consolidated Application"}]
[null,"Grade Span Averages"]
[]
[null,null,null,null,"Grade Spans",null,null,null,null,"Grade Span Average"]
[null,null,null,null,null,"PK - PK",null,null,null,null,{"$f":"IF(ISERROR(SUMIF($E$111:$E$325,F334,$M$111:$M$325)/SUMIF($E$111:$E$325,F334,$G$111:$G$325)),\"\",SUMIF($E$111:$E$325,F334,$M$111:$M$325)/SUMIF($E$111:$E$325,F334,$G$111:$G$325))","v":""}]
[null,null,null,null,null,"PK - KG",null,null,null,null,{"$f":"IF(ISERROR(SUMIF($E$111:$E$325,F335,$M$111:$M$325)/SUMIF($E$111:$E$325,F335,$G$111:$G$325)),\"\",SUMIF($E$111:$E$325,F335,$M$111:$M$325)/SUMIF($E$111:$E$325,F335,$G$111:$G$325))","v":""}]
[null,null,null,null,null,"PK - 01",null,null,null,null,""]
[null,null,null,null,null,"PK - 02",null,null,null,null,""]
[null,null,null,null,null,"PK - 03",null,null,null,null,""]
[null,null,null,null,null,"PK - 04",null,null,null,null,""]
[null,null,null,null,null,"PK - 05",null,null,null,null,""]
[null,null,null,null,null,"PK - 06",null,null,null,null,""]
[null,null,null,null,null,"PK - 07",null,null,null,null,""]
[null,null,null,null,null,"PK - 08",null,null,null,null,""]
[null,null,null,null,null,"PK - 12",null,null,null,null,""]
[null,null,null,null,null,"KG - 01",null,null,null,null,""]
[null,null,null,null,null,"KG - 02",null,null,null,null,""]
[null,null,null,null,null,"KG - 03",null,null,null,null,""]
[null,null,null,null,null,"KG - 04",null,null,null,null,""]
[null,null,null,null,null,"KG - 05",null,null,null,null,""]
[null,null,null,null,null,"KG - 06",null,null,null,null,""]
[null,null,null,null,null,"KG - 07",null,null,null,null,""]
[null,null,null,null,null,"KG - 08",null,null,null,null,""]
[null,null,null,null,null,"KG - 12",null,null,null,null,""]
[null,null,null,null,null,"01 - 05",null,null,null,null,""]
[null,null,null,null,null,"01 - 07",null,null,null,null,""]
[null,null,null,null,null,"01 - 08",null,null,null,null,""]
[null,null,null,null,null,"02 - 04",null,null,null,null,""]
[null,null,null,null,null,"02 - 05",null,null,null,null,""]
[null,null,null,null,null,"02 - 06",null,null,null,null,""]
[null,null,null,null,null,"03 - 04",null,null,null,null,""]
[null,null,null,null,null,"03 - 05",null,null,null,null,""]
[null,null,null,null,null,"03 - 06",null,null,null,null,""]
[null,null,null,null,null,"03 - 07",null,null,null,null,""]
[null,null,null,null,null,"03 - 08",null,null,null,null,""]
[null,null,null,null,null,"04 - 05",null,null,null,null,""]
[null,null,null,null,null,"04 - 06",null,null,null,null,""]
[null,null,null,null,null,"04 - 07",null,null,null,null,""]
[null,null,null,null,null,"04 - 08",null,null,null,null,""]
[null,null,null,null,null,"05 - 06",null,null,null,null,""]
[null,null,null,null,null,"05 - 07",null,null,null,null,""]
[null,null,null,null,null,"05 - 08",null,null,null,null,""]
[null,null,null,null,null,"06 - 06",null,null,null,null,""]
[null,null,null,null,null,"06 - 07",null,null,null,null,""]
[null,null,null,null,null,"06 - 08",null,null,null,null,""]
[null,null,null,null,null,"06 - 12",null,null,null,null,""]
[null,null,null,null,null,"07 - 08",null,null,null,null,""]
[null,null,null,null,null,"07 - 09",null,null,null,null,""]
[null,null,null,null,null,"07 - 11",null,null,null,null,""]
[null,null,null,null,null,"07 - 12",null,null,null,null,""]
[null,null,null,null,null,"08 - 08",null,null,null,null,""]
[null,null,null,null,null,"08 - 09",null,null,null,null,""]
[null,null,null,null,null,"08 - 12",null,null,null,null,""]
[null,null,null,null,null,"09 - 10",null,null,null,null,""]
[null,null,null,null,null,"09 - 11",null,null,null,null,""]
[null,null,null,null,null,"09 - 12",null,null,null,null,""]
[null,null,null,null,null,"10 - 12",null,null,null,null,""]
[null,null,null,null,null,"11 - 12",null,null,null,null,""]
[null,"Page 45"]

{"sheet":"35% and Above Low-Income","index":7,"n_rows":273,"n_cols":20,"rows_kept":273,"cut":false,"hidden":true,"merged":[[1,2,1,17],[9,15,9,17],[10,1,10,11],[10,15,10,17],[0,10,0,17],[2,1,2,17],[3,1,3,11],[3,12,3,14],[3,15,3,17],[4,1,4,11],[4,12,6,14],[4,15,4,17],[5,1,5,11],[5,15,5,17],[6,1,6,11],[7,2,7,11],[7,12,7,14],[8,2,8,11],[8,12,8,14],[7,1,9,1],[6,15,8,17],[9,2,9,11],[28,15,31,17],[29,2,29,11],[29,12,29,14],[30,2,30,11],[30,12,30,14],[31,2,31,11],[31,12,31,14],[25,1,25,11],[26,1,31,1],[26,2,26,11],[26,12,26,14],[27,2,27,11],[27,12,27,14],[27,15,27,17],[28,2,28,11],[28,12,28,14],[9,12,25,14],[22,2,22,11],[22,15,22,17],[23,15,23,17],[23,2,23,11],[19,15,19,17],[20,1,20,11],[11,1,19,1],[32,1,32,11],[32,12,35,14],[32,15,32,17],[33,1,33,11],[33,15,33,17],[34,1,34,11],[34,15,34,17],[35,1,35,11],[35,15,35,17],[41,1,41,7],[41,8,41,17],[42,6,42,7],[43,1,43,7],[44,6,44,7],[44,8,44,9],[44,11,44,12],[44,14,44,15],[36,1,36,17],[37,10,37,17],[38,1,38,17],[39,1,39,7],[39,8,39,17],[40,1,40,7],[40,8,40,17],[48,6,48,7],[48,8,48,17],[49,1,49,7],[49,8,49,9],[49,11,49,12],[49,14,49,15],[45,1,45,7],[45,8,46,9],[45,11,46,12],[45,14,46,15],[46,6,46,7],[47,1,47,7],[47,8,47,17],[55,13,55,14],[55,15,55,16],[56,13,56,14],[56,15,56,16],[57,1,57,3],[58,1,58,3],[50,1,50,3],[51,1,51,3],[52,1,52,5],[54,13,54,14],[54,15,54,16],[53,14,53,15],[53,1,53,13],[66,1,66,3],[67,1,67,3],[68,1,68,3],[69,1,69,3],[70,1,70,3],[71,1,71,3],[59,1,59,3],[60,1,60,3],[61,1,61,3],[62,1,62,3],[64,1,64,3],[65,1,65,3],[63,1,63,3],[78,1,78,3],[79,1,79,3],[80,1,80,3],[81,1,81,3],[82,1,82,3],[83,1,83,3],[72,1,72,3],[73,1,73,3],[74,1,74,3],[75,1,75,3],[76,1,76,3],[77,1,77,3],[90,1,90,3],[91,1,91,3],[92,1,92,3],[93,1,93,3],[94,1,94,3],[95,1,95,3],[84,1,84,3],[85,1,85,3],[86,1,86,3],[87,1,87,3],[88,1,88,3],[89,1,89,3],[102,1,102,3],[103,1,103,3],[104,1,104,3],[105,1,105,3],[106,1,106,3],[107,1,107,3],[96,1,96,3],[97,1,97,3],[98,1,98,3],[99,1,99,3],[100,1,100,3],[101,1,101,3],[114,1,114,3],[115,1,115,3],[116,1,116,3],[117,1,117,3],[118,1,118,3],[119,1,119,3],[108,1,108,3],[109,1,109,3],[110,1,110,3],[111,1,111,3],[112,1,112,3],[113,1,113,3],[126,1,126,3],[127,1,127,3],[128,1,128,3],[129,1,129,3],[130,1,130,3],[131,1,131,3],[120,1,120,3],[121,1,121,3],[122,1,122,3],[123,1,123,3],[124,1,124,3],[125,1,125,3],[138,1,138,3],[139,1,139,3],[140,1,140,3],[141,1,141,3],[142,1,142,3],[143,1,143,3],[132,1,132,3],[133,1,133,3],[134,1,134,3],[135,1,135,3],[136,1,136,3],[137,1,137,3],[150,1,150,3],[151,1,151,3],[152,1,152,3],[153,1,153,3],[154,1,154,3],[155,1,155,3],[144,1,144,3],[145,1,145,3],[146,1,146,3],[147,1,147,3],[148,1,148,3],[149,1,149,3],[162,1,162,3],[163,1,163,3],[164,1,164,3],[165,1,165,3],[166,1,166,3],[167,1,167,3],[156,1,156,3],[157,1,157,3],[158,1,158,3],[159,1,159,3],[160,1,160,3],[161,1,161,3],[174,1,174,3],[175,1,175,3],[176,1,176,3],[177,1,177,3],[178,1,178,3],[179,1,179,3],[168,1,168,3],[169,1,169,3],[170,1,170,3],[171,1,171,3],[172,1,172,3],[173,1,173,3],[186,1,186,3],[187,1,187,3],[188,1,188,3],[189,1,189,3],[190,1,190,3],[191,1,191,3],[180,1,180,3],[181,1,181,3],[182,1,182,3],[183,1,183,3],[184,1,184,3],[185,1,185,3],[198,1,198,3],[199,1,199,3],[200,1,200,3],[201,1,201,3],[202,1,202,3],[203,1,203,3],[192,1,192,3],[193,1,193,3],[194,1,194,3],[195,1,195,3],[196,1,196,3],[197,1,197,3],[210,1,210,3],[211,1,211,3],[212,1,212,3],[213,1,213,3],[214,1,214,3],[215,1,215,3],[204,1,204,3],[205,1,205,3],[206,1,206,3],[207,1,207,3],[208,1,208,3],[209,1,209,3],[222,1,222,3],[223,1,223,3],[224,1,224,3],[225,1,225,3],[226,1,226,3],[227,1,227,3],[216,1,216,3],[217,1,217,3],[218,1,218,3],[219,1,219,3],[220,1,220,3],[221,1,221,3],[267,1,267,3],[268,1,268,3],[269,1,269,3],[270,1,270,3],[271,1,271,3],[272,1,272,17],[246,1,246,3],[247,1,247,3],[248,1,248,3],[249,1,249,3],[265,1,265,3],[266,1,266,3],[259,1,259,3],[260,1,260,3],[261,1,261,3],[262,1,262,3],[263,1,263,3],[264,1,264,3],[250,1,250,3],[251,1,251,3],[252,1,252,3],[253,1,253,3],[254,1,254,3],[255,1,255,3],[230,1,230,3],[231,1,231,3],[232,1,232,3],[240,1,240,3],[241,1,241,3],[242,1,242,3],[243,1,243,3],[244,1,244,3],[245,1,245,3],[234,1,234,3],[235,1,235,3],[236,1,236,3],[233,1,233,3],[0,18,272,18],[0,0,1048575,0],[14,15,14,17],[11,15,11,17],[21,2,21,11],[21,1,24,1],[24,2,24,11],[21,15,21,17],[13,15,13,17],[15,15,15,17],[20,15,20,17],[16,15,16,17],[17,15,17,17],[18,15,18,17],[12,15,12,17],[24,15,26,17],[256,1,256,3],[257,1,257,3],[258,1,258,3],[237,1,237,3],[238,1,238,3],[239,1,239,3],[228,1,228,3],[229,1,229,3]]}
[null,{"$f":"'Main Page'!$N$9","v":"2026-2027"},null,"School Division:",{"$f":"'Main Page'!$L$14","v":0},null,null,null,"Division Number:",{"$f":"'Main Page'!$L$15","v":" "},{"$f":"'Main Page'!$B$6","v":"Local Consolidated Application"}]
[null,null,"l.  Required and Allowable Set-Asides for Divisions Operating Title I, Part A, Basic Programs"]
[]
[null,"DIVISION LEVEL:  IMPROVEMENT ACTIVITIES \n(Optional for Divisions with Comprehensive Support and Improvement and Targeted Support and Improvement)",null,null,null,null,null,null,null,null,null,null,"A",null,null,"B"]
[null,"Up to 5 percent may be set aside for divisions to provide financial incentives and rewards to teachers who serve in schools identified for comprehensive support and improvement or targeted support and improvement activities for the purposes of attracting and retaining qualified and effective teachers."]
[null,"Five percent of the total allocation representing the maximum allowable set-aside for Comprehensive Support and Improvement and Targeted Support and Improvement",null,null,null,null,null,null,null,null,null,null,null,null,null,{"$f":"SUM(('Coordinated Consolidated Info.'!O47+'Coordinated Consolidated Info.'!O81+'Coordinated Consolidated Info.'!O90)*0.05)","v":0}]
[null,"Indicate amount of set-aside for each category, if applicable:"]
[null,null,"Set-Aside for Teacher Incentives and Rewards Comprehensive"]
[null,null,"Set-Aside for Teacher Incentives and Rewards Targeted"]
[null,null,"Total Amount Set-Aside for Comprehensive Support and Improvement and Targeted Support and Improvement",null,null,null,null,null,null,null,null,null,null,null,null,{"$f":"IFERROR(SUM(VALUE(INDEX(_xlfn._xlws.FILTER(BdgtConsolidated,INDEX(BdgtConsolidated,,3)=\"CSI/TSI\"),,4))),0)\n+IFERROR(SUM(VALUE(INDEX(_xlfn._xlws.FILTER(TrnsfrConsolidated,INDEX(TrnsfrConsolidated,,3)=\"CSI/TSI\"),,4))),0)","v":0}]
[null,"DIVISION LEVEL: PROGRAM ADMINISTRATION"]
[null,null,"(1000)  Personnel Services ",null,null,null,null,null,null,null,null,null,null,null,null,{"$f":"IFERROR(SUM(VALUE(INDEX(_xlfn._xlws.FILTER(BdgtConsolidated,(INDEX(BdgtConsolidated,,1)=1000) * (INDEX(BdgtConsolidated,,3)=\"Division\")),,4))),0)\n+IFERROR(SUM(VALUE(INDEX(_xlfn._xlws.FILTER(TrnsfrConsolidated,(INDEX(TrnsfrConsolidated,,1)=1000) * (INDEX(TrnsfrConsolidated,,3)=\"Division\")),,4))),0)","v":0}]
[null,null,"(1000)  Personnel Services - Salary Differential",null,null,null,null,null,null,null,null,null,null,null,null,{"$f":"IFERROR(SUM(VALUE(INDEX(_xlfn._xlws.FILTER(BdgtConsolidated,(INDEX(BdgtConsolidated,,1)=1000) * (INDEX(BdgtConsolidated,,3)=\"Salary Differential\")),,4))),0)\n+IFERROR(SUM(VALUE(INDEX(_xlfn._xlws.FILTER(TrnsfrConsolidated,(INDEX(TrnsfrConsolidated,,1)=1000) * (INDEX(TrnsfrConsolidated,,3)=\"Salary Differential\")),,4))),0)","v":0}]
[null,null,"(2000)  Employee Benefits  ",null,null,null,null,null,null,null,null,null,null,null,null,{"$f":"IFERROR(SUM(VALUE(INDEX(_xlfn._xlws.FILTER(BdgtConsolidated,(INDEX(BdgtConsolidated,,1)=2000) * (INDEX(BdgtConsolidated,,3)=\"Division\")),,4))),0)\n+IFERROR(SUM(VALUE(INDEX(_xlfn._xlws.FILTER(TrnsfrConsolidated,(INDEX(TrnsfrConsolidated,,1)=2000) * (INDEX(TrnsfrConsolidated,,3)=\"Division\")),,4))),0)","v":0}]
[null,null,"(2000)  Employee Benefits  - Differential",null,null,null,null,null,null,null,null,null,null,null,null,{"$f":"IFERROR(SUM(VALUE(INDEX(_xlfn._xlws.FILTER(BdgtConsolidated,(INDEX(BdgtConsolidated,,1)=2000) * (INDEX(BdgtConsolidated,,3)=\"Employee Benefits Differential\")),,4))),0)\n+IFERROR(SUM(VALUE(INDEX(_xlfn._xlws.FILTER(TrnsfrConsolidated,(INDEX(TrnsfrConsolidated,,1)=2000) * (INDEX(TrnsfrConsolidated,,3)=\"Employee Benefits Differential\")),,4))),0)","v":0}]
[null,null,"(3000)  Purchased/Contracted Services",null,null,null,null,null,null,null,null,null,null,null,null,{"$f":"IFERROR(SUM(VALUE(INDEX(_xlfn._xlws.FILTER(BdgtConsolidated,(INDEX(BdgtConsolidated,,1)=3000) * (INDEX(BdgtConsolidated,,3)=\"Division\")),,4))),0)\n+IFERROR(SUM(VALUE(INDEX(_xlfn._xlws.FILTER(TrnsfrConsolidated,(INDEX(TrnsfrConsolidated,,1)=3000) * (INDEX(TrnsfrConsolidated,,3)=\"Division\")),,4))),0)","v":0}]
[null,null,"(4000)  Internal Services",null,null,null,null,null,null,null,null,null,null,null,null,{"$f":"IFERROR(SUM(VALUE(INDEX(_xlfn._xlws.FILTER(BdgtConsolidated,(INDEX(BdgtConsolidated,,1)=4000) * (INDEX(BdgtConsolidated,,3)=\"Division\")),,4))),0)\n+IFERROR(SUM(VALUE(INDEX(_xlfn._xlws.FILTER(TrnsfrConsolidated,(INDEX(TrnsfrConsolidated,,1)=4000) * (INDEX(TrnsfrConsolidated,,3)=\"Division\")),,4))),0)","v":0}]
[null,null,"(5000)  Other Charges",null,null,null,null,null,null,null,null,null,null,null,null,{"$f":"IFERROR(SUM(VALUE(INDEX(_xlfn._xlws.FILTER(BdgtConsolidated,(INDEX(BdgtConsolidated,,1)=5000) * (INDEX(BdgtConsolidated,,3)=\"Division\")),,4))),0)\n+IFERROR(SUM(VALUE(INDEX(_xlfn._xlws.FILTER(TrnsfrConsolidated,(INDEX(TrnsfrConsolidated,,1)=5000) * (INDEX(TrnsfrConsolidated,,3)=\"Division\")),,4))),0)","v":0}]
[null,null,"(6000)  Materials and Supplies",null,null,null,null,null,null,null,null,null,null,null,null,{"$f":"IFERROR(SUM(VALUE(INDEX(_xlfn._xlws.FILTER(BdgtConsolidated,(INDEX(BdgtConsolidated,,1)=6000) * (INDEX(BdgtConsolidated,,3)=\"Division\")),,4))),0)\n+IFERROR(SUM(VALUE(INDEX(_xlfn._xlws.FILTER(TrnsfrConsolidated,(INDEX(TrnsfrConsolidated,,1)=6000) * (INDEX(TrnsfrConsolidated,,3)=\"Division\")),,4))),0)","v":0}]
[null,null,"(8000)  Capital Outlay",null,null,null,null,null,null,null,null,null,null,null,null,{"$f":"IFERROR(SUM(VALUE(INDEX(_xlfn._xlws.FILTER(BdgtConsolidated,(INDEX(BdgtConsolidated,,1)=8000) * (INDEX(BdgtConsolidated,,3)=\"Division\")),,4))),0)\n+IFERROR(SUM(VALUE(INDEX(_xlfn._xlws.FILTER(TrnsfrConsolidated,(INDEX(TrnsfrConsolidated,,1)=8000) * (INDEX(TrnsfrConsolidated,,3)=\"Division\")),,4))),0)","v":0}]
[null," Initiatives "]
[null,null,"Title I Early Childhood Budget (Personnel and Program)",null,null,null,null,null,null,null,null,null,null,null,null,{"$f":"IFERROR(SUM(VALUE(INDEX(_xlfn._xlws.FILTER(BdgtConsolidated,INDEX(BdgtConsolidated,,3)=\"Early Childhood\"),,4))),0)\n+IFERROR(SUM(VALUE(INDEX(_xlfn._xlws.FILTER(TrnsfrConsolidated,INDEX(TrnsfrConsolidated,,3)=\"Early Childhood\"),,4))),0)","v":0}]
[null,null,"Private School Services (as necessary; not applicable for bypass divisions) These funds are in addition to school-level allocations for private school services.",null,null,null,null,null,null,null,null,null,null,null,null,{"$f":"ROUND(T53*SUM(M27),2)","v":0}]
[null,null,"Additional Private School Funds",null,null,null,null,null,null,null,null,null,null,null,null,{"$f":"IFERROR(SUM(VALUE(INDEX(_xlfn._xlws.FILTER(BdgtConsolidated,INDEX(BdgtConsolidated,,3)=\"Title I Private School\"),,4))),0)\n+IFERROR(SUM(VALUE(INDEX(_xlfn._xlws.FILTER(TrnsfrConsolidated,INDEX(TrnsfrConsolidated,,3)=\"Title I Private School\"),,4))),0)\n-P23","v":0}]
[]
[null,"Parent and Family Engagement (Required if allocation is $500,000 or more)"]
[null,null,"Amount of school division allocation ESEA funds (from Page 2):",null,null,null,null,null,null,null,null,null,{"$f":"SUM('Coordinated Consolidated Info.'!O47+'Coordinated Consolidated Info.'!O81+'Coordinated Consolidated Info.'!O90)","v":0}]
[null,null,"1 percent of allocation (This amount is calculated if school division receives $500,000 or more from Title I, Part A.)",null,null,null,null,null,null,null,null,null,{"$f":"ROUND(IF(M27>499999.99,0.01*M27,0),2)","v":0},null,null,{"$f":"M28","v":0}]
[null,null,"90 percent of 1 percent must be used at the school level",null,null,null,null,null,null,null,null,null,{"$f":"ROUND(0.9*SUM(M28),2)","v":0}]
[null,null,"10 percent of 1 percent  is set aside by the school division for parent and family engagement initiatives",null,null,null,null,null,null,null,null,null,{"$f":"ROUND(0.1*SUM($M$28),2)","v":0}]
[null,null,"Additional Parent and Family Engagement Funds",null,null,null,null,null,null,null,null,null,{"$f":"IFERROR(SUM(VALUE(INDEX(_xlfn._xlws.FILTER(BdgtConsolidated,(INDEX(BdgtConsolidated,,3)=\"PFE (School Level)\") + (INDEX(BdgtConsolidated,,3)=\"PFE (Division)\")),,4))),0)\n+IFERROR(SUM(VALUE(INDEX(_xlfn._xlws.FILTER(TrnsfrConsolidated,(INDEX(TrnsfrConsolidated,,3)=\"PFE (School Level)\") + (INDEX(TrnsfrConsolidated,,3)=\"PFE (Division)\")),,4))),0)\n-M28","v":0}]
[null,null,"Has the required parent and family engagement set aside been met?",null,null,null,null,null,null,null,null,null,{"$f":"IF(SUM('Consolidated Budget'!F61)+('Consolidated Transferability'!F66+'Consolidated Transferability'!G66)>=SUM(M28),\"Yes\",\"No - please review your entries.\")","v":"Yes"}]
[null,"Homeless (as necessary based on needs identified on homeless tab, question 2)",null,null,null,null,null,null,null,null,null,null,null,null,null,{"$f":"IFERROR(SUM(VALUE(INDEX(_xlfn._xlws.FILTER(BdgtConsolidated,INDEX(BdgtConsolidated,,3)=\"Homeless\"),,4))),0)\n+IFERROR(SUM(VALUE(INDEX(_xlfn._xlws.FILTER(TrnsfrConsolidated,INDEX(TrnsfrConsolidated,,3)=\"Homeless\"),,4))),0)","v":0}]
[null,"Foster Care (as necessary)",null,null,null,null,null,null,null,null,null,null,null,null,null,{"$f":"IFERROR(SUM(VALUE(INDEX(_xlfn._xlws.FILTER(BdgtConsolidated,INDEX(BdgtConsolidated,,3)=\"Foster Care\"),,4))),0)\n+IFERROR(SUM(VALUE(INDEX(_xlfn._xlws.FILTER(TrnsfrConsolidated,INDEX(TrnsfrConsolidated,,3)=\"Foster Care\"),,4))),0)","v":0}]
[null,"Neglected (as necessary)",null,null,null,null,null,null,null,null,null,null,null,null,null,{"$f":"IFERROR(SUM(VALUE(INDEX(_xlfn._xlws.FILTER(BdgtConsolidated,INDEX(BdgtConsolidated,,3)=\"Neglected\"),,4))),0)\n+IFERROR(SUM(VALUE(INDEX(_xlfn._xlws.FILTER(TrnsfrConsolidated,INDEX(TrnsfrConsolidated,,3)=\"Neglected\"),,4))),0)","v":0}]
[null,"School Division Set-Asides TOTAL (Feeds Box A on Allocation to Eligible Schools Page)",null,null,null,null,null,null,null,null,null,null,null,null,null,{"$f":"SUM(M31,P10:R35)","v":0}]
[null,"Page 46"]
[null,{"$f":"'Main Page'!$N$9","v":"2026-2027"},null,"School Division:",{"$f":"'Main Page'!$L$14","v":0},null,null,null,"Division Number:",{"$f":"'Main Page'!$L$15","v":" "},{"$f":"'Main Page'!$B$6","v":"Local Consolidated Application"}]
[null,"TITLE I, PART A, ALLOCATION TO ELIGIBLE SCHOOLS"]
[null,null,null,null,null,null,null,null,"Low-Income Factor"]
[null,null,null,null,null,null,null,null,"35 percent and Above"]
[null,"A.",null,null,null,null,null,null,"B."]
[null,"Division’s Title I Allocation :",null,null,null,null,{"$f":"SUM('Coordinated Consolidated Info.'!O47+'Coordinated Consolidated Info.'!O81+'Coordinated Consolidated Info.'!O90)","v":0},null,"*PER PUPIL EXPENDITURE CALCULATION"]
[null,null,null,null,null,null,null,null,"Step 1:"]
[null,"Minus Set-Asides (if applicable):",null,null,null,null,{"$f":"$P$36","v":0},null,{"$f":"$G$47","v":0},null,null,{"$f":"SUM(L53)","v":0},null,"=",{"$f":"IF(ISERROR(I45/L45),0,I45/L45)","v":0}]
[null,null,null,null,null,null,null,null,"Amount for Distribution to Schools",null,null,"Low-Income Pupils in Public Schools Served        ",null,null,"Per Pupil Expenditure (PPE)"]
[null,"Amount for Distribution to Schools:",null,null,null,null,{"$f":"SUM(G43)-SUM(G45)","v":0}]
[]
[null,"Divisionwide Average From Low-Income Families",null,null,null,null,{"$f":"'Title I, Part A'!N328","v":0}]
[]
[null,"(1)",null,null,"(2)","(3)","(4)","(5)","(6)","(7)","(8)","(9)","(10)","(11)","(12)","(13)","(14)","(15)"]
[null,"List of  schools from highest poverty to lowest",null,null,"Is School Served?  \nYes or No","Grade Span of School","Targeted Assistance School? \nYes or No","Schoolwide Program School? \nYes or No",{"$f":"\"Number of Title I, Part A School Level FTE Personnel Funded with \"  & 'Main Page'!N9 & \" Funds\"","v":"Number of Title I, Part A School Level FTE Personnel Funded with 2026-2027 Funds"},{"$f":"\"Number of Title I, Part A School Level FTE Paraprofessionals Funded with \" &'Main Page'!N9 & \" Funds\"","v":"Number of Title I, Part A School Level FTE Paraprofessionals Funded with 2026-2027 Funds"},"Low-Income Private School Membership","Low-Income Public School Membership","Percent Low-Income ","Minimum School Allocation ",{"$f":"\"Distribution Balance:  \"&+SUM(G47)&\" from Box A\"","v":"Distribution Balance:  0 from Box A"},"School Reallocation Amount ","School Allocation Total","Adjusted PPE "]
[null,"TOTALS",null,null,null,null,null,null,{"$f":"SUM(I58:I272)","v":0},{"$f":"SUM(J58:J272)","v":0},{"$f":"SUM(K58:K272)","v":0},{"$f":"SUM(L58:L272)","v":0},null,{"$f":"SUM(N58:N272)","v":0},{"$f":"G47","v":0},{"$f":"SUM(P58:P272)","v":0},{"$f":"SUM(Q58:Q272)","v":0},null,null,{"$f":"IF((K53+L53)=0,0,SUM(K53)/(K53+L53))","v":0}]
[null,"The totals in columns 6 & 7 applies to all school level personnel funded with Title I except for early childhood personnel included on line 22 above, and parent and family engagement personnel included on lines 28 and 31 above. ",null,null,null,null,null,null,null,null,null,null,null,null,"Balance to Reallocate",null,{"$f":"SUM(G47-Q53)","v":0}]
[null,null,null,null,"Yes"]
[null,null,null,null,"Yes"]
[null,null,null,null,"Yes"]
[null,{"$f":"IF(ISBLANK('Title I, Part A'!B111),\"\",('Title I, Part A'!B111))","v":""},null,null,null,{"$f":"IF(ISBLANK('Title I, Part A'!E111),\"\",'Title I, Part A'!E111)","v":""},null,null,null,null,{"$f":"IF(E58=\"Yes\",('Title I, Part A'!H111),\"\")","v":""},{"$f":"IF(E58=\"Yes\",('Title I, Part A'!M111),\"\")","v":""},{"$f":"IF(ISBLANK('Title I, Part A'!N111),\"\",'Title I, Part A'!N111)","v":0},{"$f":"IF(E58=\"Yes\",(L58)*$O$45,0)","v":0},{"$f":"G47-N58","v":0},null,{"$f":"IF(SUM(P58)=0,SUM(N58),IF(SUM(N58,P58)=P58,\"ERROR\",SUM(N58,P58)))","v":0},{"$f":"IF(E58=\"Yes\",SUM(Q58)/SUM(L58),\"\")","v":""}]
[null,{"$f":"IF(ISBLANK('Title I, Part A'!B112),\"\",('Title I, Part A'!B112))","v":""},null,null,null,{"$f":"IF(ISBLANK('Title I, Part A'!E112),\"\",'Title I, Part A'!E112)","v":""},null,null,null,null,{"$f":"IF(E59=\"Yes\",('Title I, Part A'!H112),\"\")","v":""},{"$f":"IF(E59=\"Yes\",('Title I, Part A'!M112),\"\")","v":""},{"$f":"IF(ISBLANK('Title I, Part A'!N112),\"\",'Title I, Part A'!N112)","v":0},{"$f":"IF(E59=\"Yes\",(L59)*$O$45,0)","v":0},{"$f":"O58-N59","v":0},null,{"$f":"IF(SUM(P59)=0,SUM(N59),IF(SUM(N59,P59)=P59,\"ERROR\",SUM(N59,P59)))","v":0},{"$f":"IF(E59=\"Yes\",SUM(Q59)/SUM(L59),\"\")","v":""}]
[null,{"$f":"IF(ISBLANK('Title I, Part A'!B113),\"\",('Title I, Part A'!B113))","v":""},null,null,null,{"$f":"IF(ISBLANK('Title I, Part A'!E113),\"\",'Title I, Part A'!E113)","v":""},null,null,null,null,{"$f":"IF(E60=\"Yes\",('Title I, Part A'!H113),\"\")","v":""},{"$f":"IF(E60=\"Yes\",('Title I, Part A'!M113),\"\")","v":""},{"$f":"IF(ISBLANK('Title I, Part A'!N113),\"\",'Title I, Part A'!N113)","v":0},{"$f":"IF(E60=\"Yes\",(L60)*$O$45,0)","v":0},{"$f":"O59-N60","v":0},null,0,""]
[null,{"$f":"IF(ISBLANK('Title I, Part A'!B114),\"\",('Title I, Part A'!B114))","v":""},null,null,null,{"$f":"IF(ISBLANK('Title I, Part A'!E114),\"\",'Title I, Part A'!E114)","v":""},null,null,null,null,{"$f":"IF(E61=\"Yes\",('Title I, Part A'!H114),\"\")","v":""},{"$f":"IF(E61=\"Yes\",('Title I, Part A'!M114),\"\")","v":""},{"$f":"IF(ISBLANK('Title I, Part A'!N114),\"\",'Title I, Part A'!N114)","v":0},0,0,null,0,""]
[null,{"$f":"IF(ISBLANK('Title I, Part A'!B115),\"\",('Title I, Part A'!B115))","v":""},null,null,null,{"$f":"IF(ISBLANK('Title I, Part A'!E115),\"\",'Title I, Part A'!E115)","v":""},null,null,null,null,{"$f":"IF(E62=\"Yes\",('Title I, Part A'!H115),\"\")","v":""},{"$f":"IF(E62=\"Yes\",('Title I, Part A'!M115),\"\")","v":""},{"$f":"IF(ISBLANK('Title I, Part A'!N115),\"\",'Title I, Part A'!N115)","v":0},0,0,null,0,""]
[null,{"$f":"IF(ISBLANK('Title I, Part A'!B116),\"\",('Title I, Part A'!B116))","v":""},null,null,null,{"$f":"IF(ISBLANK('Title I, Part A'!E116),\"\",'Title I, Part A'!E116)","v":""},null,null,null,null,{"$f":"IF(E63=\"Yes\",('Title I, Part A'!H116),\"\")","v":""},{"$f":"IF(E63=\"Yes\",('Title I, Part A'!M116),\"\")","v":""},{"$f":"IF(ISBLANK('Title I, Part A'!N116),\"\",'Title I, Part A'!N116)","v":0},0,0,null,0,""]
[null,{"$f":"IF(ISBLANK('Title I, Part A'!B117),\"\",('Title I, Part A'!B117))","v":""},null,null,null,{"$f":"IF(ISBLANK('Title I, Part A'!E117),\"\",'Title I, Part A'!E117)","v":""},null,null,null,null,{"$f":"IF(E64=\"Yes\",('Title I, Part A'!H117),\"\")","v":""},{"$f":"IF(E64=\"Yes\",('Title I, Part A'!M117),\"\")","v":""},{"$f":"IF(ISBLANK('Title I, Part A'!N117),\"\",'Title I, Part A'!N117)","v":0},0,0,null,0,{"$f":"IF(E64=\"Yes\",SUM(Q64)/SUM(L64),\"\")","v":""}]
[null,{"$f":"IF(ISBLANK('Title I, Part A'!B118),\"\",('Title I, Part A'!B118))","v":""},null,null,null,{"$f":"IF(ISBLANK('Title I, Part A'!E118),\"\",'Title I, Part A'!E118)","v":""},null,null,null,null,{"$f":"IF(E65=\"Yes\",('Title I, Part A'!H118),\"\")","v":""},{"$f":"IF(E65=\"Yes\",('Title I, Part A'!M118),\"\")","v":""},{"$f":"IF(ISBLANK('Title I, Part A'!N118),\"\",'Title I, Part A'!N118)","v":0},0,0,null,0,""]
[null,{"$f":"IF(ISBLANK('Title I, Part A'!B119),\"\",('Title I, Part A'!B119))","v":""},null,null,null,{"$f":"IF(ISBLANK('Title I, Part A'!E119),\"\",'Title I, Part A'!E119)","v":""},null,null,null,null,{"$f":"IF(E66=\"Yes\",('Title I, Part A'!H119),\"\")","v":""},{"$f":"IF(E66=\"Yes\",('Title I, Part A'!M119),\"\")","v":""},{"$f":"IF(ISBLANK('Title I, Part A'!N119),\"\",'Title I, Part A'!N119)","v":0},0,0,null,0,""]
[null,{"$f":"IF(ISBLANK('Title I, Part A'!B120),\"\",('Title I, Part A'!B120))","v":""},null,null,null,{"$f":"IF(ISBLANK('Title I, Part A'!E120),\"\",'Title I, Part A'!E120)","v":""},null,null,null,null,{"$f":"IF(E67=\"Yes\",('Title I, Part A'!H120),\"\")","v":""},{"$f":"IF(E67=\"Yes\",('Title I, Part A'!M120),\"\")","v":""},{"$f":"IF(ISBLANK('Title I, Part A'!N120),\"\",'Title I, Part A'!N120)","v":0},0,0,null,0,""]
[null,{"$f":"IF(ISBLANK('Title I, Part A'!B121),\"\",('Title I, Part A'!B121))","v":""},null,null,null,{"$f":"IF(ISBLANK('Title I, Part A'!E121),\"\",'Title I, Part A'!E121)","v":""},null,null,null,null,{"$f":"IF(E68=\"Yes\",('Title I, Part A'!H121),\"\")","v":""},{"$f":"IF(E68=\"Yes\",('Title I, Part A'!M121),\"\")","v":""},{"$f":"IF(ISBLANK('Title I, Part A'!N121),\"\",'Title I, Part A'!N121)","v":0},0,0,null,0,""]
[null,{"$f":"IF(ISBLANK('Title I, Part A'!B122),\"\",('Title I, Part A'!B122))","v":""},null,null,null,{"$f":"IF(ISBLANK('Title I, Part A'!E122),\"\",'Title I, Part A'!E122)","v":""},null,null,null,null,{"$f":"IF(E69=\"Yes\",('Title I, Part A'!H122),\"\")","v":""},{"$f":"IF(E69=\"Yes\",('Title I, Part A'!M122),\"\")","v":""},{"$f":"IF(ISBLANK('Title I, Part A'!N122),\"\",'Title I, Part A'!N122)","v":0},0,0,null,0,""]
[null,{"$f":"IF(ISBLANK('Title I, Part A'!B123),\"\",('Title I, Part A'!B123))","v":""},null,null,null,{"$f":"IF(ISBLANK('Title I, Part A'!E123),\"\",'Title I, Part A'!E123)","v":""},null,null,null,null,{"$f":"IF(E70=\"Yes\",('Title I, Part A'!H123),\"\")","v":""},{"$f":"IF(E70=\"Yes\",('Title I, Part A'!M123),\"\")","v":""},{"$f":"IF(ISBLANK('Title I, Part A'!N123),\"\",'Title I, Part A'!N123)","v":0},0,0,null,0,""]
[null,{"$f":"IF(ISBLANK('Title I, Part A'!B124),\"\",('Title I, Part A'!B124))","v":""},null,null,null,{"$f":"IF(ISBLANK('Title I, Part A'!E124),\"\",'Title I, Part A'!E124)","v":""},null,null,null,null,{"$f":"IF(E71=\"Yes\",('Title I, Part A'!H124),\"\")","v":""},{"$f":"IF(E71=\"Yes\",('Title I, Part A'!M124),\"\")","v":""},{"$f":"IF(ISBLANK('Title I, Part A'!N124),\"\",'Title I, Part A'!N124)","v":0},0,0,null,0,""]
[null,{"$f":"IF(ISBLANK('Title I, Part A'!B125),\"\",('Title I, Part A'!B125))","v":""},null,null,null,{"$f":"IF(ISBLANK('Title I, Part A'!E125),\"\",'Title I, Part A'!E125)","v":""},null,null,null,null,{"$f":"IF(E72=\"Yes\",('Title I, Part A'!H125),\"\")","v":""},{"$f":"IF(E72=\"Yes\",('Title I, Part A'!M125),\"\")","v":""},{"$f":"IF(ISBLANK('Title I, Part A'!N125),\"\",'Title I, Part A'!N125)","v":0},0,0,null,0,""]
[null,{"$f":"IF(ISBLANK('Title I, Part A'!B126),\"\",('Title I, Part A'!B126))","v":""},null,null,null,{"$f":"IF(ISBLANK('Title I, Part A'!E126),\"\",'Title I, Part A'!E126)","v":""},null,null,null,null,{"$f":"IF(E73=\"Yes\",('Title I, Part A'!H126),\"\")","v":""},{"$f":"IF(E73=\"Yes\",('Title I, Part A'!M126),\"\")","v":""},{"$f":"IF(ISBLANK('Title I, Part A'!N126),\"\",'Title I, Part A'!N126)","v":0},0,0,null,0,""]
[null,{"$f":"IF(ISBLANK('Title I, Part A'!B127),\"\",('Title I, Part A'!B127))","v":""},null,null,null,{"$f":"IF(ISBLANK('Title I, Part A'!E127),\"\",'Title I, Part A'!E127)","v":""},null,null,null,null,{"$f":"IF(E74=\"Yes\",('Title I, Part A'!H127),\"\")","v":""},{"$f":"IF(E74=\"Yes\",('Title I, Part A'!M127),\"\")","v":""},{"$f":"IF(ISBLANK('Title I, Part A'!N127),\"\",'Title I, Part A'!N127)","v":0},0,0,null,0,""]
[null,{"$f":"IF(ISBLANK('Title I, Part A'!B128),\"\",('Title I, Part A'!B128))","v":""},null,null,null,{"$f":"IF(ISBLANK('Title I, Part A'!E128),\"\",'Title I, Part A'!E128)","v":""},null,null,null,null,{"$f":"IF(E75=\"Yes\",('Title I, Part A'!H128),\"\")","v":""},{"$f":"IF(E75=\"Yes\",('Title I, Part A'!M128),\"\")","v":""},{"$f":"IF(ISBLANK('Title I, Part A'!N128),\"\",'Title I, Part A'!N128)","v":0},0,0,null,0,""]
[null,{"$f":"IF(ISBLANK('Title I, Part A'!B129),\"\",('Title I, Part A'!B129))","v":""},null,null,null,{"$f":"IF(ISBLANK('Title I, Part A'!E129),\"\",'Title I, Part A'!E129)","v":""},null,null,null,null,{"$f":"IF(E76=\"Yes\",('Title I, Part A'!H129),\"\")","v":""},{"$f":"IF(E76=\"Yes\",('Title I, Part A'!M129),\"\")","v":""},{"$f":"IF(ISBLANK('Title I, Part A'!N129),\"\",'Title I, Part A'!N129)","v":0},0,0,null,0,""]
[null,{"$f":"IF(ISBLANK('Title I, Part A'!B130),\"\",('Title I, Part A'!B130))","v":""},null,null,null,{"$f":"IF(ISBLANK('Title I, Part A'!E130),\"\",'Title I, Part A'!E130)","v":""},null,null,null,null,{"$f":"IF(E77=\"Yes\",('Title I, Part A'!H130),\"\")","v":""},{"$f":"IF(E77=\"Yes\",('Title I, Part A'!M130),\"\")","v":""},{"$f":"IF(ISBLANK('Title I, Part A'!N130),\"\",'Title I, Part A'!N130)","v":0},0,0,null,0,""]
[null,{"$f":"IF(ISBLANK('Title I, Part A'!B131),\"\",('Title I, Part A'!B131))","v":""},null,null,null,{"$f":"IF(ISBLANK('Title I, Part A'!E131),\"\",'Title I, Part A'!E131)","v":""},null,null,null,null,{"$f":"IF(E78=\"Yes\",('Title I, Part A'!H131),\"\")","v":""},{"$f":"IF(E78=\"Yes\",('Title I, Part A'!M131),\"\")","v":""},{"$f":"IF(ISBLANK('Title I, Part A'!N131),\"\",'Title I, Part A'!N131)","v":0},0,0,null,0,""]
[null,{"$f":"IF(ISBLANK('Title I, Part A'!B132),\"\",('Title I, Part A'!B132))","v":""},null,null,null,{"$f":"IF(ISBLANK('Title I, Part A'!E132),\"\",'Title I, Part A'!E132)","v":""},null,null,null,null,{"$f":"IF(E79=\"Yes\",('Title I, Part A'!H132),\"\")","v":""},{"$f":"IF(E79=\"Yes\",('Title I, Part A'!M132),\"\")","v":""},{"$f":"IF(ISBLANK('Title I, Part A'!N132),\"\",'Title I, Part A'!N132)","v":0},0,0,null,0,""]
[null,{"$f":"IF(ISBLANK('Title I, Part A'!B133),\"\",('Title I, Part A'!B133))","v":""},null,null,null,{"$f":"IF(ISBLANK('Title I, Part A'!E133),\"\",'Title I, Part A'!E133)","v":""},null,null,null,null,{"$f":"IF(E80=\"Yes\",('Title I, Part A'!H133),\"\")","v":""},{"$f":"IF(E80=\"Yes\",('Title I, Part A'!M133),\"\")","v":""},{"$f":"IF(ISBLANK('Title I, Part A'!N133),\"\",'Title I, Part A'!N133)","v":0},0,0,null,0,""]
[null,{"$f":"IF(ISBLANK('Title I, Part A'!B134),\"\",('Title I, Part A'!B134))","v":""},null,null,null,{"$f":"IF(ISBLANK('Title I, Part A'!E134),\"\",'Title I, Part A'!E134)","v":""},null,null,null,null,{"$f":"IF(E81=\"Yes\",('Title I, Part A'!H134),\"\")","v":""},{"$f":"IF(E81=\"Yes\",('Title I, Part A'!M134),\"\")","v":""},{"$f":"IF(ISBLANK('Title I, Part A'!N134),\"\",'Title I, Part A'!N134)","v":0},0,0,null,0,""]
[null,{"$f":"IF(ISBLANK('Title I, Part A'!B135),\"\",('Title I, Part A'!B135))","v":""},null,null,null,{"$f":"IF(ISBLANK('Title I, Part A'!E135),\"\",'Title I, Part A'!E135)","v":""},null,null,null,null,{"$f":"IF(E82=\"Yes\",('Title I, Part A'!H135),\"\")","v":""},{"$f":"IF(E82=\"Yes\",('Title I, Part A'!M135),\"\")","v":""},{"$f":"IF(ISBLANK('Title I, Part A'!N135),\"\",'Title I, Part A'!N135)","v":0},0,0,null,0,""]
[null,{"$f":"IF(ISBLANK('Title I, Part A'!B136),\"\",('Title I, Part A'!B136))","v":""},null,null,null,{"$f":"IF(ISBLANK('Title I, Part A'!E136),\"\",'Title I, Part A'!E136)","v":""},null,null,null,null,{"$f":"IF(E83=\"Yes\",('Title I, Part A'!H136),\"\")","v":""},{"$f":"IF(E83=\"Yes\",('Title I, Part A'!M136),\"\")","v":""},{"$f":"IF(ISBLANK('Title I, Part A'!N136),\"\",'Title I, Part A'!N136)","v":0},0,0,null,0,""]
[null,{"$f":"IF(ISBLANK('Title I, Part A'!B137),\"\",('Title I, Part A'!B137))","v":""},null,null,null,{"$f":"IF(ISBLANK('Title I, Part A'!E137),\"\",'Title I, Part A'!E137)","v":""},null,null,null,null,{"$f":"IF(E84=\"Yes\",('Title I, Part A'!H137),\"\")","v":""},{"$f":"IF(E84=\"Yes\",('Title I, Part A'!M137),\"\")","v":""},{"$f":"IF(ISBLANK('Title I, Part A'!N137),\"\",'Title I, Part A'!N137)","v":0},0,0,null,0,""]
[null,{"$f":"IF(ISBLANK('Title I, Part A'!B138),\"\",('Title I, Part A'!B138))","v":""},null,null,null,{"$f":"IF(ISBLANK('Title I, Part A'!E138),\"\",'Title I, Part A'!E138)","v":""},null,null,null,null,{"$f":"IF(E85=\"Yes\",('Title I, Part A'!H138),\"\")","v":""},{"$f":"IF(E85=\"Yes\",('Title I, Part A'!M138),\"\")","v":""},{"$f":"IF(ISBLANK('Title I, Part A'!N138),\"\",'Title I, Part A'!N138)","v":0},0,0,null,0,""]
[null,{"$f":"IF(ISBLANK('Title I, Part A'!B139),\"\",('Title I, Part A'!B139))","v":""},null,null,null,{"$f":"IF(ISBLANK('Title I, Part A'!E139),\"\",'Title I, Part A'!E139)","v":""},null,null,null,null,{"$f":"IF(E86=\"Yes\",('Title I, Part A'!H139),\"\")","v":""},{"$f":"IF(E86=\"Yes\",('Title I, Part A'!M139),\"\")","v":""},{"$f":"IF(ISBLANK('Title I, Part A'!N139),\"\",'Title I, Part A'!N139)","v":0},0,0,null,0,""]
[null,{"$f":"IF(ISBLANK('Title I, Part A'!B140),\"\",('Title I, Part A'!B140))","v":""},null,null,null,{"$f":"IF(ISBLANK('Title I, Part A'!E140),\"\",'Title I, Part A'!E140)","v":""},null,null,null,null,{"$f":"IF(E87=\"Yes\",('Title I, Part A'!H140),\"\")","v":""},{"$f":"IF(E87=\"Yes\",('Title I, Part A'!M140),\"\")","v":""},{"$f":"IF(ISBLANK('Title I, Part A'!N140),\"\",'Title I, Part A'!N140)","v":0},0,0,null,0,""]
[null,{"$f":"IF(ISBLANK('Title I, Part A'!B141),\"\",('Title I, Part A'!B141))","v":""},null,null,null,{"$f":"IF(ISBLANK('Title I, Part A'!E141),\"\",'Title I, Part A'!E141)","v":""},null,null,null,null,{"$f":"IF(E88=\"Yes\",('Title I, Part A'!H141),\"\")","v":""},{"$f":"IF(E88=\"Yes\",('Title I, Part A'!M141),\"\")","v":""},{"$f":"IF(ISBLANK('Title I, Part A'!N141),\"\",'Title I, Part A'!N141)","v":0},0,0,null,0,""]
[null,{"$f":"IF(ISBLANK('Title I, Part A'!B142),\"\",('Title I, Part A'!B142))","v":""},null,null,null,{"$f":"IF(ISBLANK('Title I, Part A'!E142),\"\",'Title I, Part A'!E142)","v":""},null,null,null,null,{"$f":"IF(E89=\"Yes\",('Title I, Part A'!H142),\"\")","v":""},{"$f":"IF(E89=\"Yes\",('Title I, Part A'!M142),\"\")","v":""},{"$f":"IF(ISBLANK('Title I, Part A'!N142),\"\",'Title I, Part A'!N142)","v":0},0,0,null,0,""]
[null,{"$f":"IF(ISBLANK('Title I, Part A'!B143),\"\",('Title I, Part A'!B143))","v":""},null,null,null,{"$f":"IF(ISBLANK('Title I, Part A'!E143),\"\",'Title I, Part A'!E143)","v":""},null,null,null,null,{"$f":"IF(E90=\"Yes\",('Title I, Part A'!H143),\"\")","v":""},{"$f":"IF(E90=\"Yes\",('Title I, Part A'!M143),\"\")","v":""},{"$f":"IF(ISBLANK('Title I, Part A'!N143),\"\",'Title I, Part A'!N143)","v":0},0,0,null,0,""]
[null,{"$f":"IF(ISBLANK('Title I, Part A'!B144),\"\",('Title I, Part A'!B144))","v":""},null,null,null,{"$f":"IF(ISBLANK('Title I, Part A'!E144),\"\",'Title I, Part A'!E144)","v":""},null,null,null,null,{"$f":"IF(E91=\"Yes\",('Title I, Part A'!H144),\"\")","v":""},{"$f":"IF(E91=\"Yes\",('Title I, Part A'!M144),\"\")","v":""},{"$f":"IF(ISBLANK('Title I, Part A'!N144),\"\",'Title I, Part A'!N144)","v":0},0,0,null,0,""]
[null,{"$f":"IF(ISBLANK('Title I, Part A'!B145),\"\",('Title I, Part A'!B145))","v":""},null,null,null,{"$f":"IF(ISBLANK('Title I, Part A'!E145),\"\",'Title I, Part A'!E145)","v":""},null,null,null,null,{"$f":"IF(E92=\"Yes\",('Title I, Part A'!H145),\"\")","v":""},{"$f":"IF(E92=\"Yes\",('Title I, Part A'!M145),\"\")","v":""},{"$f":"IF(ISBLANK('Title I, Part A'!N145),\"\",'Title I, Part A'!N145)","v":0},0,0,null,0,""]
[null,{"$f":"IF(ISBLANK('Title I, Part A'!B146),\"\",('Title I, Part A'!B146))","v":""},null,null,null,{"$f":"IF(ISBLANK('Title I, Part A'!E146),\"\",'Title I, Part A'!E146)","v":""},null,null,null,null,{"$f":"IF(E93=\"Yes\",('Title I, Part A'!H146),\"\")","v":""},{"$f":"IF(E93=\"Yes\",('Title I, Part A'!M146),\"\")","v":""},{"$f":"IF(ISBLANK('Title I, Part A'!N146),\"\",'Title I, Part A'!N146)","v":0},0,0,null,0,""]
[null,{"$f":"IF(ISBLANK('Title I, Part A'!B147),\"\",('Title I, Part A'!B147))","v":""},null,null,null,{"$f":"IF(ISBLANK('Title I, Part A'!E147),\"\",'Title I, Part A'!E147)","v":""},null,null,null,null,{"$f":"IF(E94=\"Yes\",('Title I, Part A'!H147),\"\")","v":""},{"$f":"IF(E94=\"Yes\",('Title I, Part A'!M147),\"\")","v":""},{"$f":"IF(ISBLANK('Title I, Part A'!N147),\"\",'Title I, Part A'!N147)","v":0},0,0,null,0,""]
[null,{"$f":"IF(ISBLANK('Title I, Part A'!B148),\"\",('Title I, Part A'!B148))","v":""},null,null,null,{"$f":"IF(ISBLANK('Title I, Part A'!E148),\"\",'Title I, Part A'!E148)","v":""},null,null,null,null,{"$f":"IF(E95=\"Yes\",('Title I, Part A'!H148),\"\")","v":""},{"$f":"IF(E95=\"Yes\",('Title I, Part A'!M148),\"\")","v":""},{"$f":"IF(ISBLANK('Title I, Part A'!N148),\"\",'Title I, Part A'!N148)","v":0},0,0,null,0,""]
[null,{"$f":"IF(ISBLANK('Title I, Part A'!B149),\"\",('Title I, Part A'!B149))","v":""},null,null,null,{"$f":"IF(ISBLANK('Title I, Part A'!E149),\"\",'Title I, Part A'!E149)","v":""},null,null,null,null,{"$f":"IF(E96=\"Yes\",('Title I, Part A'!H149),\"\")","v":""},{"$f":"IF(E96=\"Yes\",('Title I, Part A'!M149),\"\")","v":""},{"$f":"IF(ISBLANK('Title I, Part A'!N149),\"\",'Title I, Part A'!N149)","v":0},0,0,null,0,""]
[null,{"$f":"IF(ISBLANK('Title I, Part A'!B150),\"\",('Title I, Part A'!B150))","v":""},null,null,null,{"$f":"IF(ISBLANK('Title I, Part A'!E150),\"\",'Title I, Part A'!E150)","v":""},null,null,null,null,{"$f":"IF(E97=\"Yes\",('Title I, Part A'!H150),\"\")","v":""},{"$f":"IF(E97=\"Yes\",('Title I, Part A'!M150),\"\")","v":""},{"$f":"IF(ISBLANK('Title I, Part A'!N150),\"\",'Title I, Part A'!N150)","v":0},0,0,null,0,""]
[null,{"$f":"IF(ISBLANK('Title I, Part A'!B151),\"\",('Title I, Part A'!B151))","v":""},null,null,null,{"$f":"IF(ISBLANK('Title I, Part A'!E151),\"\",'Title I, Part A'!E151)","v":""},null,null,null,null,{"$f":"IF(E98=\"Yes\",('Title I, Part A'!H151),\"\")","v":""},{"$f":"IF(E98=\"Yes\",('Title I, Part A'!M151),\"\")","v":""},{"$f":"IF(ISBLANK('Title I, Part A'!N151),\"\",'Title I, Part A'!N151)","v":0},0,0,null,0,""]
[null,{"$f":"IF(ISBLANK('Title I, Part A'!B152),\"\",('Title I, Part A'!B152))","v":""},null,null,null,{"$f":"IF(ISBLANK('Title I, Part A'!E152),\"\",'Title I, Part A'!E152)","v":""},null,null,null,null,{"$f":"IF(E99=\"Yes\",('Title I, Part A'!H152),\"\")","v":""},{"$f":"IF(E99=\"Yes\",('Title I, Part A'!M152),\"\")","v":""},{"$f":"IF(ISBLANK('Title I, Part A'!N152),\"\",'Title I, Part A'!N152)","v":0},0,0,null,0,""]
[null,{"$f":"IF(ISBLANK('Title I, Part A'!B153),\"\",('Title I, Part A'!B153))","v":""},null,null,null,{"$f":"IF(ISBLANK('Title I, Part A'!E153),\"\",'Title I, Part A'!E153)","v":""},null,null,null,null,{"$f":"IF(E100=\"Yes\",('Title I, Part A'!H153),\"\")","v":""},{"$f":"IF(E100=\"Yes\",('Title I, Part A'!M153),\"\")","v":""},{"$f":"IF(ISBLANK('Title I, Part A'!N153),\"\",'Title I, Part A'!N153)","v":0},0,0,null,0,""]
[null,{"$f":"IF(ISBLANK('Title I, Part A'!B154),\"\",('Title I, Part A'!B154))","v":""},null,null,null,{"$f":"IF(ISBLANK('Title I, Part A'!E154),\"\",'Title I, Part A'!E154)","v":""},null,null,null,null,{"$f":"IF(E101=\"Yes\",('Title I, Part A'!H154),\"\")","v":""},{"$f":"IF(E101=\"Yes\",('Title I, Part A'!M154),\"\")","v":""},{"$f":"IF(ISBLANK('Title I, Part A'!N154),\"\",'Title I, Part A'!N154)","v":0},0,0,null,0,""]
[null,{"$f":"IF(ISBLANK('Title I, Part A'!B155),\"\",('Title I, Part A'!B155))","v":""},null,null,null,{"$f":"IF(ISBLANK('Title I, Part A'!E155),\"\",'Title I, Part A'!E155)","v":""},null,null,null,null,{"$f":"IF(E102=\"Yes\",('Title I, Part A'!H155),\"\")","v":""},{"$f":"IF(E102=\"Yes\",('Title I, Part A'!M155),\"\")","v":""},{"$f":"IF(ISBLANK('Title I, Part A'!N155),\"\",'Title I, Part A'!N155)","v":0},0,0,null,0,""]
[null,{"$f":"IF(ISBLANK('Title I, Part A'!B156),\"\",('Title I, Part A'!B156))","v":""},null,null,null,{"$f":"IF(ISBLANK('Title I, Part A'!E156),\"\",'Title I, Part A'!E156)","v":""},null,null,null,null,{"$f":"IF(E103=\"Yes\",('Title I, Part A'!H156),\"\")","v":""},{"$f":"IF(E103=\"Yes\",('Title I, Part A'!M156),\"\")","v":""},{"$f":"IF(ISBLANK('Title I, Part A'!N156),\"\",'Title I, Part A'!N156)","v":0},0,0,null,0,""]
[null,{"$f":"IF(ISBLANK('Title I, Part A'!B157),\"\",('Title I, Part A'!B157))","v":""},null,null,null,{"$f":"IF(ISBLANK('Title I, Part A'!E157),\"\",'Title I, Part A'!E157)","v":""},null,null,null,null,{"$f":"IF(E104=\"Yes\",('Title I, Part A'!H157),\"\")","v":""},{"$f":"IF(E104=\"Yes\",('Title I, Part A'!M157),\"\")","v":""},{"$f":"IF(ISBLANK('Title I, Part A'!N157),\"\",'Title I, Part A'!N157)","v":0},0,0,null,0,""]
[null,{"$f":"IF(ISBLANK('Title I, Part A'!B158),\"\",('Title I, Part A'!B158))","v":""},null,null,null,{"$f":"IF(ISBLANK('Title I, Part A'!E158),\"\",'Title I, Part A'!E158)","v":""},null,null,null,null,{"$f":"IF(E105=\"Yes\",('Title I, Part A'!H158),\"\")","v":""},{"$f":"IF(E105=\"Yes\",('Title I, Part A'!M158),\"\")","v":""},{"$f":"IF(ISBLANK('Title I, Part A'!N158),\"\",'Title I, Part A'!N158)","v":0},0,0,null,0,""]
[null,{"$f":"IF(ISBLANK('Title I, Part A'!B159),\"\",('Title I, Part A'!B159))","v":""},null,null,null,{"$f":"IF(ISBLANK('Title I, Part A'!E159),\"\",'Title I, Part A'!E159)","v":""},null,null,null,null,{"$f":"IF(E106=\"Yes\",('Title I, Part A'!H159),\"\")","v":""},{"$f":"IF(E106=\"Yes\",('Title I, Part A'!M159),\"\")","v":""},{"$f":"IF(ISBLANK('Title I, Part A'!N159),\"\",'Title I, Part A'!N159)","v":0},0,0,null,0,""]
[null,{"$f":"IF(ISBLANK('Title I, Part A'!B160),\"\",('Title I, Part A'!B160))","v":""},null,null,null,{"$f":"IF(ISBLANK('Title I, Part A'!E160),\"\",'Title I, Part A'!E160)","v":""},null,null,null,null,{"$f":"IF(E107=\"Yes\",('Title I, Part A'!H160),\"\")","v":""},{"$f":"IF(E107=\"Yes\",('Title I, Part A'!M160),\"\")","v":""},{"$f":"IF(ISBLANK('Title I, Part A'!N160),\"\",'Title I, Part A'!N160)","v":0},0,0,null,0,""]
[null,{"$f":"IF(ISBLANK('Title I, Part A'!B161),\"\",('Title I, Part A'!B161))","v":""},null,null,null,{"$f":"IF(ISBLANK('Title I, Part A'!E161),\"\",'Title I, Part A'!E161)","v":""},null,null,null,null,{"$f":"IF(E108=\"Yes\",('Title I, Part A'!H161),\"\")","v":""},{"$f":"IF(E108=\"Yes\",('Title I, Part A'!M161),\"\")","v":""},{"$f":"IF(ISBLANK('Title I, Part A'!N161),\"\",'Title I, Part A'!N161)","v":0},0,0,null,0,""]
[null,{"$f":"IF(ISBLANK('Title I, Part A'!B162),\"\",('Title I, Part A'!B162))","v":""},null,null,null,{"$f":"IF(ISBLANK('Title I, Part A'!E162),\"\",'Title I, Part A'!E162)","v":""},null,null,null,null,{"$f":"IF(E109=\"Yes\",('Title I, Part A'!H162),\"\")","v":""},{"$f":"IF(E109=\"Yes\",('Title I, Part A'!M162),\"\")","v":""},{"$f":"IF(ISBLANK('Title I, Part A'!N162),\"\",'Title I, Part A'!N162)","v":0},0,0,null,0,""]
[null,{"$f":"IF(ISBLANK('Title I, Part A'!B163),\"\",('Title I, Part A'!B163))","v":""},null,null,null,{"$f":"IF(ISBLANK('Title I, Part A'!E163),\"\",'Title I, Part A'!E163)","v":""},null,null,null,null,{"$f":"IF(E110=\"Yes\",('Title I, Part A'!H163),\"\")","v":""},{"$f":"IF(E110=\"Yes\",('Title I, Part A'!M163),\"\")","v":""},{"$f":"IF(ISBLANK('Title I, Part A'!N163),\"\",'Title I, Part A'!N163)","v":0},0,0,null,0,""]
[null,{"$f":"IF(ISBLANK('Title I, Part A'!B164),\"\",('Title I, Part A'!B164))","v":""},null,null,null,{"$f":"IF(ISBLANK('Title I, Part A'!E164),\"\",'Title I, Part A'!E164)","v":""},null,null,null,null,{"$f":"IF(E111=\"Yes\",('Title I, Part A'!H164),\"\")","v":""},{"$f":"IF(E111=\"Yes\",('Title I, Part A'!M164),\"\")","v":""},{"$f":"IF(ISBLANK('Title I, Part A'!N164),\"\",'Title I, Part A'!N164)","v":0},0,0,null,0,""]
[null,{"$f":"IF(ISBLANK('Title I, Part A'!B165),\"\",('Title I, Part A'!B165))","v":""},null,null,null,{"$f":"IF(ISBLANK('Title I, Part A'!E165),\"\",'Title I, Part A'!E165)","v":""},null,null,null,null,{"$f":"IF(E112=\"Yes\",('Title I, Part A'!H165),\"\")","v":""},{"$f":"IF(E112=\"Yes\",('Title I, Part A'!M165),\"\")","v":""},{"$f":"IF(ISBLANK('Title I, Part A'!N165),\"\",'Title I, Part A'!N165)","v":0},0,0,null,0,""]
[null,{"$f":"IF(ISBLANK('Title I, Part A'!B166),\"\",('Title I, Part A'!B166))","v":""},null,null,null,{"$f":"IF(ISBLANK('Title I, Part A'!E166),\"\",'Title I, Part A'!E166)","v":""},null,null,null,null,{"$f":"IF(E113=\"Yes\",('Title I, Part A'!H166),\"\")","v":""},{"$f":"IF(E113=\"Yes\",('Title I, Part A'!M166),\"\")","v":""},{"$f":"IF(ISBLANK('Title I, Part A'!N166),\"\",'Title I, Part A'!N166)","v":0},0,0,null,0,""]
[null,{"$f":"IF(ISBLANK('Title I, Part A'!B167),\"\",('Title I, Part A'!B167))","v":""},null,null,null,{"$f":"IF(ISBLANK('Title I, Part A'!E167),\"\",'Title I, Part A'!E167)","v":""},null,null,null,null,{"$f":"IF(E114=\"Yes\",('Title I, Part A'!H167),\"\")","v":""},{"$f":"IF(E114=\"Yes\",('Title I, Part A'!M167),\"\")","v":""},{"$f":"IF(ISBLANK('Title I, Part A'!N167),\"\",'Title I, Part A'!N167)","v":0},0,0,null,0,""]
[null,{"$f":"IF(ISBLANK('Title I, Part A'!B168),\"\",('Title I, Part A'!B168))","v":""},null,null,null,{"$f":"IF(ISBLANK('Title I, Part A'!E168),\"\",'Title I, Part A'!E168)","v":""},null,null,null,null,{"$f":"IF(E115=\"Yes\",('Title I, Part A'!H168),\"\")","v":""},{"$f":"IF(E115=\"Yes\",('Title I, Part A'!M168),\"\")","v":""},{"$f":"IF(ISBLANK('Title I, Part A'!N168),\"\",'Title I, Part A'!N168)","v":0},0,0,null,0,""]
[null,{"$f":"IF(ISBLANK('Title I, Part A'!B169),\"\",('Title I, Part A'!B169))","v":""},null,null,null,{"$f":"IF(ISBLANK('Title I, Part A'!E169),\"\",'Title I, Part A'!E169)","v":""},null,null,null,null,{"$f":"IF(E116=\"Yes\",('Title I, Part A'!H169),\"\")","v":""},{"$f":"IF(E116=\"Yes\",('Title I, Part A'!M169),\"\")","v":""},{"$f":"IF(ISBLANK('Title I, Part A'!N169),\"\",'Title I, Part A'!N169)","v":0},0,0,null,0,""]
[null,{"$f":"IF(ISBLANK('Title I, Part A'!B170),\"\",('Title I, Part A'!B170))","v":""},null,null,null,{"$f":"IF(ISBLANK('Title I, Part A'!E170),\"\",'Title I, Part A'!E170)","v":""},null,null,null,null,{"$f":"IF(E117=\"Yes\",('Title I, Part A'!H170),\"\")","v":""},{"$f":"IF(E117=\"Yes\",('Title I, Part A'!M170),\"\")","v":""},{"$f":"IF(ISBLANK('Title I, Part A'!N170),\"\",'Title I, Part A'!N170)","v":0},0,0,null,0,""]
[null,{"$f":"IF(ISBLANK('Title I, Part A'!B171),\"\",('Title I, Part A'!B171))","v":""},null,null,null,{"$f":"IF(ISBLANK('Title I, Part A'!E171),\"\",'Title I, Part A'!E171)","v":""},null,null,null,null,{"$f":"IF(E118=\"Yes\",('Title I, Part A'!H171),\"\")","v":""},{"$f":"IF(E118=\"Yes\",('Title I, Part A'!M171),\"\")","v":""},{"$f":"IF(ISBLANK('Title I, Part A'!N171),\"\",'Title I, Part A'!N171)","v":0},0,0,null,0,""]
[null,{"$f":"IF(ISBLANK('Title I, Part A'!B172),\"\",('Title I, Part A'!B172))","v":""},null,null,null,{"$f":"IF(ISBLANK('Title I, Part A'!E172),\"\",'Title I, Part A'!E172)","v":""},null,null,null,null,{"$f":"IF(E119=\"Yes\",('Title I, Part A'!H172),\"\")","v":""},{"$f":"IF(E119=\"Yes\",('Title I, Part A'!M172),\"\")","v":""},{"$f":"IF(ISBLANK('Title I, Part A'!N172),\"\",'Title I, Part A'!N172)","v":0},0,0,null,0,""]
[null,{"$f":"IF(ISBLANK('Title I, Part A'!B173),\"\",('Title I, Part A'!B173))","v":""},null,null,null,{"$f":"IF(ISBLANK('Title I, Part A'!E173),\"\",'Title I, Part A'!E173)","v":""},null,null,null,null,{"$f":"IF(E120=\"Yes\",('Title I, Part A'!H173),\"\")","v":""},{"$f":"IF(E120=\"Yes\",('Title I, Part A'!M173),\"\")","v":""},{"$f":"IF(ISBLANK('Title I, Part A'!N173),\"\",'Title I, Part A'!N173)","v":0},0,0,null,0,""]
[null,{"$f":"IF(ISBLANK('Title I, Part A'!B174),\"\",('Title I, Part A'!B174))","v":""},null,null,null,{"$f":"IF(ISBLANK('Title I, Part A'!E174),\"\",'Title I, Part A'!E174)","v":""},null,null,null,null,{"$f":"IF(E121=\"Yes\",('Title I, Part A'!H174),\"\")","v":""},{"$f":"IF(E121=\"Yes\",('Title I, Part A'!M174),\"\")","v":""},{"$f":"IF(ISBLANK('Title I, Part A'!N174),\"\",'Title I, Part A'!N174)","v":0},0,0,null,0,""]
[null,{"$f":"IF(ISBLANK('Title I, Part A'!B175),\"\",('Title I, Part A'!B175))","v":""},null,null,null,{"$f":"IF(ISBLANK('Title I, Part A'!E175),\"\",'Title I, Part A'!E175)","v":""},null,null,null,null,{"$f":"IF(E122=\"Yes\",('Title I, Part A'!H175),\"\")","v":""},{"$f":"IF(E122=\"Yes\",('Title I, Part A'!M175),\"\")","v":""},{"$f":"IF(ISBLANK('Title I, Part A'!N175),\"\",'Title I, Part A'!N175)","v":0},0,0,null,0,""]
[null,{"$f":"IF(ISBLANK('Title I, Part A'!B176),\"\",('Title I, Part A'!B176))","v":""},null,null,null,{"$f":"IF(ISBLANK('Title I, Part A'!E176),\"\",'Title I, Part A'!E176)","v":""},null,null,null,null,{"$f":"IF(E123=\"Yes\",('Title I, Part A'!H176),\"\")","v":""},{"$f":"IF(E123=\"Yes\",('Title I, Part A'!M176),\"\")","v":""},{"$f":"IF(ISBLANK('Title I, Part A'!N176),\"\",'Title I, Part A'!N176)","v":0},0,0,null,{"$f":"IF(SUM(P123)=0,SUM(N123),IF(SUM(N123,P123)=P123,\"ERROR\",SUM(N123,P123)))","v":0},""]
[null,{"$f":"IF(ISBLANK('Title I, Part A'!B177),\"\",('Title I, Part A'!B177))","v":""},null,null,null,{"$f":"IF(ISBLANK('Title I, Part A'!E177),\"\",'Title I, Part A'!E177)","v":""},null,null,null,null,{"$f":"IF(E124=\"Yes\",('Title I, Part A'!H177),\"\")","v":""},{"$f":"IF(E124=\"Yes\",('Title I, Part A'!M177),\"\")","v":""},{"$f":"IF(ISBLANK('Title I, Part A'!N177),\"\",'Title I, Part A'!N177)","v":0},{"$f":"IF(E124=\"Yes\",(L124)*$O$45,0)","v":0},{"$f":"O123-N124","v":0},null,0,{"$f":"IF(E124=\"Yes\",SUM(Q124)/SUM(L124),\"\")","v":""}]
[null,{"$f":"IF(ISBLANK('Title I, Part A'!B178),\"\",('Title I, Part A'!B178))","v":""},null,null,null,{"$f":"IF(ISBLANK('Title I, Part A'!E178),\"\",'Title I, Part A'!E178)","v":""},null,null,null,null,{"$f":"IF(E125=\"Yes\",('Title I, Part A'!H178),\"\")","v":""},{"$f":"IF(E125=\"Yes\",('Title I, Part A'!M178),\"\")","v":""},{"$f":"IF(ISBLANK('Title I, Part A'!N178),\"\",'Title I, Part A'!N178)","v":0},0,0,null,0,""]
[null,{"$f":"IF(ISBLANK('Title I, Part A'!B179),\"\",('Title I, Part A'!B179))","v":""},null,null,null,{"$f":"IF(ISBLANK('Title I, Part A'!E179),\"\",'Title I, Part A'!E179)","v":""},null,null,null,null,{"$f":"IF(E126=\"Yes\",('Title I, Part A'!H179),\"\")","v":""},{"$f":"IF(E126=\"Yes\",('Title I, Part A'!M179),\"\")","v":""},{"$f":"IF(ISBLANK('Title I, Part A'!N179),\"\",'Title I, Part A'!N179)","v":0},0,0,null,0,""]
[null,{"$f":"IF(ISBLANK('Title I, Part A'!B180),\"\",('Title I, Part A'!B180))","v":""},null,null,null,{"$f":"IF(ISBLANK('Title I, Part A'!E180),\"\",'Title I, Part A'!E180)","v":""},null,null,null,null,{"$f":"IF(E127=\"Yes\",('Title I, Part A'!H180),\"\")","v":""},{"$f":"IF(E127=\"Yes\",('Title I, Part A'!M180),\"\")","v":""},{"$f":"IF(ISBLANK('Title I, Part A'!N180),\"\",'Title I, Part A'!N180)","v":0},0,0,null,0,""]
[null,{"$f":"IF(ISBLANK('Title I, Part A'!B181),\"\",('Title I, Part A'!B181))","v":""},null,null,null,{"$f":"IF(ISBLANK('Title I, Part A'!E181),\"\",'Title I, Part A'!E181)","v":""},null,null,null,null,{"$f":"IF(E128=\"Yes\",('Title I, Part A'!H181),\"\")","v":""},{"$f":"IF(E128=\"Yes\",('Title I, Part A'!M181),\"\")","v":""},{"$f":"IF(ISBLANK('Title I, Part A'!N181),\"\",'Title I, Part A'!N181)","v":0},0,0,null,0,""]
[null,{"$f":"IF(ISBLANK('Title I, Part A'!B182),\"\",('Title I, Part A'!B182))","v":""},null,null,null,{"$f":"IF(ISBLANK('Title I, Part A'!E182),\"\",'Title I, Part A'!E182)","v":""},null,null,null,null,{"$f":"IF(E129=\"Yes\",('Title I, Part A'!H182),\"\")","v":""},{"$f":"IF(E129=\"Yes\",('Title I, Part A'!M182),\"\")","v":""},{"$f":"IF(ISBLANK('Title I, Part A'!N182),\"\",'Title I, Part A'!N182)","v":0},0,0,null,0,""]
[null,{"$f":"IF(ISBLANK('Title I, Part A'!B183),\"\",('Title I, Part A'!B183))","v":""},null,null,null,{"$f":"IF(ISBLANK('Title I, Part A'!E183),\"\",'Title I, Part A'!E183)","v":""},null,null,null,null,{"$f":"IF(E130=\"Yes\",('Title I, Part A'!H183),\"\")","v":""},{"$f":"IF(E130=\"Yes\",('Title I, Part A'!M183),\"\")","v":""},{"$f":"IF(ISBLANK('Title I, Part A'!N183),\"\",'Title I, Part A'!N183)","v":0},0,0,null,0,""]
[null,{"$f":"IF(ISBLANK('Title I, Part A'!B184),\"\",('Title I, Part A'!B184))","v":""},null,null,null,{"$f":"IF(ISBLANK('Title I, Part A'!E184),\"\",'Title I, Part A'!E184)","v":""},null,null,null,null,{"$f":"IF(E131=\"Yes\",('Title I, Part A'!H184),\"\")","v":""},{"$f":"IF(E131=\"Yes\",('Title I, Part A'!M184),\"\")","v":""},{"$f":"IF(ISBLANK('Title I, Part A'!N184),\"\",'Title I, Part A'!N184)","v":0},0,0,null,0,""]
[null,{"$f":"IF(ISBLANK('Title I, Part A'!B185),\"\",('Title I, Part A'!B185))","v":""},null,null,null,{"$f":"IF(ISBLANK('Title I, Part A'!E185),\"\",'Title I, Part A'!E185)","v":""},null,null,null,null,{"$f":"IF(E132=\"Yes\",('Title I, Part A'!H185),\"\")","v":""},{"$f":"IF(E132=\"Yes\",('Title I, Part A'!M185),\"\")","v":""},{"$f":"IF(ISBLANK('Title I, Part A'!N185),\"\",'Title I, Part A'!N185)","v":0},0,0,null,0,""]
[null,{"$f":"IF(ISBLANK('Title I, Part A'!B186),\"\",('Title I, Part A'!B186))","v":""},null,null,null,{"$f":"IF(ISBLANK('Title I, Part A'!E186),\"\",'Title I, Part A'!E186)","v":""},null,null,null,null,{"$f":"IF(E133=\"Yes\",('Title I, Part A'!H186),\"\")","v":""},{"$f":"IF(E133=\"Yes\",('Title I, Part A'!M186),\"\")","v":""},{"$f":"IF(ISBLANK('Title I, Part A'!N186),\"\",'Title I, Part A'!N186)","v":0},0,0,null,0,""]
[null,{"$f":"IF(ISBLANK('Title I, Part A'!B187),\"\",('Title I, Part A'!B187))","v":""},null,null,null,{"$f":"IF(ISBLANK('Title I, Part A'!E187),\"\",'Title I, Part A'!E187)","v":""},null,null,null,null,{"$f":"IF(E134=\"Yes\",('Title I, Part A'!H187),\"\")","v":""},{"$f":"IF(E134=\"Yes\",('Title I, Part A'!M187),\"\")","v":""},{"$f":"IF(ISBLANK('Title I, Part A'!N187),\"\",'Title I, Part A'!N187)","v":0},0,0,null,0,""]
[null,{"$f":"IF(ISBLANK('Title I, Part A'!B188),\"\",('Title I, Part A'!B188))","v":""},null,null,null,{"$f":"IF(ISBLANK('Title I, Part A'!E188),\"\",'Title I, Part A'!E188)","v":""},null,null,null,null,{"$f":"IF(E135=\"Yes\",('Title I, Part A'!H188),\"\")","v":""},{"$f":"IF(E135=\"Yes\",('Title I, Part A'!M188),\"\")","v":""},{"$f":"IF(ISBLANK('Title I, Part A'!N188),\"\",'Title I, Part A'!N188)","v":0},0,0,null,0,""]
[null,{"$f":"IF(ISBLANK('Title I, Part A'!B189),\"\",('Title I, Part A'!B189))","v":""},null,null,null,{"$f":"IF(ISBLANK('Title I, Part A'!E189),\"\",'Title I, Part A'!E189)","v":""},null,null,null,null,{"$f":"IF(E136=\"Yes\",('Title I, Part A'!H189),\"\")","v":""},{"$f":"IF(E136=\"Yes\",('Title I, Part A'!M189),\"\")","v":""},{"$f":"IF(ISBLANK('Title I, Part A'!N189),\"\",'Title I, Part A'!N189)","v":0},0,0,null,0,""]
[null,{"$f":"IF(ISBLANK('Title I, Part A'!B190),\"\",('Title I, Part A'!B190))","v":""},null,null,null,{"$f":"IF(ISBLANK('Title I, Part A'!E190),\"\",'Title I, Part A'!E190)","v":""},null,null,null,null,{"$f":"IF(E137=\"Yes\",('Title I, Part A'!H190),\"\")","v":""},{"$f":"IF(E137=\"Yes\",('Title I, Part A'!M190),\"\")","v":""},{"$f":"IF(ISBLANK('Title I, Part A'!N190),\"\",'Title I, Part A'!N190)","v":0},0,0,null,0,""]
[null,{"$f":"IF(ISBLANK('Title I, Part A'!B191),\"\",('Title I, Part A'!B191))","v":""},null,null,null,{"$f":"IF(ISBLANK('Title I, Part A'!E191),\"\",'Title I, Part A'!E191)","v":""},null,null,null,null,{"$f":"IF(E138=\"Yes\",('Title I, Part A'!H191),\"\")","v":""},{"$f":"IF(E138=\"Yes\",('Title I, Part A'!M191),\"\")","v":""},{"$f":"IF(ISBLANK('Title I, Part A'!N191),\"\",'Title I, Part A'!N191)","v":0},0,0,null,0,""]
[null,{"$f":"IF(ISBLANK('Title I, Part A'!B192),\"\",('Title I, Part A'!B192))","v":""},null,null,null,{"$f":"IF(ISBLANK('Title I, Part A'!E192),\"\",'Title I, Part A'!E192)","v":""},null,null,null,null,{"$f":"IF(E139=\"Yes\",('Title I, Part A'!H192),\"\")","v":""},{"$f":"IF(E139=\"Yes\",('Title I, Part A'!M192),\"\")","v":""},{"$f":"IF(ISBLANK('Title I, Part A'!N192),\"\",'Title I, Part A'!N192)","v":0},0,0,null,0,""]
[null,{"$f":"IF(ISBLANK('Title I, Part A'!B193),\"\",('Title I, Part A'!B193))","v":""},null,null,null,{"$f":"IF(ISBLANK('Title I, Part A'!E193),\"\",'Title I, Part A'!E193)","v":""},null,null,null,null,{"$f":"IF(E140=\"Yes\",('Title I, Part A'!H193),\"\")","v":""},{"$f":"IF(E140=\"Yes\",('Title I, Part A'!M193),\"\")","v":""},{"$f":"IF(ISBLANK('Title I, Part A'!N193),\"\",'Title I, Part A'!N193)","v":0},0,0,null,0,""]
[null,{"$f":"IF(ISBLANK('Title I, Part A'!B194),\"\",('Title I, Part A'!B194))","v":""},null,null,null,{"$f":"IF(ISBLANK('Title I, Part A'!E194),\"\",'Title I, Part A'!E194)","v":""},null,null,null,null,{"$f":"IF(E141=\"Yes\",('Title I, Part A'!H194),\"\")","v":""},{"$f":"IF(E141=\"Yes\",('Title I, Part A'!M194),\"\")","v":""},{"$f":"IF(ISBLANK('Title I, Part A'!N194),\"\",'Title I, Part A'!N194)","v":0},0,0,null,0,""]
[null,{"$f":"IF(ISBLANK('Title I, Part A'!B195),\"\",('Title I, Part A'!B195))","v":""},null,null,null,{"$f":"IF(ISBLANK('Title I, Part A'!E195),\"\",'Title I, Part A'!E195)","v":""},null,null,null,null,{"$f":"IF(E142=\"Yes\",('Title I, Part A'!H195),\"\")","v":""},{"$f":"IF(E142=\"Yes\",('Title I, Part A'!M195),\"\")","v":""},{"$f":"IF(ISBLANK('Title I, Part A'!N195),\"\",'Title I, Part A'!N195)","v":0},0,0,null,0,""]
[null,{"$f":"IF(ISBLANK('Title I, Part A'!B196),\"\",('Title I, Part A'!B196))","v":""},null,null,null,{"$f":"IF(ISBLANK('Title I, Part A'!E196),\"\",'Title I, Part A'!E196)","v":""},null,null,null,null,{"$f":"IF(E143=\"Yes\",('Title I, Part A'!H196),\"\")","v":""},{"$f":"IF(E143=\"Yes\",('Title I, Part A'!M196),\"\")","v":""},{"$f":"IF(ISBLANK('Title I, Part A'!N196),\"\",'Title I, Part A'!N196)","v":0},0,0,null,0,""]
[null,{"$f":"IF(ISBLANK('Title I, Part A'!B197),\"\",('Title I, Part A'!B197))","v":""},null,null,null,{"$f":"IF(ISBLANK('Title I, Part A'!E197),\"\",'Title I, Part A'!E197)","v":""},null,null,null,null,{"$f":"IF(E144=\"Yes\",('Title I, Part A'!H197),\"\")","v":""},{"$f":"IF(E144=\"Yes\",('Title I, Part A'!M197),\"\")","v":""},{"$f":"IF(ISBLANK('Title I, Part A'!N197),\"\",'Title I, Part A'!N197)","v":0},0,0,null,0,""]
[null,{"$f":"IF(ISBLANK('Title I, Part A'!B198),\"\",('Title I, Part A'!B198))","v":""},null,null,null,{"$f":"IF(ISBLANK('Title I, Part A'!E198),\"\",'Title I, Part A'!E198)","v":""},null,null,null,null,{"$f":"IF(E145=\"Yes\",('Title I, Part A'!H198),\"\")","v":""},{"$f":"IF(E145=\"Yes\",('Title I, Part A'!M198),\"\")","v":""},{"$f":"IF(ISBLANK('Title I, Part A'!N198),\"\",'Title I, Part A'!N198)","v":0},0,0,null,0,""]
[null,{"$f":"IF(ISBLANK('Title I, Part A'!B199),\"\",('Title I, Part A'!B199))","v":""},null,null,null,{"$f":"IF(ISBLANK('Title I, Part A'!E199),\"\",'Title I, Part A'!E199)","v":""},null,null,null,null,{"$f":"IF(E146=\"Yes\",('Title I, Part A'!H199),\"\")","v":""},{"$f":"IF(E146=\"Yes\",('Title I, Part A'!M199),\"\")","v":""},{"$f":"IF(ISBLANK('Title I, Part A'!N199),\"\",'Title I, Part A'!N199)","v":0},0,0,null,0,""]
[null,{"$f":"IF(ISBLANK('Title I, Part A'!B200),\"\",('Title I, Part A'!B200))","v":""},null,null,null,{"$f":"IF(ISBLANK('Title I, Part A'!E200),\"\",'Title I, Part A'!E200)","v":""},null,null,null,null,{"$f":"IF(E147=\"Yes\",('Title I, Part A'!H200),\"\")","v":""},{"$f":"IF(E147=\"Yes\",('Title I, Part A'!M200),\"\")","v":""},{"$f":"IF(ISBLANK('Title I, Part A'!N200),\"\",'Title I, Part A'!N200)","v":0},0,0,null,0,""]
[null,{"$f":"IF(ISBLANK('Title I, Part A'!B201),\"\",('Title I, Part A'!B201))","v":""},null,null,null,{"$f":"IF(ISBLANK('Title I, Part A'!E201),\"\",'Title I, Part A'!E201)","v":""},null,null,null,null,{"$f":"IF(E148=\"Yes\",('Title I, Part A'!H201),\"\")","v":""},{"$f":"IF(E148=\"Yes\",('Title I, Part A'!M201),\"\")","v":""},{"$f":"IF(ISBLANK('Title I, Part A'!N201),\"\",'Title I, Part A'!N201)","v":0},0,0,null,0,""]
[null,{"$f":"IF(ISBLANK('Title I, Part A'!B202),\"\",('Title I, Part A'!B202))","v":""},null,null,null,{"$f":"IF(ISBLANK('Title I, Part A'!E202),\"\",'Title I, Part A'!E202)","v":""},null,null,null,null,{"$f":"IF(E149=\"Yes\",('Title I, Part A'!H202),\"\")","v":""},{"$f":"IF(E149=\"Yes\",('Title I, Part A'!M202),\"\")","v":""},{"$f":"IF(ISBLANK('Title I, Part A'!N202),\"\",'Title I, Part A'!N202)","v":0},0,0,null,0,""]
[null,{"$f":"IF(ISBLANK('Title I, Part A'!B203),\"\",('Title I, Part A'!B203))","v":""},null,null,null,{"$f":"IF(ISBLANK('Title I, Part A'!E203),\"\",'Title I, Part A'!E203)","v":""},null,null,null,null,{"$f":"IF(E150=\"Yes\",('Title I, Part A'!H203),\"\")","v":""},{"$f":"IF(E150=\"Yes\",('Title I, Part A'!M203),\"\")","v":""},{"$f":"IF(ISBLANK('Title I, Part A'!N203),\"\",'Title I, Part A'!N203)","v":0},0,0,null,0,""]
[null,{"$f":"IF(ISBLANK('Title I, Part A'!B204),\"\",('Title I, Part A'!B204))","v":""},null,null,null,{"$f":"IF(ISBLANK('Title I, Part A'!E204),\"\",'Title I, Part A'!E204)","v":""},null,null,null,null,{"$f":"IF(E151=\"Yes\",('Title I, Part A'!H204),\"\")","v":""},{"$f":"IF(E151=\"Yes\",('Title I, Part A'!M204),\"\")","v":""},{"$f":"IF(ISBLANK('Title I, Part A'!N204),\"\",'Title I, Part A'!N204)","v":0},0,0,null,0,""]
[null,{"$f":"IF(ISBLANK('Title I, Part A'!B205),\"\",('Title I, Part A'!B205))","v":""},null,null,null,{"$f":"IF(ISBLANK('Title I, Part A'!E205),\"\",'Title I, Part A'!E205)","v":""},null,null,null,null,{"$f":"IF(E152=\"Yes\",('Title I, Part A'!H205),\"\")","v":""},{"$f":"IF(E152=\"Yes\",('Title I, Part A'!M205),\"\")","v":""},{"$f":"IF(ISBLANK('Title I, Part A'!N205),\"\",'Title I, Part A'!N205)","v":0},0,0,null,0,""]
[null,{"$f":"IF(ISBLANK('Title I, Part A'!B206),\"\",('Title I, Part A'!B206))","v":""},null,null,null,{"$f":"IF(ISBLANK('Title I, Part A'!E206),\"\",'Title I, Part A'!E206)","v":""},null,null,null,null,{"$f":"IF(E153=\"Yes\",('Title I, Part A'!H206),\"\")","v":""},{"$f":"IF(E153=\"Yes\",('Title I, Part A'!M206),\"\")","v":""},{"$f":"IF(ISBLANK('Title I, Part A'!N206),\"\",'Title I, Part A'!N206)","v":0},0,0,null,0,""]
[null,{"$f":"IF(ISBLANK('Title I, Part A'!B207),\"\",('Title I, Part A'!B207))","v":""},null,null,null,{"$f":"IF(ISBLANK('Title I, Part A'!E207),\"\",'Title I, Part A'!E207)","v":""},null,null,null,null,{"$f":"IF(E154=\"Yes\",('Title I, Part A'!H207),\"\")","v":""},{"$f":"IF(E154=\"Yes\",('Title I, Part A'!M207),\"\")","v":""},{"$f":"IF(ISBLANK('Title I, Part A'!N207),\"\",'Title I, Part A'!N207)","v":0},0,0,null,0,""]
[null,{"$f":"IF(ISBLANK('Title I, Part A'!B208),\"\",('Title I, Part A'!B208))","v":""},null,null,null,{"$f":"IF(ISBLANK('Title I, Part A'!E208),\"\",'Title I, Part A'!E208)","v":""},null,null,null,null,{"$f":"IF(E155=\"Yes\",('Title I, Part A'!H208),\"\")","v":""},{"$f":"IF(E155=\"Yes\",('Title I, Part A'!M208),\"\")","v":""},{"$f":"IF(ISBLANK('Title I, Part A'!N208),\"\",'Title I, Part A'!N208)","v":0},0,0,null,0,""]
[null,{"$f":"IF(ISBLANK('Title I, Part A'!B209),\"\",('Title I, Part A'!B209))","v":""},null,null,null,{"$f":"IF(ISBLANK('Title I, Part A'!E209),\"\",'Title I, Part A'!E209)","v":""},null,null,null,null,{"$f":"IF(E156=\"Yes\",('Title I, Part A'!H209),\"\")","v":""},{"$f":"IF(E156=\"Yes\",('Title I, Part A'!M209),\"\")","v":""},{"$f":"IF(ISBLANK('Title I, Part A'!N209),\"\",'Title I, Part A'!N209)","v":0},0,0,null,0,""]
[null,{"$f":"IF(ISBLANK('Title I, Part A'!B210),\"\",('Title I, Part A'!B210))","v":""},null,null,null,{"$f":"IF(ISBLANK('Title I, Part A'!E210),\"\",'Title I, Part A'!E210)","v":""},null,null,null,null,{"$f":"IF(E157=\"Yes\",('Title I, Part A'!H210),\"\")","v":""},{"$f":"IF(E157=\"Yes\",('Title I, Part A'!M210),\"\")","v":""},{"$f":"IF(ISBLANK('Title I, Part A'!N210),\"\",'Title I, Part A'!N210)","v":0},0,0,null,0,""]
[null,{"$f":"IF(ISBLANK('Title I, Part A'!B211),\"\",('Title I, Part A'!B211))","v":""},null,null,null,{"$f":"IF(ISBLANK('Title I, Part A'!E211),\"\",'Title I, Part A'!E211)","v":""},null,null,null,null,{"$f":"IF(E158=\"Yes\",('Title I, Part A'!H211),\"\")","v":""},{"$f":"IF(E158=\"Yes\",('Title I, Part A'!M211),\"\")","v":""},{"$f":"IF(ISBLANK('Title I, Part A'!N211),\"\",'Title I, Part A'!N211)","v":0},0,0,null,0,""]
[null,{"$f":"IF(ISBLANK('Title I, Part A'!B212),\"\",('Title I, Part A'!B212))","v":""},null,null,null,{"$f":"IF(ISBLANK('Title I, Part A'!E212),\"\",'Title I, Part A'!E212)","v":""},null,null,null,null,{"$f":"IF(E159=\"Yes\",('Title I, Part A'!H212),\"\")","v":""},{"$f":"IF(E159=\"Yes\",('Title I, Part A'!M212),\"\")","v":""},{"$f":"IF(ISBLANK('Title I, Part A'!N212),\"\",'Title I, Part A'!N212)","v":0},0,0,null,0,""]
[null,{"$f":"IF(ISBLANK('Title I, Part A'!B213),\"\",('Title I, Part A'!B213))","v":""},null,null,null,{"$f":"IF(ISBLANK('Title I, Part A'!E213),\"\",'Title I, Part A'!E213)","v":""},null,null,null,null,{"$f":"IF(E160=\"Yes\",('Title I, Part A'!H213),\"\")","v":""},{"$f":"IF(E160=\"Yes\",('Title I, Part A'!M213),\"\")","v":""},{"$f":"IF(ISBLANK('Title I, Part A'!N213),\"\",'Title I, Part A'!N213)","v":0},0,0,null,0,""]
[null,{"$f":"IF(ISBLANK('Title I, Part A'!B214),\"\",('Title I, Part A'!B214))","v":""},null,null,null,{"$f":"IF(ISBLANK('Title I, Part A'!E214),\"\",'Title I, Part A'!E214)","v":""},null,null,null,null,{"$f":"IF(E161=\"Yes\",('Title I, Part A'!H214),\"\")","v":""},{"$f":"IF(E161=\"Yes\",('Title I, Part A'!M214),\"\")","v":""},{"$f":"IF(ISBLANK('Title I, Part A'!N214),\"\",'Title I, Part A'!N214)","v":0},0,0,null,0,""]
[null,{"$f":"IF(ISBLANK('Title I, Part A'!B215),\"\",('Title I, Part A'!B215))","v":""},null,null,null,{"$f":"IF(ISBLANK('Title I, Part A'!E215),\"\",'Title I, Part A'!E215)","v":""},null,null,null,null,{"$f":"IF(E162=\"Yes\",('Title I, Part A'!H215),\"\")","v":""},{"$f":"IF(E162=\"Yes\",('Title I, Part A'!M215),\"\")","v":""},{"$f":"IF(ISBLANK('Title I, Part A'!N215),\"\",'Title I, Part A'!N215)","v":0},0,0,null,0,""]
[null,{"$f":"IF(ISBLANK('Title I, Part A'!B216),\"\",('Title I, Part A'!B216))","v":""},null,null,null,{"$f":"IF(ISBLANK('Title I, Part A'!E216),\"\",'Title I, Part A'!E216)","v":""},null,null,null,null,{"$f":"IF(E163=\"Yes\",('Title I, Part A'!H216),\"\")","v":""},{"$f":"IF(E163=\"Yes\",('Title I, Part A'!M216),\"\")","v":""},{"$f":"IF(ISBLANK('Title I, Part A'!N216),\"\",'Title I, Part A'!N216)","v":0},0,0,null,0,""]
[null,{"$f":"IF(ISBLANK('Title I, Part A'!B217),\"\",('Title I, Part A'!B217))","v":""},null,null,null,{"$f":"IF(ISBLANK('Title I, Part A'!E217),\"\",'Title I, Part A'!E217)","v":""},null,null,null,null,{"$f":"IF(E164=\"Yes\",('Title I, Part A'!H217),\"\")","v":""},{"$f":"IF(E164=\"Yes\",('Title I, Part A'!M217),\"\")","v":""},{"$f":"IF(ISBLANK('Title I, Part A'!N217),\"\",'Title I, Part A'!N217)","v":0},0,0,null,0,""]
[null,{"$f":"IF(ISBLANK('Title I, Part A'!B218),\"\",('Title I, Part A'!B218))","v":""},null,null,null,{"$f":"IF(ISBLANK('Title I, Part A'!E218),\"\",'Title I, Part A'!E218)","v":""},null,null,null,null,{"$f":"IF(E165=\"Yes\",('Title I, Part A'!H218),\"\")","v":""},{"$f":"IF(E165=\"Yes\",('Title I, Part A'!M218),\"\")","v":""},{"$f":"IF(ISBLANK('Title I, Part A'!N218),\"\",'Title I, Part A'!N218)","v":0},0,0,null,0,""]
[null,{"$f":"IF(ISBLANK('Title I, Part A'!B219),\"\",('Title I, Part A'!B219))","v":""},null,null,null,{"$f":"IF(ISBLANK('Title I, Part A'!E219),\"\",'Title I, Part A'!E219)","v":""},null,null,null,null,{"$f":"IF(E166=\"Yes\",('Title I, Part A'!H219),\"\")","v":""},{"$f":"IF(E166=\"Yes\",('Title I, Part A'!M219),\"\")","v":""},{"$f":"IF(ISBLANK('Title I, Part A'!N219),\"\",'Title I, Part A'!N219)","v":0},0,0,null,0,""]
[null,{"$f":"IF(ISBLANK('Title I, Part A'!B220),\"\",('Title I, Part A'!B220))","v":""},null,null,null,{"$f":"IF(ISBLANK('Title I, Part A'!E220),\"\",'Title I, Part A'!E220)","v":""},null,null,null,null,{"$f":"IF(E167=\"Yes\",('Title I, Part A'!H220),\"\")","v":""},{"$f":"IF(E167=\"Yes\",('Title I, Part A'!M220),\"\")","v":""},{"$f":"IF(ISBLANK('Title I, Part A'!N220),\"\",'Title I, Part A'!N220)","v":0},0,0,null,0,""]
[null,{"$f":"IF(ISBLANK('Title I, Part A'!B221),\"\",('Title I, Part A'!B221))","v":""},null,null,null,{"$f":"IF(ISBLANK('Title I, Part A'!E221),\"\",'Title I, Part A'!E221)","v":""},null,null,null,null,{"$f":"IF(E168=\"Yes\",('Title I, Part A'!H221),\"\")","v":""},{"$f":"IF(E168=\"Yes\",('Title I, Part A'!M221),\"\")","v":""},{"$f":"IF(ISBLANK('Title I, Part A'!N221),\"\",'Title I, Part A'!N221)","v":0},0,0,null,0,""]
[null,{"$f":"IF(ISBLANK('Title I, Part A'!B222),\"\",('Title I, Part A'!B222))","v":""},null,null,null,{"$f":"IF(ISBLANK('Title I, Part A'!E222),\"\",'Title I, Part A'!E222)","v":""},null,null,null,null,{"$f":"IF(E169=\"Yes\",('Title I, Part A'!H222),\"\")","v":""},{"$f":"IF(E169=\"Yes\",('Title I, Part A'!M222),\"\")","v":""},{"$f":"IF(ISBLANK('Title I, Part A'!N222),\"\",'Title I, Part A'!N222)","v":0},0,0,null,0,""]
[null,{"$f":"IF(ISBLANK('Title I, Part A'!B223),\"\",('Title I, Part A'!B223))","v":""},null,null,null,{"$f":"IF(ISBLANK('Title I, Part A'!E223),\"\",'Title I, Part A'!E223)","v":""},null,null,null,null,{"$f":"IF(E170=\"Yes\",('Title I, Part A'!H223),\"\")","v":""},{"$f":"IF(E170=\"Yes\",('Title I, Part A'!M223),\"\")","v":""},{"$f":"IF(ISBLANK('Title I, Part A'!N223),\"\",'Title I, Part A'!N223)","v":0},0,0,null,0,""]
[null,{"$f":"IF(ISBLANK('Title I, Part A'!B224),\"\",('Title I, Part A'!B224))","v":""},null,null,null,{"$f":"IF(ISBLANK('Title I, Part A'!E224),\"\",'Title I, Part A'!E224)","v":""},null,null,null,null,{"$f":"IF(E171=\"Yes\",('Title I, Part A'!H224),\"\")","v":""},{"$f":"IF(E171=\"Yes\",('Title I, Part A'!M224),\"\")","v":""},{"$f":"IF(ISBLANK('Title I, Part A'!N224),\"\",'Title I, Part A'!N224)","v":0},0,0,null,0,""]
[null,{"$f":"IF(ISBLANK('Title I, Part A'!B225),\"\",('Title I, Part A'!B225))","v":""},null,null,null,{"$f":"IF(ISBLANK('Title I, Part A'!E225),\"\",'Title I, Part A'!E225)","v":""},null,null,null,null,{"$f":"IF(E172=\"Yes\",('Title I, Part A'!H225),\"\")","v":""},{"$f":"IF(E172=\"Yes\",('Title I, Part A'!M225),\"\")","v":""},{"$f":"IF(ISBLANK('Title I, Part A'!N225),\"\",'Title I, Part A'!N225)","v":0},0,0,null,0,""]
[null,{"$f":"IF(ISBLANK('Title I, Part A'!B226),\"\",('Title I, Part A'!B226))","v":""},null,null,null,{"$f":"IF(ISBLANK('Title I, Part A'!E226),\"\",'Title I, Part A'!E226)","v":""},null,null,null,null,{"$f":"IF(E173=\"Yes\",('Title I, Part A'!H226),\"\")","v":""},{"$f":"IF(E173=\"Yes\",('Title I, Part A'!M226),\"\")","v":""},{"$f":"IF(ISBLANK('Title I, Part A'!N226),\"\",'Title I, Part A'!N226)","v":0},0,0,null,0,""]
[null,{"$f":"IF(ISBLANK('Title I, Part A'!B227),\"\",('Title I, Part A'!B227))","v":""},null,null,null,{"$f":"IF(ISBLANK('Title I, Part A'!E227),\"\",'Title I, Part A'!E227)","v":""},null,null,null,null,{"$f":"IF(E174=\"Yes\",('Title I, Part A'!H227),\"\")","v":""},{"$f":"IF(E174=\"Yes\",('Title I, Part A'!M227),\"\")","v":""},{"$f":"IF(ISBLANK('Title I, Part A'!N227),\"\",'Title I, Part A'!N227)","v":0},0,0,null,0,""]
[null,{"$f":"IF(ISBLANK('Title I, Part A'!B228),\"\",('Title I, Part A'!B228))","v":""},null,null,null,{"$f":"IF(ISBLANK('Title I, Part A'!E228),\"\",'Title I, Part A'!E228)","v":""},null,null,null,null,{"$f":"IF(E175=\"Yes\",('Title I, Part A'!H228),\"\")","v":""},{"$f":"IF(E175=\"Yes\",('Title I, Part A'!M228),\"\")","v":""},{"$f":"IF(ISBLANK('Title I, Part A'!N228),\"\",'Title I, Part A'!N228)","v":0},0,0,null,0,""]
[null,{"$f":"IF(ISBLANK('Title I, Part A'!B229),\"\",('Title I, Part A'!B229))","v":""},null,null,null,{"$f":"IF(ISBLANK('Title I, Part A'!E229),\"\",'Title I, Part A'!E229)","v":""},null,null,null,null,{"$f":"IF(E176=\"Yes\",('Title I, Part A'!H229),\"\")","v":""},{"$f":"IF(E176=\"Yes\",('Title I, Part A'!M229),\"\")","v":""},{"$f":"IF(ISBLANK('Title I, Part A'!N229),\"\",'Title I, Part A'!N229)","v":0},0,0,null,0,""]
[null,{"$f":"IF(ISBLANK('Title I, Part A'!B230),\"\",('Title I, Part A'!B230))","v":""},null,null,null,{"$f":"IF(ISBLANK('Title I, Part A'!E230),\"\",'Title I, Part A'!E230)","v":""},null,null,null,null,{"$f":"IF(E177=\"Yes\",('Title I, Part A'!H230),\"\")","v":""},{"$f":"IF(E177=\"Yes\",('Title I, Part A'!M230),\"\")","v":""},{"$f":"IF(ISBLANK('Title I, Part A'!N230),\"\",'Title I, Part A'!N230)","v":0},0,0,null,0,""]
[null,{"$f":"IF(ISBLANK('Title I, Part A'!B231),\"\",('Title I, Part A'!B231))","v":""},null,null,null,{"$f":"IF(ISBLANK('Title I, Part A'!E231),\"\",'Title I, Part A'!E231)","v":""},null,null,null,null,{"$f":"IF(E178=\"Yes\",('Title I, Part A'!H231),\"\")","v":""},{"$f":"IF(E178=\"Yes\",('Title I, Part A'!M231),\"\")","v":""},{"$f":"IF(ISBLANK('Title I, Part A'!N231),\"\",'Title I, Part A'!N231)","v":0},0,0,null,0,""]
[null,{"$f":"IF(ISBLANK('Title I, Part A'!B232),\"\",('Title I, Part A'!B232))","v":""},null,null,null,{"$f":"IF(ISBLANK('Title I, Part A'!E232),\"\",'Title I, Part A'!E232)","v":""},null,null,null,null,{"$f":"IF(E179=\"Yes\",('Title I, Part A'!H232),\"\")","v":""},{"$f":"IF(E179=\"Yes\",('Title I, Part A'!M232),\"\")","v":""},{"$f":"IF(ISBLANK('Title I, Part A'!N232),\"\",'Title I, Part A'!N232)","v":0},0,0,null,0,""]
[null,{"$f":"IF(ISBLANK('Title I, Part A'!B233),\"\",('Title I, Part A'!B233))","v":""},null,null,null,{"$f":"IF(ISBLANK('Title I, Part A'!E233),\"\",'Title I, Part A'!E233)","v":""},null,null,null,null,{"$f":"IF(E180=\"Yes\",('Title I, Part A'!H233),\"\")","v":""},{"$f":"IF(E180=\"Yes\",('Title I, Part A'!M233),\"\")","v":""},{"$f":"IF(ISBLANK('Title I, Part A'!N233),\"\",'Title I, Part A'!N233)","v":0},0,0,null,0,""]
[null,{"$f":"IF(ISBLANK('Title I, Part A'!B234),\"\",('Title I, Part A'!B234))","v":""},null,null,null,{"$f":"IF(ISBLANK('Title I, Part A'!E234),\"\",'Title I, Part A'!E234)","v":""},null,null,null,null,{"$f":"IF(E181=\"Yes\",('Title I, Part A'!H234),\"\")","v":""},{"$f":"IF(E181=\"Yes\",('Title I, Part A'!M234),\"\")","v":""},{"$f":"IF(ISBLANK('Title I, Part A'!N234),\"\",'Title I, Part A'!N234)","v":0},0,0,null,0,""]
[null,{"$f":"IF(ISBLANK('Title I, Part A'!B235),\"\",('Title I, Part A'!B235))","v":""},null,null,null,{"$f":"IF(ISBLANK('Title I, Part A'!E235),\"\",'Title I, Part A'!E235)","v":""},null,null,null,null,{"$f":"IF(E182=\"Yes\",('Title I, Part A'!H235),\"\")","v":""},{"$f":"IF(E182=\"Yes\",('Title I, Part A'!M235),\"\")","v":""},{"$f":"IF(ISBLANK('Title I, Part A'!N235),\"\",'Title I, Part A'!N235)","v":0},0,0,null,0,""]
[null,{"$f":"IF(ISBLANK('Title I, Part A'!B236),\"\",('Title I, Part A'!B236))","v":""},null,null,null,{"$f":"IF(ISBLANK('Title I, Part A'!E236),\"\",'Title I, Part A'!E236)","v":""},null,null,null,null,{"$f":"IF(E183=\"Yes\",('Title I, Part A'!H236),\"\")","v":""},{"$f":"IF(E183=\"Yes\",('Title I, Part A'!M236),\"\")","v":""},{"$f":"IF(ISBLANK('Title I, Part A'!N236),\"\",'Title I, Part A'!N236)","v":0},0,0,null,0,""]
[null,{"$f":"IF(ISBLANK('Title I, Part A'!B237),\"\",('Title I, Part A'!B237))","v":""},null,null,null,{"$f":"IF(ISBLANK('Title I, Part A'!E237),\"\",'Title I, Part A'!E237)","v":""},null,null,null,null,{"$f":"IF(E184=\"Yes\",('Title I, Part A'!H237),\"\")","v":""},{"$f":"IF(E184=\"Yes\",('Title I, Part A'!M237),\"\")","v":""},{"$f":"IF(ISBLANK('Title I, Part A'!N237),\"\",'Title I, Part A'!N237)","v":0},0,0,null,0,""]
[null,{"$f":"IF(ISBLANK('Title I, Part A'!B238),\"\",('Title I, Part A'!B238))","v":""},null,null,null,{"$f":"IF(ISBLANK('Title I, Part A'!E238),\"\",'Title I, Part A'!E238)","v":""},null,null,null,null,{"$f":"IF(E185=\"Yes\",('Title I, Part A'!H238),\"\")","v":""},{"$f":"IF(E185=\"Yes\",('Title I, Part A'!M238),\"\")","v":""},{"$f":"IF(ISBLANK('Title I, Part A'!N238),\"\",'Title I, Part A'!N238)","v":0},0,0,null,0,""]
[null,{"$f":"IF(ISBLANK('Title I, Part A'!B239),\"\",('Title I, Part A'!B239))","v":""},null,null,null,{"$f":"IF(ISBLANK('Title I, Part A'!E239),\"\",'Title I, Part A'!E239)","v":""},null,null,null,null,{"$f":"IF(E186=\"Yes\",('Title I, Part A'!H239),\"\")","v":""},{"$f":"IF(E186=\"Yes\",('Title I, Part A'!M239),\"\")","v":""},{"$f":"IF(ISBLANK('Title I, Part A'!N239),\"\",'Title I, Part A'!N239)","v":0},0,0,null,0,""]
[null,{"$f":"IF(ISBLANK('Title I, Part A'!B240),\"\",('Title I, Part A'!B240))","v":""},null,null,null,{"$f":"IF(ISBLANK('Title I, Part A'!E240),\"\",'Title I, Part A'!E240)","v":""},null,null,null,null,{"$f":"IF(E187=\"Yes\",('Title I, Part A'!H240),\"\")","v":""},{"$f":"IF(E187=\"Yes\",('Title I, Part A'!M240),\"\")","v":""},{"$f":"IF(ISBLANK('Title I, Part A'!N240),\"\",'Title I, Part A'!N240)","v":0},0,0,null,{"$f":"IF(SUM(P187)=0,SUM(N187),IF(SUM(N187,P187)=P187,\"ERROR\",SUM(N187,P187)))","v":0},""]
[null,{"$f":"IF(ISBLANK('Title I, Part A'!B241),\"\",('Title I, Part A'!B241))","v":""},null,null,null,{"$f":"IF(ISBLANK('Title I, Part A'!E241),\"\",'Title I, Part A'!E241)","v":""},null,null,null,null,{"$f":"IF(E188=\"Yes\",('Title I, Part A'!H241),\"\")","v":""},{"$f":"IF(E188=\"Yes\",('Title I, Part A'!M241),\"\")","v":""},{"$f":"IF(ISBLANK('Title I, Part A'!N241),\"\",'Title I, Part A'!N241)","v":0},{"$f":"IF(E188=\"Yes\",(L188)*$O$45,0)","v":0},{"$f":"O187-N188","v":0},null,0,{"$f":"IF(E188=\"Yes\",SUM(Q188)/SUM(L188),\"\")","v":""}]
[null,{"$f":"IF(ISBLANK('Title I, Part A'!B242),\"\",('Title I, Part A'!B242))","v":""},null,null,null,{"$f":"IF(ISBLANK('Title I, Part A'!E242),\"\",'Title I, Part A'!E242)","v":""},null,null,null,null,{"$f":"IF(E189=\"Yes\",('Title I, Part A'!H242),\"\")","v":""},{"$f":"IF(E189=\"Yes\",('Title I, Part A'!M242),\"\")","v":""},{"$f":"IF(ISBLANK('Title I, Part A'!N242),\"\",'Title I, Part A'!N242)","v":0},0,0,null,0,""]
[null,{"$f":"IF(ISBLANK('Title I, Part A'!B243),\"\",('Title I, Part A'!B243))","v":""},null,null,null,{"$f":"IF(ISBLANK('Title I, Part A'!E243),\"\",'Title I, Part A'!E243)","v":""},null,null,null,null,{"$f":"IF(E190=\"Yes\",('Title I, Part A'!H243),\"\")","v":""},{"$f":"IF(E190=\"Yes\",('Title I, Part A'!M243),\"\")","v":""},{"$f":"IF(ISBLANK('Title I, Part A'!N243),\"\",'Title I, Part A'!N243)","v":0},0,0,null,0,""]
[null,{"$f":"IF(ISBLANK('Title I, Part A'!B244),\"\",('Title I, Part A'!B244))","v":""},null,null,null,{"$f":"IF(ISBLANK('Title I, Part A'!E244),\"\",'Title I, Part A'!E244)","v":""},null,null,null,null,{"$f":"IF(E191=\"Yes\",('Title I, Part A'!H244),\"\")","v":""},{"$f":"IF(E191=\"Yes\",('Title I, Part A'!M244),\"\")","v":""},{"$f":"IF(ISBLANK('Title I, Part A'!N244),\"\",'Title I, Part A'!N244)","v":0},0,0,null,0,""]
[null,{"$f":"IF(ISBLANK('Title I, Part A'!B245),\"\",('Title I, Part A'!B245))","v":""},null,null,null,{"$f":"IF(ISBLANK('Title I, Part A'!E245),\"\",'Title I, Part A'!E245)","v":""},null,null,null,null,{"$f":"IF(E192=\"Yes\",('Title I, Part A'!H245),\"\")","v":""},{"$f":"IF(E192=\"Yes\",('Title I, Part A'!M245),\"\")","v":""},{"$f":"IF(ISBLANK('Title I, Part A'!N245),\"\",'Title I, Part A'!N245)","v":0},0,0,null,0,""]
[null,{"$f":"IF(ISBLANK('Title I, Part A'!B246),\"\",('Title I, Part A'!B246))","v":""},null,null,null,{"$f":"IF(ISBLANK('Title I, Part A'!E246),\"\",'Title I, Part A'!E246)","v":""},null,null,null,null,{"$f":"IF(E193=\"Yes\",('Title I, Part A'!H246),\"\")","v":""},{"$f":"IF(E193=\"Yes\",('Title I, Part A'!M246),\"\")","v":""},{"$f":"IF(ISBLANK('Title I, Part A'!N246),\"\",'Title I, Part A'!N246)","v":0},0,0,null,0,""]
[null,{"$f":"IF(ISBLANK('Title I, Part A'!B247),\"\",('Title I, Part A'!B247))","v":""},null,null,null,{"$f":"IF(ISBLANK('Title I, Part A'!E247),\"\",'Title I, Part A'!E247)","v":""},null,null,null,null,{"$f":"IF(E194=\"Yes\",('Title I, Part A'!H247),\"\")","v":""},{"$f":"IF(E194=\"Yes\",('Title I, Part A'!M247),\"\")","v":""},{"$f":"IF(ISBLANK('Title I, Part A'!N247),\"\",'Title I, Part A'!N247)","v":0},0,0,null,0,""]
[null,{"$f":"IF(ISBLANK('Title I, Part A'!B248),\"\",('Title I, Part A'!B248))","v":""},null,null,null,{"$f":"IF(ISBLANK('Title I, Part A'!E248),\"\",'Title I, Part A'!E248)","v":""},null,null,null,null,{"$f":"IF(E195=\"Yes\",('Title I, Part A'!H248),\"\")","v":""},{"$f":"IF(E195=\"Yes\",('Title I, Part A'!M248),\"\")","v":""},{"$f":"IF(ISBLANK('Title I, Part A'!N248),\"\",'Title I, Part A'!N248)","v":0},0,0,null,0,""]
[null,{"$f":"IF(ISBLANK('Title I, Part A'!B249),\"\",('Title I, Part A'!B249))","v":""},null,null,null,{"$f":"IF(ISBLANK('Title I, Part A'!E249),\"\",'Title I, Part A'!E249)","v":""},null,null,null,null,{"$f":"IF(E196=\"Yes\",('Title I, Part A'!H249),\"\")","v":""},{"$f":"IF(E196=\"Yes\",('Title I, Part A'!M249),\"\")","v":""},{"$f":"IF(ISBLANK('Title I, Part A'!N249),\"\",'Title I, Part A'!N249)","v":0},0,0,null,0,""]
[null,{"$f":"IF(ISBLANK('Title I, Part A'!B250),\"\",('Title I, Part A'!B250))","v":""},null,null,null,{"$f":"IF(ISBLANK('Title I, Part A'!E250),\"\",'Title I, Part A'!E250)","v":""},null,null,null,null,{"$f":"IF(E197=\"Yes\",('Title I, Part A'!H250),\"\")","v":""},{"$f":"IF(E197=\"Yes\",('Title I, Part A'!M250),\"\")","v":""},{"$f":"IF(ISBLANK('Title I, Part A'!N250),\"\",'Title I, Part A'!N250)","v":0},0,0,null,0,""]
[null,{"$f":"IF(ISBLANK('Title I, Part A'!B251),\"\",('Title I, Part A'!B251))","v":""},null,null,null,{"$f":"IF(ISBLANK('Title I, Part A'!E251),\"\",'Title I, Part A'!E251)","v":""},null,null,null,null,{"$f":"IF(E198=\"Yes\",('Title I, Part A'!H251),\"\")","v":""},{"$f":"IF(E198=\"Yes\",('Title I, Part A'!M251),\"\")","v":""},{"$f":"IF(ISBLANK('Title I, Part A'!N251),\"\",'Title I, Part A'!N251)","v":0},0,0,null,0,""]
[null,{"$f":"IF(ISBLANK('Title I, Part A'!B252),\"\",('Title I, Part A'!B252))","v":""},null,null,null,{"$f":"IF(ISBLANK('Title I, Part A'!E252),\"\",'Title I, Part A'!E252)","v":""},null,null,null,null,{"$f":"IF(E199=\"Yes\",('Title I, Part A'!H252),\"\")","v":""},{"$f":"IF(E199=\"Yes\",('Title I, Part A'!M252),\"\")","v":""},{"$f":"IF(ISBLANK('Title I, Part A'!N252),\"\",'Title I, Part A'!N252)","v":0},0,0,null,0,""]
[null,{"$f":"IF(ISBLANK('Title I, Part A'!B253),\"\",('Title I, Part A'!B253))","v":""},null,null,null,{"$f":"IF(ISBLANK('Title I, Part A'!E253),\"\",'Title I, Part A'!E253)","v":""},null,null,null,null,{"$f":"IF(E200=\"Yes\",('Title I, Part A'!H253),\"\")","v":""},{"$f":"IF(E200=\"Yes\",('Title I, Part A'!M253),\"\")","v":""},{"$f":"IF(ISBLANK('Title I, Part A'!N253),\"\",'Title I, Part A'!N253)","v":0},0,0,null,0,""]
[null,{"$f":"IF(ISBLANK('Title I, Part A'!B254),\"\",('Title I, Part A'!B254))","v":""},null,null,null,{"$f":"IF(ISBLANK('Title I, Part A'!E254),\"\",'Title I, Part A'!E254)","v":""},null,null,null,null,{"$f":"IF(E201=\"Yes\",('Title I, Part A'!H254),\"\")","v":""},{"$f":"IF(E201=\"Yes\",('Title I, Part A'!M254),\"\")","v":""},{"$f":"IF(ISBLANK('Title I, Part A'!N254),\"\",'Title I, Part A'!N254)","v":0},0,0,null,0,""]
[null,{"$f":"IF(ISBLANK('Title I, Part A'!B255),\"\",('Title I, Part A'!B255))","v":""},null,null,null,{"$f":"IF(ISBLANK('Title I, Part A'!E255),\"\",'Title I, Part A'!E255)","v":""},null,null,null,null,{"$f":"IF(E202=\"Yes\",('Title I, Part A'!H255),\"\")","v":""},{"$f":"IF(E202=\"Yes\",('Title I, Part A'!M255),\"\")","v":""},{"$f":"IF(ISBLANK('Title I, Part A'!N255),\"\",'Title I, Part A'!N255)","v":0},0,0,null,0,""]
[null,{"$f":"IF(ISBLANK('Title I, Part A'!B256),\"\",('Title I, Part A'!B256))","v":""},null,null,null,{"$f":"IF(ISBLANK('Title I, Part A'!E256),\"\",'Title I, Part A'!E256)","v":""},null,null,null,null,{"$f":"IF(E203=\"Yes\",('Title I, Part A'!H256),\"\")","v":""},{"$f":"IF(E203=\"Yes\",('Title I, Part A'!M256),\"\")","v":""},{"$f":"IF(ISBLANK('Title I, Part A'!N256),\"\",'Title I, Part A'!N256)","v":0},0,0,null,0,""]
[null,{"$f":"IF(ISBLANK('Title I, Part A'!B257),\"\",('Title I, Part A'!B257))","v":""},null,null,null,{"$f":"IF(ISBLANK('Title I, Part A'!E257),\"\",'Title I, Part A'!E257)","v":""},null,null,null,null,{"$f":"IF(E204=\"Yes\",('Title I, Part A'!H257),\"\")","v":""},{"$f":"IF(E204=\"Yes\",('Title I, Part A'!M257),\"\")","v":""},{"$f":"IF(ISBLANK('Title I, Part A'!N257),\"\",'Title I, Part A'!N257)","v":0},0,0,null,0,""]
[null,{"$f":"IF(ISBLANK('Title I, Part A'!B258),\"\",('Title I, Part A'!B258))","v":""},null,null,null,{"$f":"IF(ISBLANK('Title I, Part A'!E258),\"\",'Title I, Part A'!E258)","v":""},null,null,null,null,{"$f":"IF(E205=\"Yes\",('Title I, Part A'!H258),\"\")","v":""},{"$f":"IF(E205=\"Yes\",('Title I, Part A'!M258),\"\")","v":""},{"$f":"IF(ISBLANK('Title I, Part A'!N258),\"\",'Title I, Part A'!N258)","v":0},0,0,null,0,""]
[null,{"$f":"IF(ISBLANK('Title I, Part A'!B259),\"\",('Title I, Part A'!B259))","v":""},null,null,null,{"$f":"IF(ISBLANK('Title I, Part A'!E259),\"\",'Title I, Part A'!E259)","v":""},null,null,null,null,{"$f":"IF(E206=\"Yes\",('Title I, Part A'!H259),\"\")","v":""},{"$f":"IF(E206=\"Yes\",('Title I, Part A'!M259),\"\")","v":""},{"$f":"IF(ISBLANK('Title I, Part A'!N259),\"\",'Title I, Part A'!N259)","v":0},0,0,null,0,""]
[null,{"$f":"IF(ISBLANK('Title I, Part A'!B260),\"\",('Title I, Part A'!B260))","v":""},null,null,null,{"$f":"IF(ISBLANK('Title I, Part A'!E260),\"\",'Title I, Part A'!E260)","v":""},null,null,null,null,{"$f":"IF(E207=\"Yes\",('Title I, Part A'!H260),\"\")","v":""},{"$f":"IF(E207=\"Yes\",('Title I, Part A'!M260),\"\")","v":""},{"$f":"IF(ISBLANK('Title I, Part A'!N260),\"\",'Title I, Part A'!N260)","v":0},0,0,null,0,""]
[null,{"$f":"IF(ISBLANK('Title I, Part A'!B261),\"\",('Title I, Part A'!B261))","v":""},null,null,null,{"$f":"IF(ISBLANK('Title I, Part A'!E261),\"\",'Title I, Part A'!E261)","v":""},null,null,null,null,{"$f":"IF(E208=\"Yes\",('Title I, Part A'!H261),\"\")","v":""},{"$f":"IF(E208=\"Yes\",('Title I, Part A'!M261),\"\")","v":""},{"$f":"IF(ISBLANK('Title I, Part A'!N261),\"\",'Title I, Part A'!N261)","v":0},0,0,null,0,""]
[null,{"$f":"IF(ISBLANK('Title I, Part A'!B262),\"\",('Title I, Part A'!B262))","v":""},null,null,null,{"$f":"IF(ISBLANK('Title I, Part A'!E262),\"\",'Title I, Part A'!E262)","v":""},null,null,null,null,{"$f":"IF(E209=\"Yes\",('Title I, Part A'!H262),\"\")","v":""},{"$f":"IF(E209=\"Yes\",('Title I, Part A'!M262),\"\")","v":""},{"$f":"IF(ISBLANK('Title I, Part A'!N262),\"\",'Title I, Part A'!N262)","v":0},0,0,null,0,""]
[null,{"$f":"IF(ISBLANK('Title I, Part A'!B263),\"\",('Title I, Part A'!B263))","v":""},null,null,null,{"$f":"IF(ISBLANK('Title I, Part A'!E263),\"\",'Title I, Part A'!E263)","v":""},null,null,null,null,{"$f":"IF(E210=\"Yes\",('Title I, Part A'!H263),\"\")","v":""},{"$f":"IF(E210=\"Yes\",('Title I, Part A'!M263),\"\")","v":""},{"$f":"IF(ISBLANK('Title I, Part A'!N263),\"\",'Title I, Part A'!N263)","v":0},0,0,null,0,""]
[null,{"$f":"IF(ISBLANK('Title I, Part A'!B264),\"\",('Title I, Part A'!B264))","v":""},null,null,null,{"$f":"IF(ISBLANK('Title I, Part A'!E264),\"\",'Title I, Part A'!E264)","v":""},null,null,null,null,{"$f":"IF(E211=\"Yes\",('Title I, Part A'!H264),\"\")","v":""},{"$f":"IF(E211=\"Yes\",('Title I, Part A'!M264),\"\")","v":""},{"$f":"IF(ISBLANK('Title I, Part A'!N264),\"\",'Title I, Part A'!N264)","v":0},0,0,null,0,""]
[null,{"$f":"IF(ISBLANK('Title I, Part A'!B265),\"\",('Title I, Part A'!B265))","v":""},null,null,null,{"$f":"IF(ISBLANK('Title I, Part A'!E265),\"\",'Title I, Part A'!E265)","v":""},null,null,null,null,{"$f":"IF(E212=\"Yes\",('Title I, Part A'!H265),\"\")","v":""},{"$f":"IF(E212=\"Yes\",('Title I, Part A'!M265),\"\")","v":""},{"$f":"IF(ISBLANK('Title I, Part A'!N265),\"\",'Title I, Part A'!N265)","v":0},0,0,null,0,""]
[null,{"$f":"IF(ISBLANK('Title I, Part A'!B266),\"\",('Title I, Part A'!B266))","v":""},null,null,null,{"$f":"IF(ISBLANK('Title I, Part A'!E266),\"\",'Title I, Part A'!E266)","v":""},null,null,null,null,{"$f":"IF(E213=\"Yes\",('Title I, Part A'!H266),\"\")","v":""},{"$f":"IF(E213=\"Yes\",('Title I, Part A'!M266),\"\")","v":""},{"$f":"IF(ISBLANK('Title I, Part A'!N266),\"\",'Title I, Part A'!N266)","v":0},0,0,null,0,""]
[null,{"$f":"IF(ISBLANK('Title I, Part A'!B267),\"\",('Title I, Part A'!B267))","v":""},null,null,null,{"$f":"IF(ISBLANK('Title I, Part A'!E267),\"\",'Title I, Part A'!E267)","v":""},null,null,null,null,{"$f":"IF(E214=\"Yes\",('Title I, Part A'!H267),\"\")","v":""},{"$f":"IF(E214=\"Yes\",('Title I, Part A'!M267),\"\")","v":""},{"$f":"IF(ISBLANK('Title I, Part A'!N267),\"\",'Title I, Part A'!N267)","v":0},0,0,null,0,""]
[null,{"$f":"IF(ISBLANK('Title I, Part A'!B268),\"\",('Title I, Part A'!B268))","v":""},null,null,null,{"$f":"IF(ISBLANK('Title I, Part A'!E268),\"\",'Title I, Part A'!E268)","v":""},null,null,null,null,{"$f":"IF(E215=\"Yes\",('Title I, Part A'!H268),\"\")","v":""},{"$f":"IF(E215=\"Yes\",('Title I, Part A'!M268),\"\")","v":""},{"$f":"IF(ISBLANK('Title I, Part A'!N268),\"\",'Title I, Part A'!N268)","v":0},0,0,null,0,""]
[null,{"$f":"IF(ISBLANK('Title I, Part A'!B269),\"\",('Title I, Part A'!B269))","v":""},null,null,null,{"$f":"IF(ISBLANK('Title I, Part A'!E269),\"\",'Title I, Part A'!E269)","v":""},null,null,null,null,{"$f":"IF(E216=\"Yes\",('Title I, Part A'!H269),\"\")","v":""},{"$f":"IF(E216=\"Yes\",('Title I, Part A'!M269),\"\")","v":""},{"$f":"IF(ISBLANK('Title I, Part A'!N269),\"\",'Title I, Part A'!N269)","v":0},0,0,null,0,""]
[null,{"$f":"IF(ISBLANK('Title I, Part A'!B270),\"\",('Title I, Part A'!B270))","v":""},null,null,null,{"$f":"IF(ISBLANK('Title I, Part A'!E270),\"\",'Title I, Part A'!E270)","v":""},null,null,null,null,{"$f":"IF(E217=\"Yes\",('Title I, Part A'!H270),\"\")","v":""},{"$f":"IF(E217=\"Yes\",('Title I, Part A'!M270),\"\")","v":""},{"$f":"IF(ISBLANK('Title I, Part A'!N270),\"\",'Title I, Part A'!N270)","v":0},0,0,null,0,""]
[null,{"$f":"IF(ISBLANK('Title I, Part A'!B271),\"\",('Title I, Part A'!B271))","v":""},null,null,null,{"$f":"IF(ISBLANK('Title I, Part A'!E271),\"\",'Title I, Part A'!E271)","v":""},null,null,null,null,{"$f":"IF(E218=\"Yes\",('Title I, Part A'!H271),\"\")","v":""},{"$f":"IF(E218=\"Yes\",('Title I, Part A'!M271),\"\")","v":""},{"$f":"IF(ISBLANK('Title I, Part A'!N271),\"\",'Title I, Part A'!N271)","v":0},0,0,null,0,""]
[null,{"$f":"IF(ISBLANK('Title I, Part A'!B272),\"\",('Title I, Part A'!B272))","v":""},null,null,null,{"$f":"IF(ISBLANK('Title I, Part A'!E272),\"\",'Title I, Part A'!E272)","v":""},null,null,null,null,{"$f":"IF(E219=\"Yes\",('Title I, Part A'!H272),\"\")","v":""},{"$f":"IF(E219=\"Yes\",('Title I, Part A'!M272),\"\")","v":""},{"$f":"IF(ISBLANK('Title I, Part A'!N272),\"\",'Title I, Part A'!N272)","v":0},0,0,null,0,""]
[null,{"$f":"IF(ISBLANK('Title I, Part A'!B273),\"\",('Title I, Part A'!B273))","v":""},null,null,null,{"$f":"IF(ISBLANK('Title I, Part A'!E273),\"\",'Title I, Part A'!E273)","v":""},null,null,null,null,{"$f":"IF(E220=\"Yes\",('Title I, Part A'!H273),\"\")","v":""},{"$f":"IF(E220=\"Yes\",('Title I, Part A'!M273),\"\")","v":""},{"$f":"IF(ISBLANK('Title I, Part A'!N273),\"\",'Title I, Part A'!N273)","v":0},0,0,null,0,""]
[null,{"$f":"IF(ISBLANK('Title I, Part A'!B274),\"\",('Title I, Part A'!B274))","v":""},null,null,null,{"$f":"IF(ISBLANK('Title I, Part A'!E274),\"\",'Title I, Part A'!E274)","v":""},null,null,null,null,{"$f":"IF(E221=\"Yes\",('Title I, Part A'!H274),\"\")","v":""},{"$f":"IF(E221=\"Yes\",('Title I, Part A'!M274),\"\")","v":""},{"$f":"IF(ISBLANK('Title I, Part A'!N274),\"\",'Title I, Part A'!N274)","v":0},0,0,null,0,""]
[null,{"$f":"IF(ISBLANK('Title I, Part A'!B275),\"\",('Title I, Part A'!B275))","v":""},null,null,null,{"$f":"IF(ISBLANK('Title I, Part A'!E275),\"\",'Title I, Part A'!E275)","v":""},null,null,null,null,{"$f":"IF(E222=\"Yes\",('Title I, Part A'!H275),\"\")","v":""},{"$f":"IF(E222=\"Yes\",('Title I, Part A'!M275),\"\")","v":""},{"$f":"IF(ISBLANK('Title I, Part A'!N275),\"\",'Title I, Part A'!N275)","v":0},0,0,null,0,""]
[null,{"$f":"IF(ISBLANK('Title I, Part A'!B276),\"\",('Title I, Part A'!B276))","v":""},null,null,null,{"$f":"IF(ISBLANK('Title I, Part A'!E276),\"\",'Title I, Part A'!E276)","v":""},null,null,null,null,{"$f":"IF(E223=\"Yes\",('Title I, Part A'!H276),\"\")","v":""},{"$f":"IF(E223=\"Yes\",('Title I, Part A'!M276),\"\")","v":""},{"$f":"IF(ISBLANK('Title I, Part A'!N276),\"\",'Title I, Part A'!N276)","v":0},0,0,null,0,""]
[null,{"$f":"IF(ISBLANK('Title I, Part A'!B277),\"\",('Title I, Part A'!B277))","v":""},null,null,null,{"$f":"IF(ISBLANK('Title I, Part A'!E277),\"\",'Title I, Part A'!E277)","v":""},null,null,null,null,{"$f":"IF(E224=\"Yes\",('Title I, Part A'!H277),\"\")","v":""},{"$f":"IF(E224=\"Yes\",('Title I, Part A'!M277),\"\")","v":""},{"$f":"IF(ISBLANK('Title I, Part A'!N277),\"\",'Title I, Part A'!N277)","v":0},0,0,null,0,""]
[null,{"$f":"IF(ISBLANK('Title I, Part A'!B278),\"\",('Title I, Part A'!B278))","v":""},null,null,null,{"$f":"IF(ISBLANK('Title I, Part A'!E278),\"\",'Title I, Part A'!E278)","v":""},null,null,null,null,{"$f":"IF(E225=\"Yes\",('Title I, Part A'!H278),\"\")","v":""},{"$f":"IF(E225=\"Yes\",('Title I, Part A'!M278),\"\")","v":""},{"$f":"IF(ISBLANK('Title I, Part A'!N278),\"\",'Title I, Part A'!N278)","v":0},0,0,null,0,""]
[null,{"$f":"IF(ISBLANK('Title I, Part A'!B279),\"\",('Title I, Part A'!B279))","v":""},null,null,null,{"$f":"IF(ISBLANK('Title I, Part A'!E279),\"\",'Title I, Part A'!E279)","v":""},null,null,null,null,{"$f":"IF(E226=\"Yes\",('Title I, Part A'!H279),\"\")","v":""},{"$f":"IF(E226=\"Yes\",('Title I, Part A'!M279),\"\")","v":""},{"$f":"IF(ISBLANK('Title I, Part A'!N279),\"\",'Title I, Part A'!N279)","v":0},0,0,null,0,""]
[null,{"$f":"IF(ISBLANK('Title I, Part A'!B280),\"\",('Title I, Part A'!B280))","v":""},null,null,null,{"$f":"IF(ISBLANK('Title I, Part A'!E280),\"\",'Title I, Part A'!E280)","v":""},null,null,null,null,{"$f":"IF(E227=\"Yes\",('Title I, Part A'!H280),\"\")","v":""},{"$f":"IF(E227=\"Yes\",('Title I, Part A'!M280),\"\")","v":""},{"$f":"IF(ISBLANK('Title I, Part A'!N280),\"\",'Title I, Part A'!N280)","v":0},0,0,null,0,""]
[null,{"$f":"IF(ISBLANK('Title I, Part A'!B281),\"\",('Title I, Part A'!B281))","v":""},null,null,null,{"$f":"IF(ISBLANK('Title I, Part A'!E281),\"\",'Title I, Part A'!E281)","v":""},null,null,null,null,{"$f":"IF(E228=\"Yes\",('Title I, Part A'!H281),\"\")","v":""},{"$f":"IF(E228=\"Yes\",('Title I, Part A'!M281),\"\")","v":""},{"$f":"IF(ISBLANK('Title I, Part A'!N281),\"\",'Title I, Part A'!N281)","v":0},0,0,null,0,""]
[null,{"$f":"IF(ISBLANK('Title I, Part A'!B282),\"\",('Title I, Part A'!B282))","v":""},null,null,null,{"$f":"IF(ISBLANK('Title I, Part A'!E282),\"\",'Title I, Part A'!E282)","v":""},null,null,null,null,{"$f":"IF(E229=\"Yes\",('Title I, Part A'!H282),\"\")","v":""},{"$f":"IF(E229=\"Yes\",('Title I, Part A'!M282),\"\")","v":""},{"$f":"IF(ISBLANK('Title I, Part A'!N282),\"\",'Title I, Part A'!N282)","v":0},0,0,null,0,""]
[null,{"$f":"IF(ISBLANK('Title I, Part A'!B283),\"\",('Title I, Part A'!B283))","v":""},null,null,null,{"$f":"IF(ISBLANK('Title I, Part A'!E283),\"\",'Title I, Part A'!E283)","v":""},null,null,null,null,{"$f":"IF(E230=\"Yes\",('Title I, Part A'!H283),\"\")","v":""},{"$f":"IF(E230=\"Yes\",('Title I, Part A'!M283),\"\")","v":""},{"$f":"IF(ISBLANK('Title I, Part A'!N283),\"\",'Title I, Part A'!N283)","v":0},0,0,null,0,""]
[null,{"$f":"IF(ISBLANK('Title I, Part A'!B284),\"\",('Title I, Part A'!B284))","v":""},null,null,null,{"$f":"IF(ISBLANK('Title I, Part A'!E284),\"\",'Title I, Part A'!E284)","v":""},null,null,null,null,{"$f":"IF(E231=\"Yes\",('Title I, Part A'!H284),\"\")","v":""},{"$f":"IF(E231=\"Yes\",('Title I, Part A'!M284),\"\")","v":""},{"$f":"IF(ISBLANK('Title I, Part A'!N284),\"\",'Title I, Part A'!N284)","v":0},0,0,null,0,""]
[null,{"$f":"IF(ISBLANK('Title I, Part A'!B285),\"\",('Title I, Part A'!B285))","v":""},null,null,null,{"$f":"IF(ISBLANK('Title I, Part A'!E285),\"\",'Title I, Part A'!E285)","v":""},null,null,null,null,{"$f":"IF(E232=\"Yes\",('Title I, Part A'!H285),\"\")","v":""},{"$f":"IF(E232=\"Yes\",('Title I, Part A'!M285),\"\")","v":""},{"$f":"IF(ISBLANK('Title I, Part A'!N285),\"\",'Title I, Part A'!N285)","v":0},0,0,null,0,""]
[null,{"$f":"IF(ISBLANK('Title I, Part A'!B286),\"\",('Title I, Part A'!B286))","v":""},null,null,null,{"$f":"IF(ISBLANK('Title I, Part A'!E286),\"\",'Title I, Part A'!E286)","v":""},null,null,null,null,{"$f":"IF(E233=\"Yes\",('Title I, Part A'!H286),\"\")","v":""},{"$f":"IF(E233=\"Yes\",('Title I, Part A'!M286),\"\")","v":""},{"$f":"IF(ISBLANK('Title I, Part A'!N286),\"\",'Title I, Part A'!N286)","v":0},0,0,null,0,""]
[null,{"$f":"IF(ISBLANK('Title I, Part A'!B287),\"\",('Title I, Part A'!B287))","v":""},null,null,null,{"$f":"IF(ISBLANK('Title I, Part A'!E287),\"\",'Title I, Part A'!E287)","v":""},null,null,null,null,{"$f":"IF(E234=\"Yes\",('Title I, Part A'!H287),\"\")","v":""},{"$f":"IF(E234=\"Yes\",('Title I, Part A'!M287),\"\")","v":""},{"$f":"IF(ISBLANK('Title I, Part A'!N287),\"\",'Title I, Part A'!N287)","v":0},0,0,null,0,""]
[null,{"$f":"IF(ISBLANK('Title I, Part A'!B288),\"\",('Title I, Part A'!B288))","v":""},null,null,null,{"$f":"IF(ISBLANK('Title I, Part A'!E288),\"\",'Title I, Part A'!E288)","v":""},null,null,null,null,{"$f":"IF(E235=\"Yes\",('Title I, Part A'!H288),\"\")","v":""},{"$f":"IF(E235=\"Yes\",('Title I, Part A'!M288),\"\")","v":""},{"$f":"IF(ISBLANK('Title I, Part A'!N288),\"\",'Title I, Part A'!N288)","v":0},0,0,null,0,""]
[null,{"$f":"IF(ISBLANK('Title I, Part A'!B289),\"\",('Title I, Part A'!B289))","v":""},null,null,null,{"$f":"IF(ISBLANK('Title I, Part A'!E289),\"\",'Title I, Part A'!E289)","v":""},null,null,null,null,{"$f":"IF(E236=\"Yes\",('Title I, Part A'!H289),\"\")","v":""},{"$f":"IF(E236=\"Yes\",('Title I, Part A'!M289),\"\")","v":""},{"$f":"IF(ISBLANK('Title I, Part A'!N289),\"\",'Title I, Part A'!N289)","v":0},0,0,null,0,""]
[null,{"$f":"IF(ISBLANK('Title I, Part A'!B290),\"\",('Title I, Part A'!B290))","v":""},null,null,null,{"$f":"IF(ISBLANK('Title I, Part A'!E290),\"\",'Title I, Part A'!E290)","v":""},null,null,null,null,{"$f":"IF(E237=\"Yes\",('Title I, Part A'!H290),\"\")","v":""},{"$f":"IF(E237=\"Yes\",('Title I, Part A'!M290),\"\")","v":""},{"$f":"IF(ISBLANK('Title I, Part A'!N290),\"\",'Title I, Part A'!N290)","v":0},0,0,null,0,""]
[null,{"$f":"IF(ISBLANK('Title I, Part A'!B291),\"\",('Title I, Part A'!B291))","v":""},null,null,null,{"$f":"IF(ISBLANK('Title I, Part A'!E291),\"\",'Title I, Part A'!E291)","v":""},null,null,null,null,{"$f":"IF(E238=\"Yes\",('Title I, Part A'!H291),\"\")","v":""},{"$f":"IF(E238=\"Yes\",('Title I, Part A'!M291),\"\")","v":""},{"$f":"IF(ISBLANK('Title I, Part A'!N291),\"\",'Title I, Part A'!N291)","v":0},0,0,null,0,""]
[null,{"$f":"IF(ISBLANK('Title I, Part A'!B292),\"\",('Title I, Part A'!B292))","v":""},null,null,null,{"$f":"IF(ISBLANK('Title I, Part A'!E292),\"\",'Title I, Part A'!E292)","v":""},null,null,null,null,{"$f":"IF(E239=\"Yes\",('Title I, Part A'!H292),\"\")","v":""},{"$f":"IF(E239=\"Yes\",('Title I, Part A'!M292),\"\")","v":""},{"$f":"IF(ISBLANK('Title I, Part A'!N292),\"\",'Title I, Part A'!N292)","v":0},0,0,null,0,""]
[null,{"$f":"IF(ISBLANK('Title I, Part A'!B293),\"\",('Title I, Part A'!B293))","v":""},null,null,null,{"$f":"IF(ISBLANK('Title I, Part A'!E293),\"\",'Title I, Part A'!E293)","v":""},null,null,null,null,{"$f":"IF(E240=\"Yes\",('Title I, Part A'!H293),\"\")","v":""},{"$f":"IF(E240=\"Yes\",('Title I, Part A'!M293),\"\")","v":""},{"$f":"IF(ISBLANK('Title I, Part A'!N293),\"\",'Title I, Part A'!N293)","v":0},0,0,null,0,""]
[null,{"$f":"IF(ISBLANK('Title I, Part A'!B294),\"\",('Title I, Part A'!B294))","v":""},null,null,null,{"$f":"IF(ISBLANK('Title I, Part A'!E294),\"\",'Title I, Part A'!E294)","v":""},null,null,null,null,{"$f":"IF(E241=\"Yes\",('Title I, Part A'!H294),\"\")","v":""},{"$f":"IF(E241=\"Yes\",('Title I, Part A'!M294),\"\")","v":""},{"$f":"IF(ISBLANK('Title I, Part A'!N294),\"\",'Title I, Part A'!N294)","v":0},0,0,null,0,""]
[null,{"$f":"IF(ISBLANK('Title I, Part A'!B295),\"\",('Title I, Part A'!B295))","v":""},null,null,null,{"$f":"IF(ISBLANK('Title I, Part A'!E295),\"\",'Title I, Part A'!E295)","v":""},null,null,null,null,{"$f":"IF(E242=\"Yes\",('Title I, Part A'!H295),\"\")","v":""},{"$f":"IF(E242=\"Yes\",('Title I, Part A'!M295),\"\")","v":""},{"$f":"IF(ISBLANK('Title I, Part A'!N295),\"\",'Title I, Part A'!N295)","v":0},0,0,null,0,""]
[null,{"$f":"IF(ISBLANK('Title I, Part A'!B296),\"\",('Title I, Part A'!B296))","v":""},null,null,null,{"$f":"IF(ISBLANK('Title I, Part A'!E296),\"\",'Title I, Part A'!E296)","v":""},null,null,null,null,{"$f":"IF(E243=\"Yes\",('Title I, Part A'!H296),\"\")","v":""},{"$f":"IF(E243=\"Yes\",('Title I, Part A'!M296),\"\")","v":""},{"$f":"IF(ISBLANK('Title I, Part A'!N296),\"\",'Title I, Part A'!N296)","v":0},0,0,null,0,""]
[null,{"$f":"IF(ISBLANK('Title I, Part A'!B297),\"\",('Title I, Part A'!B297))","v":""},null,null,null,{"$f":"IF(ISBLANK('Title I, Part A'!E297),\"\",'Title I, Part A'!E297)","v":""},null,null,null,null,{"$f":"IF(E244=\"Yes\",('Title I, Part A'!H297),\"\")","v":""},{"$f":"IF(E244=\"Yes\",('Title I, Part A'!M297),\"\")","v":""},{"$f":"IF(ISBLANK('Title I, Part A'!N297),\"\",'Title I, Part A'!N297)","v":0},0,0,null,0,""]
[null,{"$f":"IF(ISBLANK('Title I, Part A'!B298),\"\",('Title I, Part A'!B298))","v":""},null,null,null,{"$f":"IF(ISBLANK('Title I, Part A'!E298),\"\",'Title I, Part A'!E298)","v":""},null,null,null,null,{"$f":"IF(E245=\"Yes\",('Title I, Part A'!H298),\"\")","v":""},{"$f":"IF(E245=\"Yes\",('Title I, Part A'!M298),\"\")","v":""},{"$f":"IF(ISBLANK('Title I, Part A'!N298),\"\",'Title I, Part A'!N298)","v":0},0,0,null,0,""]
[null,{"$f":"IF(ISBLANK('Title I, Part A'!B299),\"\",('Title I, Part A'!B299))","v":""},null,null,null,{"$f":"IF(ISBLANK('Title I, Part A'!E299),\"\",'Title I, Part A'!E299)","v":""},null,null,null,null,{"$f":"IF(E246=\"Yes\",('Title I, Part A'!H299),\"\")","v":""},{"$f":"IF(E246=\"Yes\",('Title I, Part A'!M299),\"\")","v":""},{"$f":"IF(ISBLANK('Title I, Part A'!N299),\"\",'Title I, Part A'!N299)","v":0},0,0,null,0,""]
[null,{"$f":"IF(ISBLANK('Title I, Part A'!B300),\"\",('Title I, Part A'!B300))","v":""},null,null,null,{"$f":"IF(ISBLANK('Title I, Part A'!E300),\"\",'Title I, Part A'!E300)","v":""},null,null,null,null,{"$f":"IF(E247=\"Yes\",('Title I, Part A'!H300),\"\")","v":""},{"$f":"IF(E247=\"Yes\",('Title I, Part A'!M300),\"\")","v":""},{"$f":"IF(ISBLANK('Title I, Part A'!N300),\"\",'Title I, Part A'!N300)","v":0},0,0,null,0,""]
[null,{"$f":"IF(ISBLANK('Title I, Part A'!B301),\"\",('Title I, Part A'!B301))","v":""},null,null,null,{"$f":"IF(ISBLANK('Title I, Part A'!E301),\"\",'Title I, Part A'!E301)","v":""},null,null,null,null,{"$f":"IF(E248=\"Yes\",('Title I, Part A'!H301),\"\")","v":""},{"$f":"IF(E248=\"Yes\",('Title I, Part A'!M301),\"\")","v":""},{"$f":"IF(ISBLANK('Title I, Part A'!N301),\"\",'Title I, Part A'!N301)","v":0},0,0,null,0,""]
[null,{"$f":"IF(ISBLANK('Title I, Part A'!B302),\"\",('Title I, Part A'!B302))","v":""},null,null,null,{"$f":"IF(ISBLANK('Title I, Part A'!E302),\"\",'Title I, Part A'!E302)","v":""},null,null,null,null,{"$f":"IF(E249=\"Yes\",('Title I, Part A'!H302),\"\")","v":""},{"$f":"IF(E249=\"Yes\",('Title I, Part A'!M302),\"\")","v":""},{"$f":"IF(ISBLANK('Title I, Part A'!N302),\"\",'Title I, Part A'!N302)","v":0},0,0,null,0,""]
[null,{"$f":"IF(ISBLANK('Title I, Part A'!B303),\"\",('Title I, Part A'!B303))","v":""},null,null,null,{"$f":"IF(ISBLANK('Title I, Part A'!E303),\"\",'Title I, Part A'!E303)","v":""},null,null,null,null,{"$f":"IF(E250=\"Yes\",('Title I, Part A'!H303),\"\")","v":""},{"$f":"IF(E250=\"Yes\",('Title I, Part A'!M303),\"\")","v":""},{"$f":"IF(ISBLANK('Title I, Part A'!N303),\"\",'Title I, Part A'!N303)","v":0},0,0,null,0,""]
[null,{"$f":"IF(ISBLANK('Title I, Part A'!B304),\"\",('Title I, Part A'!B304))","v":""},null,null,null,{"$f":"IF(ISBLANK('Title I, Part A'!E304),\"\",'Title I, Part A'!E304)","v":""},null,null,null,null,{"$f":"IF(E251=\"Yes\",('Title I, Part A'!H304),\"\")","v":""},{"$f":"IF(E251=\"Yes\",('Title I, Part A'!M304),\"\")","v":""},{"$f":"IF(ISBLANK('Title I, Part A'!N304),\"\",'Title I, Part A'!N304)","v":0},0,0,null,{"$f":"IF(SUM(P251)=0,SUM(N251),IF(SUM(N251,P251)=P251,\"ERROR\",SUM(N251,P251)))","v":0},{"$f":"IF(E251=\"Yes\",SUM(Q251)/SUM(L251),\"\")","v":""}]
[null,{"$f":"IF(ISBLANK('Title I, Part A'!B305),\"\",('Title I, Part A'!B305))","v":""},null,null,null,{"$f":"IF(ISBLANK('Title I, Part A'!E305),\"\",'Title I, Part A'!E305)","v":""},null,null,null,null,{"$f":"IF(E252=\"Yes\",('Title I, Part A'!H305),\"\")","v":""},{"$f":"IF(E252=\"Yes\",('Title I, Part A'!M305),\"\")","v":""},{"$f":"IF(ISBLANK('Title I, Part A'!N305),\"\",'Title I, Part A'!N305)","v":0},{"$f":"IF(E252=\"Yes\",(L252)*$O$45,0)","v":0},{"$f":"O251-N252","v":0},null,0,""]
[null,{"$f":"IF(ISBLANK('Title I, Part A'!B306),\"\",('Title I, Part A'!B306))","v":""},null,null,null,{"$f":"IF(ISBLANK('Title I, Part A'!E306),\"\",'Title I, Part A'!E306)","v":""},null,null,null,null,{"$f":"IF(E253=\"Yes\",('Title I, Part A'!H306),\"\")","v":""},{"$f":"IF(E253=\"Yes\",('Title I, Part A'!M306),\"\")","v":""},{"$f":"IF(ISBLANK('Title I, Part A'!N306),\"\",'Title I, Part A'!N306)","v":0},0,0,null,0,""]
[null,{"$f":"IF(ISBLANK('Title I, Part A'!B307),\"\",('Title I, Part A'!B307))","v":""},null,null,null,{"$f":"IF(ISBLANK('Title I, Part A'!E307),\"\",'Title I, Part A'!E307)","v":""},null,null,null,null,{"$f":"IF(E254=\"Yes\",('Title I, Part A'!H307),\"\")","v":""},{"$f":"IF(E254=\"Yes\",('Title I, Part A'!M307),\"\")","v":""},{"$f":"IF(ISBLANK('Title I, Part A'!N307),\"\",'Title I, Part A'!N307)","v":0},0,0,null,0,""]
[null,{"$f":"IF(ISBLANK('Title I, Part A'!B308),\"\",('Title I, Part A'!B308))","v":""},null,null,null,{"$f":"IF(ISBLANK('Title I, Part A'!E308),\"\",'Title I, Part A'!E308)","v":""},null,null,null,null,{"$f":"IF(E255=\"Yes\",('Title I, Part A'!H308),\"\")","v":""},{"$f":"IF(E255=\"Yes\",('Title I, Part A'!M308),\"\")","v":""},{"$f":"IF(ISBLANK('Title I, Part A'!N308),\"\",'Title I, Part A'!N308)","v":0},0,0,null,0,""]
[null,{"$f":"IF(ISBLANK('Title I, Part A'!B309),\"\",('Title I, Part A'!B309))","v":""},null,null,null,{"$f":"IF(ISBLANK('Title I, Part A'!E309),\"\",'Title I, Part A'!E309)","v":""},null,null,null,null,{"$f":"IF(E256=\"Yes\",('Title I, Part A'!H309),\"\")","v":""},{"$f":"IF(E256=\"Yes\",('Title I, Part A'!M309),\"\")","v":""},{"$f":"IF(ISBLANK('Title I, Part A'!N309),\"\",'Title I, Part A'!N309)","v":0},0,0,null,0,""]
[null,{"$f":"IF(ISBLANK('Title I, Part A'!B310),\"\",('Title I, Part A'!B310))","v":""},null,null,null,{"$f":"IF(ISBLANK('Title I, Part A'!E310),\"\",'Title I, Part A'!E310)","v":""},null,null,null,null,{"$f":"IF(E257=\"Yes\",('Title I, Part A'!H310),\"\")","v":""},{"$f":"IF(E257=\"Yes\",('Title I, Part A'!M310),\"\")","v":""},{"$f":"IF(ISBLANK('Title I, Part A'!N310),\"\",'Title I, Part A'!N310)","v":0},0,0,null,0,""]
[null,{"$f":"IF(ISBLANK('Title I, Part A'!B311),\"\",('Title I, Part A'!B311))","v":""},null,null,null,{"$f":"IF(ISBLANK('Title I, Part A'!E311),\"\",'Title I, Part A'!E311)","v":""},null,null,null,null,{"$f":"IF(E258=\"Yes\",('Title I, Part A'!H311),\"\")","v":""},{"$f":"IF(E258=\"Yes\",('Title I, Part A'!M311),\"\")","v":""},{"$f":"IF(ISBLANK('Title I, Part A'!N311),\"\",'Title I, Part A'!N311)","v":0},0,0,null,0,""]
[null,{"$f":"IF(ISBLANK('Title I, Part A'!B312),\"\",('Title I, Part A'!B312))","v":""},null,null,null,{"$f":"IF(ISBLANK('Title I, Part A'!E312),\"\",'Title I, Part A'!E312)","v":""},null,null,null,null,{"$f":"IF(E259=\"Yes\",('Title I, Part A'!H312),\"\")","v":""},{"$f":"IF(E259=\"Yes\",('Title I, Part A'!M312),\"\")","v":""},{"$f":"IF(ISBLANK('Title I, Part A'!N312),\"\",'Title I, Part A'!N312)","v":0},0,0,null,0,""]
[null,{"$f":"IF(ISBLANK('Title I, Part A'!B313),\"\",('Title I, Part A'!B313))","v":""},null,null,null,{"$f":"IF(ISBLANK('Title I, Part A'!E313),\"\",'Title I, Part A'!E313)","v":""},null,null,null,null,{"$f":"IF(E260=\"Yes\",('Title I, Part A'!H313),\"\")","v":""},{"$f":"IF(E260=\"Yes\",('Title I, Part A'!M313),\"\")","v":""},{"$f":"IF(ISBLANK('Title I, Part A'!N313),\"\",'Title I, Part A'!N313)","v":0},0,0,null,0,""]
[null,{"$f":"IF(ISBLANK('Title I, Part A'!B314),\"\",('Title I, Part A'!B314))","v":""},null,null,null,{"$f":"IF(ISBLANK('Title I, Part A'!E314),\"\",'Title I, Part A'!E314)","v":""},null,null,null,null,{"$f":"IF(E261=\"Yes\",('Title I, Part A'!H314),\"\")","v":""},{"$f":"IF(E261=\"Yes\",('Title I, Part A'!M314),\"\")","v":""},{"$f":"IF(ISBLANK('Title I, Part A'!N314),\"\",'Title I, Part A'!N314)","v":0},0,0,null,0,""]
[null,{"$f":"IF(ISBLANK('Title I, Part A'!B315),\"\",('Title I, Part A'!B315))","v":""},null,null,null,{"$f":"IF(ISBLANK('Title I, Part A'!E315),\"\",'Title I, Part A'!E315)","v":""},null,null,null,null,{"$f":"IF(E262=\"Yes\",('Title I, Part A'!H315),\"\")","v":""},{"$f":"IF(E262=\"Yes\",('Title I, Part A'!M315),\"\")","v":""},{"$f":"IF(ISBLANK('Title I, Part A'!N315),\"\",'Title I, Part A'!N315)","v":0},0,0,null,0,""]
[null,{"$f":"IF(ISBLANK('Title I, Part A'!B316),\"\",('Title I, Part A'!B316))","v":""},null,null,null,{"$f":"IF(ISBLANK('Title I, Part A'!E316),\"\",'Title I, Part A'!E316)","v":""},null,null,null,null,{"$f":"IF(E263=\"Yes\",('Title I, Part A'!H316),\"\")","v":""},{"$f":"IF(E263=\"Yes\",('Title I, Part A'!M316),\"\")","v":""},{"$f":"IF(ISBLANK('Title I, Part A'!N316),\"\",'Title I, Part A'!N316)","v":0},0,0,null,0,""]
[null,{"$f":"IF(ISBLANK('Title I, Part A'!B317),\"\",('Title I, Part A'!B317))","v":""},null,null,null,{"$f":"IF(ISBLANK('Title I, Part A'!E317),\"\",'Title I, Part A'!E317)","v":""},null,null,null,null,{"$f":"IF(E264=\"Yes\",('Title I, Part A'!H317),\"\")","v":""},{"$f":"IF(E264=\"Yes\",('Title I, Part A'!M317),\"\")","v":""},{"$f":"IF(ISBLANK('Title I, Part A'!N317),\"\",'Title I, Part A'!N317)","v":0},0,0,null,0,""]
[null,{"$f":"IF(ISBLANK('Title I, Part A'!B318),\"\",('Title I, Part A'!B318))","v":""},null,null,null,{"$f":"IF(ISBLANK('Title I, Part A'!E318),\"\",'Title I, Part A'!E318)","v":""},null,null,null,null,{"$f":"IF(E265=\"Yes\",('Title I, Part A'!H318),\"\")","v":""},{"$f":"IF(E265=\"Yes\",('Title I, Part A'!M318),\"\")","v":""},{"$f":"IF(ISBLANK('Title I, Part A'!N318),\"\",'Title I, Part A'!N318)","v":0},0,0,null,0,""]
[null,{"$f":"IF(ISBLANK('Title I, Part A'!B319),\"\",('Title I, Part A'!B319))","v":""},null,null,null,{"$f":"IF(ISBLANK('Title I, Part A'!E319),\"\",'Title I, Part A'!E319)","v":""},null,null,null,null,{"$f":"IF(E266=\"Yes\",('Title I, Part A'!H319),\"\")","v":""},{"$f":"IF(E266=\"Yes\",('Title I, Part A'!M319),\"\")","v":""},{"$f":"IF(ISBLANK('Title I, Part A'!N319),\"\",'Title I, Part A'!N319)","v":0},0,0,null,0,""]
[null,{"$f":"IF(ISBLANK('Title I, Part A'!B320),\"\",('Title I, Part A'!B320))","v":""},null,null,null,{"$f":"IF(ISBLANK('Title I, Part A'!E320),\"\",'Title I, Part A'!E320)","v":""},null,null,null,null,{"$f":"IF(E267=\"Yes\",('Title I, Part A'!H320),\"\")","v":""},{"$f":"IF(E267=\"Yes\",('Title I, Part A'!M320),\"\")","v":""},{"$f":"IF(ISBLANK('Title I, Part A'!N320),\"\",'Title I, Part A'!N320)","v":0},0,0,null,0,{"$f":"IF(E267=\"Yes\",SUM(Q267)/SUM(L267),\"\")","v":""}]
[null,{"$f":"IF(ISBLANK('Title I, Part A'!B321),\"\",('Title I, Part A'!B321))","v":""},null,null,null,{"$f":"IF(ISBLANK('Title I, Part A'!E321),\"\",'Title I, Part A'!E321)","v":""},null,null,null,null,{"$f":"IF(E268=\"Yes\",('Title I, Part A'!H321),\"\")","v":""},{"$f":"IF(E268=\"Yes\",('Title I, Part A'!M321),\"\")","v":""},{"$f":"IF(ISBLANK('Title I, Part A'!N321),\"\",'Title I, Part A'!N321)","v":0},0,0,null,0,""]
[null,{"$f":"IF(ISBLANK('Title I, Part A'!B322),\"\",('Title I, Part A'!B322))","v":""},null,null,null,{"$f":"IF(ISBLANK('Title I, Part A'!E322),\"\",'Title I, Part A'!E322)","v":""},null,null,null,null,{"$f":"IF(E269=\"Yes\",('Title I, Part A'!H322),\"\")","v":""},{"$f":"IF(E269=\"Yes\",('Title I, Part A'!M322),\"\")","v":""},{"$f":"IF(ISBLANK('Title I, Part A'!N322),\"\",'Title I, Part A'!N322)","v":0},0,0,null,0,""]
[null,{"$f":"IF(ISBLANK('Title I, Part A'!B323),\"\",('Title I, Part A'!B323))","v":""},null,null,null,{"$f":"IF(ISBLANK('Title I, Part A'!E323),\"\",'Title I, Part A'!E323)","v":""},null,null,null,null,{"$f":"IF(E270=\"Yes\",('Title I, Part A'!H323),\"\")","v":""},{"$f":"IF(E270=\"Yes\",('Title I, Part A'!M323),\"\")","v":""},{"$f":"IF(ISBLANK('Title I, Part A'!N323),\"\",'Title I, Part A'!N323)","v":0},0,0,null,0,""]
[null,{"$f":"IF(ISBLANK('Title I, Part A'!B324),\"\",('Title I, Part A'!B324))","v":""},null,null,null,{"$f":"IF(ISBLANK('Title I, Part A'!E324),\"\",'Title I, Part A'!E324)","v":""},null,null,null,null,{"$f":"IF(E271=\"Yes\",('Title I, Part A'!H324),\"\")","v":""},{"$f":"IF(E271=\"Yes\",('Title I, Part A'!M324),\"\")","v":""},{"$f":"IF(ISBLANK('Title I, Part A'!N324),\"\",'Title I, Part A'!N324)","v":0},0,0,null,0,""]
[null,{"$f":"IF(ISBLANK('Title I, Part A'!B325),\"\",('Title I, Part A'!B325))","v":""},null,null,null,{"$f":"IF(ISBLANK('Title I, Part A'!E325),\"\",'Title I, Part A'!E325)","v":""},null,null,null,null,{"$f":"IF(E272=\"Yes\",('Title I, Part A'!H325),\"\")","v":""},{"$f":"IF(E272=\"Yes\",('Title I, Part A'!M325),\"\")","v":""},{"$f":"IF(ISBLANK('Title I, Part A'!N325),\"\",'Title I, Part A'!N325)","v":0},0,0,null,0,""]
[null,"Page 49"]

{"sheet":"Below 35% Low-Income","index":8,"n_rows":273,"n_cols":20,"rows_kept":273,"cut":false,"hidden":true,"merged":[[19,2,19,11],[19,15,19,17],[20,1,20,11],[20,15,20,17],[12,2,12,11],[12,15,12,17],[16,2,16,11],[16,15,16,17],[17,2,17,11],[17,15,17,17],[9,12,25,14],[9,15,9,17],[10,1,10,11],[10,15,10,17],[21,1,24,1],[24,2,24,11],[21,2,21,11],[21,15,21,17],[22,2,22,11],[22,15,22,17],[23,2,23,11],[23,15,23,17],[24,15,26,17],[18,2,18,11],[0,10,0,17],[1,2,1,17],[2,1,2,17],[3,1,3,11],[3,12,3,14],[3,15,3,17],[4,1,4,11],[4,12,6,14],[4,15,4,17],[5,1,5,11],[5,15,5,17],[6,1,6,11],[7,2,7,11],[7,12,7,14],[8,2,8,11],[8,12,8,14],[28,15,31,17],[29,2,29,11],[29,12,29,14],[30,2,30,11],[30,12,30,14],[31,2,31,11],[31,12,31,14],[25,1,25,11],[26,1,31,1],[26,2,26,11],[26,12,26,14],[27,2,27,11],[27,12,27,14],[27,15,27,17],[28,2,28,11],[28,12,28,14],[7,1,9,1],[6,15,8,17],[11,1,19,1],[9,2,9,11],[36,1,36,17],[37,10,37,17],[38,1,38,17],[39,1,39,7],[39,8,39,17],[40,1,40,7],[40,8,40,17],[32,1,32,11],[32,12,35,14],[32,15,32,17],[33,1,33,11],[33,15,33,17],[34,1,34,11],[34,15,34,17],[35,1,35,11],[35,15,35,17],[45,1,45,7],[45,8,46,9],[45,11,46,12],[45,14,46,15],[46,6,46,7],[47,1,47,7],[47,8,47,17],[41,1,41,7],[41,8,41,17],[42,6,42,7],[43,1,43,7],[44,6,44,7],[44,8,44,9],[44,11,44,12],[44,14,44,15],[42,8,42,17],[43,8,43,17],[59,1,59,3],[60,1,60,3],[52,1,52,3],[53,1,53,3],[54,1,54,5],[56,13,56,14],[56,15,56,16],[48,6,48,7],[48,8,48,17],[51,1,51,7],[49,8,49,9],[49,11,49,12],[49,14,49,15],[50,8,51,9],[50,11,51,12],[50,14,51,15],[57,1,57,3],[58,1,58,3],[55,14,55,15],[55,1,55,13],[67,1,67,3],[68,1,68,3],[69,1,69,3],[70,1,70,3],[71,1,71,3],[72,1,72,3],[61,1,61,3],[62,1,62,3],[63,1,63,3],[64,1,64,3],[65,1,65,3],[66,1,66,3],[79,1,79,3],[80,1,80,3],[81,1,81,3],[82,1,82,3],[83,1,83,3],[84,1,84,3],[73,1,73,3],[74,1,74,3],[75,1,75,3],[76,1,76,3],[77,1,77,3],[78,1,78,3],[91,1,91,3],[92,1,92,3],[93,1,93,3],[94,1,94,3],[95,1,95,3],[96,1,96,3],[85,1,85,3],[86,1,86,3],[87,1,87,3],[88,1,88,3],[89,1,89,3],[90,1,90,3],[103,1,103,3],[104,1,104,3],[105,1,105,3],[106,1,106,3],[107,1,107,3],[108,1,108,3],[97,1,97,3],[98,1,98,3],[99,1,99,3],[100,1,100,3],[101,1,101,3],[102,1,102,3],[115,1,115,3],[116,1,116,3],[117,1,117,3],[118,1,118,3],[119,1,119,3],[120,1,120,3],[109,1,109,3],[110,1,110,3],[111,1,111,3],[112,1,112,3],[113,1,113,3],[114,1,114,3],[127,1,127,3],[128,1,128,3],[129,1,129,3],[130,1,130,3],[131,1,131,3],[132,1,132,3],[121,1,121,3],[122,1,122,3],[123,1,123,3],[124,1,124,3],[125,1,125,3],[126,1,126,3],[139,1,139,3],[140,1,140,3],[141,1,141,3],[142,1,142,3],[143,1,143,3],[144,1,144,3],[133,1,133,3],[134,1,134,3],[135,1,135,3],[136,1,136,3],[137,1,137,3],[138,1,138,3],[151,1,151,3],[152,1,152,3],[153,1,153,3],[154,1,154,3],[155,1,155,3],[156,1,156,3],[145,1,145,3],[146,1,146,3],[147,1,147,3],[148,1,148,3],[149,1,149,3],[150,1,150,3],[163,1,163,3],[164,1,164,3],[165,1,165,3],[166,1,166,3],[167,1,167,3],[168,1,168,3],[157,1,157,3],[158,1,158,3],[159,1,159,3],[160,1,160,3],[161,1,161,3],[162,1,162,3],[175,1,175,3],[176,1,176,3],[177,1,177,3],[178,1,178,3],[179,1,179,3],[180,1,180,3],[169,1,169,3],[170,1,170,3],[171,1,171,3],[172,1,172,3],[173,1,173,3],[174,1,174,3],[187,1,187,3],[188,1,188,3],[189,1,189,3],[190,1,190,3],[191,1,191,3],[192,1,192,3],[181,1,181,3],[182,1,182,3],[183,1,183,3],[184,1,184,3],[185,1,185,3],[186,1,186,3],[199,1,199,3],[200,1,200,3],[201,1,201,3],[202,1,202,3],[203,1,203,3],[204,1,204,3],[193,1,193,3],[194,1,194,3],[195,1,195,3],[196,1,196,3],[197,1,197,3],[198,1,198,3],[211,1,211,3],[212,1,212,3],[213,1,213,3],[214,1,214,3],[215,1,215,3],[216,1,216,3],[205,1,205,3],[206,1,206,3],[207,1,207,3],[208,1,208,3],[209,1,209,3],[210,1,210,3],[226,1,226,3],[227,1,227,3],[228,1,228,3],[217,1,217,3],[218,1,218,3],[219,1,219,3],[220,1,220,3],[221,1,221,3],[222,1,222,3],[223,1,223,3],[224,1,224,3],[225,1,225,3],[272,1,272,17],[247,1,247,3],[248,1,248,3],[249,1,249,3],[250,1,250,3],[251,1,251,3],[252,1,252,3],[241,1,241,3],[242,1,242,3],[243,1,243,3],[244,1,244,3],[245,1,245,3],[246,1,246,3],[267,1,267,3],[268,1,268,3],[269,1,269,3],[270,1,270,3],[271,1,271,3],[240,1,240,3],[253,1,253,3],[254,1,254,3],[255,1,255,3],[256,1,256,3],[257,1,257,3],[258,1,258,3],[229,1,229,3],[230,1,230,3],[231,1,231,3],[232,1,232,3],[233,1,233,3],[234,1,234,3],[0,18,272,18],[0,0,1048575,0],[18,15,18,17],[13,2,13,11],[13,15,13,17],[14,2,14,11],[14,15,14,17],[15,2,15,11],[15,15,15,17],[11,2,11,11],[11,15,11,17],[259,1,259,3],[260,1,260,3],[261,1,261,3],[262,1,262,3],[263,1,263,3],[264,1,264,3],[265,1,265,3],[266,1,266,3],[235,1,235,3],[236,1,236,3],[237,1,237,3],[238,1,238,3],[239,1,239,3]]}
[null,{"$f":"'Main Page'!$N$9","v":"2026-2027"},null,"School Division:",{"$f":"'Main Page'!$L$14","v":0},null,null,null,"Division Number:",{"$f":"'Main Page'!$L$15","v":" "},{"$f":"'Main Page'!$B$6","v":"Local Consolidated Application"}]
[null,null,"l.  Required and Allowable Set-Asides for Divisions Operating Title I, Part A, Basic Programs"]
[]
[null,"DIVISION LEVEL:  IMPROVEMENT ACTIVITIES \n(Optional for Divisions with Comprehensive Support and Improvement and Targeted Support and Improvement)",null,null,null,null,null,null,null,null,null,null,"A",null,null,"B"]
[null,"Up to 5 percent may be set aside for divisions to provide financial incentives and rewards to teachers who serve in schools identified for comprehensive support and improvement or targeted support and improvement activities for the purposes of attracting and retaining qualified and effective teachers."]
[null,"Five percent of the total allocation representing the maximum allowable set-aside for Comprehensive Support and Improvement and Targeted Support and Improvement",null,null,null,null,null,null,null,null,null,null,null,null,null,{"$f":"SUM(('Coordinated Consolidated Info.'!O47+'Coordinated Consolidated Info.'!O81+'Coordinated Consolidated Info.'!O90)*0.05)","v":0}]
[null,"Indicate amount of set-aside for each category, if applicable:"]
[null,null,"Set-Aside for Teacher Incentives and Rewards Comprehensive"]
[null,null,"Set-Aside for Teacher Incentives and Rewards Targeted"]
[null,null,"Total Amount Set-Aside for Comprehensive Support and Improvement and Targeted Support and Improvement",null,null,null,null,null,null,null,null,null,0,null,null,{"$f":"IFERROR(SUM(VALUE(INDEX(_xlfn._xlws.FILTER(BdgtConsolidated,INDEX(BdgtConsolidated,,3)=\"CSI/TSI\"),,4))),0)\n+IFERROR(SUM(VALUE(INDEX(_xlfn._xlws.FILTER(TrnsfrConsolidated,INDEX(TrnsfrConsolidated,,3)=\"CSI/TSI\"),,4))),0)","v":0}]
[null,"DIVISION LEVEL: PROGRAM ADMINISTRATION"]
[null,null,"(1000)  Personnel Services ",null,null,null,null,null,null,null,null,null,null,null,null,{"$f":"IFERROR(SUM(VALUE(INDEX(_xlfn._xlws.FILTER(BdgtConsolidated,(INDEX(BdgtConsolidated,,1)=1000) * (INDEX(BdgtConsolidated,,3)=\"Division\")),,4))),0)\n+IFERROR(SUM(VALUE(INDEX(_xlfn._xlws.FILTER(TrnsfrConsolidated,(INDEX(TrnsfrConsolidated,,1)=1000) * (INDEX(TrnsfrConsolidated,,3)=\"Division\")),,4))),0)","v":0}]
[null,null,"(1000)  Personnel Services - Salary Differential",null,null,null,null,null,null,null,null,null,null,null,null,{"$f":"IFERROR(SUM(VALUE(INDEX(_xlfn._xlws.FILTER(BdgtConsolidated,(INDEX(BdgtConsolidated,,1)=1000) * (INDEX(BdgtConsolidated,,3)=\"Salary Differential\")),,4))),0)\n+IFERROR(SUM(VALUE(INDEX(_xlfn._xlws.FILTER(TrnsfrConsolidated,(INDEX(TrnsfrConsolidated,,1)=1000) * (INDEX(TrnsfrConsolidated,,3)=\"Salary Differential\")),,4))),0)","v":0}]
[null,null,"(2000)  Employee Benefits  ",null,null,null,null,null,null,null,null,null,null,null,null,{"$f":"IFERROR(SUM(VALUE(INDEX(_xlfn._xlws.FILTER(BdgtConsolidated,(INDEX(BdgtConsolidated,,1)=2000) * (INDEX(BdgtConsolidated,,3)=\"Division\")),,4))),0)\n+IFERROR(SUM(VALUE(INDEX(_xlfn._xlws.FILTER(TrnsfrConsolidated,(INDEX(TrnsfrConsolidated,,1)=2000) * (INDEX(TrnsfrConsolidated,,3)=\"Division\")),,4))),0)","v":0}]
[null,null,"(2000)  Employee Benefits  - Differential",null,null,null,null,null,null,null,null,null,null,null,null,{"$f":"IFERROR(SUM(VALUE(INDEX(_xlfn._xlws.FILTER(BdgtConsolidated,(INDEX(BdgtConsolidated,,1)=2000) * (INDEX(BdgtConsolidated,,3)=\"Employee Benefits Differential\")),,4))),0)\n+IFERROR(SUM(VALUE(INDEX(_xlfn._xlws.FILTER(TrnsfrConsolidated,(INDEX(TrnsfrConsolidated,,1)=2000) * (INDEX(TrnsfrConsolidated,,3)=\"Employee Benefits Differential\")),,4))),0)","v":0}]
[null,null,"(3000)  Purchased/Contracted Services",null,null,null,null,null,null,null,null,null,null,null,null,{"$f":"IFERROR(SUM(VALUE(INDEX(_xlfn._xlws.FILTER(BdgtConsolidated,(INDEX(BdgtConsolidated,,1)=3000) * (INDEX(BdgtConsolidated,,3)=\"Division\")),,4))),0)\n+IFERROR(SUM(VALUE(INDEX(_xlfn._xlws.FILTER(TrnsfrConsolidated,(INDEX(TrnsfrConsolidated,,1)=3000) * (INDEX(TrnsfrConsolidated,,3)=\"Division\")),,4))),0)","v":0}]
[null,null,"(4000)  Internal Services",null,null,null,null,null,null,null,null,null,null,null,null,{"$f":"IFERROR(SUM(VALUE(INDEX(_xlfn._xlws.FILTER(BdgtConsolidated,(INDEX(BdgtConsolidated,,1)=4000) * (INDEX(BdgtConsolidated,,3)=\"Division\")),,4))),0)\n+IFERROR(SUM(VALUE(INDEX(_xlfn._xlws.FILTER(TrnsfrConsolidated,(INDEX(TrnsfrConsolidated,,1)=4000) * (INDEX(TrnsfrConsolidated,,3)=\"Division\")),,4))),0)","v":0}]
[null,null,"(5000)  Other Charges",null,null,null,null,null,null,null,null,null,null,null,null,{"$f":"IFERROR(SUM(VALUE(INDEX(_xlfn._xlws.FILTER(BdgtConsolidated,(INDEX(BdgtConsolidated,,1)=5000) * (INDEX(BdgtConsolidated,,3)=\"Division\")),,4))),0)\n+IFERROR(SUM(VALUE(INDEX(_xlfn._xlws.FILTER(TrnsfrConsolidated,(INDEX(TrnsfrConsolidated,,1)=5000) * (INDEX(TrnsfrConsolidated,,3)=\"Division\")),,4))),0)","v":0}]
[null,null,"(6000)  Materials and Supplies",null,null,null,null,null,null,null,null,null,null,null,null,{"$f":"IFERROR(SUM(VALUE(INDEX(_xlfn._xlws.FILTER(BdgtConsolidated,(INDEX(BdgtConsolidated,,1)=6000) * (INDEX(BdgtConsolidated,,3)=\"Division\")),,4))),0)\n+IFERROR(SUM(VALUE(INDEX(_xlfn._xlws.FILTER(TrnsfrConsolidated,(INDEX(TrnsfrConsolidated,,1)=6000) * (INDEX(TrnsfrConsolidated,,3)=\"Division\")),,4))),0)","v":0}]
[null,null,"(8000)  Capital Outlay",null,null,null,null,null,null,null,null,null,null,null,null,{"$f":"IFERROR(SUM(VALUE(INDEX(_xlfn._xlws.FILTER(BdgtConsolidated,(INDEX(BdgtConsolidated,,1)=8000) * (INDEX(BdgtConsolidated,,3)=\"Division\")),,4))),0)\n+IFERROR(SUM(VALUE(INDEX(_xlfn._xlws.FILTER(TrnsfrConsolidated,(INDEX(TrnsfrConsolidated,,1)=8000) * (INDEX(TrnsfrConsolidated,,3)=\"Division\")),,4))),0)","v":0}]
[null," Initiatives "]
[null,null,"Title I Early Childhood Budget (Personnel and Program)",null,null,null,null,null,null,null,null,null,null,null,null,{"$f":"IFERROR(SUM(VALUE(INDEX(_xlfn._xlws.FILTER(BdgtConsolidated,INDEX(BdgtConsolidated,,3)=\"Early Childhood\"),,4))),0)\n+IFERROR(SUM(VALUE(INDEX(_xlfn._xlws.FILTER(TrnsfrConsolidated,INDEX(TrnsfrConsolidated,,3)=\"Early Childhood\"),,4))),0)","v":0}]
[null,null,"Private School Services (as necessary; not applicable for bypass divisions) These funds are in addition to school-level allocations for private school services.",null,null,null,null,null,null,null,null,null,null,null,null,{"$f":"ROUND(T55*SUM(M27),2)","v":0}]
[null,null,"Additional Private School Funds",null,null,null,null,null,null,null,null,null,null,null,null,{"$f":"IFERROR(SUM(VALUE(INDEX(_xlfn._xlws.FILTER(BdgtConsolidated,INDEX(BdgtConsolidated,,3)=\"Title I Private School\"),,4))),0)\n+IFERROR(SUM(VALUE(INDEX(_xlfn._xlws.FILTER(TrnsfrConsolidated,INDEX(TrnsfrConsolidated,,3)=\"Title I Private School\"),,4))),0)\n-P23","v":0}]
[]
[null,"Parent and Family Engagement (Required if allocation is $500,000 or more)"]
[null,null,"Amount of school division allocation ESEA funds (from Page 2):",null,null,null,null,null,null,null,null,null,{"$f":"SUM('Coordinated Consolidated Info.'!O47+'Coordinated Consolidated Info.'!O81+'Coordinated Consolidated Info.'!O90)","v":0}]
[null,null,"1 percent of allocation (This amount is calculated if school division receives $500,000 or more from Title I, Part A.)",null,null,null,null,null,null,null,null,null,{"$f":"ROUND(IF(M27>499999.99,0.01*M27,0),2)","v":0},null,null,{"$f":"M28","v":0}]
[null,null,"90 percent of 1 percent must be used at the school level",null,null,null,null,null,null,null,null,null,{"$f":"ROUND(0.9*SUM(M28),2)","v":0}]
[null,null,"10 percent of 1 percent  is set aside by the school division for parent and family engagement initiatives",null,null,null,null,null,null,null,null,null,{"$f":"ROUND(0.1*SUM($M$28),2)","v":0}]
[null,null,"Additional Parent and Family Engagement Funds",null,null,null,null,null,null,null,null,null,{"$f":"IFERROR(SUM(VALUE(INDEX(_xlfn._xlws.FILTER(BdgtConsolidated,(INDEX(BdgtConsolidated,,3)=\"PFE (School Level)\") + (INDEX(BdgtConsolidated,,3)=\"PFE (Division)\")),,4))),0)\n+IFERROR(SUM(VALUE(INDEX(_xlfn._xlws.FILTER(TrnsfrConsolidated,(INDEX(TrnsfrConsolidated,,3)=\"PFE (School Level)\") + (INDEX(TrnsfrConsolidated,,3)=\"PFE (Division)\")),,4))),0)\n-M28","v":0}]
[null,null,"Has the required parent and family engagement set aside been met?",null,null,null,null,null,null,null,null,null,{"$f":"IF(SUM('Consolidated Budget'!F61)+('Consolidated Transferability'!F66+'Consolidated Transferability'!G66)>=SUM(M28),\"Yes\",\"No - please review your entries.\")","v":"Yes"}]
[null,"Homeless (as necessary based on needs identified on homeless tab, question 2)",null,null,null,null,null,null,null,null,null,null,null,null,null,{"$f":"IFERROR(SUM(VALUE(INDEX(_xlfn._xlws.FILTER(BdgtConsolidated,INDEX(BdgtConsolidated,,3)=\"Homeless\"),,4))),0)\n+IFERROR(SUM(VALUE(INDEX(_xlfn._xlws.FILTER(TrnsfrConsolidated,INDEX(TrnsfrConsolidated,,3)=\"Homeless\"),,4))),0)","v":0}]
[null,"Foster Care (as necessary)",null,null,null,null,null,null,null,null,null,null,null,null,null,{"$f":"IFERROR(SUM(VALUE(INDEX(_xlfn._xlws.FILTER(BdgtConsolidated,INDEX(BdgtConsolidated,,3)=\"Foster Care\"),,4))),0)\n+IFERROR(SUM(VALUE(INDEX(_xlfn._xlws.FILTER(TrnsfrConsolidated,INDEX(TrnsfrConsolidated,,3)=\"Foster Care\"),,4))),0)","v":0}]
[null,"Neglected (as necessary)",null,null,null,null,null,null,null,null,null,null,null,null,null,{"$f":"IFERROR(SUM(VALUE(INDEX(_xlfn._xlws.FILTER(BdgtConsolidated,INDEX(BdgtConsolidated,,3)=\"Neglected\"),,4))),0)\n+IFERROR(SUM(VALUE(INDEX(_xlfn._xlws.FILTER(TrnsfrConsolidated,INDEX(TrnsfrConsolidated,,3)=\"Neglected\"),,4))),0)","v":0}]
[null,"School Division Set-Asides TOTAL (Feeds Box A on Allocation to Eligible Schools Page)",null,null,null,null,null,null,null,null,null,null,null,null,null,{"$f":"SUM(M31,P10:R35)","v":0}]
[null,"Page 46"]
[null,{"$f":"'Main Page'!$N$9","v":"2026-2027"},null,"School Division:",{"$f":"'Main Page'!$L$14","v":0},null,null,null,"Division Number:",{"$f":"'Main Page'!$L$15","v":" "},{"$f":"'Main Page'!$B$6","v":"Local Consolidated Application"}]
[null,"TITLE I, PART A, ALLOCATION TO ELIGIBLE SCHOOLS"]
[null,null,null,null,null,null,null,null,"Low-Income Factor BELOW 35 percent"]
[null,null,null,null,null,null,null,null,"PPE X at least 125 percent"]
[null,"A.",null,null,null,null,null,null,"B."]
[null,"Division’s Title I Allocation :",null,null,null,null,{"$f":"SUM('Coordinated Consolidated Info.'!O47+'Coordinated Consolidated Info.'!O81+'Coordinated Consolidated Info.'!O90)","v":0},null,"*PER PUPIL EXPENDITURE CALCULATION"]
[null,null,null,null,null,null,null,null,"Step 1:"]
[null,"Minus Set-Asides (if applicable):",null,null,null,null,{"$f":"$P$36","v":0},null,{"$f":"$G$43","v":0},null,null,{"$f":"'Title I, Part A'!I326","v":0},null,"=",{"$f":"IF(ISERROR(SUM(I45)/SUM(L45)),0,SUM(I45)/SUM(L45))","v":0}]
[null,null,null,null,null,null,null,null,"Division Total Allocation",null,null,"Number of Low-Income Pupils in Entire School Division",null,null,"Per Pupil Expenditure (PPE)"]
[null,"Amount for Distribution to Schools:",null,null,null,null,{"$f":"SUM(G43)-SUM(G45)","v":0}]
[]
[null,"Divisionwide Average From Low-Income Families",null,null,null,null,{"$f":"'Title I, Part A'!N328","v":0},null,"Step 2:"]
[null,null,null,null,null,null,null,null,{"$f":"O45","v":0},null,null,125,null,"=",{"$f":"ROUND((SUM(I50)*SUM(L50))/100,2)","v":0}]
[null,null,null,null,null,null,null,null,"PPE",null,null,"At least 125 percent (enter whole number)",null,null,"Adjusted PPE"]
[]
[null,"(1)",null,null,"(2)","(3)","(4)","(5)","(6)","(7)","(8)","(9)","(10)","(11)","(12)","(13)","(14)","(15)"]
[null,"List of  schools from highest poverty to lowest",null,null,"Is School Served?  \nYes or No","Grade Span of School","Targeted Assistance School? \nYes or No","Schoolwide Program School? \nYes or No",{"$f":"\"Number of Title I, Part A School Level FTE Personnel Funded with \"  & 'Main Page'!N9 & \" Funds\"","v":"Number of Title I, Part A School Level FTE Personnel Funded with 2026-2027 Funds"},{"$f":"\"Number of Title I, Part A School Level FTE Paraprofessionals Funded with \" &'Main Page'!N9 & \" Funds\"","v":"Number of Title I, Part A School Level FTE Paraprofessionals Funded with 2026-2027 Funds"},"Low-Income Private School Membership","Low-Income Public School Membership","Percent Low-Income ","Minimum School Allocation ",{"$f":"\"Distribution Balance:  \"&+SUM(G47)&\" from Box A\"","v":"Distribution Balance:  0 from Box A"},"School Reallocation Amount ","School Allocation Total ","Adjusted PPE "]
[null,"TOTALS",null,null,null,null,null,null,{"$f":"SUM(I58:I272)","v":0},{"$f":"SUM(J58:J272)","v":0},{"$f":"SUM(K58:K272)","v":0},{"$f":"SUM(L58:L272)","v":0},null,{"$f":"SUM(N58:N272)","v":0},{"$f":"G47","v":0},{"$f":"SUM(P58:P272)","v":0},{"$f":"SUM(Q58:Q272)","v":0},null,null,{"$f":"IF(SUM(K55,L55) >0,K55/(K55+L55),0)","v":0}]
[null,"The totals in columns 6 & 7 applies to all school level personnel funded with Title I except for early childhood personnel included on line 22 above, and parent and family engagement personnel included on lines 28 and 31 above. ",null,null,null,null,null,null,null,null,null,null,null,null,"Balance to Reallocate",null,{"$f":"SUM(G47-Q55)","v":0}]
[null,null,null,null,"Yes"]
[null,{"$f":"IF(ISBLANK('Title I, Part A'!B111),\"\",('Title I, Part A'!B111))","v":""},null,null,null,{"$f":"IF(ISBLANK('Title I, Part A'!E111),\"\",'Title I, Part A'!E111)","v":""},null,null,null,null,{"$f":"IF(E58=\"Yes\",('Title I, Part A'!H111),\"\")","v":""},{"$f":"IF(E58=\"Yes\",('Title I, Part A'!M111),\"\")","v":""},{"$f":"IF(ISBLANK('Title I, Part A'!N111),\"\",'Title I, Part A'!N111)","v":0},{"$f":"IF(IF(E58=\"Yes\",IF(ISBLANK(L58),\"\",SUM(L58)*$O$50),0)>$G$47,SUM($G$47),IF(E58=\"Yes\",IF(ISBLANK(L58),\"\",SUM(L58)*$O$50),\"\"))","v":""},{"$f":"SUM(Q55)-SUM(N58)-SUM(P58)","v":0},null,{"$f":"IF(SUM(P58)=0,SUM(N58),IF(SUM(N58,P58)=P58,\"ERROR\",SUM(N58,P58)))","v":0},{"$f":"IF(E58=\"Yes\",SUM(Q58)/SUM(L58),\"\")","v":""}]
[null,{"$f":"IF(ISBLANK('Title I, Part A'!B112),\"\",('Title I, Part A'!B112))","v":""},null,null,null,{"$f":"IF(ISBLANK('Title I, Part A'!E112),\"\",'Title I, Part A'!E112)","v":""},null,null,null,null,{"$f":"IF(E59=\"Yes\",('Title I, Part A'!H112),\"\")","v":""},{"$f":"IF(E59=\"Yes\",('Title I, Part A'!M112),\"\")","v":""},{"$f":"IF(ISBLANK('Title I, Part A'!N112),\"\",'Title I, Part A'!N112)","v":0},{"$f":"IF(IF(E59=\"Yes\",IF(ISBLANK(L59),\"\",SUM(L59)*$O$50),0)>$G$47,SUM($G$47),IF(E59=\"Yes\",IF(ISBLANK(L59),\"\",SUM(L59)*$O$50),\"\"))","v":""},{"$f":"SUM(O58)-SUM(N59)-SUM(P59)","v":0},null,{"$f":"IF(SUM(P59)=0,SUM(N59),IF(SUM(N59,P59)=P59,\"ERROR\",SUM(N59,P59)))","v":0},{"$f":"IF(E59=\"Yes\",SUM(Q59)/SUM(L59),\"\")","v":""}]
[null,{"$f":"IF(ISBLANK('Title I, Part A'!B113),\"\",('Title I, Part A'!B113))","v":""},null,null,null,{"$f":"IF(ISBLANK('Title I, Part A'!E113),\"\",'Title I, Part A'!E113)","v":""},null,null,null,null,{"$f":"IF(E60=\"Yes\",('Title I, Part A'!H113),\"\")","v":""},{"$f":"IF(E60=\"Yes\",('Title I, Part A'!M113),\"\")","v":""},{"$f":"IF(ISBLANK('Title I, Part A'!N113),\"\",'Title I, Part A'!N113)","v":0},{"$f":"IF(IF(E60=\"Yes\",IF(ISBLANK(L60),\"\",SUM(L60)*$O$50),0)>$G$47,SUM($G$47),IF(E60=\"Yes\",IF(ISBLANK(L60),\"\",SUM(L60)*$O$50),\"\"))","v":""},{"$f":"SUM(O59)-SUM(N60)-SUM(P60)","v":0},null,0,""]
[null,{"$f":"IF(ISBLANK('Title I, Part A'!B114),\"\",('Title I, Part A'!B114))","v":""},null,null,null,{"$f":"IF(ISBLANK('Title I, Part A'!E114),\"\",'Title I, Part A'!E114)","v":""},null,null,null,null,{"$f":"IF(E61=\"Yes\",('Title I, Part A'!H114),\"\")","v":""},{"$f":"IF(E61=\"Yes\",('Title I, Part A'!M114),\"\")","v":""},{"$f":"IF(ISBLANK('Title I, Part A'!N114),\"\",'Title I, Part A'!N114)","v":0},"",0,null,0,""]
[null,{"$f":"IF(ISBLANK('Title I, Part A'!B115),\"\",('Title I, Part A'!B115))","v":""},null,null,null,{"$f":"IF(ISBLANK('Title I, Part A'!E115),\"\",'Title I, Part A'!E115)","v":""},null,null,null,null,{"$f":"IF(E62=\"Yes\",('Title I, Part A'!H115),\"\")","v":""},{"$f":"IF(E62=\"Yes\",('Title I, Part A'!M115),\"\")","v":""},{"$f":"IF(ISBLANK('Title I, Part A'!N115),\"\",'Title I, Part A'!N115)","v":0},"",0,null,0,""]
[null,{"$f":"IF(ISBLANK('Title I, Part A'!B116),\"\",('Title I, Part A'!B116))","v":""},null,null,null,{"$f":"IF(ISBLANK('Title I, Part A'!E116),\"\",'Title I, Part A'!E116)","v":""},null,null,null,null,{"$f":"IF(E63=\"Yes\",('Title I, Part A'!H116),\"\")","v":""},{"$f":"IF(E63=\"Yes\",('Title I, Part A'!M116),\"\")","v":""},{"$f":"IF(ISBLANK('Title I, Part A'!N116),\"\",'Title I, Part A'!N116)","v":0},"",0,null,0,""]
[null,{"$f":"IF(ISBLANK('Title I, Part A'!B117),\"\",('Title I, Part A'!B117))","v":""},null,null,null,{"$f":"IF(ISBLANK('Title I, Part A'!E117),\"\",'Title I, Part A'!E117)","v":""},null,null,null,null,{"$f":"IF(E64=\"Yes\",('Title I, Part A'!H117),\"\")","v":""},{"$f":"IF(E64=\"Yes\",('Title I, Part A'!M117),\"\")","v":""},{"$f":"IF(ISBLANK('Title I, Part A'!N117),\"\",'Title I, Part A'!N117)","v":0},"",0,null,0,""]
[null,{"$f":"IF(ISBLANK('Title I, Part A'!B118),\"\",('Title I, Part A'!B118))","v":""},null,null,null,{"$f":"IF(ISBLANK('Title I, Part A'!E118),\"\",'Title I, Part A'!E118)","v":""},null,null,null,null,{"$f":"IF(E65=\"Yes\",('Title I, Part A'!H118),\"\")","v":""},{"$f":"IF(E65=\"Yes\",('Title I, Part A'!M118),\"\")","v":""},{"$f":"IF(ISBLANK('Title I, Part A'!N118),\"\",'Title I, Part A'!N118)","v":0},"",0,null,0,""]
[null,{"$f":"IF(ISBLANK('Title I, Part A'!B119),\"\",('Title I, Part A'!B119))","v":""},null,null,null,{"$f":"IF(ISBLANK('Title I, Part A'!E119),\"\",'Title I, Part A'!E119)","v":""},null,null,null,null,{"$f":"IF(E66=\"Yes\",('Title I, Part A'!H119),\"\")","v":""},{"$f":"IF(E66=\"Yes\",('Title I, Part A'!M119),\"\")","v":""},{"$f":"IF(ISBLANK('Title I, Part A'!N119),\"\",'Title I, Part A'!N119)","v":0},"",0,null,0,""]
[null,{"$f":"IF(ISBLANK('Title I, Part A'!B120),\"\",('Title I, Part A'!B120))","v":""},null,null,null,{"$f":"IF(ISBLANK('Title I, Part A'!E120),\"\",'Title I, Part A'!E120)","v":""},null,null,null,null,{"$f":"IF(E67=\"Yes\",('Title I, Part A'!H120),\"\")","v":""},{"$f":"IF(E67=\"Yes\",('Title I, Part A'!M120),\"\")","v":""},{"$f":"IF(ISBLANK('Title I, Part A'!N120),\"\",'Title I, Part A'!N120)","v":0},"",0,null,0,""]
[null,{"$f":"IF(ISBLANK('Title I, Part A'!B121),\"\",('Title I, Part A'!B121))","v":""},null,null,null,{"$f":"IF(ISBLANK('Title I, Part A'!E121),\"\",'Title I, Part A'!E121)","v":""},null,null,null,null,{"$f":"IF(E68=\"Yes\",('Title I, Part A'!H121),\"\")","v":""},{"$f":"IF(E68=\"Yes\",('Title I, Part A'!M121),\"\")","v":""},{"$f":"IF(ISBLANK('Title I, Part A'!N121),\"\",'Title I, Part A'!N121)","v":0},"",0,null,0,""]
[null,{"$f":"IF(ISBLANK('Title I, Part A'!B122),\"\",('Title I, Part A'!B122))","v":""},null,null,null,{"$f":"IF(ISBLANK('Title I, Part A'!E122),\"\",'Title I, Part A'!E122)","v":""},null,null,null,null,{"$f":"IF(E69=\"Yes\",('Title I, Part A'!H122),\"\")","v":""},{"$f":"IF(E69=\"Yes\",('Title I, Part A'!M122),\"\")","v":""},{"$f":"IF(ISBLANK('Title I, Part A'!N122),\"\",'Title I, Part A'!N122)","v":0},"",0,null,0,""]
[null,{"$f":"IF(ISBLANK('Title I, Part A'!B123),\"\",('Title I, Part A'!B123))","v":""},null,null,null,{"$f":"IF(ISBLANK('Title I, Part A'!E123),\"\",'Title I, Part A'!E123)","v":""},null,null,null,null,{"$f":"IF(E70=\"Yes\",('Title I, Part A'!H123),\"\")","v":""},{"$f":"IF(E70=\"Yes\",('Title I, Part A'!M123),\"\")","v":""},{"$f":"IF(ISBLANK('Title I, Part A'!N123),\"\",'Title I, Part A'!N123)","v":0},"",0,null,0,""]
[null,{"$f":"IF(ISBLANK('Title I, Part A'!B124),\"\",('Title I, Part A'!B124))","v":""},null,null,null,{"$f":"IF(ISBLANK('Title I, Part A'!E124),\"\",'Title I, Part A'!E124)","v":""},null,null,null,null,{"$f":"IF(E71=\"Yes\",('Title I, Part A'!H124),\"\")","v":""},{"$f":"IF(E71=\"Yes\",('Title I, Part A'!M124),\"\")","v":""},{"$f":"IF(ISBLANK('Title I, Part A'!N124),\"\",'Title I, Part A'!N124)","v":0},"",0,null,0,""]
[null,{"$f":"IF(ISBLANK('Title I, Part A'!B125),\"\",('Title I, Part A'!B125))","v":""},null,null,null,{"$f":"IF(ISBLANK('Title I, Part A'!E125),\"\",'Title I, Part A'!E125)","v":""},null,null,null,null,{"$f":"IF(E72=\"Yes\",('Title I, Part A'!H125),\"\")","v":""},{"$f":"IF(E72=\"Yes\",('Title I, Part A'!M125),\"\")","v":""},{"$f":"IF(ISBLANK('Title I, Part A'!N125),\"\",'Title I, Part A'!N125)","v":0},"",0,null,0,""]
[null,{"$f":"IF(ISBLANK('Title I, Part A'!B126),\"\",('Title I, Part A'!B126))","v":""},null,null,null,{"$f":"IF(ISBLANK('Title I, Part A'!E126),\"\",'Title I, Part A'!E126)","v":""},null,null,null,null,{"$f":"IF(E73=\"Yes\",('Title I, Part A'!H126),\"\")","v":""},{"$f":"IF(E73=\"Yes\",('Title I, Part A'!M126),\"\")","v":""},{"$f":"IF(ISBLANK('Title I, Part A'!N126),\"\",'Title I, Part A'!N126)","v":0},"",0,null,0,""]
[null,{"$f":"IF(ISBLANK('Title I, Part A'!B127),\"\",('Title I, Part A'!B127))","v":""},null,null,null,{"$f":"IF(ISBLANK('Title I, Part A'!E127),\"\",'Title I, Part A'!E127)","v":""},null,null,null,null,{"$f":"IF(E74=\"Yes\",('Title I, Part A'!H127),\"\")","v":""},{"$f":"IF(E74=\"Yes\",('Title I, Part A'!M127),\"\")","v":""},{"$f":"IF(ISBLANK('Title I, Part A'!N127),\"\",'Title I, Part A'!N127)","v":0},"",0,null,0,""]
[null,{"$f":"IF(ISBLANK('Title I, Part A'!B128),\"\",('Title I, Part A'!B128))","v":""},null,null,null,{"$f":"IF(ISBLANK('Title I, Part A'!E128),\"\",'Title I, Part A'!E128)","v":""},null,null,null,null,{"$f":"IF(E75=\"Yes\",('Title I, Part A'!H128),\"\")","v":""},{"$f":"IF(E75=\"Yes\",('Title I, Part A'!M128),\"\")","v":""},{"$f":"IF(ISBLANK('Title I, Part A'!N128),\"\",'Title I, Part A'!N128)","v":0},"",0,null,0,""]
[null,{"$f":"IF(ISBLANK('Title I, Part A'!B129),\"\",('Title I, Part A'!B129))","v":""},null,null,null,{"$f":"IF(ISBLANK('Title I, Part A'!E129),\"\",'Title I, Part A'!E129)","v":""},null,null,null,null,{"$f":"IF(E76=\"Yes\",('Title I, Part A'!H129),\"\")","v":""},{"$f":"IF(E76=\"Yes\",('Title I, Part A'!M129),\"\")","v":""},{"$f":"IF(ISBLANK('Title I, Part A'!N129),\"\",'Title I, Part A'!N129)","v":0},"",0,null,0,""]
[null,{"$f":"IF(ISBLANK('Title I, Part A'!B130),\"\",('Title I, Part A'!B130))","v":""},null,null,null,{"$f":"IF(ISBLANK('Title I, Part A'!E130),\"\",'Title I, Part A'!E130)","v":""},null,null,null,null,{"$f":"IF(E77=\"Yes\",('Title I, Part A'!H130),\"\")","v":""},{"$f":"IF(E77=\"Yes\",('Title I, Part A'!M130),\"\")","v":""},{"$f":"IF(ISBLANK('Title I, Part A'!N130),\"\",'Title I, Part A'!N130)","v":0},"",0,null,0,""]
[null,{"$f":"IF(ISBLANK('Title I, Part A'!B131),\"\",('Title I, Part A'!B131))","v":""},null,null,null,{"$f":"IF(ISBLANK('Title I, Part A'!E131),\"\",'Title I, Part A'!E131)","v":""},null,null,null,null,{"$f":"IF(E78=\"Yes\",('Title I, Part A'!H131),\"\")","v":""},{"$f":"IF(E78=\"Yes\",('Title I, Part A'!M131),\"\")","v":""},{"$f":"IF(ISBLANK('Title I, Part A'!N131),\"\",'Title I, Part A'!N131)","v":0},"",0,null,0,""]
[null,{"$f":"IF(ISBLANK('Title I, Part A'!B132),\"\",('Title I, Part A'!B132))","v":""},null,null,null,{"$f":"IF(ISBLANK('Title I, Part A'!E132),\"\",'Title I, Part A'!E132)","v":""},null,null,null,null,{"$f":"IF(E79=\"Yes\",('Title I, Part A'!H132),\"\")","v":""},{"$f":"IF(E79=\"Yes\",('Title I, Part A'!M132),\"\")","v":""},{"$f":"IF(ISBLANK('Title I, Part A'!N132),\"\",'Title I, Part A'!N132)","v":0},"",0,null,0,""]
[null,{"$f":"IF(ISBLANK('Title I, Part A'!B133),\"\",('Title I, Part A'!B133))","v":""},null,null,null,{"$f":"IF(ISBLANK('Title I, Part A'!E133),\"\",'Title I, Part A'!E133)","v":""},null,null,null,null,{"$f":"IF(E80=\"Yes\",('Title I, Part A'!H133),\"\")","v":""},{"$f":"IF(E80=\"Yes\",('Title I, Part A'!M133),\"\")","v":""},{"$f":"IF(ISBLANK('Title I, Part A'!N133),\"\",'Title I, Part A'!N133)","v":0},"",0,null,0,""]
[null,{"$f":"IF(ISBLANK('Title I, Part A'!B134),\"\",('Title I, Part A'!B134))","v":""},null,null,null,{"$f":"IF(ISBLANK('Title I, Part A'!E134),\"\",'Title I, Part A'!E134)","v":""},null,null,null,null,{"$f":"IF(E81=\"Yes\",('Title I, Part A'!H134),\"\")","v":""},{"$f":"IF(E81=\"Yes\",('Title I, Part A'!M134),\"\")","v":""},{"$f":"IF(ISBLANK('Title I, Part A'!N134),\"\",'Title I, Part A'!N134)","v":0},"",0,null,0,""]
[null,{"$f":"IF(ISBLANK('Title I, Part A'!B135),\"\",('Title I, Part A'!B135))","v":""},null,null,null,{"$f":"IF(ISBLANK('Title I, Part A'!E135),\"\",'Title I, Part A'!E135)","v":""},null,null,null,null,{"$f":"IF(E82=\"Yes\",('Title I, Part A'!H135),\"\")","v":""},{"$f":"IF(E82=\"Yes\",('Title I, Part A'!M135),\"\")","v":""},{"$f":"IF(ISBLANK('Title I, Part A'!N135),\"\",'Title I, Part A'!N135)","v":0},"",0,null,0,""]
[null,{"$f":"IF(ISBLANK('Title I, Part A'!B136),\"\",('Title I, Part A'!B136))","v":""},null,null,null,{"$f":"IF(ISBLANK('Title I, Part A'!E136),\"\",'Title I, Part A'!E136)","v":""},null,null,null,null,{"$f":"IF(E83=\"Yes\",('Title I, Part A'!H136),\"\")","v":""},{"$f":"IF(E83=\"Yes\",('Title I, Part A'!M136),\"\")","v":""},{"$f":"IF(ISBLANK('Title I, Part A'!N136),\"\",'Title I, Part A'!N136)","v":0},"",0,null,0,""]
[null,{"$f":"IF(ISBLANK('Title I, Part A'!B137),\"\",('Title I, Part A'!B137))","v":""},null,null,null,{"$f":"IF(ISBLANK('Title I, Part A'!E137),\"\",'Title I, Part A'!E137)","v":""},null,null,null,null,{"$f":"IF(E84=\"Yes\",('Title I, Part A'!H137),\"\")","v":""},{"$f":"IF(E84=\"Yes\",('Title I, Part A'!M137),\"\")","v":""},{"$f":"IF(ISBLANK('Title I, Part A'!N137),\"\",'Title I, Part A'!N137)","v":0},"",0,null,0,""]
[null,{"$f":"IF(ISBLANK('Title I, Part A'!B138),\"\",('Title I, Part A'!B138))","v":""},null,null,null,{"$f":"IF(ISBLANK('Title I, Part A'!E138),\"\",'Title I, Part A'!E138)","v":""},null,null,null,null,{"$f":"IF(E85=\"Yes\",('Title I, Part A'!H138),\"\")","v":""},{"$f":"IF(E85=\"Yes\",('Title I, Part A'!M138),\"\")","v":""},{"$f":"IF(ISBLANK('Title I, Part A'!N138),\"\",'Title I, Part A'!N138)","v":0},"",0,null,0,""]
[null,{"$f":"IF(ISBLANK('Title I, Part A'!B139),\"\",('Title I, Part A'!B139))","v":""},null,null,null,{"$f":"IF(ISBLANK('Title I, Part A'!E139),\"\",'Title I, Part A'!E139)","v":""},null,null,null,null,{"$f":"IF(E86=\"Yes\",('Title I, Part A'!H139),\"\")","v":""},{"$f":"IF(E86=\"Yes\",('Title I, Part A'!M139),\"\")","v":""},{"$f":"IF(ISBLANK('Title I, Part A'!N139),\"\",'Title I, Part A'!N139)","v":0},"",0,null,0,""]
[null,{"$f":"IF(ISBLANK('Title I, Part A'!B140),\"\",('Title I, Part A'!B140))","v":""},null,null,null,{"$f":"IF(ISBLANK('Title I, Part A'!E140),\"\",'Title I, Part A'!E140)","v":""},null,null,null,null,{"$f":"IF(E87=\"Yes\",('Title I, Part A'!H140),\"\")","v":""},{"$f":"IF(E87=\"Yes\",('Title I, Part A'!M140),\"\")","v":""},{"$f":"IF(ISBLANK('Title I, Part A'!N140),\"\",'Title I, Part A'!N140)","v":0},"",0,null,0,""]
[null,{"$f":"IF(ISBLANK('Title I, Part A'!B141),\"\",('Title I, Part A'!B141))","v":""},null,null,null,{"$f":"IF(ISBLANK('Title I, Part A'!E141),\"\",'Title I, Part A'!E141)","v":""},null,null,null,null,{"$f":"IF(E88=\"Yes\",('Title I, Part A'!H141),\"\")","v":""},{"$f":"IF(E88=\"Yes\",('Title I, Part A'!M141),\"\")","v":""},{"$f":"IF(ISBLANK('Title I, Part A'!N141),\"\",'Title I, Part A'!N141)","v":0},"",0,null,0,""]
[null,{"$f":"IF(ISBLANK('Title I, Part A'!B142),\"\",('Title I, Part A'!B142))","v":""},null,null,null,{"$f":"IF(ISBLANK('Title I, Part A'!E142),\"\",'Title I, Part A'!E142)","v":""},null,null,null,null,{"$f":"IF(E89=\"Yes\",('Title I, Part A'!H142),\"\")","v":""},{"$f":"IF(E89=\"Yes\",('Title I, Part A'!M142),\"\")","v":""},{"$f":"IF(ISBLANK('Title I, Part A'!N142),\"\",'Title I, Part A'!N142)","v":0},"",0,null,0,""]
[null,{"$f":"IF(ISBLANK('Title I, Part A'!B143),\"\",('Title I, Part A'!B143))","v":""},null,null,null,{"$f":"IF(ISBLANK('Title I, Part A'!E143),\"\",'Title I, Part A'!E143)","v":""},null,null,null,null,{"$f":"IF(E90=\"Yes\",('Title I, Part A'!H143),\"\")","v":""},{"$f":"IF(E90=\"Yes\",('Title I, Part A'!M143),\"\")","v":""},{"$f":"IF(ISBLANK('Title I, Part A'!N143),\"\",'Title I, Part A'!N143)","v":0},"",0,null,0,""]
[null,{"$f":"IF(ISBLANK('Title I, Part A'!B144),\"\",('Title I, Part A'!B144))","v":""},null,null,null,{"$f":"IF(ISBLANK('Title I, Part A'!E144),\"\",'Title I, Part A'!E144)","v":""},null,null,null,null,{"$f":"IF(E91=\"Yes\",('Title I, Part A'!H144),\"\")","v":""},{"$f":"IF(E91=\"Yes\",('Title I, Part A'!M144),\"\")","v":""},{"$f":"IF(ISBLANK('Title I, Part A'!N144),\"\",'Title I, Part A'!N144)","v":0},"",0,null,0,""]
[null,{"$f":"IF(ISBLANK('Title I, Part A'!B145),\"\",('Title I, Part A'!B145))","v":""},null,null,null,{"$f":"IF(ISBLANK('Title I, Part A'!E145),\"\",'Title I, Part A'!E145)","v":""},null,null,null,null,{"$f":"IF(E92=\"Yes\",('Title I, Part A'!H145),\"\")","v":""},{"$f":"IF(E92=\"Yes\",('Title I, Part A'!M145),\"\")","v":""},{"$f":"IF(ISBLANK('Title I, Part A'!N145),\"\",'Title I, Part A'!N145)","v":0},"",0,null,0,""]
[null,{"$f":"IF(ISBLANK('Title I, Part A'!B146),\"\",('Title I, Part A'!B146))","v":""},null,null,null,{"$f":"IF(ISBLANK('Title I, Part A'!E146),\"\",'Title I, Part A'!E146)","v":""},null,null,null,null,{"$f":"IF(E93=\"Yes\",('Title I, Part A'!H146),\"\")","v":""},{"$f":"IF(E93=\"Yes\",('Title I, Part A'!M146),\"\")","v":""},{"$f":"IF(ISBLANK('Title I, Part A'!N146),\"\",'Title I, Part A'!N146)","v":0},"",0,null,0,""]
[null,{"$f":"IF(ISBLANK('Title I, Part A'!B147),\"\",('Title I, Part A'!B147))","v":""},null,null,null,{"$f":"IF(ISBLANK('Title I, Part A'!E147),\"\",'Title I, Part A'!E147)","v":""},null,null,null,null,{"$f":"IF(E94=\"Yes\",('Title I, Part A'!H147),\"\")","v":""},{"$f":"IF(E94=\"Yes\",('Title I, Part A'!M147),\"\")","v":""},{"$f":"IF(ISBLANK('Title I, Part A'!N147),\"\",'Title I, Part A'!N147)","v":0},"",0,null,0,""]
[null,{"$f":"IF(ISBLANK('Title I, Part A'!B148),\"\",('Title I, Part A'!B148))","v":""},null,null,null,{"$f":"IF(ISBLANK('Title I, Part A'!E148),\"\",'Title I, Part A'!E148)","v":""},null,null,null,null,{"$f":"IF(E95=\"Yes\",('Title I, Part A'!H148),\"\")","v":""},{"$f":"IF(E95=\"Yes\",('Title I, Part A'!M148),\"\")","v":""},{"$f":"IF(ISBLANK('Title I, Part A'!N148),\"\",'Title I, Part A'!N148)","v":0},"",0,null,0,""]
[null,{"$f":"IF(ISBLANK('Title I, Part A'!B149),\"\",('Title I, Part A'!B149))","v":""},null,null,null,{"$f":"IF(ISBLANK('Title I, Part A'!E149),\"\",'Title I, Part A'!E149)","v":""},null,null,null,null,{"$f":"IF(E96=\"Yes\",('Title I, Part A'!H149),\"\")","v":""},{"$f":"IF(E96=\"Yes\",('Title I, Part A'!M149),\"\")","v":""},{"$f":"IF(ISBLANK('Title I, Part A'!N149),\"\",'Title I, Part A'!N149)","v":0},"",0,null,0,""]
[null,{"$f":"IF(ISBLANK('Title I, Part A'!B150),\"\",('Title I, Part A'!B150))","v":""},null,null,null,{"$f":"IF(ISBLANK('Title I, Part A'!E150),\"\",'Title I, Part A'!E150)","v":""},null,null,null,null,{"$f":"IF(E97=\"Yes\",('Title I, Part A'!H150),\"\")","v":""},{"$f":"IF(E97=\"Yes\",('Title I, Part A'!M150),\"\")","v":""},{"$f":"IF(ISBLANK('Title I, Part A'!N150),\"\",'Title I, Part A'!N150)","v":0},"",0,null,0,""]
[null,{"$f":"IF(ISBLANK('Title I, Part A'!B151),\"\",('Title I, Part A'!B151))","v":""},null,null,null,{"$f":"IF(ISBLANK('Title I, Part A'!E151),\"\",'Title I, Part A'!E151)","v":""},null,null,null,null,{"$f":"IF(E98=\"Yes\",('Title I, Part A'!H151),\"\")","v":""},{"$f":"IF(E98=\"Yes\",('Title I, Part A'!M151),\"\")","v":""},{"$f":"IF(ISBLANK('Title I, Part A'!N151),\"\",'Title I, Part A'!N151)","v":0},"",0,null,0,""]
[null,{"$f":"IF(ISBLANK('Title I, Part A'!B152),\"\",('Title I, Part A'!B152))","v":""},null,null,null,{"$f":"IF(ISBLANK('Title I, Part A'!E152),\"\",'Title I, Part A'!E152)","v":""},null,null,null,null,{"$f":"IF(E99=\"Yes\",('Title I, Part A'!H152),\"\")","v":""},{"$f":"IF(E99=\"Yes\",('Title I, Part A'!M152),\"\")","v":""},{"$f":"IF(ISBLANK('Title I, Part A'!N152),\"\",'Title I, Part A'!N152)","v":0},"",0,null,0,""]
[null,{"$f":"IF(ISBLANK('Title I, Part A'!B153),\"\",('Title I, Part A'!B153))","v":""},null,null,null,{"$f":"IF(ISBLANK('Title I, Part A'!E153),\"\",'Title I, Part A'!E153)","v":""},null,null,null,null,{"$f":"IF(E100=\"Yes\",('Title I, Part A'!H153),\"\")","v":""},{"$f":"IF(E100=\"Yes\",('Title I, Part A'!M153),\"\")","v":""},{"$f":"IF(ISBLANK('Title I, Part A'!N153),\"\",'Title I, Part A'!N153)","v":0},"",0,null,0,""]
[null,{"$f":"IF(ISBLANK('Title I, Part A'!B154),\"\",('Title I, Part A'!B154))","v":""},null,null,null,{"$f":"IF(ISBLANK('Title I, Part A'!E154),\"\",'Title I, Part A'!E154)","v":""},null,null,null,null,{"$f":"IF(E101=\"Yes\",('Title I, Part A'!H154),\"\")","v":""},{"$f":"IF(E101=\"Yes\",('Title I, Part A'!M154),\"\")","v":""},{"$f":"IF(ISBLANK('Title I, Part A'!N154),\"\",'Title I, Part A'!N154)","v":0},"",0,null,0,""]
[null,{"$f":"IF(ISBLANK('Title I, Part A'!B155),\"\",('Title I, Part A'!B155))","v":""},null,null,null,{"$f":"IF(ISBLANK('Title I, Part A'!E155),\"\",'Title I, Part A'!E155)","v":""},null,null,null,null,{"$f":"IF(E102=\"Yes\",('Title I, Part A'!H155),\"\")","v":""},{"$f":"IF(E102=\"Yes\",('Title I, Part A'!M155),\"\")","v":""},{"$f":"IF(ISBLANK('Title I, Part A'!N155),\"\",'Title I, Part A'!N155)","v":0},"",0,null,0,""]
[null,{"$f":"IF(ISBLANK('Title I, Part A'!B156),\"\",('Title I, Part A'!B156))","v":""},null,null,null,{"$f":"IF(ISBLANK('Title I, Part A'!E156),\"\",'Title I, Part A'!E156)","v":""},null,null,null,null,{"$f":"IF(E103=\"Yes\",('Title I, Part A'!H156),\"\")","v":""},{"$f":"IF(E103=\"Yes\",('Title I, Part A'!M156),\"\")","v":""},{"$f":"IF(ISBLANK('Title I, Part A'!N156),\"\",'Title I, Part A'!N156)","v":0},"",0,null,0,""]
[null,{"$f":"IF(ISBLANK('Title I, Part A'!B157),\"\",('Title I, Part A'!B157))","v":""},null,null,null,{"$f":"IF(ISBLANK('Title I, Part A'!E157),\"\",'Title I, Part A'!E157)","v":""},null,null,null,null,{"$f":"IF(E104=\"Yes\",('Title I, Part A'!H157),\"\")","v":""},{"$f":"IF(E104=\"Yes\",('Title I, Part A'!M157),\"\")","v":""},{"$f":"IF(ISBLANK('Title I, Part A'!N157),\"\",'Title I, Part A'!N157)","v":0},"",0,null,0,""]
[null,{"$f":"IF(ISBLANK('Title I, Part A'!B158),\"\",('Title I, Part A'!B158))","v":""},null,null,null,{"$f":"IF(ISBLANK('Title I, Part A'!E158),\"\",'Title I, Part A'!E158)","v":""},null,null,null,null,{"$f":"IF(E105=\"Yes\",('Title I, Part A'!H158),\"\")","v":""},{"$f":"IF(E105=\"Yes\",('Title I, Part A'!M158),\"\")","v":""},{"$f":"IF(ISBLANK('Title I, Part A'!N158),\"\",'Title I, Part A'!N158)","v":0},"",0,null,0,""]
[null,{"$f":"IF(ISBLANK('Title I, Part A'!B159),\"\",('Title I, Part A'!B159))","v":""},null,null,null,{"$f":"IF(ISBLANK('Title I, Part A'!E159),\"\",'Title I, Part A'!E159)","v":""},null,null,null,null,{"$f":"IF(E106=\"Yes\",('Title I, Part A'!H159),\"\")","v":""},{"$f":"IF(E106=\"Yes\",('Title I, Part A'!M159),\"\")","v":""},{"$f":"IF(ISBLANK('Title I, Part A'!N159),\"\",'Title I, Part A'!N159)","v":0},"",0,null,0,""]
[null,{"$f":"IF(ISBLANK('Title I, Part A'!B160),\"\",('Title I, Part A'!B160))","v":""},null,null,null,{"$f":"IF(ISBLANK('Title I, Part A'!E160),\"\",'Title I, Part A'!E160)","v":""},null,null,null,null,{"$f":"IF(E107=\"Yes\",('Title I, Part A'!H160),\"\")","v":""},{"$f":"IF(E107=\"Yes\",('Title I, Part A'!M160),\"\")","v":""},{"$f":"IF(ISBLANK('Title I, Part A'!N160),\"\",'Title I, Part A'!N160)","v":0},"",0,null,0,""]
[null,{"$f":"IF(ISBLANK('Title I, Part A'!B161),\"\",('Title I, Part A'!B161))","v":""},null,null,null,{"$f":"IF(ISBLANK('Title I, Part A'!E161),\"\",'Title I, Part A'!E161)","v":""},null,null,null,null,{"$f":"IF(E108=\"Yes\",('Title I, Part A'!H161),\"\")","v":""},{"$f":"IF(E108=\"Yes\",('Title I, Part A'!M161),\"\")","v":""},{"$f":"IF(ISBLANK('Title I, Part A'!N161),\"\",'Title I, Part A'!N161)","v":0},"",0,null,0,""]
[null,{"$f":"IF(ISBLANK('Title I, Part A'!B162),\"\",('Title I, Part A'!B162))","v":""},null,null,null,{"$f":"IF(ISBLANK('Title I, Part A'!E162),\"\",'Title I, Part A'!E162)","v":""},null,null,null,null,{"$f":"IF(E109=\"Yes\",('Title I, Part A'!H162),\"\")","v":""},{"$f":"IF(E109=\"Yes\",('Title I, Part A'!M162),\"\")","v":""},{"$f":"IF(ISBLANK('Title I, Part A'!N162),\"\",'Title I, Part A'!N162)","v":0},"",0,null,0,""]
[null,{"$f":"IF(ISBLANK('Title I, Part A'!B163),\"\",('Title I, Part A'!B163))","v":""},null,null,null,{"$f":"IF(ISBLANK('Title I, Part A'!E163),\"\",'Title I, Part A'!E163)","v":""},null,null,null,null,{"$f":"IF(E110=\"Yes\",('Title I, Part A'!H163),\"\")","v":""},{"$f":"IF(E110=\"Yes\",('Title I, Part A'!M163),\"\")","v":""},{"$f":"IF(ISBLANK('Title I, Part A'!N163),\"\",'Title I, Part A'!N163)","v":0},"",0,null,0,""]
[null,{"$f":"IF(ISBLANK('Title I, Part A'!B164),\"\",('Title I, Part A'!B164))","v":""},null,null,null,{"$f":"IF(ISBLANK('Title I, Part A'!E164),\"\",'Title I, Part A'!E164)","v":""},null,null,null,null,{"$f":"IF(E111=\"Yes\",('Title I, Part A'!H164),\"\")","v":""},{"$f":"IF(E111=\"Yes\",('Title I, Part A'!M164),\"\")","v":""},{"$f":"IF(ISBLANK('Title I, Part A'!N164),\"\",'Title I, Part A'!N164)","v":0},"",0,null,0,""]
[null,{"$f":"IF(ISBLANK('Title I, Part A'!B165),\"\",('Title I, Part A'!B165))","v":""},null,null,null,{"$f":"IF(ISBLANK('Title I, Part A'!E165),\"\",'Title I, Part A'!E165)","v":""},null,null,null,null,{"$f":"IF(E112=\"Yes\",('Title I, Part A'!H165),\"\")","v":""},{"$f":"IF(E112=\"Yes\",('Title I, Part A'!M165),\"\")","v":""},{"$f":"IF(ISBLANK('Title I, Part A'!N165),\"\",'Title I, Part A'!N165)","v":0},"",0,null,0,""]
[null,{"$f":"IF(ISBLANK('Title I, Part A'!B166),\"\",('Title I, Part A'!B166))","v":""},null,null,null,{"$f":"IF(ISBLANK('Title I, Part A'!E166),\"\",'Title I, Part A'!E166)","v":""},null,null,null,null,{"$f":"IF(E113=\"Yes\",('Title I, Part A'!H166),\"\")","v":""},{"$f":"IF(E113=\"Yes\",('Title I, Part A'!M166),\"\")","v":""},{"$f":"IF(ISBLANK('Title I, Part A'!N166),\"\",'Title I, Part A'!N166)","v":0},"",0,null,0,""]
[null,{"$f":"IF(ISBLANK('Title I, Part A'!B167),\"\",('Title I, Part A'!B167))","v":""},null,null,null,{"$f":"IF(ISBLANK('Title I, Part A'!E167),\"\",'Title I, Part A'!E167)","v":""},null,null,null,null,{"$f":"IF(E114=\"Yes\",('Title I, Part A'!H167),\"\")","v":""},{"$f":"IF(E114=\"Yes\",('Title I, Part A'!M167),\"\")","v":""},{"$f":"IF(ISBLANK('Title I, Part A'!N167),\"\",'Title I, Part A'!N167)","v":0},"",0,null,0,""]
[null,{"$f":"IF(ISBLANK('Title I, Part A'!B168),\"\",('Title I, Part A'!B168))","v":""},null,null,null,{"$f":"IF(ISBLANK('Title I, Part A'!E168),\"\",'Title I, Part A'!E168)","v":""},null,null,null,null,{"$f":"IF(E115=\"Yes\",('Title I, Part A'!H168),\"\")","v":""},{"$f":"IF(E115=\"Yes\",('Title I, Part A'!M168),\"\")","v":""},{"$f":"IF(ISBLANK('Title I, Part A'!N168),\"\",'Title I, Part A'!N168)","v":0},"",0,null,0,""]
[null,{"$f":"IF(ISBLANK('Title I, Part A'!B169),\"\",('Title I, Part A'!B169))","v":""},null,null,null,{"$f":"IF(ISBLANK('Title I, Part A'!E169),\"\",'Title I, Part A'!E169)","v":""},null,null,null,null,{"$f":"IF(E116=\"Yes\",('Title I, Part A'!H169),\"\")","v":""},{"$f":"IF(E116=\"Yes\",('Title I, Part A'!M169),\"\")","v":""},{"$f":"IF(ISBLANK('Title I, Part A'!N169),\"\",'Title I, Part A'!N169)","v":0},"",0,null,0,""]
[null,{"$f":"IF(ISBLANK('Title I, Part A'!B170),\"\",('Title I, Part A'!B170))","v":""},null,null,null,{"$f":"IF(ISBLANK('Title I, Part A'!E170),\"\",'Title I, Part A'!E170)","v":""},null,null,null,null,{"$f":"IF(E117=\"Yes\",('Title I, Part A'!H170),\"\")","v":""},{"$f":"IF(E117=\"Yes\",('Title I, Part A'!M170),\"\")","v":""},{"$f":"IF(ISBLANK('Title I, Part A'!N170),\"\",'Title I, Part A'!N170)","v":0},"",0,null,0,""]
[null,{"$f":"IF(ISBLANK('Title I, Part A'!B171),\"\",('Title I, Part A'!B171))","v":""},null,null,null,{"$f":"IF(ISBLANK('Title I, Part A'!E171),\"\",'Title I, Part A'!E171)","v":""},null,null,null,null,{"$f":"IF(E118=\"Yes\",('Title I, Part A'!H171),\"\")","v":""},{"$f":"IF(E118=\"Yes\",('Title I, Part A'!M171),\"\")","v":""},{"$f":"IF(ISBLANK('Title I, Part A'!N171),\"\",'Title I, Part A'!N171)","v":0},"",0,null,0,""]
[null,{"$f":"IF(ISBLANK('Title I, Part A'!B172),\"\",('Title I, Part A'!B172))","v":""},null,null,null,{"$f":"IF(ISBLANK('Title I, Part A'!E172),\"\",'Title I, Part A'!E172)","v":""},null,null,null,null,{"$f":"IF(E119=\"Yes\",('Title I, Part A'!H172),\"\")","v":""},{"$f":"IF(E119=\"Yes\",('Title I, Part A'!M172),\"\")","v":""},{"$f":"IF(ISBLANK('Title I, Part A'!N172),\"\",'Title I, Part A'!N172)","v":0},"",0,null,0,""]
[null,{"$f":"IF(ISBLANK('Title I, Part A'!B173),\"\",('Title I, Part A'!B173))","v":""},null,null,null,{"$f":"IF(ISBLANK('Title I, Part A'!E173),\"\",'Title I, Part A'!E173)","v":""},null,null,null,null,{"$f":"IF(E120=\"Yes\",('Title I, Part A'!H173),\"\")","v":""},{"$f":"IF(E120=\"Yes\",('Title I, Part A'!M173),\"\")","v":""},{"$f":"IF(ISBLANK('Title I, Part A'!N173),\"\",'Title I, Part A'!N173)","v":0},"",0,null,0,""]
[null,{"$f":"IF(ISBLANK('Title I, Part A'!B174),\"\",('Title I, Part A'!B174))","v":""},null,null,null,{"$f":"IF(ISBLANK('Title I, Part A'!E174),\"\",'Title I, Part A'!E174)","v":""},null,null,null,null,{"$f":"IF(E121=\"Yes\",('Title I, Part A'!H174),\"\")","v":""},{"$f":"IF(E121=\"Yes\",('Title I, Part A'!M174),\"\")","v":""},{"$f":"IF(ISBLANK('Title I, Part A'!N174),\"\",'Title I, Part A'!N174)","v":0},"",0,null,0,""]
[null,{"$f":"IF(ISBLANK('Title I, Part A'!B175),\"\",('Title I, Part A'!B175))","v":""},null,null,null,{"$f":"IF(ISBLANK('Title I, Part A'!E175),\"\",'Title I, Part A'!E175)","v":""},null,null,null,null,{"$f":"IF(E122=\"Yes\",('Title I, Part A'!H175),\"\")","v":""},{"$f":"IF(E122=\"Yes\",('Title I, Part A'!M175),\"\")","v":""},{"$f":"IF(ISBLANK('Title I, Part A'!N175),\"\",'Title I, Part A'!N175)","v":0},"",0,null,0,""]
[null,{"$f":"IF(ISBLANK('Title I, Part A'!B176),\"\",('Title I, Part A'!B176))","v":""},null,null,null,{"$f":"IF(ISBLANK('Title I, Part A'!E176),\"\",'Title I, Part A'!E176)","v":""},null,null,null,null,{"$f":"IF(E123=\"Yes\",('Title I, Part A'!H176),\"\")","v":""},{"$f":"IF(E123=\"Yes\",('Title I, Part A'!M176),\"\")","v":""},{"$f":"IF(ISBLANK('Title I, Part A'!N176),\"\",'Title I, Part A'!N176)","v":0},"",0,null,{"$f":"IF(SUM(P123)=0,SUM(N123),IF(SUM(N123,P123)=P123,\"ERROR\",SUM(N123,P123)))","v":0},{"$f":"IF(E123=\"Yes\",SUM(Q123)/SUM(L123),\"\")","v":""}]
[null,{"$f":"IF(ISBLANK('Title I, Part A'!B177),\"\",('Title I, Part A'!B177))","v":""},null,null,null,{"$f":"IF(ISBLANK('Title I, Part A'!E177),\"\",'Title I, Part A'!E177)","v":""},null,null,null,null,{"$f":"IF(E124=\"Yes\",('Title I, Part A'!H177),\"\")","v":""},{"$f":"IF(E124=\"Yes\",('Title I, Part A'!M177),\"\")","v":""},{"$f":"IF(ISBLANK('Title I, Part A'!N177),\"\",'Title I, Part A'!N177)","v":0},{"$f":"IF(IF(E124=\"Yes\",IF(ISBLANK(L124),\"\",SUM(L124)*$O$50),0)>$G$47,SUM($G$47),IF(E124=\"Yes\",IF(ISBLANK(L124),\"\",SUM(L124)*$O$50),\"\"))","v":""},{"$f":"SUM(O123)-SUM(N124)-SUM(P124)","v":0},null,0,""]
[null,{"$f":"IF(ISBLANK('Title I, Part A'!B178),\"\",('Title I, Part A'!B178))","v":""},null,null,null,{"$f":"IF(ISBLANK('Title I, Part A'!E178),\"\",'Title I, Part A'!E178)","v":""},null,null,null,null,{"$f":"IF(E125=\"Yes\",('Title I, Part A'!H178),\"\")","v":""},{"$f":"IF(E125=\"Yes\",('Title I, Part A'!M178),\"\")","v":""},{"$f":"IF(ISBLANK('Title I, Part A'!N178),\"\",'Title I, Part A'!N178)","v":0},"",0,null,0,""]
[null,{"$f":"IF(ISBLANK('Title I, Part A'!B179),\"\",('Title I, Part A'!B179))","v":""},null,null,null,{"$f":"IF(ISBLANK('Title I, Part A'!E179),\"\",'Title I, Part A'!E179)","v":""},null,null,null,null,{"$f":"IF(E126=\"Yes\",('Title I, Part A'!H179),\"\")","v":""},{"$f":"IF(E126=\"Yes\",('Title I, Part A'!M179),\"\")","v":""},{"$f":"IF(ISBLANK('Title I, Part A'!N179),\"\",'Title I, Part A'!N179)","v":0},"",0,null,0,""]
[null,{"$f":"IF(ISBLANK('Title I, Part A'!B180),\"\",('Title I, Part A'!B180))","v":""},null,null,null,{"$f":"IF(ISBLANK('Title I, Part A'!E180),\"\",'Title I, Part A'!E180)","v":""},null,null,null,null,{"$f":"IF(E127=\"Yes\",('Title I, Part A'!H180),\"\")","v":""},{"$f":"IF(E127=\"Yes\",('Title I, Part A'!M180),\"\")","v":""},{"$f":"IF(ISBLANK('Title I, Part A'!N180),\"\",'Title I, Part A'!N180)","v":0},"",0,null,0,""]
[null,{"$f":"IF(ISBLANK('Title I, Part A'!B181),\"\",('Title I, Part A'!B181))","v":""},null,null,null,{"$f":"IF(ISBLANK('Title I, Part A'!E181),\"\",'Title I, Part A'!E181)","v":""},null,null,null,null,{"$f":"IF(E128=\"Yes\",('Title I, Part A'!H181),\"\")","v":""},{"$f":"IF(E128=\"Yes\",('Title I, Part A'!M181),\"\")","v":""},{"$f":"IF(ISBLANK('Title I, Part A'!N181),\"\",'Title I, Part A'!N181)","v":0},"",0,null,0,""]
[null,{"$f":"IF(ISBLANK('Title I, Part A'!B182),\"\",('Title I, Part A'!B182))","v":""},null,null,null,{"$f":"IF(ISBLANK('Title I, Part A'!E182),\"\",'Title I, Part A'!E182)","v":""},null,null,null,null,{"$f":"IF(E129=\"Yes\",('Title I, Part A'!H182),\"\")","v":""},{"$f":"IF(E129=\"Yes\",('Title I, Part A'!M182),\"\")","v":""},{"$f":"IF(ISBLANK('Title I, Part A'!N182),\"\",'Title I, Part A'!N182)","v":0},"",0,null,0,""]
[null,{"$f":"IF(ISBLANK('Title I, Part A'!B183),\"\",('Title I, Part A'!B183))","v":""},null,null,null,{"$f":"IF(ISBLANK('Title I, Part A'!E183),\"\",'Title I, Part A'!E183)","v":""},null,null,null,null,{"$f":"IF(E130=\"Yes\",('Title I, Part A'!H183),\"\")","v":""},{"$f":"IF(E130=\"Yes\",('Title I, Part A'!M183),\"\")","v":""},{"$f":"IF(ISBLANK('Title I, Part A'!N183),\"\",'Title I, Part A'!N183)","v":0},"",0,null,0,""]
[null,{"$f":"IF(ISBLANK('Title I, Part A'!B184),\"\",('Title I, Part A'!B184))","v":""},null,null,null,{"$f":"IF(ISBLANK('Title I, Part A'!E184),\"\",'Title I, Part A'!E184)","v":""},null,null,null,null,{"$f":"IF(E131=\"Yes\",('Title I, Part A'!H184),\"\")","v":""},{"$f":"IF(E131=\"Yes\",('Title I, Part A'!M184),\"\")","v":""},{"$f":"IF(ISBLANK('Title I, Part A'!N184),\"\",'Title I, Part A'!N184)","v":0},"",0,null,0,""]
[null,{"$f":"IF(ISBLANK('Title I, Part A'!B185),\"\",('Title I, Part A'!B185))","v":""},null,null,null,{"$f":"IF(ISBLANK('Title I, Part A'!E185),\"\",'Title I, Part A'!E185)","v":""},null,null,null,null,{"$f":"IF(E132=\"Yes\",('Title I, Part A'!H185),\"\")","v":""},{"$f":"IF(E132=\"Yes\",('Title I, Part A'!M185),\"\")","v":""},{"$f":"IF(ISBLANK('Title I, Part A'!N185),\"\",'Title I, Part A'!N185)","v":0},"",0,null,0,""]
[null,{"$f":"IF(ISBLANK('Title I, Part A'!B186),\"\",('Title I, Part A'!B186))","v":""},null,null,null,{"$f":"IF(ISBLANK('Title I, Part A'!E186),\"\",'Title I, Part A'!E186)","v":""},null,null,null,null,{"$f":"IF(E133=\"Yes\",('Title I, Part A'!H186),\"\")","v":""},{"$f":"IF(E133=\"Yes\",('Title I, Part A'!M186),\"\")","v":""},{"$f":"IF(ISBLANK('Title I, Part A'!N186),\"\",'Title I, Part A'!N186)","v":0},"",0,null,0,""]
[null,{"$f":"IF(ISBLANK('Title I, Part A'!B187),\"\",('Title I, Part A'!B187))","v":""},null,null,null,{"$f":"IF(ISBLANK('Title I, Part A'!E187),\"\",'Title I, Part A'!E187)","v":""},null,null,null,null,{"$f":"IF(E134=\"Yes\",('Title I, Part A'!H187),\"\")","v":""},{"$f":"IF(E134=\"Yes\",('Title I, Part A'!M187),\"\")","v":""},{"$f":"IF(ISBLANK('Title I, Part A'!N187),\"\",'Title I, Part A'!N187)","v":0},"",0,null,0,""]
[null,{"$f":"IF(ISBLANK('Title I, Part A'!B188),\"\",('Title I, Part A'!B188))","v":""},null,null,null,{"$f":"IF(ISBLANK('Title I, Part A'!E188),\"\",'Title I, Part A'!E188)","v":""},null,null,null,null,{"$f":"IF(E135=\"Yes\",('Title I, Part A'!H188),\"\")","v":""},{"$f":"IF(E135=\"Yes\",('Title I, Part A'!M188),\"\")","v":""},{"$f":"IF(ISBLANK('Title I, Part A'!N188),\"\",'Title I, Part A'!N188)","v":0},"",0,null,0,""]
[null,{"$f":"IF(ISBLANK('Title I, Part A'!B189),\"\",('Title I, Part A'!B189))","v":""},null,null,null,{"$f":"IF(ISBLANK('Title I, Part A'!E189),\"\",'Title I, Part A'!E189)","v":""},null,null,null,null,{"$f":"IF(E136=\"Yes\",('Title I, Part A'!H189),\"\")","v":""},{"$f":"IF(E136=\"Yes\",('Title I, Part A'!M189),\"\")","v":""},{"$f":"IF(ISBLANK('Title I, Part A'!N189),\"\",'Title I, Part A'!N189)","v":0},"",0,null,0,""]
[null,{"$f":"IF(ISBLANK('Title I, Part A'!B190),\"\",('Title I, Part A'!B190))","v":""},null,null,null,{"$f":"IF(ISBLANK('Title I, Part A'!E190),\"\",'Title I, Part A'!E190)","v":""},null,null,null,null,{"$f":"IF(E137=\"Yes\",('Title I, Part A'!H190),\"\")","v":""},{"$f":"IF(E137=\"Yes\",('Title I, Part A'!M190),\"\")","v":""},{"$f":"IF(ISBLANK('Title I, Part A'!N190),\"\",'Title I, Part A'!N190)","v":0},"",0,null,0,""]
[null,{"$f":"IF(ISBLANK('Title I, Part A'!B191),\"\",('Title I, Part A'!B191))","v":""},null,null,null,{"$f":"IF(ISBLANK('Title I, Part A'!E191),\"\",'Title I, Part A'!E191)","v":""},null,null,null,null,{"$f":"IF(E138=\"Yes\",('Title I, Part A'!H191),\"\")","v":""},{"$f":"IF(E138=\"Yes\",('Title I, Part A'!M191),\"\")","v":""},{"$f":"IF(ISBLANK('Title I, Part A'!N191),\"\",'Title I, Part A'!N191)","v":0},"",0,null,0,""]
[null,{"$f":"IF(ISBLANK('Title I, Part A'!B192),\"\",('Title I, Part A'!B192))","v":""},null,null,null,{"$f":"IF(ISBLANK('Title I, Part A'!E192),\"\",'Title I, Part A'!E192)","v":""},null,null,null,null,{"$f":"IF(E139=\"Yes\",('Title I, Part A'!H192),\"\")","v":""},{"$f":"IF(E139=\"Yes\",('Title I, Part A'!M192),\"\")","v":""},{"$f":"IF(ISBLANK('Title I, Part A'!N192),\"\",'Title I, Part A'!N192)","v":0},"",0,null,0,""]
[null,{"$f":"IF(ISBLANK('Title I, Part A'!B193),\"\",('Title I, Part A'!B193))","v":""},null,null,null,{"$f":"IF(ISBLANK('Title I, Part A'!E193),\"\",'Title I, Part A'!E193)","v":""},null,null,null,null,{"$f":"IF(E140=\"Yes\",('Title I, Part A'!H193),\"\")","v":""},{"$f":"IF(E140=\"Yes\",('Title I, Part A'!M193),\"\")","v":""},{"$f":"IF(ISBLANK('Title I, Part A'!N193),\"\",'Title I, Part A'!N193)","v":0},"",0,null,0,""]
[null,{"$f":"IF(ISBLANK('Title I, Part A'!B194),\"\",('Title I, Part A'!B194))","v":""},null,null,null,{"$f":"IF(ISBLANK('Title I, Part A'!E194),\"\",'Title I, Part A'!E194)","v":""},null,null,null,null,{"$f":"IF(E141=\"Yes\",('Title I, Part A'!H194),\"\")","v":""},{"$f":"IF(E141=\"Yes\",('Title I, Part A'!M194),\"\")","v":""},{"$f":"IF(ISBLANK('Title I, Part A'!N194),\"\",'Title I, Part A'!N194)","v":0},"",0,null,0,""]
[null,{"$f":"IF(ISBLANK('Title I, Part A'!B195),\"\",('Title I, Part A'!B195))","v":""},null,null,null,{"$f":"IF(ISBLANK('Title I, Part A'!E195),\"\",'Title I, Part A'!E195)","v":""},null,null,null,null,{"$f":"IF(E142=\"Yes\",('Title I, Part A'!H195),\"\")","v":""},{"$f":"IF(E142=\"Yes\",('Title I, Part A'!M195),\"\")","v":""},{"$f":"IF(ISBLANK('Title I, Part A'!N195),\"\",'Title I, Part A'!N195)","v":0},"",0,null,0,""]
[null,{"$f":"IF(ISBLANK('Title I, Part A'!B196),\"\",('Title I, Part A'!B196))","v":""},null,null,null,{"$f":"IF(ISBLANK('Title I, Part A'!E196),\"\",'Title I, Part A'!E196)","v":""},null,null,null,null,{"$f":"IF(E143=\"Yes\",('Title I, Part A'!H196),\"\")","v":""},{"$f":"IF(E143=\"Yes\",('Title I, Part A'!M196),\"\")","v":""},{"$f":"IF(ISBLANK('Title I, Part A'!N196),\"\",'Title I, Part A'!N196)","v":0},"",0,null,0,""]
[null,{"$f":"IF(ISBLANK('Title I, Part A'!B197),\"\",('Title I, Part A'!B197))","v":""},null,null,null,{"$f":"IF(ISBLANK('Title I, Part A'!E197),\"\",'Title I, Part A'!E197)","v":""},null,null,null,null,{"$f":"IF(E144=\"Yes\",('Title I, Part A'!H197),\"\")","v":""},{"$f":"IF(E144=\"Yes\",('Title I, Part A'!M197),\"\")","v":""},{"$f":"IF(ISBLANK('Title I, Part A'!N197),\"\",'Title I, Part A'!N197)","v":0},"",0,null,0,""]
[null,{"$f":"IF(ISBLANK('Title I, Part A'!B198),\"\",('Title I, Part A'!B198))","v":""},null,null,null,{"$f":"IF(ISBLANK('Title I, Part A'!E198),\"\",'Title I, Part A'!E198)","v":""},null,null,null,null,{"$f":"IF(E145=\"Yes\",('Title I, Part A'!H198),\"\")","v":""},{"$f":"IF(E145=\"Yes\",('Title I, Part A'!M198),\"\")","v":""},{"$f":"IF(ISBLANK('Title I, Part A'!N198),\"\",'Title I, Part A'!N198)","v":0},"",0,null,0,""]
[null,{"$f":"IF(ISBLANK('Title I, Part A'!B199),\"\",('Title I, Part A'!B199))","v":""},null,null,null,{"$f":"IF(ISBLANK('Title I, Part A'!E199),\"\",'Title I, Part A'!E199)","v":""},null,null,null,null,{"$f":"IF(E146=\"Yes\",('Title I, Part A'!H199),\"\")","v":""},{"$f":"IF(E146=\"Yes\",('Title I, Part A'!M199),\"\")","v":""},{"$f":"IF(ISBLANK('Title I, Part A'!N199),\"\",'Title I, Part A'!N199)","v":0},"",0,null,0,""]
[null,{"$f":"IF(ISBLANK('Title I, Part A'!B200),\"\",('Title I, Part A'!B200))","v":""},null,null,null,{"$f":"IF(ISBLANK('Title I, Part A'!E200),\"\",'Title I, Part A'!E200)","v":""},null,null,null,null,{"$f":"IF(E147=\"Yes\",('Title I, Part A'!H200),\"\")","v":""},{"$f":"IF(E147=\"Yes\",('Title I, Part A'!M200),\"\")","v":""},{"$f":"IF(ISBLANK('Title I, Part A'!N200),\"\",'Title I, Part A'!N200)","v":0},"",0,null,0,""]
[null,{"$f":"IF(ISBLANK('Title I, Part A'!B201),\"\",('Title I, Part A'!B201))","v":""},null,null,null,{"$f":"IF(ISBLANK('Title I, Part A'!E201),\"\",'Title I, Part A'!E201)","v":""},null,null,null,null,{"$f":"IF(E148=\"Yes\",('Title I, Part A'!H201),\"\")","v":""},{"$f":"IF(E148=\"Yes\",('Title I, Part A'!M201),\"\")","v":""},{"$f":"IF(ISBLANK('Title I, Part A'!N201),\"\",'Title I, Part A'!N201)","v":0},"",0,null,0,""]
[null,{"$f":"IF(ISBLANK('Title I, Part A'!B202),\"\",('Title I, Part A'!B202))","v":""},null,null,null,{"$f":"IF(ISBLANK('Title I, Part A'!E202),\"\",'Title I, Part A'!E202)","v":""},null,null,null,null,{"$f":"IF(E149=\"Yes\",('Title I, Part A'!H202),\"\")","v":""},{"$f":"IF(E149=\"Yes\",('Title I, Part A'!M202),\"\")","v":""},{"$f":"IF(ISBLANK('Title I, Part A'!N202),\"\",'Title I, Part A'!N202)","v":0},"",0,null,0,""]
[null,{"$f":"IF(ISBLANK('Title I, Part A'!B203),\"\",('Title I, Part A'!B203))","v":""},null,null,null,{"$f":"IF(ISBLANK('Title I, Part A'!E203),\"\",'Title I, Part A'!E203)","v":""},null,null,null,null,{"$f":"IF(E150=\"Yes\",('Title I, Part A'!H203),\"\")","v":""},{"$f":"IF(E150=\"Yes\",('Title I, Part A'!M203),\"\")","v":""},{"$f":"IF(ISBLANK('Title I, Part A'!N203),\"\",'Title I, Part A'!N203)","v":0},"",0,null,0,""]
[null,{"$f":"IF(ISBLANK('Title I, Part A'!B204),\"\",('Title I, Part A'!B204))","v":""},null,null,null,{"$f":"IF(ISBLANK('Title I, Part A'!E204),\"\",'Title I, Part A'!E204)","v":""},null,null,null,null,{"$f":"IF(E151=\"Yes\",('Title I, Part A'!H204),\"\")","v":""},{"$f":"IF(E151=\"Yes\",('Title I, Part A'!M204),\"\")","v":""},{"$f":"IF(ISBLANK('Title I, Part A'!N204),\"\",'Title I, Part A'!N204)","v":0},"",0,null,0,""]
[null,{"$f":"IF(ISBLANK('Title I, Part A'!B205),\"\",('Title I, Part A'!B205))","v":""},null,null,null,{"$f":"IF(ISBLANK('Title I, Part A'!E205),\"\",'Title I, Part A'!E205)","v":""},null,null,null,null,{"$f":"IF(E152=\"Yes\",('Title I, Part A'!H205),\"\")","v":""},{"$f":"IF(E152=\"Yes\",('Title I, Part A'!M205),\"\")","v":""},{"$f":"IF(ISBLANK('Title I, Part A'!N205),\"\",'Title I, Part A'!N205)","v":0},"",0,null,0,""]
[null,{"$f":"IF(ISBLANK('Title I, Part A'!B206),\"\",('Title I, Part A'!B206))","v":""},null,null,null,{"$f":"IF(ISBLANK('Title I, Part A'!E206),\"\",'Title I, Part A'!E206)","v":""},null,null,null,null,{"$f":"IF(E153=\"Yes\",('Title I, Part A'!H206),\"\")","v":""},{"$f":"IF(E153=\"Yes\",('Title I, Part A'!M206),\"\")","v":""},{"$f":"IF(ISBLANK('Title I, Part A'!N206),\"\",'Title I, Part A'!N206)","v":0},"",0,null,0,""]
[null,{"$f":"IF(ISBLANK('Title I, Part A'!B207),\"\",('Title I, Part A'!B207))","v":""},null,null,null,{"$f":"IF(ISBLANK('Title I, Part A'!E207),\"\",'Title I, Part A'!E207)","v":""},null,null,null,null,{"$f":"IF(E154=\"Yes\",('Title I, Part A'!H207),\"\")","v":""},{"$f":"IF(E154=\"Yes\",('Title I, Part A'!M207),\"\")","v":""},{"$f":"IF(ISBLANK('Title I, Part A'!N207),\"\",'Title I, Part A'!N207)","v":0},"",0,null,0,""]
[null,{"$f":"IF(ISBLANK('Title I, Part A'!B208),\"\",('Title I, Part A'!B208))","v":""},null,null,null,{"$f":"IF(ISBLANK('Title I, Part A'!E208),\"\",'Title I, Part A'!E208)","v":""},null,null,null,null,{"$f":"IF(E155=\"Yes\",('Title I, Part A'!H208),\"\")","v":""},{"$f":"IF(E155=\"Yes\",('Title I, Part A'!M208),\"\")","v":""},{"$f":"IF(ISBLANK('Title I, Part A'!N208),\"\",'Title I, Part A'!N208)","v":0},"",0,null,0,""]
[null,{"$f":"IF(ISBLANK('Title I, Part A'!B209),\"\",('Title I, Part A'!B209))","v":""},null,null,null,{"$f":"IF(ISBLANK('Title I, Part A'!E209),\"\",'Title I, Part A'!E209)","v":""},null,null,null,null,{"$f":"IF(E156=\"Yes\",('Title I, Part A'!H209),\"\")","v":""},{"$f":"IF(E156=\"Yes\",('Title I, Part A'!M209),\"\")","v":""},{"$f":"IF(ISBLANK('Title I, Part A'!N209),\"\",'Title I, Part A'!N209)","v":0},"",0,null,0,""]
[null,{"$f":"IF(ISBLANK('Title I, Part A'!B210),\"\",('Title I, Part A'!B210))","v":""},null,null,null,{"$f":"IF(ISBLANK('Title I, Part A'!E210),\"\",'Title I, Part A'!E210)","v":""},null,null,null,null,{"$f":"IF(E157=\"Yes\",('Title I, Part A'!H210),\"\")","v":""},{"$f":"IF(E157=\"Yes\",('Title I, Part A'!M210),\"\")","v":""},{"$f":"IF(ISBLANK('Title I, Part A'!N210),\"\",'Title I, Part A'!N210)","v":0},"",0,null,0,""]
[null,{"$f":"IF(ISBLANK('Title I, Part A'!B211),\"\",('Title I, Part A'!B211))","v":""},null,null,null,{"$f":"IF(ISBLANK('Title I, Part A'!E211),\"\",'Title I, Part A'!E211)","v":""},null,null,null,null,{"$f":"IF(E158=\"Yes\",('Title I, Part A'!H211),\"\")","v":""},{"$f":"IF(E158=\"Yes\",('Title I, Part A'!M211),\"\")","v":""},{"$f":"IF(ISBLANK('Title I, Part A'!N211),\"\",'Title I, Part A'!N211)","v":0},"",0,null,0,""]
[null,{"$f":"IF(ISBLANK('Title I, Part A'!B212),\"\",('Title I, Part A'!B212))","v":""},null,null,null,{"$f":"IF(ISBLANK('Title I, Part A'!E212),\"\",'Title I, Part A'!E212)","v":""},null,null,null,null,{"$f":"IF(E159=\"Yes\",('Title I, Part A'!H212),\"\")","v":""},{"$f":"IF(E159=\"Yes\",('Title I, Part A'!M212),\"\")","v":""},{"$f":"IF(ISBLANK('Title I, Part A'!N212),\"\",'Title I, Part A'!N212)","v":0},"",0,null,0,""]
[null,{"$f":"IF(ISBLANK('Title I, Part A'!B213),\"\",('Title I, Part A'!B213))","v":""},null,null,null,{"$f":"IF(ISBLANK('Title I, Part A'!E213),\"\",'Title I, Part A'!E213)","v":""},null,null,null,null,{"$f":"IF(E160=\"Yes\",('Title I, Part A'!H213),\"\")","v":""},{"$f":"IF(E160=\"Yes\",('Title I, Part A'!M213),\"\")","v":""},{"$f":"IF(ISBLANK('Title I, Part A'!N213),\"\",'Title I, Part A'!N213)","v":0},"",0,null,0,""]
[null,{"$f":"IF(ISBLANK('Title I, Part A'!B214),\"\",('Title I, Part A'!B214))","v":""},null,null,null,{"$f":"IF(ISBLANK('Title I, Part A'!E214),\"\",'Title I, Part A'!E214)","v":""},null,null,null,null,{"$f":"IF(E161=\"Yes\",('Title I, Part A'!H214),\"\")","v":""},{"$f":"IF(E161=\"Yes\",('Title I, Part A'!M214),\"\")","v":""},{"$f":"IF(ISBLANK('Title I, Part A'!N214),\"\",'Title I, Part A'!N214)","v":0},"",0,null,0,""]
[null,{"$f":"IF(ISBLANK('Title I, Part A'!B215),\"\",('Title I, Part A'!B215))","v":""},null,null,null,{"$f":"IF(ISBLANK('Title I, Part A'!E215),\"\",'Title I, Part A'!E215)","v":""},null,null,null,null,{"$f":"IF(E162=\"Yes\",('Title I, Part A'!H215),\"\")","v":""},{"$f":"IF(E162=\"Yes\",('Title I, Part A'!M215),\"\")","v":""},{"$f":"IF(ISBLANK('Title I, Part A'!N215),\"\",'Title I, Part A'!N215)","v":0},"",0,null,0,""]
[null,{"$f":"IF(ISBLANK('Title I, Part A'!B216),\"\",('Title I, Part A'!B216))","v":""},null,null,null,{"$f":"IF(ISBLANK('Title I, Part A'!E216),\"\",'Title I, Part A'!E216)","v":""},null,null,null,null,{"$f":"IF(E163=\"Yes\",('Title I, Part A'!H216),\"\")","v":""},{"$f":"IF(E163=\"Yes\",('Title I, Part A'!M216),\"\")","v":""},{"$f":"IF(ISBLANK('Title I, Part A'!N216),\"\",'Title I, Part A'!N216)","v":0},"",0,null,0,""]
[null,{"$f":"IF(ISBLANK('Title I, Part A'!B217),\"\",('Title I, Part A'!B217))","v":""},null,null,null,{"$f":"IF(ISBLANK('Title I, Part A'!E217),\"\",'Title I, Part A'!E217)","v":""},null,null,null,null,{"$f":"IF(E164=\"Yes\",('Title I, Part A'!H217),\"\")","v":""},{"$f":"IF(E164=\"Yes\",('Title I, Part A'!M217),\"\")","v":""},{"$f":"IF(ISBLANK('Title I, Part A'!N217),\"\",'Title I, Part A'!N217)","v":0},"",0,null,0,""]
[null,{"$f":"IF(ISBLANK('Title I, Part A'!B218),\"\",('Title I, Part A'!B218))","v":""},null,null,null,{"$f":"IF(ISBLANK('Title I, Part A'!E218),\"\",'Title I, Part A'!E218)","v":""},null,null,null,null,{"$f":"IF(E165=\"Yes\",('Title I, Part A'!H218),\"\")","v":""},{"$f":"IF(E165=\"Yes\",('Title I, Part A'!M218),\"\")","v":""},{"$f":"IF(ISBLANK('Title I, Part A'!N218),\"\",'Title I, Part A'!N218)","v":0},"",0,null,0,""]
[null,{"$f":"IF(ISBLANK('Title I, Part A'!B219),\"\",('Title I, Part A'!B219))","v":""},null,null,null,{"$f":"IF(ISBLANK('Title I, Part A'!E219),\"\",'Title I, Part A'!E219)","v":""},null,null,null,null,{"$f":"IF(E166=\"Yes\",('Title I, Part A'!H219),\"\")","v":""},{"$f":"IF(E166=\"Yes\",('Title I, Part A'!M219),\"\")","v":""},{"$f":"IF(ISBLANK('Title I, Part A'!N219),\"\",'Title I, Part A'!N219)","v":0},"",0,null,0,""]
[null,{"$f":"IF(ISBLANK('Title I, Part A'!B220),\"\",('Title I, Part A'!B220))","v":""},null,null,null,{"$f":"IF(ISBLANK('Title I, Part A'!E220),\"\",'Title I, Part A'!E220)","v":""},null,null,null,null,{"$f":"IF(E167=\"Yes\",('Title I, Part A'!H220),\"\")","v":""},{"$f":"IF(E167=\"Yes\",('Title I, Part A'!M220),\"\")","v":""},{"$f":"IF(ISBLANK('Title I, Part A'!N220),\"\",'Title I, Part A'!N220)","v":0},"",0,null,0,""]
[null,{"$f":"IF(ISBLANK('Title I, Part A'!B221),\"\",('Title I, Part A'!B221))","v":""},null,null,null,{"$f":"IF(ISBLANK('Title I, Part A'!E221),\"\",'Title I, Part A'!E221)","v":""},null,null,null,null,{"$f":"IF(E168=\"Yes\",('Title I, Part A'!H221),\"\")","v":""},{"$f":"IF(E168=\"Yes\",('Title I, Part A'!M221),\"\")","v":""},{"$f":"IF(ISBLANK('Title I, Part A'!N221),\"\",'Title I, Part A'!N221)","v":0},"",0,null,0,""]
[null,{"$f":"IF(ISBLANK('Title I, Part A'!B222),\"\",('Title I, Part A'!B222))","v":""},null,null,null,{"$f":"IF(ISBLANK('Title I, Part A'!E222),\"\",'Title I, Part A'!E222)","v":""},null,null,null,null,{"$f":"IF(E169=\"Yes\",('Title I, Part A'!H222),\"\")","v":""},{"$f":"IF(E169=\"Yes\",('Title I, Part A'!M222),\"\")","v":""},{"$f":"IF(ISBLANK('Title I, Part A'!N222),\"\",'Title I, Part A'!N222)","v":0},"",0,null,0,""]
[null,{"$f":"IF(ISBLANK('Title I, Part A'!B223),\"\",('Title I, Part A'!B223))","v":""},null,null,null,{"$f":"IF(ISBLANK('Title I, Part A'!E223),\"\",'Title I, Part A'!E223)","v":""},null,null,null,null,{"$f":"IF(E170=\"Yes\",('Title I, Part A'!H223),\"\")","v":""},{"$f":"IF(E170=\"Yes\",('Title I, Part A'!M223),\"\")","v":""},{"$f":"IF(ISBLANK('Title I, Part A'!N223),\"\",'Title I, Part A'!N223)","v":0},"",0,null,0,""]
[null,{"$f":"IF(ISBLANK('Title I, Part A'!B224),\"\",('Title I, Part A'!B224))","v":""},null,null,null,{"$f":"IF(ISBLANK('Title I, Part A'!E224),\"\",'Title I, Part A'!E224)","v":""},null,null,null,null,{"$f":"IF(E171=\"Yes\",('Title I, Part A'!H224),\"\")","v":""},{"$f":"IF(E171=\"Yes\",('Title I, Part A'!M224),\"\")","v":""},{"$f":"IF(ISBLANK('Title I, Part A'!N224),\"\",'Title I, Part A'!N224)","v":0},"",0,null,0,""]
[null,{"$f":"IF(ISBLANK('Title I, Part A'!B225),\"\",('Title I, Part A'!B225))","v":""},null,null,null,{"$f":"IF(ISBLANK('Title I, Part A'!E225),\"\",'Title I, Part A'!E225)","v":""},null,null,null,null,{"$f":"IF(E172=\"Yes\",('Title I, Part A'!H225),\"\")","v":""},{"$f":"IF(E172=\"Yes\",('Title I, Part A'!M225),\"\")","v":""},{"$f":"IF(ISBLANK('Title I, Part A'!N225),\"\",'Title I, Part A'!N225)","v":0},"",0,null,0,""]
[null,{"$f":"IF(ISBLANK('Title I, Part A'!B226),\"\",('Title I, Part A'!B226))","v":""},null,null,null,{"$f":"IF(ISBLANK('Title I, Part A'!E226),\"\",'Title I, Part A'!E226)","v":""},null,null,null,null,{"$f":"IF(E173=\"Yes\",('Title I, Part A'!H226),\"\")","v":""},{"$f":"IF(E173=\"Yes\",('Title I, Part A'!M226),\"\")","v":""},{"$f":"IF(ISBLANK('Title I, Part A'!N226),\"\",'Title I, Part A'!N226)","v":0},"",0,null,0,""]
[null,{"$f":"IF(ISBLANK('Title I, Part A'!B227),\"\",('Title I, Part A'!B227))","v":""},null,null,null,{"$f":"IF(ISBLANK('Title I, Part A'!E227),\"\",'Title I, Part A'!E227)","v":""},null,null,null,null,{"$f":"IF(E174=\"Yes\",('Title I, Part A'!H227),\"\")","v":""},{"$f":"IF(E174=\"Yes\",('Title I, Part A'!M227),\"\")","v":""},{"$f":"IF(ISBLANK('Title I, Part A'!N227),\"\",'Title I, Part A'!N227)","v":0},"",0,null,0,""]
[null,{"$f":"IF(ISBLANK('Title I, Part A'!B228),\"\",('Title I, Part A'!B228))","v":""},null,null,null,{"$f":"IF(ISBLANK('Title I, Part A'!E228),\"\",'Title I, Part A'!E228)","v":""},null,null,null,null,{"$f":"IF(E175=\"Yes\",('Title I, Part A'!H228),\"\")","v":""},{"$f":"IF(E175=\"Yes\",('Title I, Part A'!M228),\"\")","v":""},{"$f":"IF(ISBLANK('Title I, Part A'!N228),\"\",'Title I, Part A'!N228)","v":0},"",0,null,0,""]
[null,{"$f":"IF(ISBLANK('Title I, Part A'!B229),\"\",('Title I, Part A'!B229))","v":""},null,null,null,{"$f":"IF(ISBLANK('Title I, Part A'!E229),\"\",'Title I, Part A'!E229)","v":""},null,null,null,null,{"$f":"IF(E176=\"Yes\",('Title I, Part A'!H229),\"\")","v":""},{"$f":"IF(E176=\"Yes\",('Title I, Part A'!M229),\"\")","v":""},{"$f":"IF(ISBLANK('Title I, Part A'!N229),\"\",'Title I, Part A'!N229)","v":0},"",0,null,0,""]
[null,{"$f":"IF(ISBLANK('Title I, Part A'!B230),\"\",('Title I, Part A'!B230))","v":""},null,null,null,{"$f":"IF(ISBLANK('Title I, Part A'!E230),\"\",'Title I, Part A'!E230)","v":""},null,null,null,null,{"$f":"IF(E177=\"Yes\",('Title I, Part A'!H230),\"\")","v":""},{"$f":"IF(E177=\"Yes\",('Title I, Part A'!M230),\"\")","v":""},{"$f":"IF(ISBLANK('Title I, Part A'!N230),\"\",'Title I, Part A'!N230)","v":0},"",0,null,0,""]
[null,{"$f":"IF(ISBLANK('Title I, Part A'!B231),\"\",('Title I, Part A'!B231))","v":""},null,null,null,{"$f":"IF(ISBLANK('Title I, Part A'!E231),\"\",'Title I, Part A'!E231)","v":""},null,null,null,null,{"$f":"IF(E178=\"Yes\",('Title I, Part A'!H231),\"\")","v":""},{"$f":"IF(E178=\"Yes\",('Title I, Part A'!M231),\"\")","v":""},{"$f":"IF(ISBLANK('Title I, Part A'!N231),\"\",'Title I, Part A'!N231)","v":0},"",0,null,0,""]
[null,{"$f":"IF(ISBLANK('Title I, Part A'!B232),\"\",('Title I, Part A'!B232))","v":""},null,null,null,{"$f":"IF(ISBLANK('Title I, Part A'!E232),\"\",'Title I, Part A'!E232)","v":""},null,null,null,null,{"$f":"IF(E179=\"Yes\",('Title I, Part A'!H232),\"\")","v":""},{"$f":"IF(E179=\"Yes\",('Title I, Part A'!M232),\"\")","v":""},{"$f":"IF(ISBLANK('Title I, Part A'!N232),\"\",'Title I, Part A'!N232)","v":0},"",0,null,0,""]
[null,{"$f":"IF(ISBLANK('Title I, Part A'!B233),\"\",('Title I, Part A'!B233))","v":""},null,null,null,{"$f":"IF(ISBLANK('Title I, Part A'!E233),\"\",'Title I, Part A'!E233)","v":""},null,null,null,null,{"$f":"IF(E180=\"Yes\",('Title I, Part A'!H233),\"\")","v":""},{"$f":"IF(E180=\"Yes\",('Title I, Part A'!M233),\"\")","v":""},{"$f":"IF(ISBLANK('Title I, Part A'!N233),\"\",'Title I, Part A'!N233)","v":0},"",0,null,0,""]
[null,{"$f":"IF(ISBLANK('Title I, Part A'!B234),\"\",('Title I, Part A'!B234))","v":""},null,null,null,{"$f":"IF(ISBLANK('Title I, Part A'!E234),\"\",'Title I, Part A'!E234)","v":""},null,null,null,null,{"$f":"IF(E181=\"Yes\",('Title I, Part A'!H234),\"\")","v":""},{"$f":"IF(E181=\"Yes\",('Title I, Part A'!M234),\"\")","v":""},{"$f":"IF(ISBLANK('Title I, Part A'!N234),\"\",'Title I, Part A'!N234)","v":0},"",0,null,0,""]
[null,{"$f":"IF(ISBLANK('Title I, Part A'!B235),\"\",('Title I, Part A'!B235))","v":""},null,null,null,{"$f":"IF(ISBLANK('Title I, Part A'!E235),\"\",'Title I, Part A'!E235)","v":""},null,null,null,null,{"$f":"IF(E182=\"Yes\",('Title I, Part A'!H235),\"\")","v":""},{"$f":"IF(E182=\"Yes\",('Title I, Part A'!M235),\"\")","v":""},{"$f":"IF(ISBLANK('Title I, Part A'!N235),\"\",'Title I, Part A'!N235)","v":0},"",0,null,0,""]
[null,{"$f":"IF(ISBLANK('Title I, Part A'!B236),\"\",('Title I, Part A'!B236))","v":""},null,null,null,{"$f":"IF(ISBLANK('Title I, Part A'!E236),\"\",'Title I, Part A'!E236)","v":""},null,null,null,null,{"$f":"IF(E183=\"Yes\",('Title I, Part A'!H236),\"\")","v":""},{"$f":"IF(E183=\"Yes\",('Title I, Part A'!M236),\"\")","v":""},{"$f":"IF(ISBLANK('Title I, Part A'!N236),\"\",'Title I, Part A'!N236)","v":0},"",0,null,0,""]
[null,{"$f":"IF(ISBLANK('Title I, Part A'!B237),\"\",('Title I, Part A'!B237))","v":""},null,null,null,{"$f":"IF(ISBLANK('Title I, Part A'!E237),\"\",'Title I, Part A'!E237)","v":""},null,null,null,null,{"$f":"IF(E184=\"Yes\",('Title I, Part A'!H237),\"\")","v":""},{"$f":"IF(E184=\"Yes\",('Title I, Part A'!M237),\"\")","v":""},{"$f":"IF(ISBLANK('Title I, Part A'!N237),\"\",'Title I, Part A'!N237)","v":0},"",0,null,0,""]
[null,{"$f":"IF(ISBLANK('Title I, Part A'!B238),\"\",('Title I, Part A'!B238))","v":""},null,null,null,{"$f":"IF(ISBLANK('Title I, Part A'!E238),\"\",'Title I, Part A'!E238)","v":""},null,null,null,null,{"$f":"IF(E185=\"Yes\",('Title I, Part A'!H238),\"\")","v":""},{"$f":"IF(E185=\"Yes\",('Title I, Part A'!M238),\"\")","v":""},{"$f":"IF(ISBLANK('Title I, Part A'!N238),\"\",'Title I, Part A'!N238)","v":0},"",0,null,0,""]
[null,{"$f":"IF(ISBLANK('Title I, Part A'!B239),\"\",('Title I, Part A'!B239))","v":""},null,null,null,{"$f":"IF(ISBLANK('Title I, Part A'!E239),\"\",'Title I, Part A'!E239)","v":""},null,null,null,null,{"$f":"IF(E186=\"Yes\",('Title I, Part A'!H239),\"\")","v":""},{"$f":"IF(E186=\"Yes\",('Title I, Part A'!M239),\"\")","v":""},{"$f":"IF(ISBLANK('Title I, Part A'!N239),\"\",'Title I, Part A'!N239)","v":0},"",0,null,0,""]
[null,{"$f":"IF(ISBLANK('Title I, Part A'!B240),\"\",('Title I, Part A'!B240))","v":""},null,null,null,{"$f":"IF(ISBLANK('Title I, Part A'!E240),\"\",'Title I, Part A'!E240)","v":""},null,null,null,null,{"$f":"IF(E187=\"Yes\",('Title I, Part A'!H240),\"\")","v":""},{"$f":"IF(E187=\"Yes\",('Title I, Part A'!M240),\"\")","v":""},{"$f":"IF(ISBLANK('Title I, Part A'!N240),\"\",'Title I, Part A'!N240)","v":0},"",0,null,{"$f":"IF(SUM(P187)=0,SUM(N187),IF(SUM(N187,P187)=P187,\"ERROR\",SUM(N187,P187)))","v":0},{"$f":"IF(E187=\"Yes\",SUM(Q187)/SUM(L187),\"\")","v":""}]
[null,{"$f":"IF(ISBLANK('Title I, Part A'!B241),\"\",('Title I, Part A'!B241))","v":""},null,null,null,{"$f":"IF(ISBLANK('Title I, Part A'!E241),\"\",'Title I, Part A'!E241)","v":""},null,null,null,null,{"$f":"IF(E188=\"Yes\",('Title I, Part A'!H241),\"\")","v":""},{"$f":"IF(E188=\"Yes\",('Title I, Part A'!M241),\"\")","v":""},{"$f":"IF(ISBLANK('Title I, Part A'!N241),\"\",'Title I, Part A'!N241)","v":0},{"$f":"IF(IF(E188=\"Yes\",IF(ISBLANK(L188),\"\",SUM(L188)*$O$50),0)>$G$47,SUM($G$47),IF(E188=\"Yes\",IF(ISBLANK(L188),\"\",SUM(L188)*$O$50),\"\"))","v":""},{"$f":"SUM(O187)-SUM(N188)-SUM(P188)","v":0},null,0,""]
[null,{"$f":"IF(ISBLANK('Title I, Part A'!B242),\"\",('Title I, Part A'!B242))","v":""},null,null,null,{"$f":"IF(ISBLANK('Title I, Part A'!E242),\"\",'Title I, Part A'!E242)","v":""},null,null,null,null,{"$f":"IF(E189=\"Yes\",('Title I, Part A'!H242),\"\")","v":""},{"$f":"IF(E189=\"Yes\",('Title I, Part A'!M242),\"\")","v":""},{"$f":"IF(ISBLANK('Title I, Part A'!N242),\"\",'Title I, Part A'!N242)","v":0},"",0,null,0,""]
[null,{"$f":"IF(ISBLANK('Title I, Part A'!B243),\"\",('Title I, Part A'!B243))","v":""},null,null,null,{"$f":"IF(ISBLANK('Title I, Part A'!E243),\"\",'Title I, Part A'!E243)","v":""},null,null,null,null,{"$f":"IF(E190=\"Yes\",('Title I, Part A'!H243),\"\")","v":""},{"$f":"IF(E190=\"Yes\",('Title I, Part A'!M243),\"\")","v":""},{"$f":"IF(ISBLANK('Title I, Part A'!N243),\"\",'Title I, Part A'!N243)","v":0},"",0,null,0,""]
[null,{"$f":"IF(ISBLANK('Title I, Part A'!B244),\"\",('Title I, Part A'!B244))","v":""},null,null,null,{"$f":"IF(ISBLANK('Title I, Part A'!E244),\"\",'Title I, Part A'!E244)","v":""},null,null,null,null,{"$f":"IF(E191=\"Yes\",('Title I, Part A'!H244),\"\")","v":""},{"$f":"IF(E191=\"Yes\",('Title I, Part A'!M244),\"\")","v":""},{"$f":"IF(ISBLANK('Title I, Part A'!N244),\"\",'Title I, Part A'!N244)","v":0},"",0,null,0,""]
[null,{"$f":"IF(ISBLANK('Title I, Part A'!B245),\"\",('Title I, Part A'!B245))","v":""},null,null,null,{"$f":"IF(ISBLANK('Title I, Part A'!E245),\"\",'Title I, Part A'!E245)","v":""},null,null,null,null,{"$f":"IF(E192=\"Yes\",('Title I, Part A'!H245),\"\")","v":""},{"$f":"IF(E192=\"Yes\",('Title I, Part A'!M245),\"\")","v":""},{"$f":"IF(ISBLANK('Title I, Part A'!N245),\"\",'Title I, Part A'!N245)","v":0},"",0,null,0,""]
[null,{"$f":"IF(ISBLANK('Title I, Part A'!B246),\"\",('Title I, Part A'!B246))","v":""},null,null,null,{"$f":"IF(ISBLANK('Title I, Part A'!E246),\"\",'Title I, Part A'!E246)","v":""},null,null,null,null,{"$f":"IF(E193=\"Yes\",('Title I, Part A'!H246),\"\")","v":""},{"$f":"IF(E193=\"Yes\",('Title I, Part A'!M246),\"\")","v":""},{"$f":"IF(ISBLANK('Title I, Part A'!N246),\"\",'Title I, Part A'!N246)","v":0},"",0,null,0,""]
[null,{"$f":"IF(ISBLANK('Title I, Part A'!B247),\"\",('Title I, Part A'!B247))","v":""},null,null,null,{"$f":"IF(ISBLANK('Title I, Part A'!E247),\"\",'Title I, Part A'!E247)","v":""},null,null,null,null,{"$f":"IF(E194=\"Yes\",('Title I, Part A'!H247),\"\")","v":""},{"$f":"IF(E194=\"Yes\",('Title I, Part A'!M247),\"\")","v":""},{"$f":"IF(ISBLANK('Title I, Part A'!N247),\"\",'Title I, Part A'!N247)","v":0},"",0,null,0,""]
[null,{"$f":"IF(ISBLANK('Title I, Part A'!B248),\"\",('Title I, Part A'!B248))","v":""},null,null,null,{"$f":"IF(ISBLANK('Title I, Part A'!E248),\"\",'Title I, Part A'!E248)","v":""},null,null,null,null,{"$f":"IF(E195=\"Yes\",('Title I, Part A'!H248),\"\")","v":""},{"$f":"IF(E195=\"Yes\",('Title I, Part A'!M248),\"\")","v":""},{"$f":"IF(ISBLANK('Title I, Part A'!N248),\"\",'Title I, Part A'!N248)","v":0},"",0,null,0,""]
[null,{"$f":"IF(ISBLANK('Title I, Part A'!B249),\"\",('Title I, Part A'!B249))","v":""},null,null,null,{"$f":"IF(ISBLANK('Title I, Part A'!E249),\"\",'Title I, Part A'!E249)","v":""},null,null,null,null,{"$f":"IF(E196=\"Yes\",('Title I, Part A'!H249),\"\")","v":""},{"$f":"IF(E196=\"Yes\",('Title I, Part A'!M249),\"\")","v":""},{"$f":"IF(ISBLANK('Title I, Part A'!N249),\"\",'Title I, Part A'!N249)","v":0},"",0,null,0,""]
[null,{"$f":"IF(ISBLANK('Title I, Part A'!B250),\"\",('Title I, Part A'!B250))","v":""},null,null,null,{"$f":"IF(ISBLANK('Title I, Part A'!E250),\"\",'Title I, Part A'!E250)","v":""},null,null,null,null,{"$f":"IF(E197=\"Yes\",('Title I, Part A'!H250),\"\")","v":""},{"$f":"IF(E197=\"Yes\",('Title I, Part A'!M250),\"\")","v":""},{"$f":"IF(ISBLANK('Title I, Part A'!N250),\"\",'Title I, Part A'!N250)","v":0},"",0,null,0,""]
[null,{"$f":"IF(ISBLANK('Title I, Part A'!B251),\"\",('Title I, Part A'!B251))","v":""},null,null,null,{"$f":"IF(ISBLANK('Title I, Part A'!E251),\"\",'Title I, Part A'!E251)","v":""},null,null,null,null,{"$f":"IF(E198=\"Yes\",('Title I, Part A'!H251),\"\")","v":""},{"$f":"IF(E198=\"Yes\",('Title I, Part A'!M251),\"\")","v":""},{"$f":"IF(ISBLANK('Title I, Part A'!N251),\"\",'Title I, Part A'!N251)","v":0},"",0,null,0,""]
[null,{"$f":"IF(ISBLANK('Title I, Part A'!B252),\"\",('Title I, Part A'!B252))","v":""},null,null,null,{"$f":"IF(ISBLANK('Title I, Part A'!E252),\"\",'Title I, Part A'!E252)","v":""},null,null,null,null,{"$f":"IF(E199=\"Yes\",('Title I, Part A'!H252),\"\")","v":""},{"$f":"IF(E199=\"Yes\",('Title I, Part A'!M252),\"\")","v":""},{"$f":"IF(ISBLANK('Title I, Part A'!N252),\"\",'Title I, Part A'!N252)","v":0},"",0,null,0,""]
[null,{"$f":"IF(ISBLANK('Title I, Part A'!B253),\"\",('Title I, Part A'!B253))","v":""},null,null,null,{"$f":"IF(ISBLANK('Title I, Part A'!E253),\"\",'Title I, Part A'!E253)","v":""},null,null,null,null,{"$f":"IF(E200=\"Yes\",('Title I, Part A'!H253),\"\")","v":""},{"$f":"IF(E200=\"Yes\",('Title I, Part A'!M253),\"\")","v":""},{"$f":"IF(ISBLANK('Title I, Part A'!N253),\"\",'Title I, Part A'!N253)","v":0},"",0,null,0,""]
[null,{"$f":"IF(ISBLANK('Title I, Part A'!B254),\"\",('Title I, Part A'!B254))","v":""},null,null,null,{"$f":"IF(ISBLANK('Title I, Part A'!E254),\"\",'Title I, Part A'!E254)","v":""},null,null,null,null,{"$f":"IF(E201=\"Yes\",('Title I, Part A'!H254),\"\")","v":""},{"$f":"IF(E201=\"Yes\",('Title I, Part A'!M254),\"\")","v":""},{"$f":"IF(ISBLANK('Title I, Part A'!N254),\"\",'Title I, Part A'!N254)","v":0},"",0,null,0,""]
[null,{"$f":"IF(ISBLANK('Title I, Part A'!B255),\"\",('Title I, Part A'!B255))","v":""},null,null,null,{"$f":"IF(ISBLANK('Title I, Part A'!E255),\"\",'Title I, Part A'!E255)","v":""},null,null,null,null,{"$f":"IF(E202=\"Yes\",('Title I, Part A'!H255),\"\")","v":""},{"$f":"IF(E202=\"Yes\",('Title I, Part A'!M255),\"\")","v":""},{"$f":"IF(ISBLANK('Title I, Part A'!N255),\"\",'Title I, Part A'!N255)","v":0},"",0,null,0,""]
[null,{"$f":"IF(ISBLANK('Title I, Part A'!B256),\"\",('Title I, Part A'!B256))","v":""},null,null,null,{"$f":"IF(ISBLANK('Title I, Part A'!E256),\"\",'Title I, Part A'!E256)","v":""},null,null,null,null,{"$f":"IF(E203=\"Yes\",('Title I, Part A'!H256),\"\")","v":""},{"$f":"IF(E203=\"Yes\",('Title I, Part A'!M256),\"\")","v":""},{"$f":"IF(ISBLANK('Title I, Part A'!N256),\"\",'Title I, Part A'!N256)","v":0},"",0,null,0,""]
[null,{"$f":"IF(ISBLANK('Title I, Part A'!B257),\"\",('Title I, Part A'!B257))","v":""},null,null,null,{"$f":"IF(ISBLANK('Title I, Part A'!E257),\"\",'Title I, Part A'!E257)","v":""},null,null,null,null,{"$f":"IF(E204=\"Yes\",('Title I, Part A'!H257),\"\")","v":""},{"$f":"IF(E204=\"Yes\",('Title I, Part A'!M257),\"\")","v":""},{"$f":"IF(ISBLANK('Title I, Part A'!N257),\"\",'Title I, Part A'!N257)","v":0},"",0,null,0,""]
[null,{"$f":"IF(ISBLANK('Title I, Part A'!B258),\"\",('Title I, Part A'!B258))","v":""},null,null,null,{"$f":"IF(ISBLANK('Title I, Part A'!E258),\"\",'Title I, Part A'!E258)","v":""},null,null,null,null,{"$f":"IF(E205=\"Yes\",('Title I, Part A'!H258),\"\")","v":""},{"$f":"IF(E205=\"Yes\",('Title I, Part A'!M258),\"\")","v":""},{"$f":"IF(ISBLANK('Title I, Part A'!N258),\"\",'Title I, Part A'!N258)","v":0},"",0,null,0,""]
[null,{"$f":"IF(ISBLANK('Title I, Part A'!B259),\"\",('Title I, Part A'!B259))","v":""},null,null,null,{"$f":"IF(ISBLANK('Title I, Part A'!E259),\"\",'Title I, Part A'!E259)","v":""},null,null,null,null,{"$f":"IF(E206=\"Yes\",('Title I, Part A'!H259),\"\")","v":""},{"$f":"IF(E206=\"Yes\",('Title I, Part A'!M259),\"\")","v":""},{"$f":"IF(ISBLANK('Title I, Part A'!N259),\"\",'Title I, Part A'!N259)","v":0},"",0,null,0,""]
[null,{"$f":"IF(ISBLANK('Title I, Part A'!B260),\"\",('Title I, Part A'!B260))","v":""},null,null,null,{"$f":"IF(ISBLANK('Title I, Part A'!E260),\"\",'Title I, Part A'!E260)","v":""},null,null,null,null,{"$f":"IF(E207=\"Yes\",('Title I, Part A'!H260),\"\")","v":""},{"$f":"IF(E207=\"Yes\",('Title I, Part A'!M260),\"\")","v":""},{"$f":"IF(ISBLANK('Title I, Part A'!N260),\"\",'Title I, Part A'!N260)","v":0},"",0,null,0,""]
[null,{"$f":"IF(ISBLANK('Title I, Part A'!B261),\"\",('Title I, Part A'!B261))","v":""},null,null,null,{"$f":"IF(ISBLANK('Title I, Part A'!E261),\"\",'Title I, Part A'!E261)","v":""},null,null,null,null,{"$f":"IF(E208=\"Yes\",('Title I, Part A'!H261),\"\")","v":""},{"$f":"IF(E208=\"Yes\",('Title I, Part A'!M261),\"\")","v":""},{"$f":"IF(ISBLANK('Title I, Part A'!N261),\"\",'Title I, Part A'!N261)","v":0},"",0,null,0,""]
[null,{"$f":"IF(ISBLANK('Title I, Part A'!B262),\"\",('Title I, Part A'!B262))","v":""},null,null,null,{"$f":"IF(ISBLANK('Title I, Part A'!E262),\"\",'Title I, Part A'!E262)","v":""},null,null,null,null,{"$f":"IF(E209=\"Yes\",('Title I, Part A'!H262),\"\")","v":""},{"$f":"IF(E209=\"Yes\",('Title I, Part A'!M262),\"\")","v":""},{"$f":"IF(ISBLANK('Title I, Part A'!N262),\"\",'Title I, Part A'!N262)","v":0},"",0,null,0,""]
[null,{"$f":"IF(ISBLANK('Title I, Part A'!B263),\"\",('Title I, Part A'!B263))","v":""},null,null,null,{"$f":"IF(ISBLANK('Title I, Part A'!E263),\"\",'Title I, Part A'!E263)","v":""},null,null,null,null,{"$f":"IF(E210=\"Yes\",('Title I, Part A'!H263),\"\")","v":""},{"$f":"IF(E210=\"Yes\",('Title I, Part A'!M263),\"\")","v":""},{"$f":"IF(ISBLANK('Title I, Part A'!N263),\"\",'Title I, Part A'!N263)","v":0},"",0,null,0,""]
[null,{"$f":"IF(ISBLANK('Title I, Part A'!B264),\"\",('Title I, Part A'!B264))","v":""},null,null,null,{"$f":"IF(ISBLANK('Title I, Part A'!E264),\"\",'Title I, Part A'!E264)","v":""},null,null,null,null,{"$f":"IF(E211=\"Yes\",('Title I, Part A'!H264),\"\")","v":""},{"$f":"IF(E211=\"Yes\",('Title I, Part A'!M264),\"\")","v":""},{"$f":"IF(ISBLANK('Title I, Part A'!N264),\"\",'Title I, Part A'!N264)","v":0},"",0,null,0,""]
[null,{"$f":"IF(ISBLANK('Title I, Part A'!B265),\"\",('Title I, Part A'!B265))","v":""},null,null,null,{"$f":"IF(ISBLANK('Title I, Part A'!E265),\"\",'Title I, Part A'!E265)","v":""},null,null,null,null,{"$f":"IF(E212=\"Yes\",('Title I, Part A'!H265),\"\")","v":""},{"$f":"IF(E212=\"Yes\",('Title I, Part A'!M265),\"\")","v":""},{"$f":"IF(ISBLANK('Title I, Part A'!N265),\"\",'Title I, Part A'!N265)","v":0},"",0,null,0,""]
[null,{"$f":"IF(ISBLANK('Title I, Part A'!B266),\"\",('Title I, Part A'!B266))","v":""},null,null,null,{"$f":"IF(ISBLANK('Title I, Part A'!E266),\"\",'Title I, Part A'!E266)","v":""},null,null,null,null,{"$f":"IF(E213=\"Yes\",('Title I, Part A'!H266),\"\")","v":""},{"$f":"IF(E213=\"Yes\",('Title I, Part A'!M266),\"\")","v":""},{"$f":"IF(ISBLANK('Title I, Part A'!N266),\"\",'Title I, Part A'!N266)","v":0},"",0,null,0,""]
[null,{"$f":"IF(ISBLANK('Title I, Part A'!B267),\"\",('Title I, Part A'!B267))","v":""},null,null,null,{"$f":"IF(ISBLANK('Title I, Part A'!E267),\"\",'Title I, Part A'!E267)","v":""},null,null,null,null,{"$f":"IF(E214=\"Yes\",('Title I, Part A'!H267),\"\")","v":""},{"$f":"IF(E214=\"Yes\",('Title I, Part A'!M267),\"\")","v":""},{"$f":"IF(ISBLANK('Title I, Part A'!N267),\"\",'Title I, Part A'!N267)","v":0},"",0,null,0,""]
[null,{"$f":"IF(ISBLANK('Title I, Part A'!B268),\"\",('Title I, Part A'!B268))","v":""},null,null,null,{"$f":"IF(ISBLANK('Title I, Part A'!E268),\"\",'Title I, Part A'!E268)","v":""},null,null,null,null,{"$f":"IF(E215=\"Yes\",('Title I, Part A'!H268),\"\")","v":""},{"$f":"IF(E215=\"Yes\",('Title I, Part A'!M268),\"\")","v":""},{"$f":"IF(ISBLANK('Title I, Part A'!N268),\"\",'Title I, Part A'!N268)","v":0},"",0,null,0,""]
[null,{"$f":"IF(ISBLANK('Title I, Part A'!B269),\"\",('Title I, Part A'!B269))","v":""},null,null,null,{"$f":"IF(ISBLANK('Title I, Part A'!E269),\"\",'Title I, Part A'!E269)","v":""},null,null,null,null,{"$f":"IF(E216=\"Yes\",('Title I, Part A'!H269),\"\")","v":""},{"$f":"IF(E216=\"Yes\",('Title I, Part A'!M269),\"\")","v":""},{"$f":"IF(ISBLANK('Title I, Part A'!N269),\"\",'Title I, Part A'!N269)","v":0},"",0,null,0,""]
[null,{"$f":"IF(ISBLANK('Title I, Part A'!B270),\"\",('Title I, Part A'!B270))","v":""},null,null,null,{"$f":"IF(ISBLANK('Title I, Part A'!E270),\"\",'Title I, Part A'!E270)","v":""},null,null,null,null,{"$f":"IF(E217=\"Yes\",('Title I, Part A'!H270),\"\")","v":""},{"$f":"IF(E217=\"Yes\",('Title I, Part A'!M270),\"\")","v":""},{"$f":"IF(ISBLANK('Title I, Part A'!N270),\"\",'Title I, Part A'!N270)","v":0},"",0,null,0,""]
[null,{"$f":"IF(ISBLANK('Title I, Part A'!B271),\"\",('Title I, Part A'!B271))","v":""},null,null,null,{"$f":"IF(ISBLANK('Title I, Part A'!E271),\"\",'Title I, Part A'!E271)","v":""},null,null,null,null,{"$f":"IF(E218=\"Yes\",('Title I, Part A'!H271),\"\")","v":""},{"$f":"IF(E218=\"Yes\",('Title I, Part A'!M271),\"\")","v":""},{"$f":"IF(ISBLANK('Title I, Part A'!N271),\"\",'Title I, Part A'!N271)","v":0},"",0,null,0,""]
[null,{"$f":"IF(ISBLANK('Title I, Part A'!B272),\"\",('Title I, Part A'!B272))","v":""},null,null,null,{"$f":"IF(ISBLANK('Title I, Part A'!E272),\"\",'Title I, Part A'!E272)","v":""},null,null,null,null,{"$f":"IF(E219=\"Yes\",('Title I, Part A'!H272),\"\")","v":""},{"$f":"IF(E219=\"Yes\",('Title I, Part A'!M272),\"\")","v":""},{"$f":"IF(ISBLANK('Title I, Part A'!N272),\"\",'Title I, Part A'!N272)","v":0},"",0,null,0,""]
[null,{"$f":"IF(ISBLANK('Title I, Part A'!B273),\"\",('Title I, Part A'!B273))","v":""},null,null,null,{"$f":"IF(ISBLANK('Title I, Part A'!E273),\"\",'Title I, Part A'!E273)","v":""},null,null,null,null,{"$f":"IF(E220=\"Yes\",('Title I, Part A'!H273),\"\")","v":""},{"$f":"IF(E220=\"Yes\",('Title I, Part A'!M273),\"\")","v":""},{"$f":"IF(ISBLANK('Title I, Part A'!N273),\"\",'Title I, Part A'!N273)","v":0},"",0,null,0,""]
[null,{"$f":"IF(ISBLANK('Title I, Part A'!B274),\"\",('Title I, Part A'!B274))","v":""},null,null,null,{"$f":"IF(ISBLANK('Title I, Part A'!E274),\"\",'Title I, Part A'!E274)","v":""},null,null,null,null,{"$f":"IF(E221=\"Yes\",('Title I, Part A'!H274),\"\")","v":""},{"$f":"IF(E221=\"Yes\",('Title I, Part A'!M274),\"\")","v":""},{"$f":"IF(ISBLANK('Title I, Part A'!N274),\"\",'Title I, Part A'!N274)","v":0},"",0,null,0,""]
[null,{"$f":"IF(ISBLANK('Title I, Part A'!B275),\"\",('Title I, Part A'!B275))","v":""},null,null,null,{"$f":"IF(ISBLANK('Title I, Part A'!E275),\"\",'Title I, Part A'!E275)","v":""},null,null,null,null,{"$f":"IF(E222=\"Yes\",('Title I, Part A'!H275),\"\")","v":""},{"$f":"IF(E222=\"Yes\",('Title I, Part A'!M275),\"\")","v":""},{"$f":"IF(ISBLANK('Title I, Part A'!N275),\"\",'Title I, Part A'!N275)","v":0},"",0,null,0,""]
[null,{"$f":"IF(ISBLANK('Title I, Part A'!B276),\"\",('Title I, Part A'!B276))","v":""},null,null,null,{"$f":"IF(ISBLANK('Title I, Part A'!E276),\"\",'Title I, Part A'!E276)","v":""},null,null,null,null,{"$f":"IF(E223=\"Yes\",('Title I, Part A'!H276),\"\")","v":""},{"$f":"IF(E223=\"Yes\",('Title I, Part A'!M276),\"\")","v":""},{"$f":"IF(ISBLANK('Title I, Part A'!N276),\"\",'Title I, Part A'!N276)","v":0},"",0,null,0,""]
[null,{"$f":"IF(ISBLANK('Title I, Part A'!B277),\"\",('Title I, Part A'!B277))","v":""},null,null,null,{"$f":"IF(ISBLANK('Title I, Part A'!E277),\"\",'Title I, Part A'!E277)","v":""},null,null,null,null,{"$f":"IF(E224=\"Yes\",('Title I, Part A'!H277),\"\")","v":""},{"$f":"IF(E224=\"Yes\",('Title I, Part A'!M277),\"\")","v":""},{"$f":"IF(ISBLANK('Title I, Part A'!N277),\"\",'Title I, Part A'!N277)","v":0},"",0,null,0,""]
[null,{"$f":"IF(ISBLANK('Title I, Part A'!B278),\"\",('Title I, Part A'!B278))","v":""},null,null,null,{"$f":"IF(ISBLANK('Title I, Part A'!E278),\"\",'Title I, Part A'!E278)","v":""},null,null,null,null,{"$f":"IF(E225=\"Yes\",('Title I, Part A'!H278),\"\")","v":""},{"$f":"IF(E225=\"Yes\",('Title I, Part A'!M278),\"\")","v":""},{"$f":"IF(ISBLANK('Title I, Part A'!N278),\"\",'Title I, Part A'!N278)","v":0},"",0,null,0,""]
[null,{"$f":"IF(ISBLANK('Title I, Part A'!B279),\"\",('Title I, Part A'!B279))","v":""},null,null,null,{"$f":"IF(ISBLANK('Title I, Part A'!E279),\"\",'Title I, Part A'!E279)","v":""},null,null,null,null,{"$f":"IF(E226=\"Yes\",('Title I, Part A'!H279),\"\")","v":""},{"$f":"IF(E226=\"Yes\",('Title I, Part A'!M279),\"\")","v":""},{"$f":"IF(ISBLANK('Title I, Part A'!N279),\"\",'Title I, Part A'!N279)","v":0},"",0,null,0,""]
[null,{"$f":"IF(ISBLANK('Title I, Part A'!B280),\"\",('Title I, Part A'!B280))","v":""},null,null,null,{"$f":"IF(ISBLANK('Title I, Part A'!E280),\"\",'Title I, Part A'!E280)","v":""},null,null,null,null,{"$f":"IF(E227=\"Yes\",('Title I, Part A'!H280),\"\")","v":""},{"$f":"IF(E227=\"Yes\",('Title I, Part A'!M280),\"\")","v":""},{"$f":"IF(ISBLANK('Title I, Part A'!N280),\"\",'Title I, Part A'!N280)","v":0},"",0,null,0,""]
[null,{"$f":"IF(ISBLANK('Title I, Part A'!B281),\"\",('Title I, Part A'!B281))","v":""},null,null,null,{"$f":"IF(ISBLANK('Title I, Part A'!E281),\"\",'Title I, Part A'!E281)","v":""},null,null,null,null,{"$f":"IF(E228=\"Yes\",('Title I, Part A'!H281),\"\")","v":""},{"$f":"IF(E228=\"Yes\",('Title I, Part A'!M281),\"\")","v":""},{"$f":"IF(ISBLANK('Title I, Part A'!N281),\"\",'Title I, Part A'!N281)","v":0},"",0,null,0,""]
[null,{"$f":"IF(ISBLANK('Title I, Part A'!B282),\"\",('Title I, Part A'!B282))","v":""},null,null,null,{"$f":"IF(ISBLANK('Title I, Part A'!E282),\"\",'Title I, Part A'!E282)","v":""},null,null,null,null,{"$f":"IF(E229=\"Yes\",('Title I, Part A'!H282),\"\")","v":""},{"$f":"IF(E229=\"Yes\",('Title I, Part A'!M282),\"\")","v":""},{"$f":"IF(ISBLANK('Title I, Part A'!N282),\"\",'Title I, Part A'!N282)","v":0},"",0,null,0,""]
[null,{"$f":"IF(ISBLANK('Title I, Part A'!B283),\"\",('Title I, Part A'!B283))","v":""},null,null,null,{"$f":"IF(ISBLANK('Title I, Part A'!E283),\"\",'Title I, Part A'!E283)","v":""},null,null,null,null,{"$f":"IF(E230=\"Yes\",('Title I, Part A'!H283),\"\")","v":""},{"$f":"IF(E230=\"Yes\",('Title I, Part A'!M283),\"\")","v":""},{"$f":"IF(ISBLANK('Title I, Part A'!N283),\"\",'Title I, Part A'!N283)","v":0},"",0,null,0,""]
[null,{"$f":"IF(ISBLANK('Title I, Part A'!B284),\"\",('Title I, Part A'!B284))","v":""},null,null,null,{"$f":"IF(ISBLANK('Title I, Part A'!E284),\"\",'Title I, Part A'!E284)","v":""},null,null,null,null,{"$f":"IF(E231=\"Yes\",('Title I, Part A'!H284),\"\")","v":""},{"$f":"IF(E231=\"Yes\",('Title I, Part A'!M284),\"\")","v":""},{"$f":"IF(ISBLANK('Title I, Part A'!N284),\"\",'Title I, Part A'!N284)","v":0},"",0,null,0,""]
[null,{"$f":"IF(ISBLANK('Title I, Part A'!B285),\"\",('Title I, Part A'!B285))","v":""},null,null,null,{"$f":"IF(ISBLANK('Title I, Part A'!E285),\"\",'Title I, Part A'!E285)","v":""},null,null,null,null,{"$f":"IF(E232=\"Yes\",('Title I, Part A'!H285),\"\")","v":""},{"$f":"IF(E232=\"Yes\",('Title I, Part A'!M285),\"\")","v":""},{"$f":"IF(ISBLANK('Title I, Part A'!N285),\"\",'Title I, Part A'!N285)","v":0},"",0,null,0,""]
[null,{"$f":"IF(ISBLANK('Title I, Part A'!B286),\"\",('Title I, Part A'!B286))","v":""},null,null,null,{"$f":"IF(ISBLANK('Title I, Part A'!E286),\"\",'Title I, Part A'!E286)","v":""},null,null,null,null,{"$f":"IF(E233=\"Yes\",('Title I, Part A'!H286),\"\")","v":""},{"$f":"IF(E233=\"Yes\",('Title I, Part A'!M286),\"\")","v":""},{"$f":"IF(ISBLANK('Title I, Part A'!N286),\"\",'Title I, Part A'!N286)","v":0},"",0,null,0,""]
[null,{"$f":"IF(ISBLANK('Title I, Part A'!B287),\"\",('Title I, Part A'!B287))","v":""},null,null,null,{"$f":"IF(ISBLANK('Title I, Part A'!E287),\"\",'Title I, Part A'!E287)","v":""},null,null,null,null,{"$f":"IF(E234=\"Yes\",('Title I, Part A'!H287),\"\")","v":""},{"$f":"IF(E234=\"Yes\",('Title I, Part A'!M287),\"\")","v":""},{"$f":"IF(ISBLANK('Title I, Part A'!N287),\"\",'Title I, Part A'!N287)","v":0},"",0,null,0,""]
[null,{"$f":"IF(ISBLANK('Title I, Part A'!B288),\"\",('Title I, Part A'!B288))","v":""},null,null,null,{"$f":"IF(ISBLANK('Title I, Part A'!E288),\"\",'Title I, Part A'!E288)","v":""},null,null,null,null,{"$f":"IF(E235=\"Yes\",('Title I, Part A'!H288),\"\")","v":""},{"$f":"IF(E235=\"Yes\",('Title I, Part A'!M288),\"\")","v":""},{"$f":"IF(ISBLANK('Title I, Part A'!N288),\"\",'Title I, Part A'!N288)","v":0},"",0,null,0,""]
[null,{"$f":"IF(ISBLANK('Title I, Part A'!B289),\"\",('Title I, Part A'!B289))","v":""},null,null,null,{"$f":"IF(ISBLANK('Title I, Part A'!E289),\"\",'Title I, Part A'!E289)","v":""},null,null,null,null,{"$f":"IF(E236=\"Yes\",('Title I, Part A'!H289),\"\")","v":""},{"$f":"IF(E236=\"Yes\",('Title I, Part A'!M289),\"\")","v":""},{"$f":"IF(ISBLANK('Title I, Part A'!N289),\"\",'Title I, Part A'!N289)","v":0},"",0,null,0,""]
[null,{"$f":"IF(ISBLANK('Title I, Part A'!B290),\"\",('Title I, Part A'!B290))","v":""},null,null,null,{"$f":"IF(ISBLANK('Title I, Part A'!E290),\"\",'Title I, Part A'!E290)","v":""},null,null,null,null,{"$f":"IF(E237=\"Yes\",('Title I, Part A'!H290),\"\")","v":""},{"$f":"IF(E237=\"Yes\",('Title I, Part A'!M290),\"\")","v":""},{"$f":"IF(ISBLANK('Title I, Part A'!N290),\"\",'Title I, Part A'!N290)","v":0},"",0,null,0,""]
[null,{"$f":"IF(ISBLANK('Title I, Part A'!B291),\"\",('Title I, Part A'!B291))","v":""},null,null,null,{"$f":"IF(ISBLANK('Title I, Part A'!E291),\"\",'Title I, Part A'!E291)","v":""},null,null,null,null,{"$f":"IF(E238=\"Yes\",('Title I, Part A'!H291),\"\")","v":""},{"$f":"IF(E238=\"Yes\",('Title I, Part A'!M291),\"\")","v":""},{"$f":"IF(ISBLANK('Title I, Part A'!N291),\"\",'Title I, Part A'!N291)","v":0},"",0,null,0,""]
[null,{"$f":"IF(ISBLANK('Title I, Part A'!B292),\"\",('Title I, Part A'!B292))","v":""},null,null,null,{"$f":"IF(ISBLANK('Title I, Part A'!E292),\"\",'Title I, Part A'!E292)","v":""},null,null,null,null,{"$f":"IF(E239=\"Yes\",('Title I, Part A'!H292),\"\")","v":""},{"$f":"IF(E239=\"Yes\",('Title I, Part A'!M292),\"\")","v":""},{"$f":"IF(ISBLANK('Title I, Part A'!N292),\"\",'Title I, Part A'!N292)","v":0},"",0,null,0,""]
[null,{"$f":"IF(ISBLANK('Title I, Part A'!B293),\"\",('Title I, Part A'!B293))","v":""},null,null,null,{"$f":"IF(ISBLANK('Title I, Part A'!E293),\"\",'Title I, Part A'!E293)","v":""},null,null,null,null,{"$f":"IF(E240=\"Yes\",('Title I, Part A'!H293),\"\")","v":""},{"$f":"IF(E240=\"Yes\",('Title I, Part A'!M293),\"\")","v":""},{"$f":"IF(ISBLANK('Title I, Part A'!N293),\"\",'Title I, Part A'!N293)","v":0},"",0,null,0,""]
[null,{"$f":"IF(ISBLANK('Title I, Part A'!B294),\"\",('Title I, Part A'!B294))","v":""},null,null,null,{"$f":"IF(ISBLANK('Title I, Part A'!E294),\"\",'Title I, Part A'!E294)","v":""},null,null,null,null,{"$f":"IF(E241=\"Yes\",('Title I, Part A'!H294),\"\")","v":""},{"$f":"IF(E241=\"Yes\",('Title I, Part A'!M294),\"\")","v":""},{"$f":"IF(ISBLANK('Title I, Part A'!N294),\"\",'Title I, Part A'!N294)","v":0},"",0,null,0,""]
[null,{"$f":"IF(ISBLANK('Title I, Part A'!B295),\"\",('Title I, Part A'!B295))","v":""},null,null,null,{"$f":"IF(ISBLANK('Title I, Part A'!E295),\"\",'Title I, Part A'!E295)","v":""},null,null,null,null,{"$f":"IF(E242=\"Yes\",('Title I, Part A'!H295),\"\")","v":""},{"$f":"IF(E242=\"Yes\",('Title I, Part A'!M295),\"\")","v":""},{"$f":"IF(ISBLANK('Title I, Part A'!N295),\"\",'Title I, Part A'!N295)","v":0},"",0,null,0,""]
[null,{"$f":"IF(ISBLANK('Title I, Part A'!B296),\"\",('Title I, Part A'!B296))","v":""},null,null,null,{"$f":"IF(ISBLANK('Title I, Part A'!E296),\"\",'Title I, Part A'!E296)","v":""},null,null,null,null,{"$f":"IF(E243=\"Yes\",('Title I, Part A'!H296),\"\")","v":""},{"$f":"IF(E243=\"Yes\",('Title I, Part A'!M296),\"\")","v":""},{"$f":"IF(ISBLANK('Title I, Part A'!N296),\"\",'Title I, Part A'!N296)","v":0},"",0,null,0,""]
[null,{"$f":"IF(ISBLANK('Title I, Part A'!B297),\"\",('Title I, Part A'!B297))","v":""},null,null,null,{"$f":"IF(ISBLANK('Title I, Part A'!E297),\"\",'Title I, Part A'!E297)","v":""},null,null,null,null,{"$f":"IF(E244=\"Yes\",('Title I, Part A'!H297),\"\")","v":""},{"$f":"IF(E244=\"Yes\",('Title I, Part A'!M297),\"\")","v":""},{"$f":"IF(ISBLANK('Title I, Part A'!N297),\"\",'Title I, Part A'!N297)","v":0},"",0,null,0,""]
[null,{"$f":"IF(ISBLANK('Title I, Part A'!B298),\"\",('Title I, Part A'!B298))","v":""},null,null,null,{"$f":"IF(ISBLANK('Title I, Part A'!E298),\"\",'Title I, Part A'!E298)","v":""},null,null,null,null,{"$f":"IF(E245=\"Yes\",('Title I, Part A'!H298),\"\")","v":""},{"$f":"IF(E245=\"Yes\",('Title I, Part A'!M298),\"\")","v":""},{"$f":"IF(ISBLANK('Title I, Part A'!N298),\"\",'Title I, Part A'!N298)","v":0},"",0,null,0,""]
[null,{"$f":"IF(ISBLANK('Title I, Part A'!B299),\"\",('Title I, Part A'!B299))","v":""},null,null,null,{"$f":"IF(ISBLANK('Title I, Part A'!E299),\"\",'Title I, Part A'!E299)","v":""},null,null,null,null,{"$f":"IF(E246=\"Yes\",('Title I, Part A'!H299),\"\")","v":""},{"$f":"IF(E246=\"Yes\",('Title I, Part A'!M299),\"\")","v":""},{"$f":"IF(ISBLANK('Title I, Part A'!N299),\"\",'Title I, Part A'!N299)","v":0},"",0,null,0,""]
[null,{"$f":"IF(ISBLANK('Title I, Part A'!B300),\"\",('Title I, Part A'!B300))","v":""},null,null,null,{"$f":"IF(ISBLANK('Title I, Part A'!E300),\"\",'Title I, Part A'!E300)","v":""},null,null,null,null,{"$f":"IF(E247=\"Yes\",('Title I, Part A'!H300),\"\")","v":""},{"$f":"IF(E247=\"Yes\",('Title I, Part A'!M300),\"\")","v":""},{"$f":"IF(ISBLANK('Title I, Part A'!N300),\"\",'Title I, Part A'!N300)","v":0},"",0,null,0,""]
[null,{"$f":"IF(ISBLANK('Title I, Part A'!B301),\"\",('Title I, Part A'!B301))","v":""},null,null,null,{"$f":"IF(ISBLANK('Title I, Part A'!E301),\"\",'Title I, Part A'!E301)","v":""},null,null,null,null,{"$f":"IF(E248=\"Yes\",('Title I, Part A'!H301),\"\")","v":""},{"$f":"IF(E248=\"Yes\",('Title I, Part A'!M301),\"\")","v":""},{"$f":"IF(ISBLANK('Title I, Part A'!N301),\"\",'Title I, Part A'!N301)","v":0},"",0,null,0,""]
[null,{"$f":"IF(ISBLANK('Title I, Part A'!B302),\"\",('Title I, Part A'!B302))","v":""},null,null,null,{"$f":"IF(ISBLANK('Title I, Part A'!E302),\"\",'Title I, Part A'!E302)","v":""},null,null,null,null,{"$f":"IF(E249=\"Yes\",('Title I, Part A'!H302),\"\")","v":""},{"$f":"IF(E249=\"Yes\",('Title I, Part A'!M302),\"\")","v":""},{"$f":"IF(ISBLANK('Title I, Part A'!N302),\"\",'Title I, Part A'!N302)","v":0},"",0,null,0,""]
[null,{"$f":"IF(ISBLANK('Title I, Part A'!B303),\"\",('Title I, Part A'!B303))","v":""},null,null,null,{"$f":"IF(ISBLANK('Title I, Part A'!E303),\"\",'Title I, Part A'!E303)","v":""},null,null,null,null,{"$f":"IF(E250=\"Yes\",('Title I, Part A'!H303),\"\")","v":""},{"$f":"IF(E250=\"Yes\",('Title I, Part A'!M303),\"\")","v":""},{"$f":"IF(ISBLANK('Title I, Part A'!N303),\"\",'Title I, Part A'!N303)","v":0},"",0,null,0,""]
[null,{"$f":"IF(ISBLANK('Title I, Part A'!B304),\"\",('Title I, Part A'!B304))","v":""},null,null,null,{"$f":"IF(ISBLANK('Title I, Part A'!E304),\"\",'Title I, Part A'!E304)","v":""},null,null,null,null,{"$f":"IF(E251=\"Yes\",('Title I, Part A'!H304),\"\")","v":""},{"$f":"IF(E251=\"Yes\",('Title I, Part A'!M304),\"\")","v":""},{"$f":"IF(ISBLANK('Title I, Part A'!N304),\"\",'Title I, Part A'!N304)","v":0},"",0,null,{"$f":"IF(SUM(P251)=0,SUM(N251),IF(SUM(N251,P251)=P251,\"ERROR\",SUM(N251,P251)))","v":0},{"$f":"IF(E251=\"Yes\",SUM(Q251)/SUM(L251),\"\")","v":""}]
[null,{"$f":"IF(ISBLANK('Title I, Part A'!B305),\"\",('Title I, Part A'!B305))","v":""},null,null,null,{"$f":"IF(ISBLANK('Title I, Part A'!E305),\"\",'Title I, Part A'!E305)","v":""},null,null,null,null,{"$f":"IF(E252=\"Yes\",('Title I, Part A'!H305),\"\")","v":""},{"$f":"IF(E252=\"Yes\",('Title I, Part A'!M305),\"\")","v":""},{"$f":"IF(ISBLANK('Title I, Part A'!N305),\"\",'Title I, Part A'!N305)","v":0},{"$f":"IF(IF(E252=\"Yes\",IF(ISBLANK(L252),\"\",SUM(L252)*$O$50),0)>$G$47,SUM($G$47),IF(E252=\"Yes\",IF(ISBLANK(L252),\"\",SUM(L252)*$O$50),\"\"))","v":""},{"$f":"SUM(O251)-SUM(N252)-SUM(P252)","v":0},null,0,""]
[null,{"$f":"IF(ISBLANK('Title I, Part A'!B306),\"\",('Title I, Part A'!B306))","v":""},null,null,null,{"$f":"IF(ISBLANK('Title I, Part A'!E306),\"\",'Title I, Part A'!E306)","v":""},null,null,null,null,{"$f":"IF(E253=\"Yes\",('Title I, Part A'!H306),\"\")","v":""},{"$f":"IF(E253=\"Yes\",('Title I, Part A'!M306),\"\")","v":""},{"$f":"IF(ISBLANK('Title I, Part A'!N306),\"\",'Title I, Part A'!N306)","v":0},"",0,null,0,""]
[null,{"$f":"IF(ISBLANK('Title I, Part A'!B307),\"\",('Title I, Part A'!B307))","v":""},null,null,null,{"$f":"IF(ISBLANK('Title I, Part A'!E307),\"\",'Title I, Part A'!E307)","v":""},null,null,null,null,{"$f":"IF(E254=\"Yes\",('Title I, Part A'!H307),\"\")","v":""},{"$f":"IF(E254=\"Yes\",('Title I, Part A'!M307),\"\")","v":""},{"$f":"IF(ISBLANK('Title I, Part A'!N307),\"\",'Title I, Part A'!N307)","v":0},"",0,null,0,""]
[null,{"$f":"IF(ISBLANK('Title I, Part A'!B308),\"\",('Title I, Part A'!B308))","v":""},null,null,null,{"$f":"IF(ISBLANK('Title I, Part A'!E308),\"\",'Title I, Part A'!E308)","v":""},null,null,null,null,{"$f":"IF(E255=\"Yes\",('Title I, Part A'!H308),\"\")","v":""},{"$f":"IF(E255=\"Yes\",('Title I, Part A'!M308),\"\")","v":""},{"$f":"IF(ISBLANK('Title I, Part A'!N308),\"\",'Title I, Part A'!N308)","v":0},"",0,null,0,""]
[null,{"$f":"IF(ISBLANK('Title I, Part A'!B309),\"\",('Title I, Part A'!B309))","v":""},null,null,null,{"$f":"IF(ISBLANK('Title I, Part A'!E309),\"\",'Title I, Part A'!E309)","v":""},null,null,null,null,{"$f":"IF(E256=\"Yes\",('Title I, Part A'!H309),\"\")","v":""},{"$f":"IF(E256=\"Yes\",('Title I, Part A'!M309),\"\")","v":""},{"$f":"IF(ISBLANK('Title I, Part A'!N309),\"\",'Title I, Part A'!N309)","v":0},"",0,null,0,""]
[null,{"$f":"IF(ISBLANK('Title I, Part A'!B310),\"\",('Title I, Part A'!B310))","v":""},null,null,null,{"$f":"IF(ISBLANK('Title I, Part A'!E310),\"\",'Title I, Part A'!E310)","v":""},null,null,null,null,{"$f":"IF(E257=\"Yes\",('Title I, Part A'!H310),\"\")","v":""},{"$f":"IF(E257=\"Yes\",('Title I, Part A'!M310),\"\")","v":""},{"$f":"IF(ISBLANK('Title I, Part A'!N310),\"\",'Title I, Part A'!N310)","v":0},"",0,null,0,""]
[null,{"$f":"IF(ISBLANK('Title I, Part A'!B311),\"\",('Title I, Part A'!B311))","v":""},null,null,null,{"$f":"IF(ISBLANK('Title I, Part A'!E311),\"\",'Title I, Part A'!E311)","v":""},null,null,null,null,{"$f":"IF(E258=\"Yes\",('Title I, Part A'!H311),\"\")","v":""},{"$f":"IF(E258=\"Yes\",('Title I, Part A'!M311),\"\")","v":""},{"$f":"IF(ISBLANK('Title I, Part A'!N311),\"\",'Title I, Part A'!N311)","v":0},"",0,null,0,""]
[null,{"$f":"IF(ISBLANK('Title I, Part A'!B312),\"\",('Title I, Part A'!B312))","v":""},null,null,null,{"$f":"IF(ISBLANK('Title I, Part A'!E312),\"\",'Title I, Part A'!E312)","v":""},null,null,null,null,{"$f":"IF(E259=\"Yes\",('Title I, Part A'!H312),\"\")","v":""},{"$f":"IF(E259=\"Yes\",('Title I, Part A'!M312),\"\")","v":""},{"$f":"IF(ISBLANK('Title I, Part A'!N312),\"\",'Title I, Part A'!N312)","v":0},"",0,null,0,""]
[null,{"$f":"IF(ISBLANK('Title I, Part A'!B313),\"\",('Title I, Part A'!B313))","v":""},null,null,null,{"$f":"IF(ISBLANK('Title I, Part A'!E313),\"\",'Title I, Part A'!E313)","v":""},null,null,null,null,{"$f":"IF(E260=\"Yes\",('Title I, Part A'!H313),\"\")","v":""},{"$f":"IF(E260=\"Yes\",('Title I, Part A'!M313),\"\")","v":""},{"$f":"IF(ISBLANK('Title I, Part A'!N313),\"\",'Title I, Part A'!N313)","v":0},"",0,null,0,""]
[null,{"$f":"IF(ISBLANK('Title I, Part A'!B314),\"\",('Title I, Part A'!B314))","v":""},null,null,null,{"$f":"IF(ISBLANK('Title I, Part A'!E314),\"\",'Title I, Part A'!E314)","v":""},null,null,null,null,{"$f":"IF(E261=\"Yes\",('Title I, Part A'!H314),\"\")","v":""},{"$f":"IF(E261=\"Yes\",('Title I, Part A'!M314),\"\")","v":""},{"$f":"IF(ISBLANK('Title I, Part A'!N314),\"\",'Title I, Part A'!N314)","v":0},"",0,null,0,""]
[null,{"$f":"IF(ISBLANK('Title I, Part A'!B315),\"\",('Title I, Part A'!B315))","v":""},null,null,null,{"$f":"IF(ISBLANK('Title I, Part A'!E315),\"\",'Title I, Part A'!E315)","v":""},null,null,null,null,{"$f":"IF(E262=\"Yes\",('Title I, Part A'!H315),\"\")","v":""},{"$f":"IF(E262=\"Yes\",('Title I, Part A'!M315),\"\")","v":""},{"$f":"IF(ISBLANK('Title I, Part A'!N315),\"\",'Title I, Part A'!N315)","v":0},"",0,null,0,""]
[null,{"$f":"IF(ISBLANK('Title I, Part A'!B316),\"\",('Title I, Part A'!B316))","v":""},null,null,null,{"$f":"IF(ISBLANK('Title I, Part A'!E316),\"\",'Title I, Part A'!E316)","v":""},null,null,null,null,{"$f":"IF(E263=\"Yes\",('Title I, Part A'!H316),\"\")","v":""},{"$f":"IF(E263=\"Yes\",('Title I, Part A'!M316),\"\")","v":""},{"$f":"IF(ISBLANK('Title I, Part A'!N316),\"\",'Title I, Part A'!N316)","v":0},"",0,null,0,""]
[null,{"$f":"IF(ISBLANK('Title I, Part A'!B317),\"\",('Title I, Part A'!B317))","v":""},null,null,null,{"$f":"IF(ISBLANK('Title I, Part A'!E317),\"\",'Title I, Part A'!E317)","v":""},null,null,null,null,{"$f":"IF(E264=\"Yes\",('Title I, Part A'!H317),\"\")","v":""},{"$f":"IF(E264=\"Yes\",('Title I, Part A'!M317),\"\")","v":""},{"$f":"IF(ISBLANK('Title I, Part A'!N317),\"\",'Title I, Part A'!N317)","v":0},"",0,null,0,""]
[null,{"$f":"IF(ISBLANK('Title I, Part A'!B318),\"\",('Title I, Part A'!B318))","v":""},null,null,null,{"$f":"IF(ISBLANK('Title I, Part A'!E318),\"\",'Title I, Part A'!E318)","v":""},null,null,null,null,{"$f":"IF(E265=\"Yes\",('Title I, Part A'!H318),\"\")","v":""},{"$f":"IF(E265=\"Yes\",('Title I, Part A'!M318),\"\")","v":""},{"$f":"IF(ISBLANK('Title I, Part A'!N318),\"\",'Title I, Part A'!N318)","v":0},"",0,null,0,""]
[null,{"$f":"IF(ISBLANK('Title I, Part A'!B319),\"\",('Title I, Part A'!B319))","v":""},null,null,null,{"$f":"IF(ISBLANK('Title I, Part A'!E319),\"\",'Title I, Part A'!E319)","v":""},null,null,null,null,{"$f":"IF(E266=\"Yes\",('Title I, Part A'!H319),\"\")","v":""},{"$f":"IF(E266=\"Yes\",('Title I, Part A'!M319),\"\")","v":""},{"$f":"IF(ISBLANK('Title I, Part A'!N319),\"\",'Title I, Part A'!N319)","v":0},"",0,null,0,""]
[null,{"$f":"IF(ISBLANK('Title I, Part A'!B320),\"\",('Title I, Part A'!B320))","v":""},null,null,null,{"$f":"IF(ISBLANK('Title I, Part A'!E320),\"\",'Title I, Part A'!E320)","v":""},null,null,null,null,{"$f":"IF(E267=\"Yes\",('Title I, Part A'!H320),\"\")","v":""},{"$f":"IF(E267=\"Yes\",('Title I, Part A'!M320),\"\")","v":""},{"$f":"IF(ISBLANK('Title I, Part A'!N320),\"\",'Title I, Part A'!N320)","v":0},"",0,null,0,{"$f":"IF(E267=\"Yes\",SUM(Q267)/SUM(L267),\"\")","v":""}]
[null,{"$f":"IF(ISBLANK('Title I, Part A'!B321),\"\",('Title I, Part A'!B321))","v":""},null,null,null,{"$f":"IF(ISBLANK('Title I, Part A'!E321),\"\",'Title I, Part A'!E321)","v":""},null,null,null,null,{"$f":"IF(E268=\"Yes\",('Title I, Part A'!H321),\"\")","v":""},{"$f":"IF(E268=\"Yes\",('Title I, Part A'!M321),\"\")","v":""},{"$f":"IF(ISBLANK('Title I, Part A'!N321),\"\",'Title I, Part A'!N321)","v":0},"",0,null,0,""]
[null,{"$f":"IF(ISBLANK('Title I, Part A'!B322),\"\",('Title I, Part A'!B322))","v":""},null,null,null,{"$f":"IF(ISBLANK('Title I, Part A'!E322),\"\",'Title I, Part A'!E322)","v":""},null,null,null,null,{"$f":"IF(E269=\"Yes\",('Title I, Part A'!H322),\"\")","v":""},{"$f":"IF(E269=\"Yes\",('Title I, Part A'!M322),\"\")","v":""},{"$f":"IF(ISBLANK('Title I, Part A'!N322),\"\",'Title I, Part A'!N322)","v":0},"",0,null,0,""]
[null,{"$f":"IF(ISBLANK('Title I, Part A'!B323),\"\",('Title I, Part A'!B323))","v":""},null,null,null,{"$f":"IF(ISBLANK('Title I, Part A'!E323),\"\",'Title I, Part A'!E323)","v":""},null,null,null,null,{"$f":"IF(E270=\"Yes\",('Title I, Part A'!H323),\"\")","v":""},{"$f":"IF(E270=\"Yes\",('Title I, Part A'!M323),\"\")","v":""},{"$f":"IF(ISBLANK('Title I, Part A'!N323),\"\",'Title I, Part A'!N323)","v":0},"",0,null,0,""]
[null,{"$f":"IF(ISBLANK('Title I, Part A'!B324),\"\",('Title I, Part A'!B324))","v":""},null,null,null,{"$f":"IF(ISBLANK('Title I, Part A'!E324),\"\",'Title I, Part A'!E324)","v":""},null,null,null,null,{"$f":"IF(E271=\"Yes\",('Title I, Part A'!H324),\"\")","v":""},{"$f":"IF(E271=\"Yes\",('Title I, Part A'!M324),\"\")","v":""},{"$f":"IF(ISBLANK('Title I, Part A'!N324),\"\",'Title I, Part A'!N324)","v":0},"",0,null,0,""]
[null,{"$f":"IF(ISBLANK('Title I, Part A'!B325),\"\",('Title I, Part A'!B325))","v":""},null,null,null,{"$f":"IF(ISBLANK('Title I, Part A'!E325),\"\",'Title I, Part A'!E325)","v":""},null,null,null,null,{"$f":"IF(E272=\"Yes\",('Title I, Part A'!H325),\"\")","v":""},{"$f":"IF(E272=\"Yes\",('Title I, Part A'!M325),\"\")","v":""},{"$f":"IF(ISBLANK('Title I, Part A'!N325),\"\",'Title I, Part A'!N325)","v":0},"",0,null,0,""]
[null,"Page 49"]

{"sheet":"TI Private School","index":9,"n_rows":96,"n_cols":20,"rows_kept":96,"cut":false,"hidden":false,"merged":[[71,22,71,24],[69,22,69,24],[70,22,70,24],[69,1,69,4],[69,6,69,7],[69,8,69,9],[69,10,69,13],[70,1,70,4],[70,6,70,7],[70,8,70,9],[70,10,70,13],[71,1,71,4],[71,6,71,7],[71,8,71,9],[71,10,71,13],[65,22,65,24],[66,22,66,24],[65,1,65,4],[65,6,65,7],[65,8,65,9],[65,10,65,13],[66,1,66,4],[66,6,66,7],[66,8,66,9],[66,10,66,13],[86,22,86,24],[87,22,87,24],[79,22,79,24],[80,22,80,24],[81,22,81,24],[21,2,21,9],[90,22,90,24],[88,22,88,24],[89,22,89,24],[23,10,23,15],[22,10,22,15],[21,10,21,15],[58,22,58,24],[59,22,59,24],[58,1,58,4],[58,6,58,7],[58,8,58,9],[58,10,58,13],[59,1,59,4],[59,6,59,7],[59,8,59,9],[59,10,59,13],[64,1,64,4],[64,6,64,7],[78,22,78,24],[77,22,77,24],[74,22,74,24],[75,22,75,24],[76,22,76,24],[82,22,82,24],[83,22,83,24],[84,22,84,24],[85,22,85,24],[72,22,72,24],[73,22,73,24],[55,22,55,24],[56,22,56,24],[57,22,57,24],[62,22,62,24],[60,22,60,24],[61,22,61,24],[60,10,60,13],[61,10,61,13],[63,22,63,24],[64,22,64,24],[67,22,67,24],[68,22,68,24],[70,14,70,15],[71,14,71,15],[55,14,55,15],[69,14,69,15],[61,14,61,15],[62,14,62,15],[63,14,63,15],[64,14,64,15],[65,14,65,15],[66,14,66,15],[0,10,0,16],[20,10,20,15],[53,22,53,24],[54,22,54,24],[54,14,54,15],[53,14,53,15],[15,2,15,10],[40,2,40,9],[39,2,39,9],[26,10,26,15],[26,2,26,9],[25,2,25,9],[32,2,32,9],[29,2,29,9],[28,2,28,9],[41,10,41,15],[40,10,40,15],[39,10,39,15],[38,10,38,15],[25,10,25,15],[33,10,33,15],[38,2,38,9],[37,2,37,9],[36,2,36,9],[86,1,86,4],[86,6,86,7],[86,8,86,9],[35,2,35,9],[34,2,34,9],[33,2,33,9],[27,2,27,9],[37,10,37,15],[36,10,36,15],[35,10,35,15],[34,10,34,15],[32,10,32,15],[29,10,29,15],[28,10,28,15],[27,10,27,15],[30,1,30,19],[31,2,31,19],[67,1,67,4],[67,6,67,7],[67,8,67,9],[67,10,67,13],[68,1,68,4],[68,6,68,7],[68,8,68,9],[61,1,61,4],[61,6,61,7],[61,8,61,9],[84,1,84,4],[84,6,84,7],[84,8,84,9],[84,10,84,13],[85,1,85,4],[85,6,85,7],[85,8,85,9],[85,10,85,13],[68,10,68,13],[80,1,80,4],[80,6,80,7],[80,8,80,9],[80,10,80,13],[82,10,82,13],[83,1,83,4],[83,6,83,7],[81,1,81,4],[81,6,81,7],[81,8,81,9],[81,10,81,13],[82,1,82,4],[56,1,56,4],[56,6,56,7],[56,8,56,9],[56,10,56,13],[57,1,57,4],[57,6,57,7],[57,8,57,9],[57,10,57,13],[60,1,60,4],[60,6,60,7],[60,8,60,9],[73,14,73,15],[62,1,62,4],[62,6,62,7],[62,8,62,9],[62,10,62,13],[63,1,63,4],[63,6,63,7],[63,8,63,9],[63,10,63,13],[72,14,72,15],[5,3,5,10],[13,12,13,14],[13,3,13,10],[11,3,11,10],[9,3,9,10],[13,15,13,18],[17,2,17,10],[16,2,16,10],[80,14,80,15],[76,1,76,4],[76,6,76,7],[76,8,76,9],[76,10,76,13],[77,1,77,4],[77,6,77,7],[77,8,77,9],[77,10,77,13],[76,14,76,15],[77,14,77,15],[74,1,74,4],[74,6,74,7],[74,8,74,9],[74,10,74,13],[75,1,75,4],[15,11,15,13],[55,1,55,4],[54,1,54,4],[53,1,53,4],[55,6,55,7],[54,6,54,7],[53,6,53,7],[55,8,55,9],[54,8,54,9],[53,8,53,9],[55,10,55,13],[54,10,54,13],[53,10,53,13],[44,1,44,18],[43,10,43,16],[24,10,24,15],[24,2,24,9],[23,2,23,9],[22,2,22,9],[20,2,20,9],[18,1,18,15],[41,2,41,9],[17,11,17,13],[16,11,16,13],[82,6,82,7],[82,8,82,9],[75,6,75,7],[75,8,75,9],[75,10,75,13],[72,1,72,4],[72,6,72,7],[72,8,72,9],[72,10,72,13],[73,1,73,4],[78,1,78,4],[78,6,78,7],[78,8,78,9],[78,10,78,13],[79,1,79,4],[79,6,79,7],[79,8,79,9],[79,10,79,13],[73,10,73,13],[78,14,78,15],[79,14,79,15],[88,6,88,7],[88,8,88,9],[88,10,88,13],[67,14,67,15],[68,14,68,15],[56,14,56,15],[57,14,57,15],[58,14,58,15],[59,14,59,15],[83,8,83,9],[83,10,83,13],[74,14,74,15],[75,14,75,15],[64,8,64,9],[64,10,64,13],[84,14,84,15],[60,14,60,15],[81,14,81,15],[82,14,82,15],[83,14,83,15],[73,6,73,7],[73,8,73,9],[92,2,92,19],[94,1,94,19],[93,1,93,19],[95,1,95,19],[46,1,46,19],[47,2,47,19],[1,2,1,19],[3,1,3,19],[2,1,2,19],[4,2,4,19],[6,1,6,19],[7,2,7,19],[8,1,8,19],[10,1,10,19],[12,1,12,19],[14,1,14,19],[19,2,19,19],[42,1,42,19],[85,14,85,15],[86,14,86,15],[87,14,87,15],[88,14,88,15],[89,14,89,15],[90,14,90,15],[49,2,49,19],[50,1,50,19],[51,1,51,19],[52,1,52,19],[11,12,11,19],[9,12,9,19],[5,12,5,19],[45,1,45,19],[91,1,91,19],[90,16,90,17],[89,1,89,4],[89,6,89,7],[89,8,89,9],[89,10,89,13],[90,1,90,5],[90,8,90,9],[90,6,90,7],[90,10,90,13],[86,10,86,13],[87,1,87,4],[87,6,87,7],[87,8,87,9],[87,10,87,13],[88,1,88,4]]}
[null,{"$f":"'Main Page'!$N$9","v":"2026-2027"},null,"School Division:",{"$f":"'Main Page'!$L$14","v":0},null,null,null,"Division Number:",{"$f":"'Main Page'!$L$15","v":" "},{"$f":"'Main Page'!$B$6","v":"Local Consolidated Application"}]
[null,null,"m.  Private School Participation"]
[]
[null,"Each year, the school division must contact all eligible private (nonprofit) schools and engage in meaningful consultation on the availability of equitable services funded by Title I, Part A. (ESEA Section 1117(a) and Title VIII  Uniform Provisions, Part F, Subpart 1). The division is required to maintain documented efforts to obtain private school membership and the signed affirmation of consultation with private schools."]
[null,"1.","Are there private nonprofit schools which students residing within the Title I attendance zone attend?"]
[null,null,null,"Yes (If yes, complete the remainder of this page.)",null,null,null,null,null,null,null,null,"No (If no, it is not necessary to complete the rest of this page.)"]
[]
[null,"2.","Place an \"X\" in the appropriate block(s) to indicate how private schools were notified of the availability of equitable services funded by Title I, Part A. (Copies of the notification must be kept on file for monitoring purposes.)"]
[]
[null,null,null,"Regular Mail",null,null,null,null,null,null,null,null,"Certified Mail"]
[]
[null,null,null,"Telephone Calls",null,null,null,null,null,null,null,null,"Meetings"]
[]
[null,null,null,"Visits to the Private School",null,null,null,null,null,null,null,null,"Other (Please specify)"]
[]
[null,"3.","Number of Public School Low-Income Children in Title I Schools",null,null,null,null,null,null,null,null,{"$f":"IF('Below 35% Low-Income'!L55>0,'Below 35% Low-Income'!L55,'35% and Above Low-Income'!L53)","v":0}]
[null,"4.","Number of Private School Low-Income Children Residing in Title I Attendance Zones",null,null,null,null,null,null,null,null,{"$f":"IF('35% and Above Low-Income'!K53>0,'35% and Above Low-Income'!K53,'Below 35% Low-Income'!K55)","v":0}]
[null,"5.","Percentage used to determine  proportionate share for  equitable services.",null,null,null,null,null,null,null,null,{"$f":"L17/(L17+L16)","v":{"$error":"#DIV/0!"}}]
[]
[null,"6.","Determining Set-Asides (These fields will calculate automatically once enrollment figures have been entered)."]
[null,null,"a. Total Title I, Part A Allocation ",null,null,null,null,null,null,null,{"$f":"'Consolidated Budget'!F5","v":0}]
[null,null,"b1. Proportionate share of Title I funds available to provide equitable services - 35% and Above Low-Income",null,null,null,null,null,null,null,{"$f":"ROUND(K21*'35% and Above Low-Income'!T53,2)","v":0}]
[null,null,"b2. Proportionate share of Title I funds available to provide equitable services - Below 35% Low-Income",null,null,null,null,null,null,null,{"$f":"ROUND(K21*'Below 35% Low-Income'!T55,2)","v":0}]
[null,null,"c1. Amount of funds for 1% for parent and family engagement\n(If LEA’s Title I allocation exceeds $500,000) - 35% and Above Low-Income",null,null,null,null,null,null,null,{"$f":"(K21*0.01)*'35% and Above Low-Income'!T53","v":0}]
[null,null,"c2. Amount of funds for 1% for parent and family engagement\n(If LEA’s Title I allocation exceeds $500,000) - Below 35% Low-Income",null,null,null,null,null,null,null,{"$f":"(K21*0.01)*'Below 35% Low-Income'!T55","v":0}]
[null,null,"d. School Division Admin set-aside (Optional)"]
[null,null,"e1. Total  Private School Set-Aside  for  Non-Administration - 35% and Above Low-Income",null,null,null,null,null,null,null,{"$f":"IF(K22>0,K22-K26,0)","v":0}]
[null,null,"e2. Total  Private School Set-Aside  for  Non-Administration - Below 35% Low-Income",null,null,null,null,null,null,null,{"$f":"IF(K23>0,K23-K26,0)","v":0}]
[null,null,"Has the required private school set-aside been met? -  35% and Above Low-Income",null,null,null,null,null,null,null,{"$f":"IF(SUM('Consolidated Budget'!F63)>=SUM(K22),\"Yes\",\"No - please review your entries.\")","v":"Yes"}]
[null,null,"Has the required private school set-aside been met? - Below 35% Low-Income",null,null,null,null,null,null,null,{"$f":"IF(SUM('Consolidated Budget'!F63)>=SUM(K23),\"Yes\",\"No - please review your entries.\")","v":"Yes"}]
[]
[null,"7.","Determining additional set-asides as a result of Transferability. These fields will calculate automatically once budget and enrollment figures have been entered."]
[null,null,"a. Total Title I, Part A Transferability",null,null,null,null,null,null,null,{"$f":"SUM('Consolidated Transferability'!F11:G11)","v":0}]
[null,null,"b1. Proportionate share of Title I funds available to provide equitable services - 35% and Above Low-Income",null,null,null,null,null,null,null,{"$f":"ROUND(K33*'35% and Above Low-Income'!T53,2)","v":0}]
[null,null,"b2. Proportionate share of Title I funds available to provide equitable services - Below 35% Low-Income",null,null,null,null,null,null,null,{"$f":"ROUND(K33*'Below 35% Low-Income'!T55,2)","v":0}]
[null,null,"c1. Amount of funds for 1% for parent and family engagement\n(If LEA’s Title I allocation exceeds $500,000) - 35% and Above Low-Income",null,null,null,null,null,null,null,{"$f":"(K33*0.01)*'35% and Above Low-Income'!T53","v":0}]
[null,null,"c2. Amount of funds for 1% for parent and family engagement\n(If LEA’s Title I allocation exceeds $500,000) - Below 35% Low-Income",null,null,null,null,null,null,null,{"$f":"(K33*0.01)*'Below 35% Low-Income'!T55","v":0}]
[null,null,"d. School Division Admin set-aside (Optional)"]
[null,null,"e1. Total  Private School Set-Aside  for  Non-Administration - 35% and Above Low-Income",null,null,null,null,null,null,null,{"$f":"IF(K34>0,K34-K38,0)","v":0}]
[null,null,"e2. Total  Private School Set-Aside  for  Non-Administration - Below 35% Low-Income",null,null,null,null,null,null,null,{"$f":"IF(K35>0,K35-K38,0)","v":0}]
[null,null,"Has the required private school set-aside been met? -  35% and Above Low-Income",null,null,null,null,null,null,null,{"$f":"IF(SUM('Consolidated Transferability'!F68+'Consolidated Transferability'!G68)>=SUM(K34),\"Yes\",\"No - please review your entries.\")","v":"Yes"}]
[null,null,"Has the required private school set-aside been met? - Below 35% Low-Income",null,null,null,null,null,null,null,{"$f":"IF(SUM('Consolidated Transferability'!F68+'Consolidated Transferability'!G68)>=SUM(K35),\"Yes\",\"No - please review your entries.\")","v":"Yes"}]
[null,"Page 50"]
[null,{"$f":"'Main Page'!$N$9","v":"2026-2027"},null,"School Division:",{"$f":"'Main Page'!$L$14","v":0},null,null,null,"Division Number:",{"$f":"'Main Page'!$L$15","v":" "},{"$f":"'Main Page'!$B$6","v":"Local Consolidated Application"}]
[]
[null,"Calculation of Set-Asides"]
[]
[null,"8.","Complete the chart below for the initial submission of the application:\n• In Column A, list all private schools which students residing within the Title I attendance zones attend.\n• In Column C, enter the number of low-income students that attend the participating private school.\n• In Column D, enter the number of students in academic need attending the private school participating in services for the 2026-2027 award year.  These students may not be low-income students but must reside in Title I attendance zones.\n• In Column E, enter the description of services provided for participating children.\n• In Column F, enter the amount of funds obligated to support eligible children.\n\nComplete columns G through I no earlier than 15 months after the beginning of the grant award period and after consultation with private school officials regarding the release of funds.\n• If funds will be released choose Yes in Column G.\n• In Column H, enter the amount of funds released back to public schools.\n• Column I will automatically populate after the release of funds are typed in column H.\n• Column J enter the date the release of obligation was approved."]
[]
[null,"9.","Describe how poverty was calculated for private schools."]
[]
[]
[]
[null,"A",null,null,null,"B","C",null,"D",null,"E",null,null,null,"F",null,"G","H","I","J"]
[null," Private Schools",null,null,null,{"$f":"\"Participation Status for \" &  'Main Page'!$N$9 & \" Award Year?\n(Yes/No) \"","v":"Participation Status for 2026-2027 Award Year?\n(Yes/No) "},"Number of Low-Income Private School Students that Reside in Title I Attendance Zones",null,"Number of Participating Children in Academic Need",null,"Description of Services",null,null,null,"Amount of Funding Obligated to Support Eligible Students",null,"Release of Obligation? \n(Yes/No)","Amount of Funds Released",{"$f":"\"New Set Aside Amount from the \"&'Main Page'!$N$9&\" Budget\"","v":"New Set Aside Amount from the 2026-2027 Budget"},"Date the Release of Obligation was Approved"]
[null,null,null,null,null,null,null,null,null,null,null,null,null,null,null,null,null,null,{"$f":"IF(Q56=\"Yes\", O56-R56, \" \")","v":" "}]
[null,null,null,null,null,null,null,null,null,null,null,null,null,null,null,null,null,null,{"$f":"IF(Q57=\"Yes\", O57-R57, \" \")","v":" "}]
[null,null,null,null,null,null,null,null,null,null,null,null,null,null,null,null,null,null," "]
[null,null,null,null,null,null,null,null,null,null,null,null,null,null,null,null,null,null," "]
[null,null,null,null,null,null,null,null,null,null,null,null,null,null,null,null,null,null," "]
[null,null,null,null,null,null,null,null,null,null,null,null,null,null,null,null,null,null," "]
[null,null,null,null,null,null,null,null,null,null,null,null,null,null,null,null,null,null," "]
[null,null,null,null,null,null,null,null,null,null,null,null,null,null,null,null,null,null," "]
[null,null,null,null,null,null,null,null,null,null,null,null,null,null,null,null,null,null," "]
[null,null,null,null,null,null,null,null,null,null,null,null,null,null,null,null,null,null," "]
[null,null,null,null,null,null,null,null,null,null,null,null,null,null,null,null,null,null," "]
[null,null,null,null,null,null,null,null,null,null,null,null,null,null,null,null,null,null," "]
[null,null,null,null,null,null,null,null,null,null,null,null,null,null,null,null,null,null," "]
[null,null,null,null,null,null,null,null,null,null,null,null,null,null,null,null,null,null," "]
[null,null,null,null,null,null,null,null,null,null,null,null,null,null,null,null,null,null," "]
[null,null,null,null,null,null,null,null,null,null,null,null,null,null,null,null,null,null," "]
[null,null,null,null,null,null,null,null,null,null,null,null,null,null,null,null,null,null," "]
[null,null,null,null,null,null,null,null,null,null,null,null,null,null,null,null,null,null," "]
[null,null,null,null,null,null,null,null,null,null,null,null,null,null,null,null,null,null," "]
[null,null,null,null,null,null,null,null,null,null,null,null,null,null,null,null,null,null," "]
[null,null,null,null,null,null,null,null,null,null,null,null,null,null,null,null,null,null," "]
[null,null,null,null,null,null,null,null,null,null,null,null,null,null,null,null,null,null," "]
[null,null,null,null,null,null,null,null,null,null,null,null,null,null,null,null,null,null," "]
[null,null,null,null,null,null,null,null,null,null,null,null,null,null,null,null,null,null," "]
[null,null,null,null,null,null,null,null,null,null,null,null,null,null,null,null,null,null," "]
[null,null,null,null,null,null,null,null,null,null,null,null,null,null,null,null,null,null," "]
[null,null,null,null,null,null,null,null,null,null,null,null,null,null,null,null,null,null," "]
[null,null,null,null,null,null,null,null,null,null,null,null,null,null,null,null,null,null," "]
[null,null,null,null,null,null,null,null,null,null,null,null,null,null,null,null,null,null," "]
[null,null,null,null,null,null,null,null,null,null,null,null,null,null,null,null,null,null," "]
[null,null,null,null,null,null,null,null,null,null,null,null,null,null,null,null,null,null," "]
[null,null,null,null,null,null,null,null,null,null,null,null,null,null,null,null,null,null," "]
[null,null,null,null,null,null,null,null,null,null,null,null,null,null,null,null,null,null," "]
[null,null,null,null,null,null,null,null,null,null,null,null,null,null,null,null,null,null," "]
[null,null,null,null,null,null,null,null,null,null,null,null,null,null,null,null,null,null," "]
[null,"Total Identified Students",null,null,null,null,{"$f":"SUM(G56:H90)","v":0},null,{"$f":"SUM(I56:J90)","v":0},null,null,null,null,null,{"$f":"SUM(O56:P90)","v":0},null,"Release of Obligation Amounts",null,{"$f":"SUM(S56:S90)","v":0}]
[]
[null,"10.","Identify the private schools with students that reside in Title I attendance zones that have chosen not to participate in equitable services.  If consultation occurred with more than 10 private schools who have declined services, it is not required to write the names of each private school.  Write a general statement indicating that meaningful and timely consultation has occurred, including that documentation has been submitted to the ESEA Ombudsman."]
[]
[]
[null,"Page 51"]

{"sheet":"School Improvement","index":10,"n_rows":16,"n_cols":11,"rows_kept":16,"cut":false,"hidden":false,"merged":[[0,17,15,17],[0,0,1048575,0],[5,1,5,16],[0,10,0,16],[1,2,1,16],[2,1,2,16],[3,1,3,16],[4,1,4,16],[12,1,12,16],[13,1,13,16],[14,1,14,16],[15,1,15,16],[6,1,6,16],[7,1,7,16],[8,1,8,16],[9,1,9,16],[10,1,10,16],[11,1,11,16]]}
[null,{"$f":"'Main Page'!$N$9","v":"2026-2027"},null,"School Division:",{"$f":"'Main Page'!$L$14","v":0},null,null,null,"Division Number:",{"$f":"'Main Page'!$L$15","v":" "},{"$f":"'Main Page'!$B$6","v":"Local Consolidated Application"}]
[null,null,"n.  Narrative:  School Improvement"]
[]
[null,"This section should only be completed if the school division has schools identified for Comprehensive Support and Improvement or Targeted Support and Improvement.   "]
[null,"Comprehensive Support and Improvement"]
[]
[null,"Describe how the local educational agency will carry out its responsibilities under Section 1111(d)(1).  Please include the names of the schools in improvement."]
[]
[]
[]
[null,"Targeted or Additional Targeted Support and Improvement"]
[]
[null,"Describe how the local educational agency will carry out its responsibilities under Section 1111(d)(2).  Please include the names of the schools in improvement."]
[]
[]
[null,"Page 52"]

{"sheet":"Skipped School Provision","index":11,"n_rows":20,"n_cols":11,"rows_kept":20,"cut":false,"hidden":false,"merged":[[14,6,14,16],[13,1,13,16],[1,2,1,16],[0,10,0,16],[7,2,7,15],[8,2,8,15],[9,2,9,15],[0,17,19,17],[0,0,19,0],[15,1,15,16],[10,1,10,16],[5,1,5,16],[19,1,19,16],[4,1,4,16],[12,1,12,16],[17,1,17,16],[2,1,2,16],[11,1,11,16],[6,1,6,16],[14,2,14,3],[18,1,18,16],[3,2,3,16],[16,2,16,16]]}
[null,{"$f":"'Main Page'!$N$9","v":"2026-2027"},null,"School Division:",{"$f":"'Main Page'!$L$14","v":0},null,null,null,"Division Number:",{"$f":"'Main Page'!$L$15","v":" "},{"$f":"'Main Page'!$B$6","v":"Local Consolidated Application"}]
[null,null,"o.  Skipped School Provision"]
[]
[null,"1.","If on the Allocation to Eligible Schools Table on the 35% Tab, a school was “skipped” that was eligible for Title I under the Eligible Attendance you selected, provide the name(s) of the school(s) in the box below.  Include the rationale for choosing to “skip” the school(s) below."]
[]
[]
[null,"Title I Section 1113(b)(1)(D)(i-iii):\n"]
[null,"(i).","The school meets the comparability requirements of Section 1118(c);"]
[null,"(ii).","The school is receiving supplemental funds from other state or local sources that are spent according to the requirements of Section 1114 or 1115; and"]
[null,"(iii).","The funds expended from such other sources equal or exceed the amount that would be provided under this part."]
[]
[null,"Did the school(s) meet the criteria for the skipped school provision and did the division allocate the amount of funding to the skipped school(s) they would have received were they served under Title I, Part A?"]
[null,"Place an \"X\" in the appropriate yes or no box."]
[]
[null,null,null,null,"Yes ",null,"No (The school(s) above cannot be skipped)"]
[]
[null,"2.","If yes, explain how the provision was met in the section below.  Include the amount of funding provided and the funding source(s)."]
[]
[]
[null,"Page 53"]

{"sheet":"Neglected","index":12,"n_rows":56,"n_cols":14,"rows_kept":56,"cut":false,"hidden":false,"merged":[[27,1,27,16],[7,1,7,4],[7,5,7,16],[6,1,6,4],[15,1,15,16],[16,1,16,3],[16,4,16,5],[16,6,16,8],[6,5,6,16],[26,13,26,16],[26,9,26,12],[18,6,18,8],[18,9,18,12],[18,13,18,16],[19,1,19,3],[21,13,21,16],[19,4,19,5],[19,6,19,8],[26,1,26,3],[26,4,26,5],[26,6,26,8],[22,13,22,16],[21,1,21,3],[21,4,21,5],[0,10,0,16],[1,2,1,16],[2,1,2,16],[3,1,3,16],[4,1,4,16],[12,1,12,16],[8,1,8,16],[9,2,9,16],[17,1,17,3],[17,4,17,5],[17,6,17,8],[17,13,17,16],[16,13,16,16],[17,9,17,12],[16,9,16,12],[47,1,47,16],[49,1,49,16],[50,1,50,16],[53,1,53,16],[42,3,42,16],[41,3,41,16],[51,1,51,16],[18,1,18,3],[18,4,18,5],[48,2,48,16],[43,1,43,16],[44,1,44,16],[45,2,45,16],[46,1,46,16],[32,1,32,16],[33,10,33,16],[40,3,40,16],[35,1,35,16],[36,2,36,16],[39,2,39,16],[31,1,31,16],[34,2,34,16],[37,1,37,16],[38,1,38,16],[0,17,55,17],[0,0,1048575,0],[39,1,42,1],[28,2,28,16],[29,1,29,16],[24,1,24,3],[24,4,24,5],[24,6,24,8],[24,9,24,12],[24,13,24,16],[25,1,25,3],[25,4,25,5],[25,6,25,8],[25,9,25,12],[25,13,25,16],[23,1,23,3],[23,4,23,5],[52,1,52,16],[55,1,55,16],[5,1,5,4],[5,5,5,16],[11,1,11,16],[13,2,13,16],[30,1,30,16],[23,6,23,8],[23,9,23,12],[23,13,23,16],[22,1,22,3],[22,4,22,5],[22,6,22,8],[22,9,22,12],[19,9,19,12],[19,13,19,16],[20,1,20,3],[20,4,20,5],[20,6,20,8],[20,9,20,12],[20,13,20,16],[21,6,21,8],[21,9,21,12]]}
[null,{"$f":"'Main Page'!$N$9","v":"2026-2027"},null,"School Division:",{"$f":"'Main Page'!$L$14","v":0},null,null,null,"Division Number:",{"$f":"'Main Page'!$L$15","v":" "},{"$f":"'Main Page'!$B$6","v":"Local Consolidated Application"}]
[null,null,"p.  Neglected Children and Youth"]
[]
[null,"All school divisions must complete this page."]
[]
[null,"LEA Neglected Facility Contact"]
[null,"Email Address"]
[null,"Phone Number"]
[]
[null,{"$f":"VLOOKUP($J$1,Prefills!$AG$6:$AH$145,2)","v":{"$error":"#N/A"}},"Total number of children and youth who are identified as neglected (year-to-date) for 2025-2026 based on the definition in Title I, Part D Section 1432(4)(A). (automatically populates)"]
[]
[null,"School divisions that have facilities that report one or more neglected students in the most recently submitted Title I, Part D, October Count under the neglected column must complete this tab. Please refer to the Guidelines, Instructions, and Assurances for more information.\n"]
[]
[null,null,"Check here if the local neglected facility has declined services.  If this box is checked, the remaining items in this tab should be left blank."]
[]
[null,{"$f":"\"Provide the name of any residential neglected facilities that will participate in the Title I, Part A neglected set-aside for the \"  & 'Main Page'!N9 & \" school year and the number of students that will receive services ages 5-21.\"","v":"Provide the name of any residential neglected facilities that will participate in the Title I, Part A neglected set-aside for the 2026-2027 school year and the number of students that will receive services ages 5-21."}]
[null,"Neglected Facility Name",null,null,"Number of Students that Received Services Ages 5-21 (2025-2026)",null,"Contact Name from the Neglected Facility",null,null,"Location of Educational Services",null,null,null,"Contact Number and Email"]
[]
[]
[]
[]
[]
[]
[]
[]
[]
[]
[]
[null,null,"Number of neglected students served for the current school year (2026-2027)"]
[]
[null,"A local educational agency shall reserve such funds as are necessary under this part to provide services comparable to those provided to children in schools funded under Title I, Part A, to serve\n(ii) children in local institutions for neglected children; and \n(iii) if appropriate, children in local institutions for delinquent children, and neglected or delinquent children in community day school programs. Section 1007(3)(A)\n\nThe funds set aside from a LEA’s Title I, Part A allocation may be used:\n (1) to improve educational services for children and youth in local and state institutions for neglected or delinquent children and youth so that such children and youth have the opportunity to meet the same challenging state academic content standards and challenging State student academic achievement standards that all children in the state are expected to meet;\n(2) to provide such children and youth with the services needed to make a successful transition from institutionalization to further schooling or employment; and\n(3) to prevent at-risk youth from dropping out of school, and to provide dropouts, and children and youth returning from correctional facilities or institutions for neglected or delinquent children and youth, with a support system to ensure their continued education. Section 1401 (3)(A)\n"]
[]
[null,"Page 54"]
[null,{"$f":"'Main Page'!$N$9","v":"2026-2027"},null,"School Division:",{"$f":"'Main Page'!$L$14","v":0},null,null,null,"Division Number:",{"$f":"'Main Page'!$L$15","v":" "},{"$f":"'Main Page'!$B$6","v":"Local Consolidated Application"}]
[null,null,"o.  Neglected Children and Youth (Continued)"]
[]
[null,"1.","Describe the needs of the neglected students served identified during the needs assessment process.  Include a brief summary of the needs assessment process and how services are coordinated with the neglected facilities or programs."]
[]
[]
[null,"2. ","Describe the activities that will be implemented to address the identified need(s). Include the following information for each activity listed:\n\n\n"]
[null,null,"a.","Describe the facility and/or population that will be served.\n"]
[null,null,"b.","Describe each specific activity that will be implemented based on data analysis of neglected/delinquent children in local institutions or at-risk programs.\n"]
[null,null,"c.","Describe how the funds will be distributed to benefit neglected children being served."]
[]
[]
[null,"3. ","Describe how Title I, Part A, set-aside neglected funds are coordinated with the Title I, Part D, Subpart 2, subgrants, if the division also receives those funds, as well as coordination with other federal, state, and local programs serving at-risk children and youth.  "]
[]
[]
[null,"4. ","Describe the process the LEA will use to evaluate the effectiveness of the activities implemented to address the described needs."]
[]
[]
[null,"Guidance related to services for neglected students can be found on "]
[null,"Virginia’s Title I, Part D website"]
[null,"or by contacting Gueringe’ Richardson, Title I Specialist, at Gueringe.Richardson@doe.virginia.gov or at (804) 750-8146."]
[]
[null,"Page 55"]

{"sheet":"Foster Care and Homeless","index":13,"n_rows":44,"n_cols":11,"rows_kept":44,"cut":false,"hidden":false,"merged":[[0,10,0,16],[1,2,1,16],[2,1,2,16],[12,1,12,16],[3,1,3,16],[4,1,4,16],[13,1,13,16],[5,1,5,5],[5,6,5,16],[6,1,6,16],[7,2,7,16],[8,1,8,16],[9,2,9,16],[10,1,10,16],[11,1,11,16],[21,2,21,16],[22,3,22,7],[22,8,22,16],[23,3,23,7],[23,8,23,16],[14,1,14,5],[14,6,14,16],[15,1,15,16],[16,2,16,16],[17,1,17,16],[18,2,18,16],[19,1,19,16],[20,1,20,16],[36,1,36,16],[38,1,38,16],[24,3,24,7],[24,8,24,16],[30,3,30,7],[30,8,30,16],[31,3,31,7],[31,8,31,16],[25,1,25,16],[26,1,26,16],[27,10,27,16],[28,2,28,16],[29,1,29,16],[27,3,27,4],[43,1,43,16],[37,1,37,16],[39,1,39,16],[40,1,40,16],[41,1,41,16],[32,3,32,7],[32,8,32,16],[33,3,33,7],[33,8,33,16],[35,2,35,16],[34,1,34,16]]}
[null,{"$f":"'Main Page'!$N$9","v":"2026-2027"},null,"School Division:",{"$f":"'Main Page'!$L$14","v":0},null,null,null,"Division Number:",{"$f":"'Main Page'!$L$15","v":" "},{"$f":"'Main Page'!$B$6","v":"Local Consolidated Application"}]
[null,null,"q.  Foster Care and Homeless "]
[]
[null,"Promoting greater stability for students in foster care is essential so that they can continue their education without disruption, maintain important relationships with peers and adults, and have the opportunity to graduate from high school and achieve college-and career-readiness. Information about the use of Title I funds to ensure the educational stability of students in foster care can be found in Section R on pages 53 and 54 of the US Department of Education Ensuring Educational Stability and Success for Students In Foster Care Non-Regulatory Guidance, November 2024."]
[]
[null,"Local Foster Care Education Liaison:"]
[]
[null,null,"Total number of children and youth identified as foster care child (45 CFR 1355.20) in the school division (year-to-date) for the \n2025-2026 school year."]
[]
[null,"1.","How did the school division determine that the Title I, Part A set-aside is sufficient to meet the transportation needs of foster care students?"]
[]
[]
[null,"Any LEA receiving Title I, Part A funds must include in its local plan a description of how the plan is coordinated with the McKinney-Vento Act. The local plan must describe services provided to any homeless child. (ESEA sections 1112(a)(1)(B) and (b)(6)). Content for this page and the homeless reservation should be completed in conjunction with the local homeless education liaison. (See US Department of Education 2018 Education for Homeless Children and Youths Program Non-Regulatory Guidance Section M on pages 39-44 for further detail.)"]
[]
[null,"Local Homeless Education Liaison:"]
[]
[null,null,"Total number of children and youth identified as homeless in the school division (year-to-date) for 2025-2026 based on the definition in Title IX, Part A, Section 725. (*Place mouse curser over comment in cell B16 for definition.)"]
[]
[null,"2.","Describe the process used to identify students experiencing homelessness and how the needs of homeless children and youths are determined."]
[]
[]
[null,"3. ","Describe the method used for determining the amount reserved to serve students experiencing homelessness.\n\n\n"]
[null,null,"a.","List staff (names and positions) consulted to determine the reservation."]
[null,null,"b.","What needs were identified?"]
[null,null,"c.","What costs are associated with those needs?"]
[]
[null,"Page 56"]
[null,{"$f":"'Main Page'!$N$9","v":"2026-2027"},null,"School Division:",null,null,null,null,"Division Number:",{"$f":"'Main Page'!$L$15","v":" "},{"$f":"'Main Page'!$B$6","v":"Local Consolidated Application"}]
[null,null,"p.  Foster Care and Homeless (continued)"]
[]
[null,null,"d.","What other school division funds are budgeted specifically to meet the needs of students experiencing homeless?"]
[null,null,"e.","How did the school division determine the Title I, Part A set-aside is sufficient to meet the needs of students experiencing homelessness?"]
[null,null,"f.","What process will the school division use to reassess how it meets the needs of these students throughout the year?"]
[null,null,"g.","How much of last year’s homeless set-aside was used to serve students experiencing homelessness?\n"]
[]
[null,"4. ","Describe the services provided to students experiencing homelessness by the Title I, Part A program to support their enrollment, attendance, and success. Include a description of the services provided with funds reserved under Title I, Part A, Section 1113(c)(3)(A)-(C).  Place cursor over this comment for the legislative text."]
[]
[]
[]
[null,"*If an LEA has not identified any students experiencing homelessness during the last three school years, no set aside is required if the following McKinney-Vento Education of Homeless Children and Youth Program (Title IX, Part A) requirements have been fulfilled:\na. The LEA can document outreach and coordination activities with other entities and agencies to identify homeless children and youths [Section 722(g)(6)(i)]\nb. Public notice of the educational rights of homeless children and youths is disseminated in locations frequented by parents or guardians of such children and youths, and unaccompanied youths, including schools, shelters, public libraries, and soup kitchens in a manner and form understandable to the parents and guardians of homeless children and youths, and unaccompanied youths [Section 722(g)(6)(iv)]\nc. The LEA can document that school personnel receive professional development and support to assist in the identification and support of homeless children and youths [Section 722(g)(6)(ix)]\n"]
[]
[null,"Guidance related to the local homeless education liaison, the definition of homelessness for educational purposes, identification strategies, professional development, and other services that can be provided through Title I, Part A, funding can be found on the Project HOPE-VA website: www.wm.edu/hope or by contacting Project HOPE-VA, Virginia’s Education for Homeless Children and Youth Program: phone: 757-221-4002 or email: homlss@wm.edu. "]
[]
[null,"Page 57"]

{"sheet":"Early Childhood","index":14,"n_rows":67,"n_cols":15,"rows_kept":67,"cut":false,"hidden":false,"merged":[[1,2,1,16],[0,10,0,16],[32,10,32,16],[2,1,2,16],[28,1,28,16],[46,12,46,13],[46,14,46,16],[47,1,47,3],[47,4,47,7],[47,8,47,11],[47,12,47,13],[47,14,47,16],[44,1,44,3],[44,4,44,7],[45,1,45,3],[45,4,45,7],[45,8,45,11],[45,12,45,13],[42,12,42,13],[42,14,42,16],[43,1,43,3],[43,4,43,7],[43,8,43,11],[41,8,41,11],[66,1,66,16],[48,1,48,3],[48,4,48,7],[48,8,48,11],[48,12,48,13],[48,14,48,16],[49,1,49,3],[49,4,49,7],[49,8,49,11],[49,12,49,13],[49,14,49,16],[65,1,65,3],[65,4,65,7],[65,8,65,11],[50,4,50,7],[50,8,50,11],[55,1,55,3],[57,4,57,7],[64,1,64,3],[64,4,64,7],[64,8,64,11],[51,14,51,16],[50,1,50,3],[50,12,50,13],[50,14,50,16],[45,14,45,16],[46,4,46,7],[46,8,46,11],[52,14,52,16],[52,12,52,13],[54,4,54,7],[54,8,54,11],[52,8,52,11],[53,12,53,13],[53,14,53,16],[51,12,51,13],[54,12,54,13],[54,14,54,16],[63,1,63,3],[63,4,63,7],[63,8,63,11],[61,1,61,3],[61,4,61,7],[61,8,61,11],[62,1,62,3],[62,4,62,7],[59,1,59,3],[62,8,62,11],[59,8,59,11],[59,4,59,7],[54,1,54,3],[53,1,53,3],[53,4,53,7],[53,8,53,11],[52,1,52,3],[52,4,52,7],[51,8,51,11],[51,4,51,7],[51,1,51,3],[46,1,46,3],[41,12,41,13],[41,14,41,16],[40,12,40,13],[40,14,40,16],[44,8,44,11],[44,12,44,13],[44,14,44,16],[40,1,40,3],[43,12,43,13],[42,1,42,3],[42,4,42,7],[42,8,42,11],[40,8,40,11],[40,4,40,7],[43,14,43,16],[41,1,41,3],[41,4,41,7],[37,12,37,13],[14,8,14,16],[36,1,36,16],[23,1,25,7],[39,8,39,11],[39,12,39,13],[39,14,39,16],[31,1,31,16],[33,2,33,16],[37,8,37,11],[37,1,37,3],[38,1,38,3],[38,4,38,7],[39,1,39,3],[39,4,39,7],[37,4,37,7],[37,14,37,16],[38,8,38,11],[38,12,38,13],[38,14,38,16],[11,8,11,16],[12,8,12,16],[26,13,26,16],[26,1,27,7],[24,12,24,16],[15,8,15,16],[23,9,23,11],[24,9,24,11],[35,1,35,16],[30,1,30,16],[19,8,19,16],[17,8,17,16],[23,13,23,16],[16,13,16,16],[16,9,16,11],[21,8,21,16],[25,11,25,16],[22,8,22,16],[26,11,26,12],[27,8,27,9],[27,11,27,12],[29,1,29,16],[25,9,25,10],[5,8,5,16],[6,8,6,16],[20,8,20,16],[26,8,26,9],[16,1,16,7],[12,1,12,7],[11,1,11,7],[10,1,10,7],[7,1,7,7],[20,1,20,7],[17,1,17,7],[22,1,22,7],[21,1,21,7],[19,1,19,7],[13,8,13,16],[14,1,14,7],[6,1,6,7],[9,1,9,7],[9,8,9,16],[8,1,8,7],[8,8,8,16],[13,1,13,7],[7,8,7,16],[10,8,10,16],[57,12,57,13],[57,14,57,16],[55,8,55,11],[57,1,57,3],[60,4,60,7],[60,8,60,11],[58,4,58,7],[58,8,58,11],[56,1,56,3],[55,4,55,7],[56,4,56,7],[56,8,56,11],[58,1,58,3],[59,12,59,13],[55,14,55,16],[56,14,56,16],[60,1,60,3],[59,14,59,16],[55,12,55,13],[58,14,58,16],[57,8,57,11],[0,17,66,17],[0,0,1048575,0],[3,1,3,7],[15,1,15,6],[18,1,18,7],[4,1,4,7],[18,8,18,16],[3,8,3,16],[4,8,4,16],[5,1,5,7],[65,12,65,13],[63,12,63,13],[64,12,64,13],[61,14,61,16],[62,14,62,16],[60,14,60,16],[63,14,63,16],[64,14,64,16],[65,14,65,16],[61,12,61,13],[62,12,62,13],[60,12,60,13],[58,12,58,13],[56,12,56,13]]}
[null,{"$f":"'Main Page'!$N$9","v":"2026-2027"},null,"School Division:",{"$f":"'Main Page'!$L$14","v":0},null,null,null,"Division Number:",{"$f":"'Main Page'!$L$15","v":" "},{"$f":"'Main Page'!$B$6","v":"Local Consolidated Application"}]
[null,null,"r.  Early Childhood Program  (if applicable)"]
[]
[null,"Number of Participating Students:"]
[null,"Number of Eligible Students on Waiting List:"]
[null,"Number of Participating Schools or Centers:"]
[null,"Number of Title I funded Teachers:"]
[null,"Number of Title I funded Paraprofessionals:"]
[null,"Number, Titles and Brief Job Descriptions of Other Personnel Funded by Title I: \n     • Be specific. Describe the type of personnel such as specialists, \n        coaches, administrative and support staff including the number of \n        each funded with Title I funds."]
[null,"Describe the Early Childhood Program expenditures, including how the expenditures relate to the staff on line 9:"]
[null,"Average Number of Pupils Per Class/Average Class Size:"]
[null,"Number of Classrooms:"]
[null,"Title I Early Childhood Budget (Personnel and Program):",null,null,null,null,null,null,{"$f":"IFERROR(SUM(VALUE(INDEX(_xlfn._xlws.FILTER(BdgtConsolidated,INDEX(BdgtConsolidated,,3)=\"Early Childhood\"),,4))),0)\n+IFERROR(SUM(VALUE(INDEX(_xlfn._xlws.FILTER(TrnsfrConsolidated,INDEX(TrnsfrConsolidated,,3)=\"Early Childhood\"),,4))),0)","v":0}]
[null,"Does the total in I12 match cell P22 on the \"35% and Above Low-Income\" tab? ",null,null,null,null,null,null,{"$f":"IF(I13=SUM('35% and Above Low-Income'!P22:R22),\"Yes\",\"No - please review your entries.\")","v":"Yes"}]
[null,"Does the total in I12 match cell P22 on the \"Below 35% Low-Income\" tab? ",null,null,null,null,null,null,{"$f":"IF(I13=SUM('Below 35% Low-Income'!P22:R22),\"Yes\",\"No - please review your entries.\")","v":"Yes"}]
[null,"School Year Title I, Part A, Early Childhood First Established:",null,null,null,null,null,"FY"]
[null,"Length of the Program Day (type X to left of selection):",null,null,null,null,null,null,null,"Half Day",null,null,null,"Full Day"]
[null,"Curriculum: "]
[null,"Primary Curriculum"]
[null,"Secondary Curriculum ( if applicable)"]
[null,"Test/Evaluation Design:"]
[null,"Primary Test"]
[null,"Secondary Test ( if applicable)"]
[null,"Other Early Childhood Programs with which Title I is collaborating:",null,null,null,null,null,null,null,"Virginia Preschool Initiative",null,null,null,"Head Start"]
[null,null,null,null,null,null,null,null,null,"Early Childhood Special Education"]
[null,null,null,null,null,null,null,null,null,"Others (specify)"]
[null,"Students Must Be: "]
[null,null,null,null,null,null,null,null,"Age",null,"by","Date"]
[]
[null,"Describe how the local educational agency will support, coordinate, and integrate services provided under this part with early childhood education programs at the local educational agency or individual school level, including plans for the transition of participants in such programs to local elementary school programs.\nThis section must be completed if any school in the division, Title I, or non-Title I has an Early Childhood Program. "]
[]
[null,"Page 58"]
[null,{"$f":"'Main Page'!$N$9","v":"2026-2027"},null,"School Division:",{"$f":"'Main Page'!$L$14","v":0},null,null,null,"Division Number:",{"$f":"'Main Page'!$L$15","v":" "},{"$f":"'Main Page'!$B$6","v":"Local Consolidated Application"}]
[null,null,"q.  Early Childhood Program  (Continued)"]
[]
[null,"Provide a list of all schools and/or centers in your school division that house Title I, Part A, Early Childhood programs.  Indicate the eligible Title I school zone(s) served by the school or center.  In addition, include the total number of all Title I, Part A, Early Childhood teachers who are housed in each of the schools."]
[null,"List Schools and Early Childhood Centers with Title I, Part A, Early Childhood Programs"]
[null,"School or Early Childhood Center Name",null,null,"Principal Name and Address",null,null,null,"Eligible Title I School Zone(s) Served",null,null,null,"Number of Title I Funded Teachers",null,"Number of Title I Funded Paraprofessionals"]
[]
[null,"     ",null,null,"     "]
[null,"     ",null,null,"     "]
[null,"     ",null,null,"     "]
[null,"     ",null,null,"     "]
[null,"     ",null,null,"     "]
[null,"     ",null,null,"     "]
[null,"     ",null,null,"     "]
[null,"     ",null,null,"     "]
[null,"     ",null,null,"     "]
[null,"     ",null,null,"     "]
[null,"     ",null,null,"     "]
[null,"     ",null,null,"     "]
[null,"     ",null,null,"     "]
[]
[null,"     ",null,null,"     "]
[null,"     ",null,null,"     "]
[null,"     ",null,null,"     "]
[null,"     ",null,null,"     "]
[null,"     ",null,null,"     "]
[null,"     ",null,null,"     "]
[null,"     ",null,null,"     "]
[null,"     ",null,null,"     "]
[null,"     ",null,null,"     "]
[null,"     "]
[]
[null,"     ",null,null,"     "]
[null,"     ",null,null,"     "]
[null,"Page 59"]

{"sheet":"Title I, Part C","index":15,"n_rows":332,"n_cols":15,"rows_kept":332,"cut":false,"hidden":false,"merged":[[177,1,177,12],[177,14,177,16],[172,1,172,12],[172,14,172,16],[173,1,173,12],[173,14,173,16],[174,1,174,12],[174,14,174,16],[175,1,175,12],[175,14,175,16],[176,1,176,12],[176,14,176,16],[167,1,167,12],[167,14,167,16],[168,1,168,12],[168,14,168,16],[169,1,169,12],[169,14,169,16],[170,1,170,12],[170,14,170,16],[171,1,171,12],[171,14,171,16],[162,1,162,12],[162,14,162,16],[163,1,163,12],[163,14,163,16],[164,1,164,12],[164,14,164,16],[165,1,165,12],[165,14,165,16],[166,1,166,12],[166,14,166,16],[154,1,154,16],[156,1,156,7],[156,8,156,10],[157,1,157,16],[158,1,158,16],[159,1,159,16],[160,1,160,16],[161,1,161,16],[155,1,155,16],[156,11,156,16],[149,13,149,16],[149,2,149,6],[149,7,149,12],[150,2,150,6],[150,7,150,12],[150,14,150,16],[152,1,152,16],[153,10,153,16],[151,2,151,16],[145,1,148,1],[145,2,145,6],[145,7,145,12],[145,13,147,16],[146,2,146,6],[146,7,146,12],[147,2,147,6],[147,7,147,12],[148,2,148,6],[148,7,148,12],[148,13,148,16],[137,1,140,1],[141,1,144,1],[141,2,141,6],[141,7,141,12],[141,13,143,16],[142,2,142,6],[142,7,142,12],[143,2,143,6],[143,7,143,12],[144,2,144,6],[144,7,144,12],[144,13,144,16],[137,2,137,6],[137,7,137,12],[137,13,139,16],[138,2,138,6],[138,7,138,12],[139,2,139,6],[139,7,139,12],[140,2,140,6],[140,7,140,12],[140,13,140,16],[133,1,136,1],[133,2,133,6],[133,7,133,12],[133,13,135,16],[134,2,134,6],[134,7,134,12],[135,2,135,6],[135,7,135,12],[136,2,136,6],[136,7,136,12],[136,13,136,16],[119,7,119,12],[119,13,119,16],[120,2,120,6],[120,7,120,12],[120,13,120,16],[121,1,124,1],[121,2,121,6],[121,7,121,12],[121,13,123,16],[122,2,122,6],[122,7,122,12],[123,2,123,6],[123,7,123,12],[124,2,124,6],[124,7,124,12],[124,13,124,16],[114,1,114,16],[68,1,68,16],[70,1,70,16],[71,1,71,16],[73,1,73,16],[115,1,115,16],[116,10,116,16],[117,2,117,16],[118,1,118,16],[111,3,111,11],[111,12,111,14],[112,3,112,9],[112,10,112,11],[112,12,112,14],[72,1,72,16],[69,1,69,16],[113,3,113,9],[113,10,113,11],[113,12,113,14],[98,2,98,16],[99,2,99,16],[83,1,83,16],[100,2,100,16],[84,10,84,16],[107,2,107,16],[108,2,108,16],[109,1,109,16],[110,3,110,11],[110,12,110,14],[102,1,102,16],[103,1,103,16],[104,1,104,16],[105,1,105,16],[106,1,106,16],[101,1,101,16],[76,1,76,16],[77,1,77,16],[82,1,82,16],[78,3,78,16],[79,3,79,16],[80,3,80,16],[81,3,81,16],[85,2,85,16],[97,2,97,16],[88,1,88,16],[92,2,92,16],[89,2,89,16],[90,2,90,16],[91,2,91,16],[93,2,93,16],[94,2,94,16],[95,2,95,16],[96,2,96,16],[87,1,87,16],[60,3,60,16],[75,1,75,16],[67,1,67,16],[62,3,62,16],[63,4,63,16],[64,4,64,16],[65,4,65,16],[66,3,66,16],[74,2,74,16],[61,3,61,16],[58,1,58,16],[52,1,52,16],[53,1,53,16],[48,5,48,13],[49,5,49,13],[50,5,50,13],[51,5,51,13],[54,10,54,16],[59,3,59,16],[57,3,57,8],[57,9,57,10],[57,11,57,16],[41,5,41,13],[42,5,42,13],[43,5,43,13],[44,5,44,13],[45,5,45,13],[46,5,46,13],[47,5,47,13],[55,2,55,16],[56,1,56,16],[32,5,32,13],[33,5,33,13],[34,5,34,13],[35,5,35,13],[36,5,36,13],[37,5,37,13],[38,5,38,13],[39,5,39,13],[40,5,40,13],[23,1,23,16],[25,1,25,16],[24,2,24,16],[26,5,26,13],[27,5,27,13],[28,5,28,13],[29,5,29,13],[30,5,30,13],[31,5,31,13],[9,1,9,4],[9,5,9,16],[10,1,10,4],[10,5,10,11],[21,1,21,16],[22,1,22,16],[12,1,12,16],[19,1,20,2],[19,3,20,5],[19,6,20,6],[19,7,20,11],[19,12,20,12],[19,13,20,16],[10,12,10,13],[10,14,10,16],[13,1,13,3],[13,4,13,16],[14,1,14,3],[14,4,14,16],[15,1,16,3],[15,4,16,16],[17,1,18,3],[17,4,18,16],[11,1,11,16],[0,10,0,16],[1,2,1,16],[2,2,2,16],[3,1,3,16],[4,1,4,16],[5,1,5,16],[6,1,6,16],[7,1,7,2],[7,3,7,11],[7,12,8,13],[7,14,8,16],[8,1,8,2],[8,3,8,11],[126,7,126,12],[127,2,127,6],[127,7,127,12],[128,2,128,6],[128,7,128,12],[128,13,128,16],[129,1,132,1],[129,2,129,6],[129,7,129,12],[129,13,131,16],[130,2,130,6],[130,7,130,12],[131,2,131,6],[131,7,131,12],[132,2,132,6],[132,7,132,12],[132,13,132,16],[125,1,128,1],[125,2,125,6],[125,7,125,12],[125,13,127,16],[126,2,126,6],[178,1,178,12],[178,14,178,16],[179,1,179,12],[179,14,179,16],[180,1,180,12],[180,14,180,16],[181,1,181,12],[181,14,181,16],[182,1,182,12],[182,14,182,16],[183,9,183,12],[183,14,183,16],[185,1,185,16],[186,10,186,16],[187,1,187,16],[188,1,188,16],[189,1,189,16],[190,1,190,16],[191,1,191,13],[191,14,191,16],[192,1,192,13],[192,14,192,16],[193,1,193,13],[193,14,193,16],[194,1,194,13],[194,14,194,16],[195,1,195,13],[195,14,195,16],[196,1,196,13],[196,14,196,16],[197,1,197,13],[197,14,197,16],[198,1,198,13],[198,14,198,16],[199,1,199,13],[199,14,199,16],[200,1,200,13],[200,14,200,16],[201,1,201,13],[201,14,201,16],[202,1,202,13],[202,14,202,16],[203,1,203,13],[203,14,203,16],[204,1,204,13],[204,14,204,16],[205,1,205,13],[205,14,205,16],[206,1,206,13],[206,14,206,16],[207,1,207,13],[207,14,207,16],[208,1,208,13],[208,14,208,16],[209,1,209,13],[209,14,209,16],[210,1,210,13],[210,14,210,16],[211,1,211,13],[211,14,211,16],[212,11,212,13],[212,14,212,16],[213,1,213,16],[214,1,214,16],[215,1,215,16],[216,1,216,16],[217,1,217,16],[218,1,218,13],[218,14,218,16],[219,1,219,13],[219,14,219,16],[220,1,220,13],[220,14,220,16],[221,1,221,13],[221,14,221,16],[222,1,222,13],[222,14,222,16],[223,1,223,13],[223,14,223,16],[224,1,224,13],[224,14,224,16],[225,1,225,13],[225,14,225,16],[226,1,226,13],[226,14,226,16],[227,1,227,13],[227,14,227,16],[228,1,228,13],[228,14,228,16],[229,1,229,13],[229,14,229,16],[230,1,230,13],[230,14,230,16],[231,1,231,13],[231,14,231,16],[232,1,232,13],[232,14,232,16],[233,1,233,13],[233,14,233,16],[234,1,234,13],[234,14,234,16],[235,1,235,13],[235,14,235,16],[236,1,236,13],[236,14,236,16],[237,1,237,13],[237,14,237,16],[238,1,238,13],[238,14,238,16],[239,11,239,13],[239,14,239,16],[240,1,240,16],[241,1,241,16],[242,10,242,16],[243,1,243,16],[244,1,244,16],[245,1,245,16],[246,1,246,16],[247,1,247,13],[247,14,247,16],[248,1,248,13],[248,14,248,16],[249,1,249,13],[249,14,249,16],[250,1,250,13],[250,14,250,16],[251,1,251,13],[251,14,251,16],[252,1,252,13],[252,14,252,16],[253,1,253,13],[253,14,253,16],[254,1,254,13],[254,14,254,16],[255,1,255,13],[255,14,255,16],[256,1,256,13],[256,14,256,16],[257,1,257,13],[257,14,257,16],[258,1,258,13],[258,14,258,16],[259,1,259,13],[259,14,259,16],[260,1,260,13],[260,14,260,16],[261,1,261,13],[261,14,261,16],[262,1,262,13],[262,14,262,16],[263,11,263,13],[263,14,263,16],[264,1,264,16],[265,1,265,16],[266,1,266,16],[267,1,267,16],[268,1,268,16],[269,1,269,13],[269,14,269,16],[270,1,270,13],[270,14,270,16],[271,1,271,13],[271,14,271,16],[272,1,272,13],[272,14,272,16],[273,1,273,13],[273,14,273,16],[274,1,274,13],[274,14,274,16],[275,1,275,13],[275,14,275,16],[276,1,276,13],[276,14,276,16],[277,1,277,13],[277,14,277,16],[278,1,278,13],[278,14,278,16],[279,1,279,13],[279,14,279,16],[280,1,280,13],[280,14,280,16],[281,1,281,13],[281,14,281,16],[282,1,282,13],[282,14,282,16],[283,1,283,13],[283,14,283,16],[284,1,284,13],[284,14,284,16],[285,11,285,13],[285,14,285,16],[286,1,286,16],[287,10,287,16],[288,1,288,16],[289,1,289,16],[290,1,290,16],[291,1,291,16],[292,1,292,12],[292,14,292,16],[293,1,293,12],[293,14,293,16],[294,1,294,12],[294,14,294,16],[295,1,295,12],[295,14,295,16],[296,1,296,12],[296,14,296,16],[297,1,297,12],[297,14,297,16],[298,1,298,12],[298,14,298,16],[299,1,299,12],[299,14,299,16],[300,1,300,12],[300,14,300,16],[301,1,301,12],[301,14,301,16],[302,1,302,12],[302,14,302,16],[303,1,303,12],[303,14,303,16],[304,1,304,12],[304,14,304,16],[305,1,305,12],[305,14,305,16],[306,1,306,12],[306,14,306,16],[307,1,307,12],[307,14,307,16],[308,11,308,13],[308,14,308,16],[309,1,309,16],[310,1,310,16],[311,1,311,16],[312,1,312,16],[313,1,313,16],[314,1,314,12],[314,14,314,16],[315,1,315,12],[315,14,315,16],[316,1,316,12],[316,14,316,16],[317,1,317,12],[317,14,317,16],[318,1,318,12],[318,14,318,16],[319,1,319,12],[319,14,319,16],[320,1,320,12],[320,14,320,16],[321,1,321,12],[321,14,321,16],[322,1,322,12],[322,14,322,16],[328,1,328,12],[328,14,328,16],[329,1,329,12],[329,14,329,16],[330,11,330,13],[330,14,330,16],[331,1,331,16],[323,1,323,12],[323,14,323,16],[324,1,324,12],[324,14,324,16],[325,1,325,12],[325,14,325,16],[326,1,326,12],[326,14,326,16],[327,1,327,12],[327,14,327,16]]}
[null,{"$f":"'Main Page'!$N$9","v":"2026-2027"},null,"School Division: ",{"$f":"'Main Page'!$L$14","v":0},null,null,null,"Division Number:  ",{"$f":"'Main Page'!$L$15","v":" "},{"$f":"'Main Page'!$B$6","v":"Local Consolidated Application"}]
[null,"2a.","TITLE I, PART C - EDUCATION OF MIGRATORY CHILDREN"]
[null,null,{"$f":"\"a.  Title I, Part C, Regional Program Agreement, \" & 'Main Page'!$N$9","v":"a.  Title I, Part C, Regional Program Agreement, 2026-2027"}]
[]
[null,"The lead school division will be responsible for completing the application and serving as the fiscal agent.  One (1) application should be submitted per regional program, and one (1) certification should be submitted by each participating school division to the regional lead school division.  Originals should be kept on file in the lead school division."]
[]
[null,"Lead Regional Program School Division"]
[null,"Name of Lead:",null,null,null,null,null,null,null,null,null,null,"School Division Number:",null,{"$f":"'Main Page'!L15","v":" "}]
[null,"School Division:       ",null,{"$f":"'Main Page'!L14","v":0}]
[null,"Typed Name of Superintendent:      "]
[null,"Signature of Superintendent:",null,null,null,"     ",null,null,null,null,null,null,"Date: "]
[]
[null,"Type name of contact for Title I, Part C, regional program if different than superintendent:"]
[null,"Title I, Part C, Contact:"]
[null,"Title:"]
[null,"Mailing Address:"]
[]
[null,"City, State, Zip:"]
[]
[null,"Telephone:",null,null,null,null,"E-mail: ",null,null,null,null,null,"Fax:"]
[]
[]
[null,"LIST OF PARTICIPATING SCHOOL DIVISIONS"]
[null,"The following school divisions have applied to participate in this regional program.  A Title I, Part C, participating regional program member certification form is attached for each of the school division members included on this list.  The Title I, Part C, subgrant award corresponds to the allocation."]
[null,null,"Please check to assure that signed copies of participating regional program member certification pages for all member divisions are on file with the lead school division."]
[null,"     "]
[null,null,null,null,null,"Name of School Division"]
[null,null,null,null,1,"     "]
[null,null,null,null,2,"     "]
[null,null,null,null,3,"     "]
[null,null,null,null,4,"     "]
[null,null,null,null,5,"     "]
[null,null,null,null,6,"     "]
[null,null,null,null,7,"     "]
[null,null,null,null,8,"     "]
[null,null,null,null,9,"     "]
[null,null,null,null,10,"     "]
[null,null,null,null,11,"     "]
[null,null,null,null,12,"     "]
[null,null,null,null,13,"     "]
[null,null,null,null,14,"     "]
[null,null,null,null,15,"     "]
[null,null,null,null,16,"     "]
[null,null,null,null,17,"     "]
[null,null,null,null,18,"     "]
[null,null,null,null,19,"     "]
[null,null,null,null,20,"     "]
[null,null,null,null,21,"     "]
[null,null,null,null,22,"     "]
[null,null,null,null,23,"     "]
[null,null,null,null,24,"     "]
[null,null,null,null,25,"     "]
[]
[null,"Page 60"]
[null,{"$f":"'Main Page'!$N$9","v":"2026-2027"},null,"School Division:",{"$f":"'Main Page'!$L$14","v":0},null,null,null,"Division Number:",{"$f":"'Main Page'!$L$15","v":" "},{"$f":"'Main Page'!$B$6","v":"Local Consolidated Application"}]
[null,null,"b.  Program Overview"]
[]
[null,null,"1.","How many migrant students does your program currently serve?"]
[null,"In narrative format, respond to questions 2 through 6 using the Program Overview space below."]
[null,null,"2.","Describe how the Migrant Education Program (MEP) identifies new and existing migrant students including birth to age 3, ages 3-5, grades K-12, and out-of-school youth. Include the most common qualifying activities and peak seasons for identification and recruitment."]
[null,null,"3.","Describe the needs assessment process including identifying the multiple data sources relevant to the purpose of Title I, Part C, a brief analysis of student achievement data, and the process used to identify migrant students with the greatest need as priority for services."]
[null,null,"4.","Describe the instructional programs or program services to be developed with the requested federal funds. Explain how the instructional program is supported through evidence-based practices and how it aligns with the needs assessment and measurable objectives as well as agency priorities (set high expectations for student performance; ensure every K-12 student has a high quality, licensed teacher; create innovative pathways for every learner; invest in safe and healthy schools and centers; and promote parents as partners). "]
[null,null,"5."," Discuss how the division/regional MEP will contribute to the attainment of the ESEA goals below. "]
[null,null,null,"-","Supporting student mastery of K-12 college-and-career  ready reading and mathematics standards, and attainment of proficiency or better on corresponding assessments;"]
[null,null,null,"-","For high schools with a graduating class, supporting student completion of graduation requirements in a timely fashion; and"]
[null,null,null,"-","Ensuring that students are taught by effective teachers meeting Virginia licensing and professional teaching requirements and providing meaningful professional development and support to promote effective instruction to increase student achievement."]
[null,null,"6.","Describe the results of prior activities funded with Title I, Part C and how the MEP will use data to continually update and improve activities supported with Title I, Part C funds. Describe progress made toward meeting measurable objectives from the 2025 application. "]
[]
[]
[]
[]
[]
[]
[]
[null,null,"c.   Coordination of Services"]
[]
[null,"Describe the program services/activities that will be coordinated between the MEP and other federal, state, and local programs. Describe the collaboration of MEP staff, parents, and the community to provide services and activities that will contribute to the attainment of the measurable objectives in the application. Provide this information on the Coordinated Consolidated Info. Tab in the Coordination of Services Section D."]
[null,"\nIn your response, include pertinent information from any of the following that may be applicable:"]
[null,null,1,"Plans for assisting preschool children in the transition from early childhood programs, such as Title I preschool programs, Head Start, or state-funded preschool programs;"]
[null,null,2,"Coordination and integration of federal, state, and local services and programs, including programs supported under ESEA, violence prevention programs, nutrition programs, housing programs, Head Start, adult education, career and technical education, and job training;\n"]
[null,null,3,"Plans for coordinating and integrating federal program funds in the application used in conjunction with other federal, state, and local funds to support services to students, especially students in the targeted subgroups, in order to increase program effectiveness, eliminate duplication, and reduce fragmentation of the instructional program; and"]
[null,null,4,"Provisions for the arranged transition of students classified as limited English proficient, disabled students, disadvantaged (educationally and economically), migratory students, homeless children and youth, neglected or delinquent youth, and youth who are at-risk of dropping out of school."]
[]
[null,"Page 61"]
[null,{"$f":"'Main Page'!$N$9","v":"2026-2027"},null,"School Division:",{"$f":"'Main Page'!$L$14","v":0},null,null,null,"Division Number:",{"$f":"'Main Page'!$L$15","v":" "},{"$f":"'Main Page'!$B$6","v":"Local Consolidated Application"}]
[null,null,"d.  Measurable Objectives"]
[]
[null,"Please address how the measurable objectives below will guide the development of the Migrant Education Program. Each MEP must address the Measurable Objectives per these guidelines: choose two from numbers one through four; choose either number five or number six; all must address number seven; choose numbers eight and/or nine if applicable; all must address numbers ten, eleven, and twelve.\n\n"]
[null,"Describe the evidence-based research services and activities (programs, models, instructional methods and techniques) that will be implemented to achieve each objective and that will be supported by the requested funds. \n\n"]
[null,"1.","Each program year an additional eight percent of migrant students will achieve proficiency in phonemic awareness skills in reading at grade level, in order to achieve the performance target of eighty-eight percent proficient by 2028-2029 as measured by state assessment results, teacher ratings and/or other assessments of student performance. "]
[null,"2.","Each program year an additional eight percent of migrant students will achieve proficiency in writing skills at grade level in order to achieve the performance target of eighty-eight percent proficient by 2028-2029 as measured by state assessment results, teacher ratings and/or other assessments of student performance. "]
[null,"3.","Each program year an additional eight percent of migrant students will achieve proficiency in vocabulary in reading at grade level in order to achieve the performance target of eighty-eight percent proficient by 2028-2029 as measured by state assessment results, teacher ratings and/or other assessments of student performance."]
[null,"4.","Each program year an additional three percent of EL migrant students will achieve proficiency in English in order to achieve the Virginia ESSA performance target of fifty-eight percent proficient by 2026-2027 as measured by ACCESS assessment results. "]
[null,"5.","Each program year an additional eight percent of migrant students will achieve proficiency in algebra readiness at grade level, in order to achieve the performance target of eighty-five percent proficient by 2028-2029, as measured by state assessment results, teacher ratings and/or other assessments of student performance. "]
[null,"6.","Each program year an additional eight percent of migrant students will achieve proficiency in number sense and basic operations at grade level, in order to achieve the performance target of eighty-five percent proficient by 2028-2029, as measured by state assessment results, teacher ratings and/or other assessments of student performance."]
[null,"7.","Each program year an additional eight percent of migrant students will achieve proficiency in reading and math vocabulary at grade level, in order to facilitate progress toward graduation, as measured by state assessment results, teacher ratings and/or other assessments of student performance. "]
[null,"8.","Each program year an additional eight percent of secondary migrant students will achieve proficiency in writing skills at grade level, in order to facilitate progress toward graduation, as measured by state assessment results, teacher ratings and/or other assessments of student performance."]
[null,"9.","Each program year an additional eight percent of secondary migrant students will achieve proficiency in the standards related to math representations and communications at grade level, in order to facilitate progress toward graduation, as measured by state assessment results, teacher ratings and/or other assessments of student performance. "]
[null,"10.","By the end of the 2025-2026 school year and each year thereafter, seventy-five percent of staff who participate in trainings provided by the MEP program on how to assist migrant students with credit accrual and records transfer will report an increased ability to effectively assist students overcome these barriers to graduation as measured by staff surveys. "]
[null,"11.","By the end of the 2025-2026 school year and each year thereafter, seventy-five percent of staff will report an increased proficiency in strategies to find and identify migratory families in their area as a result of MEP sponsored trainings and new employer surveys. "]
[null,"12.","By the end of the 2025-2026, and each year thereafter, seventy-five percent of migratory families will report an increase in contacts from MEP staff (including recruiters) and an increase in parent involvement activities sponsored by the MEP program as measured by parent/family surveys. "]
[]
[]
[]
[]
[]
[]
[null,"2b.","MIGRANT CONSORTIUM INCENTIVE GRANTS "]
[null,null,"a.  Application Information"]
[]
[null,null,null,"Program",null,null,null,null,null,null,null,null,"Allocation Total"]
[null,null,null,"Title I, Part C, Education of Migratory Children, Consortium Incentive Grant",null,null,null,null,null,null,null,null,{"$f":"SUM(M113:O114)","v":0}]
[null,null,null,"a.  Division Allocation",null,null,null,null,null,null,"Subtotal"]
[null,null,null,"b.  Regional Program - Total of allocations  for all divisions in the regional program",null,null,null,null,null,null,"Subtotal"]
[]
[null,"Page 62"]
[null,{"$f":"'Main Page'!$N$9","v":"2026-2027"},null,"School Division:",{"$f":"'Main Page'!$L$14","v":0},null,null,null,"Division Number:",{"$f":"'Main Page'!$L$15","v":" "},{"$f":"'Main Page'!$B$6","v":"Local Consolidated Application"}]
[null,null,"b.  Budget Summary"]
[]
[null,null,null,null,null,null,null,"Allocation:",null,null,null,null,null,{"$f":"M112","v":0}]
[null,"OBJECT CODE","EXPENDITURE",null,null,null,null,"AMOUNT BUDGETED",null,null,null,null,null,"DOES THE BUDGET SUMMARY  MATCH THE DETAILED BUDGET BREAKDOWN?"]
[null,"1000 -\nPersonnel Services","Non Set-Aside"]
[null,null,"Set-Aside"]
[null,null,"Private School Set-Aside "]
[null,null,"Total Personal Services",null,null,null,null,{"$f":"SUM(H122:I124)","v":0},null,null,null,null,null,{"$f":"IF(SUM(O184)=SUM(H125:M125),\"Yes\", \"No - Please review your entries.\")","v":"Yes"}]
[null,"2000 -\nEmployee Benefits","Non Set-Aside"]
[null,null,"Set-Aside"]
[null,null,"Private School Set-Aside "]
[null,null,"Total Employee Benefits",null,null,null,null,{"$f":"SUM(H126:I128)","v":0},null,null,null,null,null,{"$f":"IF(SUM(O213)=SUM(H129:M129),\"Yes\",\"No - Please review your entries.\")","v":"Yes"}]
[null,"3000 - \nPurchased/\nContracted Services","Non Set-Aside"]
[null,null,"Set-Aside"]
[null,null,"Private School Set-Aside "]
[null,null,"Total Purchased/Contracted Services",null,null,null,null,{"$f":"SUM(H130:I132)","v":0},null,null,null,null,null,{"$f":"IF(SUM(O240)=SUM(H133:M133),\"Yes\",\"No - Please review your entries.\")","v":"Yes"}]
[null,"4000 - \nInternal Services","Non Set-Aside"]
[null,null,"Set-Aside"]
[null,null,"Private School Set-Aside "]
[null,null,"Total Internal Services",null,null,null,null,{"$f":"SUM(H134:I136)","v":0},null,null,null,null,null,{"$f":"IF(SUM(O264)=SUM(H137:M137),\"Yes\",\"No - Please review your entries.\")","v":"Yes"}]
[null,"5000 - \nOther  \nCharges","Non Set-Aside"]
[null,null,"Set-Aside"]
[null,null,"Private School Set-Aside "]
[null,null,"Total Other Charges",null,null,null,null,{"$f":"SUM(H138:I140)","v":0},null,null,null,null,null,{"$f":"IF(SUM(O286)=SUM(H141:M141),\"Yes\",\"No - Please review your entries.\")","v":"Yes"}]
[null,"6000 - \nMaterials\nand Supplies","Non Set-Aside"]
[null,null,"Set-Aside"]
[null,null,"Private School Set-Aside "]
[null,null,"Total Materials and Supplies",null,null,null,null,{"$f":"SUM(H142:I144)","v":0},null,null,null,null,null,{"$f":"IF(SUM(O309)=SUM(H145:M145),\"Yes\",\"No - Please review your entries.\")","v":"Yes"}]
[null,"8000 - \nCapital\nOutlay","Non Set-Aside"]
[null,null,"Set-Aside"]
[null,null,"Private School Set-Aside "]
[null,null,"Total Capital Outlay",null,null,null,null,{"$f":"SUM(H146:I148)","v":0},null,null,null,null,null,{"$f":"IF(SUM(O331)=SUM(H149:M149),\"Yes\",\"No - Please review your entries.\")","v":"Yes"}]
[null,null,"TOTAL BUDGET",null,null,null,null,{"$f":"SUM(H149,H145,H141,H137,H133,H129,H125)","v":0}]
[null,null,"DOES THE BUDGET SUMMARY MATCH THE TOTAL ALLOCATION? ",null,null,null,null,{"$f":"IF(SUM(H150)=SUM(N120),\"Yes\",\"No - Please review your entries.\")","v":"Yes"},null,null,null,null,null,"Difference",{"$f":"H150-N120","v":0}]
[null,null,"Notes:  (1) Object codes 7000 and 9000 are not used in application budgets or in requests for reimbursements for this grant.\n             (2) Expenses for parental involvement programs should be incorporated into the appropriate object code(s) based on the category of the related \n                   charges."]
[null,"Page 63"]
[null,{"$f":"'Main Page'!$N$9","v":"2026-2027"},null,"School Division:",{"$f":"'Main Page'!$L$14","v":0},null,null,null,"Division Number:",{"$f":"'Main Page'!$L$15","v":" "},{"$f":"'Main Page'!$B$6","v":"Local Consolidated Application"}]
[null,"Detailed Budget Breakdown"]
[null,"Prepare a detailed breakdown of the budget categories for Object Codes 1000-6000 and 8000.  "]
[null,"Does the Detailed Budget Breakdown Match the Total Allocation?",null,null,null,null,null,null,{"$f":"IF(SUM(H150)=SUM(O184,O213,O240, O264, O286, O309, O331),\"Yes\",\"No - Please review your entries.\")","v":"Yes"}]
[]
[null,"DETAILED BUDGET DESCRIPTION OF OBJECT CODE 1000"]
[null,"Provide a description of the positions supported with funds from this program. Indicate if any positions are newly funded under this program.  Explain the supplementary nature of any new positions. Required if staff positions are to be funded by federal funds."]
[]
[]
[null,"Item Description",null,null,null,null,null,null,null,null,null,null,null,"FTEs","Total Cost"]
[]
[]
[]
[]
[]
[]
[]
[]
[]
[]
[]
[]
[]
[]
[]
[]
[]
[]
[]
[]
[null,null,null,null,null,"      ",null,null,null,"Total for Object Code:",null,null,null,{"$f":"SUM(N164:N183)","v":0},{"$f":"SUM(O164:Q183)","v":0}]
[]
[null,"Page 64"]
[null,{"$f":"'Main Page'!$N$9","v":"2026-2027"},null,"School Division:",{"$f":"'Main Page'!$L$14","v":0},null,null,null,"Division Number:",{"$f":"'Main Page'!$L$15","v":" "},{"$f":"'Main Page'!$B$6","v":"Local Consolidated Application"}]
[null,"DETAILED BUDGET DESCRIPTION OF OBJECT CODE 2000"]
[null,"Indicate the fixed charge categories (such as FICA, health insurance, etc.) and specify the amount of each."]
[]
[]
[null,"Item Description",null,null,null,null,null,null,null,null,null,null,null,null,"Total Cost"]
[]
[]
[]
[]
[]
[]
[]
[]
[]
[]
[]
[]
[]
[]
[]
[]
[]
[]
[]
[]
[null,null,null,null,null,"      ",null,null,null,null,null,"Total for Object Code:",null,null,{"$f":"SUM(O193:Q212)","v":0}]
[]
[null,"DETAILED BUDGET DESCRIPTION OF OBJECT CODE 3000"]
[null,"Please indicate how these funds will support any services and activities that are described in this application.  If program funds are expended for professional development, justify such expenditures by demonstrating a relationship between the proposed expenditure for professional development and the program services and activities described in the application. "]
[]
[]
[null,"Item Description",null,null,null,null,null,null,null,null,null,null,null,null,"Total Cost"]
[]
[]
[]
[]
[]
[]
[]
[]
[]
[]
[]
[]
[]
[]
[]
[]
[]
[]
[]
[]
[null,null,null,null,null,"      ",null,null,null,null,null,"Total for Object Code:",null,null,{"$f":"SUM(O220:Q239)","v":0}]
[]
[null,"Page 65"]
[null,{"$f":"'Main Page'!$N$9","v":"2026-2027"},null,"School Division:",{"$f":"'Main Page'!$L$14","v":0},null,null,null,"Division Number:",{"$f":"'Main Page'!$L$15","v":" "},{"$f":"'Main Page'!$B$6","v":"Local Consolidated Application"}]
[null,"DETAILED BUDGET DESCRIPTION OF OBJECT CODE 4000"]
[null,"Provide a description of charges from an Internal Service Fund to other functions/activities/elements of the local government for the use of intergovernmental services.  "]
[]
[]
[null,"Item Description",null,null,null,null,null,null,null,null,null,null,null,null,"Total Cost"]
[]
[]
[]
[]
[]
[]
[]
[]
[]
[]
[]
[]
[]
[]
[]
[null,null,null,null,null,"      ",null,null,null,null,null,"Total for Object Code:",null,null,{"$f":"SUM(O249:Q263)","v":0}]
[]
[null,"DETAILED BUDGET DESCRIPTION OF OBJECT CODE 5000"]
[null,"Provide a description of the expenditures that support the program, including utilities (maintenance and operation of plant), staff/administrative/consultant travel, office phone charges, training, leases/rental, indirect cost, and other.   Indirect costs cannot be claimed against capital outlay and equipment."]
[]
[]
[null,"Item Description",null,null,null,null,null,null,null,null,null,null,null,null,"Total Cost"]
[]
[]
[]
[]
[]
[]
[]
[]
[]
[]
[]
[]
[]
[]
[]
[null,null,null,null,null,"      ",null,null,null,null,null,"Total for Object Code:",null,null,{"$f":"SUM(O271:Q285)","v":0}]
[null,"Page 66"]
[null,{"$f":"'Main Page'!$N$9","v":"2026-2027"},null,"School Division:",{"$f":"'Main Page'!$L$14","v":0},null,null,null,"Division Number:",{"$f":"'Main Page'!$L$15","v":" "},{"$f":"'Main Page'!$B$6","v":"Local Consolidated Application"}]
[null,"DETAILED BUDGET DESCRIPTION OF OBJECT CODE 6000"]
[null,"Provide a description for expenses related to object code 6000 Materials and Supplies.  Include items that are consumed or materially altered when used and minor equipment that is not capitalized. Equipment under $5,000, including computer equipment, should be reported under this object code unless the LEA has set a lower capitalization threshold.  Indicate the quantity for each item."]
[]
[]
[null,"Item Description",null,null,null,null,null,null,null,null,null,null,null,"Quantity","Total Cost"]
[]
[]
[]
[]
[]
[]
[]
[]
[]
[]
[]
[]
[]
[]
[]
[null,null,null,null,null,"      ",null,null,null,null,null,"Total for Object Code:",null,null,{"$f":"SUM(O294:Q308)","v":0}]
[]
[null,"DETAILED BUDGET DESCRIPTION OF OBJECT CODE 8000"]
[null,"Provide a description for expenses related to object code.   All capital outlay expenditures over $5,000 must be approved in advance by the Department of Education. If the local school division has established a threshold of a lesser amount, items equal to that amount or greater must also receive prior approval by the Department of Education.  Equipment quantities must be specified."]
[]
[]
[null,"Item Description",null,null,null,null,null,null,null,null,null,null,null,"Quantity","Total Cost"]
[]
[]
[]
[]
[]
[]
[]
[]
[]
[]
[]
[]
[]
[]
[]
[null,null,null,null,null,"      ",null,null,null,null,null,"Total for Object Code:",null,null,{"$f":"SUM(O316:Q330)","v":0}]
[null,"Page 67"]

{"sheet":"Title I, Part D, Subpart 2","index":16,"n_rows":395,"n_cols":13,"rows_kept":395,"cut":false,"hidden":false,"merged":[[384,1,384,16],[385,1,385,16],[474,1,474,16],[475,1,475,16],[1,2,1,16],[2,2,2,16],[33,2,33,16],[64,2,64,16],[82,2,82,16],[100,2,100,16],[118,2,118,16],[148,2,148,16],[468,1,468,16],[469,1,469,16],[470,2,470,16],[471,1,471,16],[472,1,472,16],[473,2,473,16],[461,1,461,16],[462,2,462,16],[463,1,463,16],[464,1,464,16],[465,10,465,16],[466,1,466,16],[455,1,455,16],[456,2,456,16],[457,1,457,16],[458,1,458,16],[459,2,459,16],[460,1,460,16],[448,10,448,16],[449,1,449,16],[451,1,451,16],[452,1,452,16],[453,2,453,16],[454,1,454,16],[442,1,442,16],[443,1,443,16],[444,2,444,16],[445,1,445,16],[446,1,446,16],[447,1,447,16],[436,1,436,8],[437,1,437,16],[438,1,438,16],[439,2,439,16],[440,1,440,16],[441,2,441,16],[428,1,428,16],[429,10,429,16],[430,1,430,16],[432,1,432,16],[434,1,434,16],[435,1,435,16],[422,2,422,16],[423,1,423,16],[424,1,424,16],[425,2,425,16],[426,1,426,16],[427,1,427,16],[415,1,415,16],[417,1,417,16],[418,1,418,16],[419,2,419,16],[420,1,420,16],[421,1,421,16],[409,3,409,16],[410,1,410,16],[411,1,411,16],[412,1,412,16],[413,1,413,16],[414,10,414,16],[403,1,403,16],[404,2,404,16],[405,1,405,16],[406,1,406,16],[407,2,407,16],[408,3,408,16],[397,1,397,16],[398,2,398,16],[399,1,399,16],[400,1,400,16],[401,2,401,16],[402,1,402,16],[390,1,390,16],[391,1,391,16],[392,1,392,16],[393,1,393,16],[394,1,394,16],[395,1,395,16],[386,1,389,1],[386,2,386,16],[387,3,387,16],[388,3,388,16],[389,3,389,16],[380,1,380,16],[381,1,381,16],[382,10,382,16],[383,2,383,16],[374,1,374,16],[375,2,375,16],[376,1,376,16],[377,1,377,16],[378,2,378,16],[379,1,379,16],[365,10,365,16],[367,1,367,16],[368,1,368,16],[372,2,372,16],[373,1,373,16],[366,2,366,16],[361,2,361,16],[362,1,362,16],[369,2,369,16],[370,1,370,16],[363,1,363,16],[364,1,364,16],[355,2,355,16],[356,1,356,16],[357,1,357,16],[358,2,358,16],[359,1,359,16],[360,1,360,16],[349,1,349,16],[350,1,350,16],[351,1,351,16],[352,2,352,16],[353,1,353,16],[354,1,354,16],[343,2,343,16],[344,1,344,16],[345,1,345,16],[346,1,346,16],[347,10,347,16],[348,2,348,16],[337,2,337,16],[338,1,338,16],[339,1,339,16],[340,2,340,16],[341,1,341,16],[342,1,342,16],[334,1,334,16],[335,1,335,16],[336,1,336,16],[333,2,333,16],[325,1,325,16],[326,1,326,16],[327,1,327,16],[328,2,328,16],[329,1,329,16],[330,1,330,16],[324,1,324,16],[313,4,313,16],[314,4,314,16],[315,3,315,16],[316,4,316,16],[317,4,317,16],[318,4,318,16],[331,1,331,16],[332,10,332,16],[304,1,304,16],[305,1,305,16],[306,1,306,16],[307,1,323,1],[307,2,307,16],[308,3,308,16],[309,4,309,16],[310,4,310,16],[311,4,311,16],[312,4,312,16],[319,3,319,16],[320,4,320,16],[321,4,321,16],[322,4,322,16],[323,3,323,16],[298,2,298,16],[299,1,299,16],[300,1,300,16],[301,1,301,16],[302,10,302,16],[303,2,303,16],[293,2,293,16],[294,1,294,16],[295,1,295,16],[296,2,296,14],[296,15,296,16],[297,1,297,16],[284,2,284,16],[285,1,285,16],[286,1,286,16],[287,1,293,1],[287,2,287,16],[288,2,288,16],[289,3,289,16],[290,3,290,16],[291,3,291,16],[292,3,292,16],[278,1,278,16],[279,10,279,16],[281,1,281,16],[282,1,282,16],[283,1,283,16],[280,2,280,16],[275,1,275,3],[275,5,275,6],[275,8,275,10],[275,12,275,16],[276,1,276,16],[277,1,277,16],[272,1,272,16],[273,1,273,3],[273,5,273,6],[273,8,273,10],[273,12,273,16],[274,1,274,16],[268,1,268,16],[269,2,269,8],[269,10,269,16],[270,2,270,8],[270,10,270,16],[271,2,271,8],[271,10,271,16],[264,2,264,16],[265,2,265,16],[266,2,266,3],[266,4,266,13],[266,14,266,16],[267,1,267,16],[257,1,257,16],[258,1,258,16],[259,1,259,16],[260,1,260,16],[261,1,261,16],[263,1,263,16],[248,1,248,16],[249,1,249,16],[250,10,250,16],[253,1,256,1],[253,2,253,16],[254,3,254,16],[255,3,255,16],[256,3,256,16],[251,2,251,16],[242,2,242,16],[243,1,243,16],[244,1,244,16],[245,2,245,16],[246,1,246,16],[247,1,247,16],[236,1,236,16],[237,1,237,16],[238,1,238,16],[239,2,239,16],[240,1,240,16],[241,1,241,16],[230,2,230,16],[231,1,231,16],[232,1,232,16],[233,1,233,16],[234,10,234,16],[235,2,235,16],[224,2,224,16],[225,1,225,16],[226,1,226,16],[227,2,227,16],[228,1,228,16],[229,1,229,16],[218,1,218,16],[219,1,219,16],[220,1,220,16],[221,2,221,16],[222,1,222,16],[223,1,223,16],[212,2,212,16],[213,1,213,16],[214,1,214,16],[215,1,215,16],[216,10,216,16],[217,2,217,16],[206,2,206,16],[207,1,207,16],[208,1,208,16],[209,2,209,16],[210,1,210,16],[211,1,211,16],[200,1,200,16],[201,1,201,16],[202,1,202,16],[203,2,203,16],[204,1,204,16],[205,1,205,16],[194,2,194,16],[195,1,195,16],[196,1,196,16],[197,1,197,16],[198,10,198,16],[199,2,199,16],[188,4,188,16],[189,3,189,16],[190,1,190,16],[191,1,191,16],[192,1,192,16],[193,1,193,16],[182,4,182,16],[183,4,183,16],[184,4,184,16],[185,3,185,16],[186,4,186,16],[187,4,187,16],[173,1,189,1],[173,2,173,16],[174,3,174,16],[175,4,175,16],[176,4,176,16],[177,4,177,16],[178,4,178,16],[179,4,179,16],[180,4,180,16],[181,3,181,16],[166,1,166,16],[167,1,167,16],[168,1,168,16],[169,10,169,16],[172,1,172,16],[170,2,170,16],[161,1,161,16],[162,1,162,16],[163,2,163,14],[163,15,163,16],[164,1,164,16],[165,2,165,16],[153,1,153,16],[154,1,160,1],[154,2,154,16],[155,2,155,16],[156,3,156,16],[157,3,157,16],[158,3,158,16],[159,3,159,16],[160,2,160,16],[146,10,146,16],[147,1,147,16],[150,1,150,16],[151,2,151,16],[152,1,152,16],[143,1,143,3],[143,5,143,6],[143,8,143,10],[143,12,143,16],[144,1,144,16],[145,1,145,16],[140,1,140,16],[141,1,141,3],[141,5,141,6],[141,8,141,10],[141,12,141,16],[142,1,142,16],[136,1,136,16],[137,2,137,8],[137,10,137,16],[138,2,138,8],[138,10,138,16],[139,2,139,8],[139,10,139,16],[132,2,132,16],[133,2,133,16],[134,2,134,3],[134,4,134,13],[134,14,134,16],[135,1,135,16],[126,1,126,16],[127,1,127,16],[128,1,128,16],[129,1,129,16],[130,1,130,16],[131,1,131,16],[116,1,116,16],[117,10,117,16],[120,1,120,16],[122,1,125,1],[122,2,122,16],[123,3,123,16],[124,3,124,16],[125,3,125,16],[110,2,110,16],[111,1,111,16],[112,1,112,16],[113,2,113,16],[114,1,114,16],[115,1,115,16],[104,2,104,16],[105,1,105,16],[106,1,106,16],[107,2,107,16],[108,1,108,16],[109,1,109,16],[97,1,97,16],[98,1,98,16],[99,10,99,16],[102,1,102,16],[103,1,103,16],[91,1,91,16],[92,2,92,16],[93,1,93,16],[94,1,94,16],[95,2,95,16],[96,1,96,16],[85,1,85,16],[86,2,86,16],[87,1,87,16],[88,1,88,16],[89,2,89,16],[90,1,90,16],[78,1,78,16],[79,1,79,16],[80,1,80,16],[81,10,81,16],[84,1,84,16],[72,1,72,16],[73,1,73,16],[74,2,74,16],[75,1,75,16],[76,1,76,16],[77,2,77,16],[67,1,67,16],[68,2,68,16],[69,1,69,16],[70,1,70,16],[71,2,71,16],[60,1,60,16],[61,1,61,16],[62,1,62,16],[63,10,63,16],[65,1,65,16],[58,1,58,16],[59,1,59,16],[48,4,48,16],[49,3,49,16],[50,4,50,16],[51,4,51,16],[52,4,52,16],[53,3,53,16],[66,1,66,16],[39,1,39,16],[40,1,40,16],[41,1,57,1],[41,2,41,16],[42,3,42,16],[43,4,43,16],[44,4,44,16],[45,4,45,16],[46,4,46,16],[47,4,47,16],[54,4,54,16],[55,4,55,16],[56,4,56,16],[57,3,57,16],[34,1,34,16],[35,1,35,16],[36,2,36,14],[36,15,36,16],[37,1,37,16],[38,2,38,16],[28,2,28,16],[29,1,29,16],[30,1,30,16],[31,1,31,16],[32,10,32,16],[19,2,19,16],[20,1,20,16],[21,1,21,16],[22,1,28,1],[22,2,22,16],[23,2,23,16],[24,3,24,16],[25,3,25,16],[26,3,26,16],[27,3,27,16],[16,1,16,16],[17,1,17,3],[17,5,17,6],[17,8,17,10],[17,12,17,16],[18,1,18,16],[12,2,12,8],[12,10,12,16],[13,2,13,8],[13,10,13,16],[14,1,14,16],[15,1,15,3],[15,5,15,6],[15,8,15,10],[15,12,15,16],[8,2,8,3],[8,4,8,13],[8,14,8,16],[9,1,9,16],[10,1,10,16],[11,2,11,8],[11,10,11,16],[0,10,0,16],[4,1,4,16],[5,1,5,16],[6,2,6,16],[7,2,7,16]]}
[null,{"$f":"'Main Page'!$N$9","v":"2026-2027"},null,"School Division: ",{"$f":"'Main Page'!$L$14","v":0},null,null,null,"Division Number:  ",{"$f":"'Main Page'!$L$15","v":" "},{"$f":"'Main Page'!$B$6","v":"Local Consolidated Application"}]
[null,"3.","TITLE I, PART D, SUBPART 2 - NEGLECTED, DELINQUENT, OR AT-RISK"]
[null,null,"a.  Program Overview"]
[]
[null,"Section 1 "]
[null,"Please place an \"X\" beside the manner in which services are delivered for the facility described below."]
[null,null,"Division provides services directly to the students."]
[null,null,"Division contracts with an outside organization or company to provide services to students."]
[null,null,"Other"]
[]
[null,"Each delinquent facility is required to enter into an agreement with the school division to provide services to children and youth under Title I, Part D, Subpart 2, Section 1425, and must meet specific requirements.  Please complete each section based on the needs of the students and the services provided by the facility and the school division."]
[null,"Facility Name:",null,null,null,null,null,null,null,"Contact Person:"]
[null,"Address:",null,null,null,null,null,null,null,"City/Zip Code:"]
[null,"Phone (ext):",null,null,null,null,null,null,null,"E-mail:"]
[]
[null,"Indicate type of facility:",null,null,null,"Residential",null,null,"Local Correctional Facillity",null,null,null,"At-Risk Program"]
[]
[null,"Identify students served:",null,null,null,"Delinquent",null,null,"Neglected",null,null,null,"At-Risk"]
[]
[null,"1.","Program Description - Describe the overall instructional program, as well as the supplemental services that will be provided using Title I, Part D, Subpart 2 funds.  Please explain each research-based program that will be used to support students (ex. academic, career and technical, social-emotional, behavior management etc.).  \n\n2.  Explain how the instructional program is supported through evidence-based practices.  "]
[]
[]
[null,"2.","Formal Agreements – Describe the formal agreement between: a) the school division, and b) the local delinquent facilities, alternative school programs, and local correctional facilities serving children and youth at the above named facility. Formal agreements are not necessary for at-risk programs in the school division."]
[null,null,"For any Subpart 2 program serving youth in facilities, the division must have:"]
[null,null,"-","A signed Memorandum of Understanding (MOU) or Interagency Agreement"]
[null,null,"-","Current (not expired)"]
[null,null,"-","Signed by both parties"]
[null,null,"-","On file and available for request by SEA"]
[null,null,"If it is an at-risk program operated entirely by the division then a MOU is not required."]
[]
[]
[null,"Page 68"]
[null,{"$f":"'Main Page'!$N$9","v":"2026-2027"},null,"School Division: ",{"$f":"'Main Page'!$L$14","v":0},null,null,null,"Division Number:  ",{"$f":"'Main Page'!$L$15","v":" "},{"$f":"'Main Page'!$B$6","v":"Local Consolidated Application"}]
[null,null,"a.  Program Overview (continued)"]
[]
[null,"Section 1"]
[null,"2a.","Please confirm that a current, signed formal agreement is in place with each listed facility. Agreements must clearly delineate roles, educational responsibilities, transition procedures, and records transfer protocols. \nPlease select \"yes\" or \"no\" in the certification checkbox affirming:"]
[]
[null,"3.","Coordination for a Comparable Educational Program – Describe how the LEA will coordinate with facilities and at-risk programs working with delinquent children and youth to ensure that such children and youth are participating in an education program comparable to one operating in local comprehensive schools such youth would attend."]
[]
[]
[null,"4.","Describe the division’s formal, written transition protocol for students entering and exiting correctional or delinquent facilities. Your response must address the following:"]
[null,null,"a.","Entry and Reentry Procedures"]
[null,null,null,"-","Identify the staff position responsible for coordinating transitions."]
[null,null,null,"-","Specify the timeline for transferring complete academic records (transcripts, credit status, IEP/504 documentation, assessment data, attendance history)."]
[null,null,null,"-","Describe how credit accrual is reviewed and protected upon entry and exit."]
[null,null,null,"-","Explain the re-enrollment timeline for students returning to the home school."]
[null,null,null,"-","Describe the supplemental supports funded by Title I, Part D that are provided during reentry (e.g., tutoring, credit recovery, mentoring, counseling, family coordination)."]
[null,null,null,"-","Explain how the division documents transition planning and services provided."]
[null,null,"b.","Records Transfer and Coordination"]
[null,null,null,"-","Describe the process for ensuring secure and timely transfer of records in accordance with FERPA."]
[null,null,null,"-","Explain how the division collaborates with families and the LEA most recently serving the student to ensure continuity of academic and support services."]
[null,null,null,"-","Identify how special education services and accommodations are maintained without interruption."]
[null,null,"c.","Post-Discharge Monitoring"]
[null,null,null,"-","Specify the duration of post-discharge monitoring (e.g., first grading period)."]
[null,null,null,"-","Describe how attendance, academic progress, and credit accrual are monitored following reentry."]
[null,null,null,"-","Explain how ongoing consultation with facility staff (as applicable) is conducted to minimize disruption to student achievement."]
[null,null,"d.","Divisions must maintain documentation of transition procedures and record transfers and make such documentation available upon request by SEA."]
[]
[]
[]
[]
[null,"Page 69"]
[null,{"$f":"'Main Page'!$N$9","v":"2026-2027"},null,"School Division: ",{"$f":"'Main Page'!$L$14","v":0},null,null,null,"Division Number:  ",{"$f":"'Main Page'!$L$15","v":" "},{"$f":"'Main Page'!$B$6","v":"Local Consolidated Application"}]
[null,null,"a.  Program Overview (continued)"]
[]
[null,"Section 1"]
[]
[null,"5.","Student Characteristics – Provide a description of the characteristics (including learning difficulties, substance abuse problems, and other special needs) of the children and youth who will be returning from correctional facilities and, as appropriate, other at-risk children and youth expected to be served by the program and a description of how the school will coordinate existing educational programs to meet the unique educational needs of such children and youth."]
[]
[]
[null,"6.","Coordination with Social, Health, and Other Services - As appropriate, describe how schools will coordinate with existing social, health, and other services to meet the needs of students returning from correctional facilities, at-risk children or youth, and other participating children or youth, including prenatal health care and nutrition services related to the health of the parent and the child or youth, parenting and child development classes, child care, targeted reentry and outreach programs, referrals to community resources, and scheduling flexibility."]
[]
[]
[null,"7.","Partnerships - As appropriate, describe any partnerships with institutions of higher education or local businesses to facilitate postsecondary and workforce success for children and youth returning from correctional facilities, such as through participation in credit-bearing coursework while in secondary school, enrollment in postsecondary education, participation in career and technical education programming, entrepreneurship education, and mentoring services for participating students."]
[]
[]
[null,"8.","Parent and Family Engagement - As appropriate, describe how the program will involve parents and family members in efforts to improve the educational achievement of their children, assist in dropout prevention activities, and prevent the involvement of their children in delinquent activities."]
[]
[]
[null,"Page 70"]
[null,{"$f":"'Main Page'!$N$9","v":"2026-2027"},null,"School Division: ",{"$f":"'Main Page'!$L$14","v":0},null,null,null,"Division Number:  ",{"$f":"'Main Page'!$L$15","v":" "},{"$f":"'Main Page'!$B$6","v":"Local Consolidated Application"}]
[null,null,"a.  Program Overview (continued)"]
[]
[null,"Section 1"]
[]
[null,"9.","Coordination with Federal, State, and Local Programs - Describe how the program under this subpart will be coordinated with other Federal, State, and local programs, such as programs under Title I of the Workforce Innovation and Opportunity Act and career and technical education programs serving at-risk children and youth."]
[]
[]
[null,"10.","Coordination with Juvenile Justice Programs - Describe how the program will be coordinated with programs operated under the Juvenile Justice and Delinquency Prevention Act of 1974 and other comparable programs. Not applicable to at-risk programs."]
[]
[]
[null,"11.","Work with Probation Officers - As appropriate, describe how schools will work with probation officers to assist in meeting the needs of children and youth returning from correctional facilities."]
[]
[]
[null,"12.","Individualized Education Program - Where feasible, ensure that educational programs in the correctional facility, delinquent facility, or at-risk program are coordinated with the student’s home school, particularly with respect to a student with an individualized education program under Part B of the Individuals with Disabilities Education Act.  If the child or youth is identified as in need of special education services while in the correctional facility, notify the local school of the child or youth of such need."]
[]
[]
[null,"Page 71"]
[null,{"$f":"'Main Page'!$N$9","v":"2026-2027"},null,"School Division: ",{"$f":"'Main Page'!$L$14","v":0},null,null,null,"Division Number:  ",{"$f":"'Main Page'!$L$15","v":" "},{"$f":"'Main Page'!$B$6","v":"Local Consolidated Application"}]
[null,null,"a.  Program Overview (continued)"]
[]
[null,"Section 1"]
[]
[null,"13.","Alternative Placements - As appropriate, describe the steps participating schools will take to find alternative placements for children and youth interested in continuing their education but unable to participate in a traditional public school program."]
[]
[]
[null,"14.","Dropout Re-entry, School Completion, Employment – Describe the support programs provided that encourage children and youth who have dropped out of school to reenter school and attain a regular high school diploma once their term at the facility has been completed, or provide such children and youth with the skills necessary to gain employment or seek a regular high school diploma or its recognized equivalent."]
[]
[]
[null,"15.","Qualified Staff – Describe the qualifications of the staff and the training that is provided to ensure that the teachers and other staff are able to work effectively with children and youth in the facility including students with disabilities taking into consideration the unique needs of such children and youth."]
[]
[]
[null,"16.","Technology Coordination – Describe how technology is used to assist in coordinating educational programs between the facility and the community school."]
[]
[]
[null,"Page 72"]
[null,{"$f":"'Main Page'!$N$9","v":"2026-2027"},null,"School Division: ",{"$f":"'Main Page'!$L$14","v":0},null,null,null,"Division Number:  ",{"$f":"'Main Page'!$L$15","v":" "},{"$f":"'Main Page'!$B$6","v":"Local Consolidated Application"}]
[null,null,"a.  Program Overview (continued)"]
[]
[null,"Section 1"]
[]
[null,"17.","Program Evaluation – Provide a description of how data are being used to evaluate the program being supported with Title I, Part D, funds; including "]
[null,null,"a.","how the Consolidated State Performance Report (CSPR) and other data are being used to guide instruction, track grade promotion, and high school graduation completion; "]
[null,null,"b.","the steps taken to ensure data quality; and "]
[null,null,"c.","how the data is being used to track performance and make program improvements."]
[]
[]
[]
[]
[null,"Section 2"]
[null,"Please place an \"X\" beside the manner in which services are delivered for the facility described below."]
[null,null,"Division provides services directly to the students."]
[null,null,"Division contracts with an outside organization or company to provide services to students."]
[null,null,"Other"]
[]
[null,"Each delinquent facility is required to enter into an agreement with the school division to provide services to children and youth under Title I, Part D, Subpart 2, Section 1425, and must meet specific requirements.  Please complete each section based on the needs of the students and the services provided by the facility and the school division."]
[null,"Facility Name:",null,null,null,null,null,null,null,"Contact Person:"]
[null,"Address:",null,null,null,null,null,null,null,"City/Zip Code:"]
[null,"Phone (ext):",null,null,null,null,null,null,null,"E-mail:"]
[]
[null,"Indicate type of facility:",null,null,null,"Residential",null,null,"Local Correctional Facillity",null,null,null,"At-Risk Program"]
[]
[null,"Identify students served:",null,null,null,"Delinquent",null,null,"Neglected",null,null,null,"At-Risk"]
[]
[null,"Page 73"]
[null,{"$f":"'Main Page'!$N$9","v":"2026-2027"},null,"School Division: ",{"$f":"'Main Page'!$L$14","v":0},null,null,null,"Division Number:  ",{"$f":"'Main Page'!$L$15","v":" "},{"$f":"'Main Page'!$B$6","v":"Local Consolidated Application"}]
[]
[null,null,"a.  Program Overview (continued)"]
[]
[null,"Section 2"]
[null,"1.","Program Description - Describe the overall instructional program, as well as the supplemental services that will be provided using Title I, Part D, Subpart 2 funds.  Please explain each research-based program that will be used to support students (ex. academic, career and technical, social-emotional, behavior management etc.).  \n\n2.  Explain how the instructional program is supported through evidence-based practices.  "]
[]
[]
[null,"2.","Formal Agreements – Describe the formal agreement between: a) the school division, and b) the local delinquent facilities, alternative school programs, and local correctional facilities serving children and youth at the above named facility. Formal agreements are not necessary for at-risk programs in the school division."]
[null,null,"For any Subpart 2 program serving youth in facilities, the division must have:"]
[null,null,"-","A signed Memorandum of Understanding (MOU) or Interagency Agreement"]
[null,null,"-","Current (not expired)"]
[null,null,"-","Signed by both parties"]
[null,null,"-","On file and available for request by SEA"]
[null,null,"If it is an at-risk program operated entirely by the division then a MOU is not required."]
[]
[]
[null,"2a.","Please confirm that a current, signed formal agreement is in place with each listed facility. Agreements must clearly delineate roles, educational responsibilities, transition procedures, and records transfer protocols. \nPlease select \"yes\" or \"no\" in the certification checkbox affirming:"]
[]
[null,"3.","Coordination for a Comparable Educational Program – Describe how the LEA will coordinate with facilities and at-risk programs working with delinquent children and youth to ensure that such children and youth are participating in an education program comparable to one operating in local comprehensive schools such youth would attend."]
[]
[]
[null,"Page 74"]
[null,{"$f":"'Main Page'!$N$9","v":"2026-2027"},null,"School Division: ",{"$f":"'Main Page'!$L$14","v":0},null,null,null,"Division Number:  ",{"$f":"'Main Page'!$L$15","v":" "},{"$f":"'Main Page'!$B$6","v":"Local Consolidated Application"}]
[null,null,"a.  Program Overview (continued)"]
[]
[null,"Section 2"]
[null,"4.","Describe the division’s formal, written transition protocol for students entering and exiting correctional or delinquent facilities. Your response must address the following:"]
[null,null,"a.","Entry and Reentry Procedures"]
[null,null,null,"-","Identify the staff position responsible for coordinating transitions."]
[null,null,null,"-","Specify the timeline for transferring complete academic records (transcripts, credit status, IEP/504 documentation, assessment data, attendance history)."]
[null,null,null,"-","Describe how credit accrual is reviewed and protected upon entry and exit."]
[null,null,null,"-","Explain the re-enrollment timeline for students returning to the home school."]
[null,null,null,"-","Describe the supplemental supports funded by Title I, Part D that are provided during reentry (e.g., tutoring, credit recovery, mentoring, counseling, family coordination)."]
[null,null,null,"-","Explain how the division documents transition planning and services provided."]
[null,null,"b.","Records Transfer and Coordination"]
[null,null,null,"-","Describe the process for ensuring secure and timely transfer of records in accordance with FERPA."]
[null,null,null,"-","Explain how the division collaborates with families and the LEA most recently serving the student to ensure continuity of academic and support services."]
[null,null,null,"-","Identify how special education services and accommodations are maintained without interruption."]
[null,null,"c.","Post-Discharge Monitoring"]
[null,null,null,"-","Specify the duration of post-discharge monitoring (e.g., first grading period)."]
[null,null,null,"-","Describe how attendance, academic progress, and credit accrual are monitored following reentry."]
[null,null,null,"-","Explain how ongoing consultation with facility staff (as applicable) is conducted to minimize disruption to student achievement."]
[null,null,"d.","Divisions must maintain documentation of transition procedures and record transfers and make such documentation available upon request by SEA."]
[]
[]
[]
[]
[null,"5.","Student Characteristics – Provide a description of the characteristics (including learning difficulties, substance abuse problems, and other special needs) of the children and youth who will be returning from correctional facilities and, as appropriate, other at-risk children and youth expected to be served by the program and a description of how the school will coordinate existing educational programs to meet the unique educational needs of such children and youth."]
[]
[]
[null,"Page 75"]
[null,{"$f":"'Main Page'!$N$9","v":"2026-2027"},null,"School Division: ",{"$f":"'Main Page'!$L$14","v":0},null,null,null,"Division Number:  ",{"$f":"'Main Page'!$L$15","v":" "},{"$f":"'Main Page'!$B$6","v":"Local Consolidated Application"}]
[null,null,"a.  Program Overview (continued)"]
[]
[null,"Section 2"]
[]
[null,"6.","Coordination with Social, Health, and Other Services - As appropriate, describe how schools will coordinate with existing social, health, and other services to meet the needs of students returning from correctional facilities, at-risk children or youth, and other participating children or youth, including prenatal health care and nutrition services related to the health of the parent and the child or youth, parenting and child development classes, child care, targeted reentry and outreach programs, referrals to community resources, and scheduling flexibility."]
[]
[]
[null,"7.","Partnerships - As appropriate, describe any partnerships with institutions of higher education or local businesses to facilitate postsecondary and workforce success for children and youth returning from correctional facilities, such as through participation in credit-bearing coursework while in secondary school, enrollment in postsecondary education, participation in career and technical education programming, entrepreneurship education, and mentoring services for participating students."]
[]
[]
[null,"8.","Parent and Family Engagement - As appropriate, describe how the program will involve parents and family members in efforts to improve the educational achievement of their children, assist in dropout prevention activities, and prevent the involvement of their children in delinquent activities."]
[]
[]
[null,"9.","Coordination with Federal, State, and Local Programs - Describe how the program under this subpart will be coordinated with other Federal, State, and local programs, such as programs under Title I of the Workforce Innovation and Opportunity Act and career and technical education programs serving at-risk children and youth."]
[]
[]
[null,"Page 76"]
[null,{"$f":"'Main Page'!$N$9","v":"2026-2027"},null,"School Division: ",{"$f":"'Main Page'!$L$14","v":0},null,null,null,"Division Number:  ",{"$f":"'Main Page'!$L$15","v":" "},{"$f":"'Main Page'!$B$6","v":"Local Consolidated Application"}]
[null,null,"a.  Program Overview (continued)"]
[]
[null,"Section 2"]
[]
[null,"10.","Coordination with Juvenile Justice Programs - Describe how the program will be coordinated with programs operated under the Juvenile Justice and Delinquency Prevention Act of 1974 and other comparable programs. Not applicable to at-risk programs."]
[]
[]
[null,"11.","Work with Probation Officers - As appropriate, describe how schools will work with probation officers to assist in meeting the needs of children and youth returning from correctional facilities."]
[]
[]
[null,"12.","Individualized Education Program - Where feasible, ensure that educational programs in the correctional facility, delinquent facility, or at-risk program are coordinated with the student’s home school, particularly with respect to a student with an individualized education program under Part B of the Individuals with Disabilities Education Act.  If the child or youth is identified as in need of special education services while in the correctional facility, notify the local school of the child or youth of such need."]
[]
[]
[null,"13.","Alternative Placements - As appropriate, describe the steps participating schools will take to find alternative placements for children and youth interested in continuing their education but unable to participate in a traditional public school program."]
[]
[]
[null,"Page 77"]
[null,{"$f":"'Main Page'!$N$9","v":"2026-2027"},null,"School Division: ",{"$f":"'Main Page'!$L$14","v":0},null,null,null,"Division Number:  ",{"$f":"'Main Page'!$L$15","v":" "},{"$f":"'Main Page'!$B$6","v":"Local Consolidated Application"}]
[null,null,"a.  Program Overview (continued)"]
[]
[null,"Section 2"]
[]
[null,"14.","Dropout Re-entry, School Completion, Employment – Describe the support programs provided that encourage children and youth who have dropped out of school to reenter school and attain a regular high school diploma once their term at the facility has been completed, or provide such children and youth with the skills necessary to gain employment or seek a regular high school diploma or its recognized equivalent."]
[]
[]
[null,"15.","Qualified Staff – Describe the qualifications of the staff and the training that is provided to ensure that the teachers and other staff are able to work effectively with children and youth in the facility including students with disabilities taking into consideration the unique needs of such children and youth."]
[]
[]
[null,"16.","Technology Coordination – Describe how technology is used to assist in coordinating educational programs between the facility and the community school."]
[]
[]
[]
[null,"Page 78"]
[null,{"$f":"'Main Page'!$N$9","v":"2026-2027"},null,"School Division: ",{"$f":"'Main Page'!$L$14","v":0},null,null,null,"Division Number:  ",{"$f":"'Main Page'!$L$15","v":" "},{"$f":"'Main Page'!$B$6","v":"Local Consolidated Application"}]
[null,null,"a.  Program Overview (continued)"]
[]
[null,"17.","Program Evaluation – Provide a description of how data are being used to evaluate the program being supported with Title I, Part D, funds; including "]
[null,null,"a.","how the Consolidated State Performance Report (CSPR) and other data are being used to guide instruction, track grade promotion, and high school graduation completion; "]
[null,null,"b.","the steps taken to ensure data quality; and "]
[null,null,"c.","how the data is being used to track performance and make program improvements."]
[]
[]
[]
[]
[null,"Section 3"]
[]
[null,"Please place an \"X\" beside the manner in which services are delivered for the facility described below."]
[null,null,"Division provides services directly to the students."]
[null,null,"Division contracts with an outside organization or company to provide services to students."]
[null,null,"Other"]
[]
[null,"Each delinquent facility is required to enter into an agreement with the school division to provide services to children and youth under Title I, Part D, Subpart 2, Section 1425, and must meet specific requirements.  Please complete each section based on the needs of the students and the services provided by the facility and the school division."]
[null,"Facility Name:",null,null,null,null,null,null,null,"Contact Person:"]
[null,"Address:",null,null,null,null,null,null,null,"City/Zip Code:"]
[null,"Phone (ext):",null,null,null,null,null,null,null,"E-mail:"]
[]
[null,"Indicate type of facility:",null,null,null,"Residential",null,null,"Local Correctional Facillity",null,null,null,"At-Risk Program"]
[]
[null,"Identify students served:",null,null,null,"Delinquent",null,null,"Neglected",null,null,null,"At-Risk"]
[]
[]
[null,"Page 79"]
[null,{"$f":"'Main Page'!$N$9","v":"2026-2027"},null,"School Division: ",{"$f":"'Main Page'!$L$14","v":0},null,null,null,"Division Number:  ",{"$f":"'Main Page'!$L$15","v":" "},{"$f":"'Main Page'!$B$6","v":"Local Consolidated Application"}]
[null,null,"a.  Program Overview (continued)"]
[]
[null,"Section 3"]
[]
[null,"1.","Program Description - Describe the overall instructional program, as well as the supplemental services that will be provided using Title I, Part D, Subpart 2 funds.  Please explain each research-based program that will be used to support students (ex. academic, career and technical, social-emotional, behavior management etc.).  \n\n2.  Explain how the instructional program is supported through evidence-based practices.  "]
[]
[]
[null,"2.","Formal Agreements – Describe the formal agreement between: a) the school division, and b) the local delinquent facilities, alternative school programs, and local correctional facilities serving children and youth at the above named facility. Formal agreements are not necessary for at-risk programs in the school division."]
[null,null,"For any Subpart 2 program serving youth in facilities, the division must have:"]
[null,null,"-","A signed Memorandum of Understanding (MOU) or Interagency Agreement"]
[null,null,"-","Current (not expired)"]
[null,null,"-","Signed by both parties"]
[null,null,"-","On file and available for request by SEA"]
[null,null,"If it is an at-risk program operated entirely by the division then a MOU is not required."]
[]
[]
[null,"2a.","Please confirm that a current, signed formal agreement is in place with each listed facility. Agreements must clearly delineate roles, educational responsibilities, transition procedures, and records transfer protocols. \nPlease select \"yes\" or \"no\" in the certification checkbox affirming:"]
[]
[null,"3.","Coordination for a Comparable Educational Program – Describe how the LEA will coordinate with facilities and at-risk programs working with delinquent children and youth to ensure that such children and youth are participating in an education program comparable to one operating in local comprehensive schools such youth would attend."]
[]
[]
[null,"Page 80"]
[null,{"$f":"'Main Page'!$N$9","v":"2026-2027"},null,"School Division: ",{"$f":"'Main Page'!$L$14","v":0},null,null,null,"Division Number:  ",{"$f":"'Main Page'!$L$15","v":" "},{"$f":"'Main Page'!$B$6","v":"Local Consolidated Application"}]
[null,null,"a.  Program Overview (continued)"]
[]
[null,"Section 3"]
[]
[null,"4.","Describe the division’s formal, written transition protocol for students entering and exiting correctional or delinquent facilities. Your response must address the following:"]
[null,null,"a.","Entry and Reentry Procedures"]
[null,null,null,"-","Identify the staff position responsible for coordinating transitions."]
[null,null,null,"-","Specify the timeline for transferring complete academic records (transcripts, credit status, IEP/504 documentation, assessment data, attendance history)."]
[null,null,null,"-","Describe how credit accrual is reviewed and protected upon entry and exit."]
[null,null,null,"-","Explain the re-enrollment timeline for students returning to the home school."]
[null,null,null,"-","Describe the supplemental supports funded by Title I, Part D that are provided during reentry (e.g., tutoring, credit recovery, mentoring, counseling, family coordination)."]
[null,null,null,"-","Explain how the division documents transition planning and services provided."]
[null,null,"b.","Records Transfer and Coordination"]
[null,null,null,"-","Describe the process for ensuring secure and timely transfer of records in accordance with FERPA."]
[null,null,null,"-","Explain how the division collaborates with families and the LEA most recently serving the student to ensure continuity of academic and support services."]
[null,null,null,"-","Identify how special education services and accommodations are maintained without interruption."]
[null,null,"c.","Post-Discharge Monitoring"]
[null,null,null,"-","Specify the duration of post-discharge monitoring (e.g., first grading period)."]
[null,null,null,"-","Describe how attendance, academic progress, and credit accrual are monitored following reentry."]
[null,null,null,"-","Explain how ongoing consultation with facility staff (as applicable) is conducted to minimize disruption to student achievement."]
[null,null,"d.","Divisions must maintain documentation of transition procedures and record transfers and make such documentation available upon request by SEA."]
[]
[]
[]
[]
[null,"5.","Student Characteristics – Provide a description of the characteristics (including learning difficulties, substance abuse problems, and other special needs) of the children and youth who will be returning from correctional facilities and, as appropriate, other at-risk children and youth expected to be served by the program and a description of how the school will coordinate existing educational programs to meet the unique educational needs of such children and youth."]
[]
[]
[null,"Page 81"]
[null,{"$f":"'Main Page'!$N$9","v":"2026-2027"},null,"School Division: ",{"$f":"'Main Page'!$L$14","v":0},null,null,null,"Division Number:  ",{"$f":"'Main Page'!$L$15","v":" "},{"$f":"'Main Page'!$B$6","v":"Local Consolidated Application"}]
[null,null,"a.  Program Overview (continued)"]
[]
[null,"Section 3"]
[]
[null,"6.","Coordination with Social, Health, and Other Services - As appropriate, describe how schools will coordinate with existing social, health, and other services to meet the needs of students returning from correctional facilities, at-risk children or youth, and other participating children or youth, including prenatal health care and nutrition services related to the health of the parent and the child or youth, parenting and child development classes, child care, targeted reentry and outreach programs, referrals to community resources, and scheduling flexibility."]
[]
[]
[null,"7.","Partnerships - As appropriate, describe any partnerships with institutions of higher education or local businesses to facilitate postsecondary and workforce success for children and youth returning from correctional facilities, such as through participation in credit-bearing coursework while in secondary school, enrollment in postsecondary education, participation in career and technical education programming, entrepreneurship education, and mentoring services for participating students."]
[]
[]
[null,"8.","Parent and Family Engagement - As appropriate, describe how the program will involve parents and family members in efforts to improve the educational achievement of their children, assist in dropout prevention activities, and prevent the involvement of their children in delinquent activities."]
[]
[]
[null,"Page 82"]
[null,{"$f":"'Main Page'!$N$9","v":"2026-2027"},null,"School Division: ",{"$f":"'Main Page'!$L$14","v":0},null,null,null,"Division Number:  ",{"$f":"'Main Page'!$L$15","v":" "},{"$f":"'Main Page'!$B$6","v":"Local Consolidated Application"}]
[null,null,"a.  Program Overview (continued)"]
[]
[null,"Section 3"]
[]
[null,"9.","Coordination with Federal, State, and Local Programs - Describe how the program under this subpart will be coordinated with other Federal, State, and local programs, such as programs under Title I of the Workforce Innovation and Opportunity Act and career and technical education programs serving at-risk children and youth."]
[]
[]
[null,"10.","Coordination with Juvenile Justice Programs - Describe how the program will be coordinated with programs operated under the Juvenile Justice and Delinquency Prevention Act of 1974 and other comparable programs. Not applicable to at-risk programs."]
[]
[]
[null,"11.","Work with Probation Officers - As appropriate, describe how schools will work with probation officers to assist in meeting the needs of children and youth returning from correctional facilities."]
[]
[]
[null,"12.","Individualized Education Program - Where feasible, ensure that educational programs in the correctional facility, delinquent facility, or at-risk program are coordinated with the student’s home school, particularly with respect to a student with an individualized education program under Part B of the Individuals with Disabilities Education Act.  If the child or youth is identified as in need of special education services while in the correctional facility, notify the local school of the child or youth of such need."]
[]
[]
[null,"Page 83"]
[null,{"$f":"'Main Page'!$N$9","v":"2026-2027"},null,"School Division: ",{"$f":"'Main Page'!$L$14","v":0},null,null,null,"Division Number:  ",{"$f":"'Main Page'!$L$15","v":" "},{"$f":"'Main Page'!$B$6","v":"Local Consolidated Application"}]
[null,null,"a.  Program Overview (continued)"]
[]
[null,"Section 3"]
[null,"13.","Alternative Placements - As appropriate, describe the steps participating schools will take to find alternative placements for children and youth interested in continuing their education but unable to participate in a traditional public school program."]
[]
[]
[null,"14.","Dropout Re-entry, School Completion, Employment – Describe the support programs provided that encourage children and youth who have dropped out of school to reenter school and attain a regular high school diploma once their term at the facility has been completed, or provide such children and youth with the skills necessary to gain employment or seek a regular high school diploma or its recognized equivalent."]
[]
[]
[null,"15.","Qualified Staff – Describe the qualifications of the staff and the training that is provided to ensure that the teachers and other staff are able to work effectively with children and youth in the facility including students with disabilities taking into consideration the unique needs of such children and youth."]
[]
[]
[null,"16.","Technology Coordination – Describe how technology is used to assist in coordinating educational programs between the facility and the community school."]
[]
[]
[null,"Page 84"]
[null,{"$f":"'Main Page'!$N$9","v":"2026-2027"},null,"School Division: ",{"$f":"'Main Page'!$L$14","v":0},null,null,null,"Division Number:  ",{"$f":"'Main Page'!$L$15","v":" "},{"$f":"'Main Page'!$B$6","v":"Local Consolidated Application"}]
[null,null,"a.  Program Overview (continued)"]
[]
[null,"Section 3"]
[null,"17.","Program Evaluation – Provide a description of how data are being used to evaluate the program being supported with Title I, Part D, funds; including "]
[null,null,"a.","how the Consolidated State Performance Report (CSPR) and other data are being used to guide instruction, track grade promotion, and high school graduation completion; "]
[null,null,"b.","the steps taken to ensure data quality; and "]
[null,null,"c.","how the data is being used to track performance and make program improvements."]
[]
[]
[]
[]
[null,"Page 85"]

{"sheet":"Title II, Part A","index":17,"n_rows":168,"n_cols":27,"rows_kept":168,"cut":false,"hidden":false,"merged":[[0,10,0,16],[79,10,79,16],[99,10,99,16],[28,1,28,22],[27,2,27,22],[21,1,21,22],[20,1,20,22],[19,2,19,22],[17,1,17,22],[16,2,16,22],[45,1,45,22],[44,1,44,22],[37,1,37,22],[36,1,36,22],[35,2,35,22],[23,1,23,22],[43,2,43,22],[25,2,25,22],[26,1,26,22],[29,1,29,22],[97,1,97,22],[98,1,98,22],[163,1,163,4],[40,10,40,16],[46,1,46,22],[33,1,33,22],[32,1,32,22],[31,2,31,22],[49,1,49,22],[48,1,48,22],[47,2,47,22],[50,1,50,22],[39,1,39,22],[61,1,61,22],[60,1,60,22],[59,2,59,22],[53,1,53,22],[52,1,52,22],[51,2,51,22],[41,2,41,22],[42,1,42,22],[54,1,54,22],[62,1,62,22],[163,7,163,8],[163,9,163,10],[163,11,163,12],[164,1,164,4],[164,7,164,8],[164,9,164,10],[164,11,164,12],[166,7,166,8],[166,9,166,10],[165,1,165,4],[165,7,165,8],[165,9,165,10],[157,9,157,10],[157,11,157,12],[162,13,162,16],[163,13,163,16],[164,13,164,16],[159,1,159,4],[159,7,159,8],[159,9,159,10],[159,11,159,12],[160,1,160,4],[160,7,160,8],[160,9,160,10],[160,11,160,12],[161,1,161,4],[161,7,161,8],[161,9,161,10],[161,11,161,12],[159,13,159,16],[160,13,160,16],[161,13,161,16],[162,1,162,4],[162,7,162,8],[162,9,162,10],[162,11,162,12],[155,13,155,16],[156,13,156,16],[157,13,157,16],[158,13,158,16],[153,9,153,10],[153,11,153,12],[154,1,154,4],[154,7,154,8],[154,9,154,10],[154,11,154,12],[158,1,158,4],[158,7,158,8],[158,9,158,10],[158,11,158,12],[155,1,155,4],[155,7,155,8],[155,9,155,10],[155,11,155,12],[156,1,156,4],[156,7,156,8],[156,9,156,10],[156,11,156,12],[157,1,157,4],[157,7,157,8],[154,13,154,16],[149,1,149,4],[149,7,149,8],[149,9,149,10],[149,11,149,12],[150,1,150,4],[150,7,150,8],[150,9,150,10],[150,11,150,12],[149,13,149,16],[150,13,150,16],[151,1,151,4],[151,7,151,8],[151,9,151,10],[151,11,151,12],[152,1,152,4],[152,7,152,8],[152,9,152,10],[152,11,152,12],[153,1,153,4],[153,7,153,8],[148,1,148,4],[148,7,148,8],[148,9,148,10],[148,11,148,12],[147,13,147,16],[148,13,148,16],[151,13,151,16],[152,13,152,16],[153,13,153,16],[146,1,146,4],[146,7,146,8],[146,9,146,10],[146,11,146,12],[145,13,145,16],[146,13,146,16],[147,1,147,4],[147,7,147,8],[147,9,147,10],[147,11,147,12],[144,1,144,4],[144,7,144,8],[144,9,144,10],[144,11,144,12],[143,13,143,16],[144,13,144,16],[145,1,145,4],[145,7,145,8],[145,9,145,10],[145,11,145,12],[142,1,142,4],[142,7,142,8],[142,9,142,10],[142,11,142,12],[141,13,141,16],[142,13,142,16],[143,1,143,4],[143,7,143,8],[143,9,143,10],[143,11,143,12],[140,1,140,4],[140,7,140,8],[140,9,140,10],[140,11,140,12],[139,13,139,16],[140,13,140,16],[141,1,141,4],[141,7,141,8],[141,9,141,10],[141,11,141,12],[138,1,138,4],[138,7,138,8],[138,9,138,10],[138,11,138,12],[137,13,137,16],[138,13,138,16],[139,1,139,4],[139,7,139,8],[139,9,139,10],[139,11,139,12],[136,1,136,4],[136,7,136,8],[136,9,136,10],[136,11,136,12],[136,13,136,16],[135,13,135,16],[137,1,137,4],[137,7,137,8],[137,9,137,10],[137,11,137,12],[134,1,134,4],[134,7,134,8],[134,9,134,10],[134,11,134,12],[133,1,133,16],[134,13,134,16],[135,1,135,4],[135,7,135,8],[135,9,135,10],[135,11,135,12],[120,9,120,15],[121,2,121,8],[121,9,121,15],[116,2,116,8],[116,9,116,15],[119,2,119,8],[119,9,119,15],[117,1,117,22],[130,1,130,15],[125,2,125,10],[125,11,125,12],[128,1,128,16],[126,1,126,16],[132,18,132,22],[131,18,131,22],[132,12,132,17],[131,12,131,17],[132,7,132,11],[131,7,131,11],[123,1,123,22],[100,2,100,22],[80,2,80,22],[82,1,82,22],[81,1,81,22],[83,1,83,22],[84,1,84,22],[85,1,85,22],[86,2,86,22],[89,2,89,22],[92,2,92,22],[95,2,95,22],[96,1,96,22],[114,2,114,8],[114,9,114,15],[115,2,115,8],[124,1,124,16],[120,2,120,8],[165,17,165,18],[1,2,1,22],[2,2,2,22],[3,1,3,22],[4,1,4,22],[8,2,8,22],[7,2,7,22],[6,2,6,22],[5,2,5,22],[9,1,9,22],[12,1,12,22],[11,1,11,22],[10,1,10,22],[14,1,14,22],[13,2,13,22],[15,1,15,22],[18,1,18,22],[30,1,30,22],[22,1,22,22],[34,1,34,22],[38,1,38,22],[77,1,77,16],[132,1,132,6],[131,1,131,6],[115,9,115,15],[93,1,93,22],[90,1,90,22],[87,1,87,22],[88,1,88,22],[91,1,91,22],[63,2,63,22],[64,1,64,22],[65,1,65,22],[69,1,69,22],[68,1,68,22],[67,1,67,22],[66,1,66,22],[70,1,70,22],[76,1,76,7],[72,8,72,9],[72,11,72,12],[71,1,71,22],[75,1,75,7],[74,1,74,7],[75,11,75,12],[76,11,76,12],[73,8,73,9],[94,1,94,22],[102,1,102,22],[105,1,105,22],[108,1,108,22],[110,1,110,22],[112,1,112,22],[74,8,74,9],[75,8,75,9],[76,8,76,9],[73,11,73,12],[74,11,74,12],[73,1,73,7],[0,0,1048575,0],[0,23,167,23],[78,1,78,22],[167,1,167,22],[55,1,55,22],[56,10,56,16],[57,2,57,22],[58,1,58,22],[122,1,122,22],[129,2,129,22],[127,2,127,22],[106,2,106,22],[103,2,103,22],[104,13,104,22],[104,3,104,11],[109,13,109,22],[107,13,107,22],[111,3,111,11],[109,3,109,11],[107,3,107,11],[111,13,111,14],[111,15,111,21],[118,2,118,22],[113,2,113,22]]}
[null,{"$f":"'Main Page'!$N$9","v":"2026-2027"},null,"School Division: ",{"$f":"'Main Page'!$L$14","v":0},null,null,null,"Division Number:  ",{"$f":"'Main Page'!$L$15","v":" "},{"$f":"'Main Page'!$B$6","v":"Local Consolidated Application"}]
[null,"4.","TITLE II, PART A - SUPPORTING EFFECTIVE INSTRUCTION",null,null,null,null,null,null,null,null,null,null,null,null,null,null,null,null,null,null,null,null,null,null,null,true]
[null,null,"a.  Program Overview"]
[]
[null,"The purpose of Title II, Part A, is to improve students’ academic achievement by increasing the capacity of states, local educational agencies, schools, and local communities to—"]
[null,1,"increase student achievement consistend with the challenging State academic standards;"]
[null,2,"improve the quality and effectiveness of teachers, principals, and other school leaders;"]
[null,3,"increase the number of teachers, principals, and other school leaders who are effective in improving student academic achievement in schools; and"]
[null,4,"provide low-income and minority students greater access to effective teachers, principals, and other school leaders."]
[]
[null,"Narrative Boxes"]
[null,"Describe the process used for development of the Title II, Part A,  plan and identification of priorities, by addressing each of the following:"]
[]
[null,"1a. ","STAKEHOLDER ENGAGEMENT: List the stakeholders involved in the assessment and consultation process and describe the process used to participate in development of the program. (Section 2103(b)(3))"]
[]
[]
[null,"1b. ","NEEDS ASSESSMENT: Identify the multiple data sources relevant to the purpose of Title II, Part A, and describe the needs assessment process to coordinate the division's professional development plan with evidence-based practices, programs, and activities outlined in the application. This data analysis should correlate with the measurable objectives that will guide the development of the program to be funded with the requested ESEA federal funds. "]
[]
[]
[null,"2. ","USE OF DATA: Describe results of prior activities and how the division will use data and ongoing consultation to continually update and improve activities supported with Title II, Part A, funds. (Section 2103(b)(2)(D))."]
[]
[]
[]
[null,"Page 86"]
[null,{"$f":"'Main Page'!$N$9","v":"2026-2027"},null,"School Division: ",{"$f":"'Main Page'!$L$14","v":0},null,null,null,"Division Number:  ",{"$f":"'Main Page'!$L$15","v":" "},{"$f":"'Main Page'!$B$6","v":"Local Consolidated Application"}]
[null,null,"a.  Program Overview (continued)"]
[]
[null,"3.","TEACHER QUALITY: Describe results of the 2025-2026 Instructional Personnel and Licensure (IPAL) report.  Describe how the division ensures that students are taught by qualified and effective teachers meeting Virginia's licensing and professional teaching requirements. (Section 2001(2-3))"]
[]
[]
[]
[null,"4.","PRIORITIZING FUNDS: Describe how the school division will prioritize funds to schools that are implementing comprehensive support and improvement activities and targeted support and improvement activities under section 1111(d) and have the highest percentage of children counted under section 1124(c). If there are no schools identified as comprehensive or targeted support schools, how does the division prioritize funding?  (Section 2103(b)(2)(C))"]
[]
[]
[]
[null,"5. ","ALIGNMENT TO STANDARDS: Describe how the program activities will align with challenging State academic standards, Virginia’s accountability plan, and agency priorities (set high expectations for student performance; ensure every K-12 student has a high quality, licensed teacher; create innovative pathways for every learner; invest in safe and health schools and centers; and promote parents as partners). Describe how the activities funded from Title II, Part A, are expected to increase student achievement. (Section 2103(b)(2)(A))"]
[]
[]
[]
[null,"Page 87"]
[null,{"$f":"'Main Page'!$N$9","v":"2026-2027"},null,"School Division: ",{"$f":"'Main Page'!$L$14","v":0},null,null,null,"Division Number:  ",{"$f":"'Main Page'!$L$15","v":" "},{"$f":"'Main Page'!$B$6","v":"Local Consolidated Application"}]
[null,null,"a.  Program Overview (continued)"]
[]
[null,"6.","PROFESSIONAL GROWTH: Describe the school division's system of professional growth and improvement, such as induction for teachers, principals, or other school leaders and opportunities for building the capacity of teachers and opportunities to develop meaningful teacher leadership. (Section 2103(b)(2)(B))"]
[]
[]
[]
[null,"7. ","PROFESSIONAL DEVELOPMENT: If funds are to be used for professional development, describe how they meet the statutory definition of professional development in Section 8101(42), which requires that professional development be: sustained; intensive; collaborative; job-embedded; data-driven; and classroom focused. Describe the alignment to overarching division strategic goals. (Section 2103(b)(3)(E))  (If funds are not used for professional development, indicate N/A.) Examples of professional development activities may include items from any object code, such as mentors, professional development/instructional coaches, contracted services, conferences, professional learning communities (PLC); leadership development and associated costs."]
[]
[]
[]
[null,"8. ","PROFESSIONAL DEVELOPMENT: If funding is to be used for professional development activities, cite evidence base used for decision, including anticipated outcomes. Provide impact data on any prior implementation.. (Section 2103(b)(3)(E))  (If funds are not used for professional development, indicate N/A.)  For new initiatives, cite  research base to support the specific decisions and why it is believed that the activities will be successful with the targeted population(s)."]
[]
[]
[]
[null,"Page 88"]
[null,{"$f":"'Main Page'!$N$9","v":"2026-2027"},null,"School Division: ",{"$f":"'Main Page'!$L$14","v":0},null,null,null,"Division Number:  ",{"$f":"'Main Page'!$L$15","v":" "},{"$f":"'Main Page'!$B$6","v":"Local Consolidated Application"}]
[null,null,"a.  Program Overview (continued)"]
[]
[null,"9. ","CLASS-SIZE REDUCTION: If funding is to be used for class-size reduction, cite evidence base used for decision, including how the local context aligns with research-based practice. Provide impact data on any prior implementation, if applicable. How does the division ensure effectiveness of teachers hired to reduce class size? How will the impact of the smaller class sizes be measured? (Section 2103(b)(3)(D)) (If funds are not used for class-size reduction, indicate N/A.) Note: Title II, Part A funds may not be used to meet K-3 Standards of Quality (SOQ) requirements. Federal funds may only be used to reduce class sizes below the state-mandated class sizes."]
[]
[]
[]
[null,null,"b.  Teacher Quality"]
[]
[null,"Section A"]
[null,"Under USED’s authority to ensure an orderly transition from ESEA to ESSA, states are no longer required to report highly qualified teacher (HQT) data. Instead, states may rely on licensure and other professional requirements for teachers.  "]
[null,{"$f":"\"However, for program planning purposes for the \" & B1  &\" school year, the following information on teacher and paraprofessional quality from the \" & I73 & \" and \" & L73  & \" data collections may assist school divisions.\"","v":"However, for program planning purposes for the 2026-2027 school year, the following information on teacher and paraprofessional quality from the 2025-2026 and 2024-2025 data collections may assist school divisions."}]
[null,"These data may be obtained from the two most recent verified Instructional Personnel and Licensure Reports (IPAL), which provide division results on the licensure and endorsement status of instructional personnel."]
[null,"See Instructional Personnel and Licensure Report (IPAL), as outlined in the 2024-2025 Fall Master Schedule Collection Guide"]
[null,"\n "]
[null,"Teachers (all schools and all federal core content subjects)"]
[null,null,null,null,null,null,null,null,{"$f":"YEAR('Main Page'!$N$8)-1 & \"-\" & YEAR('Main Page'!$N$8)","v":"2025-2026"},null,null,{"$f":"YEAR('Main Page'!$N$8)-2 & \"-\" & YEAR('Main Page'!$N$8)-1","v":"2024-2025"}]
[null,"Number of classes taught by properly licensed and endorsed teachers"]
[null,"Number of classes not taught by properly licensed and endorsed teachers"]
[null,"Total classes ",null,null,null,null,null,null,{"$f":"SUM(I74:J75)","v":0},null,null,{"$f":"SUM(L74:M75)","v":0}]
[null,"Percent of classes taught by properly licensed and endorsed teachers",null,null,null,null,null,null,{"$f":"IF(I76=0,\"\",I74/I76)","v":""},null,null,{"$f":"IF(L76=0,\"\",L74/L76)","v":""}]
[]
[null,"Page 89"]
[null,{"$f":"'Main Page'!$N$9","v":"2026-2027"},null,"School Division: ",{"$f":"'Main Page'!$L$14","v":0},null,null,null,"Division Number:  ",{"$f":"'Main Page'!$L$15","v":" "},{"$f":"'Main Page'!$B$6","v":"Local Consolidated Application"}]
[null,null,"b.  Teacher Quality (Continued)"]
[null,"Section B"]
[null,"Equitable Distribution of Qualified, Experienced and Effective Teachers "]
[]
[null,"In the next four blocks (Parts 1-4), please describe how the division assures that students in high poverty (Title I) and/or high minority schools are not taught by inexperienced, out-of-field, or ineffective teachers at a higher rate than students in other schools. To do this, divisions may wish to examine teacher licensure and endorsement data from the 2025-2026 school year or other available teacher quality data and teachers' experience levels at the highest poverty (Title I) and/or highest minority schools and indicate whether these percentages are similar in other non-Title I schools with lower poverty or minority percentages. Outline strategies used to ensure an equitable distribution, including mentoring programs to support new teachers and professional development activities to support teachers in working with diverse student populations. Examples may include such activities as professional development on cultural competency, supporting English learners or special education students, or working with students from poverty."]
[]
[null,"Part 1: ","From data analysis, outline any identified gaps between Title I and non-Title I schools related to licensure/endorsements; experience; and effectiveness of teachers. If no gaps have been identified, describe how an equitable distribution of high quality teachers is maintained in each school. "]
[]
[]
[null,"Part 2: ","Describe strategies to address identified licensure/endorsement issues (e.g., Praxis, coursework, residencies, etc.). Strategies should align with initiatives detailed in the narrative and detailed budget description. "]
[]
[]
[null,"Part 3: ","Describe strategies to support inexperienced teachers (e.g., mentoring; coaching; targeted professional development, etc.). Strategies should align with initiatives detailed in the narrative and detailed budget description. "]
[]
[]
[null,"Part 4: ","Describe strategies to improve effectiveness of teachers, particularly related to poverty, diversity, cultural competency, English Learners, exceptional learners, etc. Strategies should align with initiatives detailed in the narrative and detailed budget description. "]
[]
[]
[null,"Page 90"]
[null,{"$f":"'Main Page'!$N$9","v":"2026-2027"},null,"School Division: ",{"$f":"'Main Page'!$L$14","v":0},null,null,null,"Division Number:  ",{"$f":"'Main Page'!$L$15","v":" "},{"$f":"'Main Page'!$B$6","v":"Local Consolidated Application"}]
[null,null,"c.  Private School Participation"]
[]
[null,"Each year, the school division must contact all eligible private (nonprofit) schools and engage in meaningful consultation on the availability of equitable services funded by Title II, Part A. (ESEA Section 8501 and Title VIII, Uniform Provisions, Part F, Subpart 1)."]
[null,1,"Are there private nonprofit schools in your school division’s attendance area?"]
[null,null,null,"Yes (If yes, complete the remainder of this page).",null,null,null,null,null,null,null,null,null,"No (If no, it is not necessary to complete the rest of this page)."]
[]
[null,2,"Place an \"X\" in the appropriate block(s) to indicate how private schools in the division were notified on the availability of equitable services funded by Title II, Part A. (Copies of the notification must be kept on file for monitoring purposes)."]
[null,null,null,"Regular Mail",null,null,null,null,null,null,null,null,null,"Certified Mail"]
[]
[null,null,null,"Telephone Calls",null,null,null,null,null,null,null,null,null,"Meetings"]
[]
[null,null,null,"Visits to the Private School",null,null,null,null,null,null,null,null,null,"Other (Please specify)"]
[]
[null,3,"Determining Set-Asides from Title IIA Budget (These fields will calculate automatically once enrollment figures have been entered)."]
[null,null,"a. Proposed Budget ",null,null,null,null,null,null,{"$f":"'Consolidated Budget'!I5","v":0}]
[null,null,"b. Amount of funds allocated for administration ",null,null,null,null,null,null,{"$f":"'Consolidated Budget'!I62","v":0}]
[null,null,"c. Amount to use for set-aside calculations",null,null,null,null,null,null,{"$f":"J115-J116","v":0}]
[]
[null,4,"Determining additional set-asides as a result of Transferability. These fields will calculate automatically once budget and enrollment figures have been entered."]
[null,null,"a. Proposed Budget ",null,null,null,null,null,null,{"$f":"'Consolidated Transferability'!L11","v":0}]
[null,null,"b. Amount of funds allocated for administration ",null,null,null,null,null,null,{"$f":"'Consolidated Transferability'!L67","v":0}]
[null,null,"c. Amount to use for set-aside calculations",null,null,null,null,null,null,{"$f":"J120-J121","v":0}]
[]
[null,"Calculation of Set-Asides"]
[]
[null,5,{"$f":"\"What is the PUBLIC SCHOOL DIVISION'S projected K-12 enrollment for the \" & 'Main Page'!$N$9 & \" school year?\"","v":"What is the PUBLIC SCHOOL DIVISION'S projected K-12 enrollment for the 2026-2027 school year?"}]
[]
[null,6,{"$f":"\"Complete the chart below:\n• In column A, list all eligible private schools in the geographic boundaries of the school division.\n• In column B, indicate the participation status of the listed private school(s) for the \" &  'Main Page'!$N$9  & \" award year, as a result of consultation.\n• In column C, enter the K-12 enrollment of private schools participating in services for the \" &  'Main Page'!$N$9  &  \" award year.\n• Columns D and E will automatically calculate the value of services for the  \"  &  'Main Page'!$N$9  &  \"  award year.\n• In column F, indicate the method of notification for each private school.\"","v":"Complete the chart below:\n• In column A, list all eligible private schools in the geographic boundaries of the school division.\n• In column B, indicate the participation status of the listed private school(s) for the 2026-2027 award year, as a result of consultation.\n• In column C, enter the K-12 enrollment of private schools participating in services for the 2026-2027 award year.\n• Columns D and E will automatically calculate the value of services for the  2026-2027  award year.\n• In column F, indicate the method of notification for each private school."}]
[]
[null,7,{"$f":"\"For the \"&  'Main Page'!$N$9  &\" award year, enter the estimated private school-set aside (cell B74) onto the Summary Budget Tab under the Budget for  \"&  'Main Page'!$N$9  &\" column in the appropriate object codes on the 'Private School Set-Aside' lines.  On the Budget Detail pages, list the amounts in the appropriate object codes in the 'Private School Set-Aside for \"&  'Main Page'!$N$9  &\"  lines.\"","v":"For the 2026-2027 award year, enter the estimated private school-set aside (cell B74) onto the Summary Budget Tab under the Budget for  2026-2027 column in the appropriate object codes on the 'Private School Set-Aside' lines.  On the Budget Detail pages, list the amounts in the appropriate object codes in the 'Private School Set-Aside for 2026-2027  lines."}]
[]
[null,{"$f":"\"Value of Services \nfor Participating Private Schools \nfrom the Title IIA  \"& 'Main Page'!$N$9  &\" Budget\"","v":"Value of Services \nfor Participating Private Schools \nfrom the Title IIA  2026-2027 Budget"},null,null,null,null,null,{"$f":"\"Value of Additional Services \nfor Participating Private Schools \nfrom the \"&  'Main Page'!$N$9  &\" TRANSFERABILITY Budget\"","v":"Value of Additional Services \nfor Participating Private Schools \nfrom the 2026-2027 TRANSFERABILITY Budget"},null,null,null,null,{"$f":"\"Total value of services \nfor Public Schools \nfrom the \"&  'Main Page'!$N$9  &\" Budget\"","v":"Total value of services \nfor Public Schools \nfrom the 2026-2027 Budget"},null,null,null,null,null,{"$f":"\"Total Value of Additional Services \nfor Public Schools \nfrom the \"& 'Main Page'!$N$9  &\" TRANSFERABILITY Budget\"","v":"Total Value of Additional Services \nfor Public Schools \nfrom the 2026-2027 TRANSFERABILITY Budget"}]
[null,{"$f":"H166","v":0},null,null,null,null,null,{"$f":"J166","v":0},null,null,null,null,{"$f":"J117-H166","v":0},null,null,null,null,null,{"$f":"J122-J166","v":0}]
[]
[null,"A",null,null,null,"B","C","D",null,"E",null,"F",null,"G",null,null,null,"H","I",null,null,"J","K"]
[null,"Name of Each  Private School",null,null,null,{"$f":"\"Participation Status for  \"&  'Main Page'!$N$9  &\"  Award Year?\n(Yes/No)\"","v":"Participation Status for  2026-2027  Award Year?\n(Yes/No)"},"K-12 Enrollment ",{"$f":"\"Estimated Value of Services from the\n\"&  'Main Page'!$N$9 &\" Title IIA budget, per school\n(calculated field)\"","v":"Estimated Value of Services from the\n2026-2027 Title IIA budget, per school\n(calculated field)"},null,{"$f":"\"Estimated Value of Additional Services from \nthe \"&  'Main Page'!$N$9  &\" Transferability Funds\n(calculated field)\"","v":"Estimated Value of Additional Services from \nthe 2026-2027 Transferability Funds\n(calculated field)"},null,"Method of Notification\n (for Non-Participating Schools Only)",null,"Notes",null,null,null,"Release of Obligation? \n(Yes/No)","Amount of Funds Released","ROO portion for T2","ROO portion for Transfer","New Set Aside Amount from the 2025-2026 Budget","New Set Aside Amount from the 2025-2026 Transferability Budget"]
[null,null,null,null,null,null,null,{"$f":"ROUND(IF(F137=\"Yes\",G137*$D$167,0),2)","v":0},null,{"$f":"ROUND(IF(F137=\"Yes\",G137*$G$167,0),2)","v":0},null,null,null,null,null,null,null,null,null,{"$f":"($J$117/($J$117+$J$122))*S137","v":{"$error":"#DIV/0!"}},{"$f":"($J$122/($J$117+$J$122)*S137)","v":{"$error":"#DIV/0!"}},{"$f":"H137-T137","v":{"$error":"#DIV/0!"}},{"$f":"J137-U137","v":{"$error":"#DIV/0!"}}]
[null,null,null,null,null,null,null,0,null,0,null,null,null,null,null,null,null,null,null,{"$f":"($J$117/($J$117+$J$122))*S138","v":{"$error":"#DIV/0!"}},{"$f":"($J$122/($J$117+$J$122)*S138)","v":{"$error":"#DIV/0!"}},{"$f":"H138-T138","v":{"$error":"#DIV/0!"}},{"$f":"J138-U138","v":{"$error":"#DIV/0!"}}]
[null,null,null,null,null,null,null,0,null,0,null,null,null,null,null,null,null,null,null,{"$error":"#DIV/0!"},{"$error":"#DIV/0!"},{"$error":"#DIV/0!"},{"$error":"#DIV/0!"}]
[null,null,null,null,null,null,null,0,null,0,null,null,null,null,null,null,null,null,null,{"$error":"#DIV/0!"},{"$error":"#DIV/0!"},{"$error":"#DIV/0!"},{"$error":"#DIV/0!"}]
[null,null,null,null,null,null,null,0,null,0,null,null,null,null,null,null,null,null,null,{"$error":"#DIV/0!"},{"$error":"#DIV/0!"},{"$error":"#DIV/0!"},{"$error":"#DIV/0!"}]
[null,null,null,null,null,null,null,0,null,0,null,null,null,null,null,null,null,null,null,{"$error":"#DIV/0!"},{"$error":"#DIV/0!"},{"$error":"#DIV/0!"},{"$error":"#DIV/0!"}]
[null,null,null,null,null,null,null,0,null,0,null,null,null,null,null,null,null,null,null,{"$error":"#DIV/0!"},{"$error":"#DIV/0!"},{"$error":"#DIV/0!"},{"$error":"#DIV/0!"}]
[null,null,null,null,null,null,null,0,null,0,null,null,null,null,null,null,null,null,null,{"$error":"#DIV/0!"},{"$error":"#DIV/0!"},{"$error":"#DIV/0!"},{"$error":"#DIV/0!"}]
[null,null,null,null,null,null,null,0,null,0,null,null,null,null,null,null,null,null,null,{"$error":"#DIV/0!"},{"$error":"#DIV/0!"},{"$error":"#DIV/0!"},{"$error":"#DIV/0!"}]
[null,null,null,null,null,null,null,0,null,0,null,null,null,null,null,null,null,null,null,{"$error":"#DIV/0!"},{"$error":"#DIV/0!"},{"$error":"#DIV/0!"},{"$error":"#DIV/0!"}]
[null,null,null,null,null,null,null,0,null,0,null,null,null,null,null,null,null,null,null,{"$error":"#DIV/0!"},{"$error":"#DIV/0!"},{"$error":"#DIV/0!"},{"$error":"#DIV/0!"}]
[null,null,null,null,null,null,null,0,null,0,null,null,null,null,null,null,null,null,null,{"$error":"#DIV/0!"},{"$error":"#DIV/0!"},{"$error":"#DIV/0!"},{"$error":"#DIV/0!"}]
[null,null,null,null,null,null,null,0,null,0,null,null,null,null,null,null,null,null,null,{"$error":"#DIV/0!"},{"$error":"#DIV/0!"},{"$error":"#DIV/0!"},{"$error":"#DIV/0!"}]
[null,null,null,null,null,null,null,0,null,0,null,null,null,null,null,null,null,null,null,{"$error":"#DIV/0!"},{"$error":"#DIV/0!"},{"$error":"#DIV/0!"},{"$error":"#DIV/0!"}]
[null,null,null,null,null,null,null,0,null,0,null,null,null,null,null,null,null,null,null,{"$error":"#DIV/0!"},{"$error":"#DIV/0!"},{"$error":"#DIV/0!"},{"$error":"#DIV/0!"}]
[null,null,null,null,null,null,null,0,null,0,null,null,null,null,null,null,null,null,null,{"$error":"#DIV/0!"},{"$error":"#DIV/0!"},{"$error":"#DIV/0!"},{"$error":"#DIV/0!"}]
[null,null,null,null,null,null,null,0,null,0,null,null,null,null,null,null,null,null,null,{"$error":"#DIV/0!"},{"$error":"#DIV/0!"},{"$error":"#DIV/0!"},{"$error":"#DIV/0!"}]
[null,null,null,null,null,null,null,0,null,0,null,null,null,null,null,null,null,null,null,{"$error":"#DIV/0!"},{"$error":"#DIV/0!"},{"$error":"#DIV/0!"},{"$error":"#DIV/0!"}]
[null,null,null,null,null,null,null,0,null,0,null,null,null,null,null,null,null,null,null,{"$error":"#DIV/0!"},{"$error":"#DIV/0!"},{"$error":"#DIV/0!"},{"$error":"#DIV/0!"}]
[null,null,null,null,null,null,null,0,null,0,null,null,null,null,null,null,null,null,null,{"$error":"#DIV/0!"},{"$error":"#DIV/0!"},{"$error":"#DIV/0!"},{"$error":"#DIV/0!"}]
[null,null,null,null,null,null,null,0,null,0,null,null,null,null,null,null,null,null,null,{"$error":"#DIV/0!"},{"$error":"#DIV/0!"},{"$error":"#DIV/0!"},{"$error":"#DIV/0!"}]
[null,null,null,null,null,null,null,0,null,0,null,null,null,null,null,null,null,null,null,{"$error":"#DIV/0!"},{"$error":"#DIV/0!"},{"$error":"#DIV/0!"},{"$error":"#DIV/0!"}]
[null,null,null,null,null,null,null,0,null,0,null,null,null,null,null,null,null,null,null,{"$error":"#DIV/0!"},{"$error":"#DIV/0!"},{"$error":"#DIV/0!"},{"$error":"#DIV/0!"}]
[null,null,null,null,null,null,null,0,null,0,null,null,null,null,null,null,null,null,null,{"$error":"#DIV/0!"},{"$error":"#DIV/0!"},{"$error":"#DIV/0!"},{"$error":"#DIV/0!"}]
[null,null,null,null,null,null,null,0,null,0,null,null,null,null,null,null,null,null,null,{"$error":"#DIV/0!"},{"$error":"#DIV/0!"},{"$error":"#DIV/0!"},{"$error":"#DIV/0!"}]
[null,null,null,null,null,null,null,0,null,0,null,null,null,null,null,null,null,null,null,{"$error":"#DIV/0!"},{"$error":"#DIV/0!"},{"$error":"#DIV/0!"},{"$error":"#DIV/0!"}]
[null,null,null,null,null,null,null,0,null,0,null,null,null,null,null,null,null,null,null,{"$error":"#DIV/0!"},{"$error":"#DIV/0!"},{"$error":"#DIV/0!"},{"$error":"#DIV/0!"}]
[null,null,null,null,null,null,null,0,null,0,null,null,null,null,null,null,null,null,null,{"$error":"#DIV/0!"},{"$error":"#DIV/0!"},{"$error":"#DIV/0!"},{"$error":"#DIV/0!"}]
[null,null,null,null,null,null,null,0,null,0,null,null,null,null,null,null,null,null,null,{"$error":"#DIV/0!"},{"$error":"#DIV/0!"},{"$error":"#DIV/0!"},{"$error":"#DIV/0!"}]
[null,"Total Private School Set-Asides",null,null,null,{"$f":"COUNTIF(F137:F165,\"Yes\")","v":0},{"$f":"SUMIF(F137:F165,\"Yes\", G137:G165)","v":0},{"$f":"SUM(H137:I165)","v":0},null,{"$f":"SUM(J137:K165)","v":0},null,null,null,null,null,null,null,"Release of Obligation Amounts",null,null,null,{"$f":"SUM(V137:V165)","v":{"$error":"#DIV/0!"}},{"$f":"SUM(W137:W165)","v":{"$error":"#DIV/0!"}}]
[null,null,"Per Pupil Expenditure \n(calculated field):       ",{"$f":"IF(ISERROR(SUM(J117)/(SUM(L126)+SUMIF(F136:F165,\"Yes\",G136:G165))),0,SUM(J117)/(SUM(L126)+SUMIF(F136:F165,\"Yes\",G136:G165)))","v":0},null,"Per Pupil Expenditure for Transferability funds (calculated field):          ",{"$f":"IF(ISERROR(SUM(J122)/(SUM(L126)+SUMIF(F136:F165,\"Yes\",G136:G165))),0,SUM(J122)/(SUM(L126)+SUMIF(F136:F165,\"Yes\",G136:G165)))","v":0},{"$f":"\"Use this Figure for Private School Set-Asides in the \n\" &  'Main Page'!$N$9  &  \" Budget\"","v":"Use this Figure for Private School Set-Asides in the \n2026-2027 Budget"},null,{"$f":"\"Use this Figure for Private School Set-Asides in the \n\" &  'Main Page'!$N$9  &  \" Transferability Budget\"","v":"Use this Figure for Private School Set-Asides in the \n2026-2027 Transferability Budget"}]
[null,"Page 91"]

{"sheet":"Title III, Part A","index":18,"n_rows":215,"n_cols":23,"rows_kept":215,"cut":false,"hidden":false,"merged":[[117,1,117,20],[116,1,116,20],[115,1,115,20],[114,1,114,20],[113,1,113,20],[112,1,112,20],[111,1,111,20],[116,21,116,22],[115,21,115,22],[114,21,114,22],[113,21,113,22],[112,21,112,22],[111,21,111,22],[122,21,122,22],[121,21,121,22],[120,21,120,22],[119,21,119,22],[118,21,118,22],[122,1,122,20],[121,1,121,20],[120,1,120,20],[119,1,119,20],[118,1,118,20],[201,1,201,4],[201,5,201,6],[201,7,201,8],[201,9,201,12],[201,13,201,14],[201,15,201,16],[199,1,199,4],[199,5,199,6],[199,7,199,8],[199,9,199,12],[199,13,199,14],[199,15,199,16],[200,1,200,4],[200,5,200,6],[200,7,200,8],[200,9,200,12],[200,13,200,14],[200,15,200,16],[204,1,204,4],[204,5,204,6],[204,7,204,8],[204,9,204,12],[204,13,204,14],[204,15,204,16],[202,1,202,4],[202,5,202,6],[202,7,202,8],[202,9,202,12],[202,13,202,14],[202,15,202,16],[203,1,203,4],[203,5,203,6],[203,7,203,8],[203,9,203,12],[203,13,203,14],[203,15,203,16],[195,15,195,16],[198,1,198,4],[198,5,198,6],[198,7,198,8],[198,9,198,12],[198,13,198,14],[198,15,198,16],[196,1,196,4],[196,5,196,6],[196,7,196,8],[196,9,196,12],[196,13,196,14],[196,15,196,16],[197,1,197,4],[197,5,197,6],[197,7,197,8],[197,9,197,12],[197,13,197,14],[197,15,197,16],[195,5,195,6],[195,7,195,8],[195,9,195,12],[0,10,0,16],[137,1,137,22],[135,1,135,22],[134,1,134,22],[136,1,136,22],[142,1,142,22],[186,1,186,22],[193,1,193,4],[193,15,193,16],[2,2,2,22],[1,2,1,22],[20,2,20,22],[38,2,38,22],[50,2,50,22],[65,2,65,22],[133,2,133,22],[98,2,98,22],[160,2,160,22],[3,1,3,22],[11,2,11,22],[10,2,10,22],[9,1,9,22],[8,1,8,22],[14,2,14,22],[57,2,57,22],[53,1,53,22],[46,1,46,22],[17,1,17,22],[16,1,16,22],[23,1,23,22],[30,2,30,22],[29,1,29,22],[24,2,24,22],[22,1,22,22],[21,1,21,22],[27,2,27,19],[26,2,26,19],[32,1,32,22],[36,1,36,22],[35,1,35,22],[41,1,41,22],[45,1,45,22],[44,1,44,22],[33,2,33,22],[26,20,26,22],[25,20,25,22],[40,1,40,22],[39,1,39,22],[4,1,4,22],[12,1,12,22],[15,1,15,22],[31,1,31,22],[34,1,34,22],[7,1,7,22],[6,1,6,22],[5,1,5,22],[25,2,25,19],[24,1,28,1],[28,2,28,19],[28,20,28,22],[27,20,27,22],[10,1,11,1],[43,3,43,22],[42,2,42,22],[143,1,143,22],[146,1,146,22],[152,1,152,22],[155,1,155,22],[48,1,48,22],[69,1,69,22],[68,1,68,22],[67,1,67,22],[66,1,66,22],[75,1,75,22],[74,1,74,22],[81,1,81,22],[95,1,95,22],[92,1,92,22],[150,1,150,22],[153,1,153,22],[144,1,144,22],[147,1,147,22],[80,2,80,22],[71,1,71,22],[117,21,117,22],[51,1,51,22],[56,1,56,22],[84,1,84,22],[83,2,83,22],[94,1,94,22],[93,1,93,22],[47,1,47,22],[55,1,55,22],[54,1,54,22],[60,2,60,22],[59,1,59,22],[63,1,63,22],[62,1,62,22],[58,1,58,22],[90,1,90,22],[89,1,89,22],[88,1,88,22],[87,1,87,22],[86,1,86,22],[85,1,85,22],[73,2,73,22],[76,1,76,22],[82,1,82,22],[52,2,52,22],[70,2,70,22],[72,1,72,22],[61,1,61,22],[96,1,96,22],[110,1,110,22],[109,1,109,22],[108,1,108,22],[102,1,102,22],[101,1,101,22],[100,1,100,22],[99,1,99,22],[91,1,91,22],[104,21,104,22],[103,21,103,22],[103,1,103,20],[107,1,107,20],[106,1,106,20],[105,1,105,20],[104,1,104,20],[107,21,107,22],[106,21,106,22],[105,21,105,22],[125,1,125,22],[124,1,124,22],[123,1,123,22],[131,1,131,22],[130,1,130,22],[141,2,141,22],[140,2,140,22],[139,2,139,22],[138,2,138,22],[129,21,129,22],[128,21,128,22],[127,21,127,22],[127,1,127,20],[128,1,128,20],[129,1,129,20],[126,1,126,22],[145,1,145,22],[148,1,148,22],[151,1,151,22],[154,1,154,22],[157,1,157,22],[156,1,156,22],[158,1,158,22],[161,1,161,22],[162,1,162,22],[149,1,149,22],[214,1,214,22],[190,2,190,22],[189,2,189,22],[188,2,188,22],[163,1,163,22],[174,13,174,14],[172,13,172,22],[169,2,169,22],[166,2,166,22],[168,1,168,22],[165,1,165,22],[164,2,164,11],[164,12,164,14],[174,3,174,11],[172,3,172,11],[170,3,170,11],[167,3,167,11],[170,13,170,22],[173,1,173,22],[195,1,195,4],[171,1,171,22],[174,15,174,18],[175,1,175,22],[195,13,195,14],[192,7,192,8],[191,7,191,8],[193,9,193,12],[192,9,192,12],[191,9,191,12],[185,1,185,22],[181,1,181,22],[182,2,182,22],[176,2,176,22],[184,9,184,15],[183,9,183,15],[180,9,180,15],[178,9,178,15],[177,9,177,15],[179,9,179,15],[187,1,187,22],[206,15,206,16],[205,1,205,4],[205,5,205,6],[205,7,205,8],[205,9,205,12],[205,13,205,14],[205,15,205,16],[192,15,192,16],[191,15,191,16],[193,13,193,14],[192,13,192,14],[191,13,191,14],[194,1,194,4],[194,5,194,6],[194,7,194,8],[194,9,194,12],[194,13,194,14],[194,15,194,16],[192,1,192,4],[191,1,191,4],[193,5,193,6],[192,5,192,6],[191,5,191,6],[193,7,193,8],[209,15,209,16],[78,2,78,22],[97,1,97,22],[212,1,212,4],[212,5,212,6],[212,7,212,8],[212,9,212,12],[208,1,208,4],[207,1,207,4],[207,5,207,6],[207,7,207,8],[207,9,207,12],[207,13,207,14],[207,15,207,16],[208,5,208,6],[208,7,208,8],[208,9,208,12],[208,13,208,14],[208,15,208,16],[206,1,206,4],[206,5,206,6],[206,7,206,8],[206,9,206,12],[206,13,206,14],[0,0,214,0],[0,23,1048575,23],[213,15,213,16],[213,13,213,14],[212,13,212,14],[212,15,212,16],[212,17,212,18],[210,1,210,4],[210,5,210,6],[210,7,210,8],[210,9,210,12],[210,13,210,14],[210,15,210,16],[211,1,211,4],[211,5,211,6],[211,7,211,8],[211,9,211,12],[211,13,211,14],[211,15,211,16],[209,1,209,4],[209,5,209,6],[209,7,209,8],[209,9,209,12],[209,13,209,14]]}
[null,{"$f":"'Main Page'!$N$9","v":"2026-2027"},null,"School Division:",{"$f":"'Main Page'!$L$14","v":0},null,null,null,"Division Number:",{"$f":"'Main Page'!$L$15","v":" "},{"$f":"'Main Page'!$B$6","v":"Local Consolidated Application"}]
[null,"5.","TITLE III, PART A, LANGUAGE INSTRUCTION FOR ENGLISH LEARNERS AND IMMIGRANT STUDENTS"]
[null,null,"a.  Programs and Services for ELs and their Families"]
[]
[null,"Federal Civil Rights Requirements\nDivisions must provide programs and services for the education of English Learners (ELs) under Title VI of the Civil Rights Act of 1964, the Equal Educational Opportunities Act of 1974 (EEOA), Lau v Nichols (1974), Castañeda v Pickard (1981) and other civil rights laws and federal statutes and guidance.  Federal funds, including Title III, cannot be used to meet the federal requirements for ELs. Under the Castañeda standards, programs and services for ELs should: 1) be based on effective education theory and/or research recognized by legitimate experts in the field; 2) be implemented with fidelity and adequate resources to ensure a realistic chance of success within a reasonable timeframe; and 3) lead to improved academic outcomes within this reasonable timeframe.  \n"]
[]
[null,"Description of an Effective LIEP Supported by Local and/or State Funds: The division must implement an effective language instruction educational program (LIEP) or a combination of LIEPs in order to meet the needs of ELs and demonstrate effectiveness in increasing their English language proficiency and student academic achievement.  The chosen LIEP Model(s) must be state-approved."]
[null,"LIEP Model(s)"]
[]
[null,"Narrative Boxes:"]
[null,"Box 1:  ","Identify how instruction is delivered to ELs at varying proficiency levels and grade span levels to develop their English language proficiency and increase their ability to meet challenging State academic standards. Include specialized programs for newcomer ELs, SLIFE, “opt-out” ELs, dually identified ELs, ELs at higher proficiency levels, and long-term ELs, if applicable.  List the LIEP Model(s) used in the LEA."]
[null,null,"LIEP Model(s)"]
[]
[]
[null,"Box 2:  ","Using Local and/or State Funds:  Describe the division’s plan to provide effective professional development that specifically relates to the identification and teaching of ELs as identified in Box 1.  "]
[]
[]
[null,"Page 92"]
[null,{"$f":"'Main Page'!$N$9","v":"2026-2027"},null,"School Division:",{"$f":"'Main Page'!$L$14","v":0},null,null,null,"Division Number:",{"$f":"'Main Page'!$L$15","v":" "},{"$f":"'Main Page'!$B$6","v":"Local Consolidated Application"}]
[]
[null,null,"a.  Programs and Services for ELs and their Families (continued)"]
[]
[null,"Implementation of an Effective LIEP Supported by Local and/or State Funds:  The division must carry out a comprehensive analysis of the EL population within the division in order to, 1) design programs and services that will meet the needs of students; and 2) to determine the necessary resources for an effective implementation of the LIEP.    "]
[]
[null,"Box 3a:  ","Provide the following information regarding the division wide EL population. This can be based on ACCESS Assessment SY data 2024-2025 which was reflected for ACCESS Accountability in the 2025-2026 SY."]
[null,null,"The number of ELs division-wide (Level 1-4.3)"]
[null,null,"The number of endorsed ESL teachers directly serving ELs \n\n"]
[null,null,"The percentage of ELs who made PROGRESS (Target 56%)"]
[null,null,"The percentage of ELs who reached PROFICIENCY (4.4+ on the ACCESS for ELLs assessment)"]
[]
[null,"Box 3b:  ","If the LEA did not meet State PROGRESS targets for 2024-2025 Assessment SY which impacts the 2025-2026 Accountability SY target of 56%, as shown in Box 3a, then outline the corrective action steps that the LEA has taken in order to meet state ESSA ELP accountability targets as approved in Virginia.   "]
[]
[]
[null,"Box 4:  ","Identify the amount of targeted language instruction for ELs the division determines appropriate at each proficiency level and/or grade span level. \n     • Example by Grade: K- 30 minutes, 5 times a week, LIEP Model – ELD. \n     • Example by ELP Level: Level 1: 45 minutes, 5 times a week, Grades K-2, LIEP Models – Newcomer and Content Classes with Integrated EL \n        Support. \nChoose a reporting format that supports your division EL scheduling policy.  "]
[]
[]
[null,"Page 93"]
[null,{"$f":"'Main Page'!$N$9","v":"2026-2027"},null,"School Division:",{"$f":"'Main Page'!$L$14","v":0},null,null,null,"Division Number:",{"$f":"'Main Page'!$L$15","v":" "},{"$f":"'Main Page'!$B$6","v":"Local Consolidated Application"}]
[null,null,"a.  Programs and Services for ELs and their Families (continued)"]
[]
[null,"Evaluation of the Effectiveness of the LIEP Supported by Local and/or State Funds: The division must evaluate the LIEP to determine its effectiveness in helping ELs make progress toward achieving English proficiency, exit the LIEP, and meet challenging State academic standards within a reasonable timeframe."]
[]
[null,"Box 5:  ","Describe the division’s procedures to conduct the Title III program evaluation of division implemented programs and services for ELs.  Include the following information:\n• A timeline for evaluation; \n• The titles of stakeholders involved in the evaluation process; and \n• The data collected by the division to determine the effectiveness of the LIEP.  Data elements may include:"]
[null,null,null,"• EL academic achievement indicators by grade span or content area, \n• Specific LIEP secondary courses, \n• Student or parent surveys, \n• EL graduation rates, \n• ELs with disabilities, \n• Long Term ELs, \n• SLIFE, and\n• Formerly ELs (4.4+ on the ACCESS for ELLs assessment)."]
[]
[]
[]
[]
[null,"Page 94"]
[null,{"$f":"'Main Page'!$N$9","v":"2026-2027"},null,"School Division:",{"$f":"'Main Page'!$L$14","v":0},null,null,null,"Division Number:",{"$f":"'Main Page'!$L$15","v":" "},{"$f":"'Main Page'!$B$6","v":"Local Consolidated Application"}]
[null,null,"a.  Programs and Services for ELs and their Families (continued)"]
[]
[null,"Box 6:  ","Discuss the results of the Title III program evaluation and describe the LIEP modifications to be introduced to address specific concerns identified in the evaluation process."]
[]
[]
[null,"Outreach to Limited English Proficient (LEP) Parents, Families, and Community Organizations:  The division must communicate meaningfully with LEP parents, families, and community organizations, and must notify LEP parents in a timely fashion in a language they can understand about programs, services, or activities that are made available to the general student population. "]
[]
[null,"Box 7:  ","Using Local and/or State Funds:  Describe how the division provides outreach to LEP parents and families to allow them the opportunity to participate in their student’s education.  Include how the division provides language assistance, such as third party vendors, contracted interpreters and translators, or telephone or digital language services, to parents who may require it."]
[]
[]
[null,"Box 8:  ","Coordination of Service.  Describe the partnership between this program community, organizations, and other local, state and/or federal programs within the division.  Possible services could include: community partnerships, specialized programs, such as the gifted program, college and career readiness, special education, preschool, Title I, Title II, and Title IV. "]
[]
[]
[null,"Page 95"]
[null,{"$f":"'Main Page'!$N$9","v":"2026-2027"},null,"School Division:",{"$f":"'Main Page'!$L$14","v":0},null,null,null,"Division Number:",{"$f":"'Main Page'!$L$15","v":" "},{"$f":"'Main Page'!$B$6","v":"Local Consolidated Application"}]
[null,null,"a.  Programs and Services for ELs and their Families (continued)"]
[]
[null,"Application ESSA Compliance Components using Title III Funds"]
[null,"Sec. 3115(g) Supplement Not Supplant:  Federal funds made available under this subgrant shall be used so as to supplement the level of Federal, State and local funds that, in the absence of such availability, would have been expended for programs for English learners and immigrant children and youth and in no case to supplant such Federal, state and local public funds. \n\nSec. 3115(c)(1-3) Required Subgrantee Activities using Title III Funds"]
[]
[null,"Box 9:  ","Title III-funded personnel, resources and initiatives: Describe how the LEA will use Title III funds to provide supplemental support to help ELs increase EL proficiency, meet the challenging State academic standards, and align with Virginia’s accountability plan.  Also, describe how the activities funded from Title III, Part A, are expected to increase student achievement and EL progress and proficiency.  The description must include a brief needs assessment with data, to demonstrate why the resources, materials, personnel, curriculum enhancement, coordination with other programs and other creative initiatives to be funded by Title III, will support an effective LIEP. This description must align with expenditures outlined in the Budget Summary and Detailed Budget Description in the Budget Tab."]
[]
[]
[null,"Box 10:  ","Title III Professional Development: Describe how the LEA will use Title III funds to provide supplemental support for effective professional development (PD) to support: 1) classroom teachers, 2) principals, 3) support staff, 4) administrators, and 5) others. This description must include a brief needs assessment with data, to demonstrate how Title III funds will support effective PD to improve EL educational outcomes. This description must align with expenditures outlined in the Budget Summary and Detailed Budget Description in the Budget Tab."]
[]
[]
[null,"Page 96"]
[null,{"$f":"'Main Page'!$N$9","v":"2026-2027"},null,"School Division:",{"$f":"'Main Page'!$L$14","v":0},null,null,null,"Division Number:",{"$f":"'Main Page'!$L$15","v":" "},{"$f":"'Main Page'!$B$6","v":"Local Consolidated Application"}]
[null,null,"a.  Programs and Services for ELs and their Families (continued)"]
[]
[null,"Box 11:  ","Title III Parent Engagement: Describe how the LEA will use Title III funds to provide supplemental support to parent, family and community engagement activities. Identify strategies used in coordination with other related programs, such as Title I, Part A, college and career readiness, and preschool programs. This description must include a brief needs assessment with data to demonstrate how Title III funds will support effective parent and family engagement to improve EL educational outcomes. This description must align with expenditures outlined in the Budget Summary and Detailed Budget Description in the Budget Tab."]
[]
[]
[null,null,"b.  Immigrant Children and Youth (IY) Funds Under Title III"]
[]
[null,"Complete if IY funds are allocated"]
[]
[null,"Purpose of Immigrant Children and Youth (IY) Funds"]
[null,"Under Section 3114 of the ESEA, Immigrant Children and Youth (IY) funds may be used for supplemental services to improve the academic achievement of IY students including activities that increase the knowledge and skills of teachers who serve IY students. All services provided to IY students  using IY funds must supplement, and not supplant, the services that must be provided to IY students under Title VI of the Civil Rights Act of 1964 (Title VI), the Equal Educational Opportunities Act of 1974 (EEOA), and other requirements, including those under State or local laws. Immigrant Children and Youth (IY) funds must solely be expended on programs and services for immigrant students or their families. "]
[]
[null,"Description of Program and Services for Immigrant Students "]
[null,"Describe how the division will use Immigrant Children and Youth (IY) funds to provide enhanced instructional opportunities specifically for immigrant students or their families."]
[]
[]
[null,"Describe how the division will evaluate the success of the enhanced instructional opportunities targeting immigrant students or their families."]
[]
[]
[null,"Page 97"]
[null,null,"c.  Title III Program Details "]
[null,"Possible Subgrant Activities"]
[null,{"$f":"\"Sec. 3115(c)(1)(2)(3) – LEA Required Subgrant Activities Respond YES or NO using the dropdowns if Title III funds will be used this year (\" & 'Main Page'!N9& \") to support required activities. Refer to the Title III Budget Tab and the Title III Program Narrative Tab boxes 8-11 to support your responses.\"","v":"Sec. 3115(c)(1)(2)(3) – LEA Required Subgrant Activities Respond YES or NO using the dropdowns if Title III funds will be used this year (2026-2027) to support required activities. Refer to the Title III Budget Tab and the Title III Program Narrative Tab boxes 8-11 to support your responses."}]
[]
[null,"Box A."]
[null,"Required LEA Activities Under Title III Funding",null,null,null,null,null,null,null,null,null,null,null,null,null,null,null,null,null,null,null,{"$f":"\"Respond YES or NO using the dropdowns if Title III funds will be used this year (\" & 'Main Page'!N9 & \") to support required activities. \n\nRefer to the Title III Budget Tab and the Title III Program Narrative Tab boxes \n8-11 to support your response.\"","v":"Respond YES or NO using the dropdowns if Title III funds will be used this year (2026-2027) to support required activities. \n\nRefer to the Title III Budget Tab and the Title III Program Narrative Tab boxes \n8-11 to support your response."}]
[null,"If applicable, other activities and strategies that enhance or supplement LIEPs, including coordination and alignment across programs (as required under section 3115(c)(3)(B). (States are not required to enter counts for the last row if the State reports counts for 3115(c)(3)(A).)). (See Box 8)"]
[null,"Support the development and implementation of LIEPs (as required under section 3115(c)(1)). (See Box 9) "]
[null,"Provide professional development to teachers and other personnel serving ELs (as required under section 3115(c)(2)).  (See Box 10)"]
[null,"Provide parent, family, and community engagement activities (as required under section 3115(c)(3)(A)). (See Box 11) "]
[]
[null,"Optional LEA Activities Under Title III Funds"]
[null,"Box B."]
[null,"Optional LEA Activities Under Title III Funds",null,null,null,null,null,null,null,null,null,null,null,null,null,null,null,null,null,null,null,{"$f":"\"Place an X to Show How Funds Will be Used This Year\n(\" & 'Main Page'!N9 & \") \"","v":"Place an X to Show How Funds Will be Used This Year\n(2026-2027) "}]
[null,"Upgrade program objectives and instructional strategies (section 3115(d)(1)). "]
[null,"Improve instruction for ELs through curricula, instructional materials, software, and assessment procedures (3115(d)(2)). "]
[null,"Provide tutorials, career and technical education (section 3115(d)(3)(A)). "]
[null,"Provide intensified supplemental instruction, including translated materials, interpreters, and translators (section 3115(d)(3)(B)). "]
[null,"Support LIEPs for preschool programs (section 3115(d)(4)).  "]
[null,"Implement strategies to improve ELP and academic achievement for ELs (section 3115(d)(5)). "]
[null,"Provide parent, family, and community engagement activities to support the education of ELs (section 3115(d)(6)). "]
[null,"Provide resources, including educational technology, electronic networks for materials, training, and communication, and incorporation of these resources into curricula and programs, to improve the instruction of ELs (section 3115(d)(7)). "]
[null,"Offer programs to help ELs achieve success in postsecondary education (section 3115(d)(8)). "]
[null,"Improve the instruction of ELs with disabilities (section 3115(d)(9)). "]
[null,"Other (section 3115(d)(9)). "]
[]
[null,"Sec.3201(7) of the ESEA – Identify the language(s) of instruction if your LEA provides the Transitional Bilingual, Dual Language or Two-way Immersion Programs . If you do not provide these LIEPs, mark Not Applicable (N/A).  "]
[]
[null,"Box C."]
[null,"LIEPs",null,null,null,null,null,null,null,null,null,null,null,null,null,null,null,null,null,null,null,"Language of Instruction\n(if applicable)"]
[null,"Transitional Bilingual"]
[null,"Dual Language or Two-way Immersion"]
[]
[null,"Page 98"]
[null,{"$f":"'Main Page'!$N$9","v":"2026-2027"},null,"School Division:",{"$f":"'Main Page'!$L$14","v":0},null,null,null,"Division Number:",{"$f":"'Main Page'!$L$15","v":" "},{"$f":"'Main Page'!$B$6","v":"Local Consolidated Application"}]
[null,null,"d.  Measurable Objectives"]
[]
[null,"Section 1 "]
[]
[null,"In Section 1 of the MOs, the LEA must address the MOs in Section 2 of the previous year's application and report whether 1) the LEA met the intended outcomes/targets; 2) reasons why the intended outcomes/targets were not met; and 3) how the MO will be modified, if applicable.  The LEA may also choose to use MOs from Section 1 of the application submitted two years previously. The LEA should include a description of the data analysis and process used to determine if the intended MO outcome/target was met.  Be sure to address all of the following:"]
[null,"1.","Specify the measurable objective from the previous application. "]
[null,"2.","Specify the application year (2023-2024 or 2024-2025)."]
[null,"3.","State the original MO goal and then describe the actual data results; and"]
[null,"4.","Describe the activities implemented and the actual progress made towards reaching the MO. "]
[]
[null,"Measurable Objective 1:"]
[]
[]
[null,"Measurable Objective 2:"]
[]
[]
[null,"Measurable Objective 3:"]
[]
[]
[null,"Measurable Objective 4:"]
[]
[]
[null,"Measurable Objective 5:"]
[]
[]
[null,"Page 99"]
[null,{"$f":"'Main Page'!$N$9","v":"2026-2027"},null,"School Division:",{"$f":"'Main Page'!$L$14","v":0},null,null,null,"Division Number:",{"$f":"'Main Page'!$L$15","v":" "},{"$f":"'Main Page'!$B$6","v":"Local Consolidated Application"}]
[null,null,"e.  Private School Participation "]
[]
[null,"Each year, the school division must contact all eligible private (nonprofit) schools and engage in meaningful consultation on the availability of equitable services funded by Title III, Part A. (ESEA Title VIII  Uniform Provisions, Part F, Subpart 1)."]
[]
[null,"1.",{"$f":"\"How many English Learners Level 1-4.3 received services in the public school division for the  \" & 'Main Page'!$N$9 &\" school year?\"","v":"How many English Learners Level 1-4.3 received services in the public school division for the  2026-2027 school year?"}]
[]
[null,"2.","Are there eligible private schools in the school division's attendance area? Mark Yes if you have Private Schools, even if they refuse funds. "]
[null,null,null,"Yes (If yes, complete the remainder of this page.)",null,null,null,null,null,null,null,null,null,"No (If no, it is not necessary to complete the rest of this page.)"]
[]
[null,"2.","Place an \"X\" in the appropriate block(s) to indicate how private schools were notified of the availability of equitable services funded by Title III, Part A. (Copies of the notification must be kept on file for monitoring purposes.)"]
[null,null,null,"Regular Mail",null,null,null,null,null,null,null,null,null,"Certified Mail"]
[]
[null,null,null,"Telephone Calls",null,null,null,null,null,null,null,null,null,"Meetings"]
[]
[null,null,null,"Visits to the Private School",null,null,null,null,null,null,null,null,null,"Other (Please specify)"]
[]
[null,"4.","Determining Set-Asides (These fields will calculate automatically once enrollment figures have been entered)."]
[null,null,"a. Title III Budget",null,null,null,null,null,null,{"$f":"'Consolidated Budget'!J5","v":0}]
[null,null,"b. Proportionate Share",null,null,null,null,null,null,{"$f":"(J178)*(H213/(M165+H213))","v":{"$error":"#DIV/0!"}}]
[null,null,"c. Additional set-aside for equitable services (if necessary)"]
[null,null,"d. Amount to use for set-aside calculations",null,null,null,null,null,null,{"$f":"J179+J180","v":{"$error":"#DIV/0!"}}]
[]
[null,"5.","Determining additional set-asides as a result of Transferability. These fields will calculate automatically once budget and enrollment figures have been entered."]
[null,null,"a. Title III Budget",null,null,null,null,null,null,{"$f":"SUM('Consolidated Transferability'!M11+'Consolidated Transferability'!N11)","v":0}]
[null,null,"b. Proportionate Share",null,null,null,null,null,null,{"$f":"(J184)*(H213/(M165+H213))","v":{"$error":"#DIV/0!"}}]
[]
[null,"Calculation of Set-Asides"]
[]
[null,"6.",{"$f":"\"For the  \" & $B$1 & \" award year, enter the estimated private school-set aside onto the Title III Budget tab under the (Budget for  \" & $B$1 & \")  column in the appropriate object codes on the (Private School Set-Aside) lines. \"","v":"For the  2026-2027 award year, enter the estimated private school-set aside onto the Title III Budget tab under the (Budget for  2026-2027)  column in the appropriate object codes on the (Private School Set-Aside) lines. "}]
[null,null,{"$f":"\"On the Budget Detail pages, list the amounts in the appropriate object codes in the (Private School Set-Aside for  \" & $B$1 & \")  lines.\"","v":"On the Budget Detail pages, list the amounts in the appropriate object codes in the (Private School Set-Aside for  2026-2027)  lines."}]
[null,"7.","Complete the chart below:\n• In Column A, list all eligible private schools in the school division.\n• In column B, indicate the participation status of the listed private school(s) for the  award year, as a result of consultation.\n• In Column C, enter number of English learner students in private schools participating in services for the  award year.  Only complete if you answered yes in column B.\n• In Column D, enter the description of services provided for participating children.  Only complete if you answered yes in column B.\n• Column E will automatically calculate the value of services for the  award year."]
[null,"A",null,null,null,"B",null,"C",null,"D",null,null,null,"E",null,"F",null,"G","H",null,null,"I ","J"]
[null," Private Schools",null,null,null,{"$f":"\"Participation Staus for  \" & $B$1 & \"  Award Year?\n(Yes/No)\"","v":"Participation Staus for  2026-2027  Award Year?\n(Yes/No)"},null,"Number of Identified Students",null,"Description of Services",null,null,null,{"$f":"\"Estimated Value of Services from the \n \" & $B$1 & \"  Title IIIA Budget, Per School\"","v":"Estimated Value of Services from the \n 2026-2027  Title IIIA Budget, Per School"},null,"Estimated Value of Additional Services from Transferability Funds",null,"Release of Obligation? \n(Yes/No)","Amount of Funds Released","ROO portion for T2","ROO portion for Transfer",{"$f":"\"New Set Aside Amount from the \"&'Main Page'!$N$9&\" Budget\"","v":"New Set Aside Amount from the 2026-2027 Budget"},{"$f":"\"New Set Aside Amount from the \"&'Main Page'!$N$9&\" Transferability Budget\"","v":"New Set Aside Amount from the 2026-2027 Transferability Budget"}]
[null,null,null,null,null,null,null,null,null,null,null,null,null,{"$f":"ROUND(IF(F194=\"Yes\",H194*$D$214,0),2)","v":0},null,{"$f":"ROUND(IF(F194=\"Yes\",H194*$G$214,0),2)","v":0},null,null,null,{"$f":"($J$178/($J$178+$J$184))*S194","v":{"$error":"#DIV/0!"}},{"$f":"($J$184/($J$184+$J$178)*S194)","v":{"$error":"#DIV/0!"}},{"$f":"N194-T194","v":{"$error":"#DIV/0!"}},{"$f":"P194-U194","v":{"$error":"#DIV/0!"}}]
[null,null,null,null,null,null,null,null,null,null,null,null,null,{"$f":"ROUND(IF(F195=\"Yes\",H195*$D$214,0),2)","v":0},null,{"$f":"ROUND(IF(F195=\"Yes\",H195*$G$214,0),2)","v":0},null,null,null,{"$f":"($J$178/($J$178+$J$184))*S195","v":{"$error":"#DIV/0!"}},{"$f":"($J$184/($J$184+$J$178)*S195)","v":{"$error":"#DIV/0!"}},{"$f":"N195-T195","v":{"$error":"#DIV/0!"}},{"$f":"P195-U195","v":{"$error":"#DIV/0!"}}]
[null,null,null,null,null,null,null,null,null,null,null,null,null,0,null,0,null,null,null,{"$error":"#DIV/0!"},{"$error":"#DIV/0!"},{"$error":"#DIV/0!"},{"$error":"#DIV/0!"}]
[null,null,null,null,null,null,null,null,null,null,null,null,null,0,null,0,null,null,null,{"$error":"#DIV/0!"},{"$error":"#DIV/0!"},{"$error":"#DIV/0!"},{"$error":"#DIV/0!"}]
[null,null,null,null,null,null,null,null,null,null,null,null,null,0,null,0,null,null,null,{"$error":"#DIV/0!"},{"$error":"#DIV/0!"},{"$error":"#DIV/0!"},{"$error":"#DIV/0!"}]
[null,null,null,null,null,null,null,null,null,null,null,null,null,0,null,0,null,null,null,{"$error":"#DIV/0!"},{"$error":"#DIV/0!"},{"$error":"#DIV/0!"},{"$error":"#DIV/0!"}]
[null,null,null,null,null,null,null,null,null,null,null,null,null,0,null,0,null,null,null,{"$error":"#DIV/0!"},{"$error":"#DIV/0!"},{"$error":"#DIV/0!"},{"$error":"#DIV/0!"}]
[null,null,null,null,null,null,null,null,null,null,null,null,null,0,null,0,null,null,null,{"$error":"#DIV/0!"},{"$error":"#DIV/0!"},{"$error":"#DIV/0!"},{"$error":"#DIV/0!"}]
[null,null,null,null,null,null,null,null,null,null,null,null,null,0,null,0,null,null,null,{"$error":"#DIV/0!"},{"$error":"#DIV/0!"},{"$error":"#DIV/0!"},{"$error":"#DIV/0!"}]
[null,null,null,null,null,null,null,null,null,null,null,null,null,0,null,0,null,null,null,{"$error":"#DIV/0!"},{"$error":"#DIV/0!"},{"$error":"#DIV/0!"},{"$error":"#DIV/0!"}]
[null,null,null,null,null,null,null,null,null,null,null,null,null,0,null,0,null,null,null,{"$error":"#DIV/0!"},{"$error":"#DIV/0!"},{"$error":"#DIV/0!"},{"$error":"#DIV/0!"}]
[null,null,null,null,null,null,null,null,null,null,null,null,null,0,null,0,null,null,null,{"$error":"#DIV/0!"},{"$error":"#DIV/0!"},{"$error":"#DIV/0!"},{"$error":"#DIV/0!"}]
[null,null,null,null,null,null,null,null,null,null,null,null,null,0,null,0,null,null,null,{"$error":"#DIV/0!"},{"$error":"#DIV/0!"},{"$error":"#DIV/0!"},{"$error":"#DIV/0!"}]
[null,null,null,null,null,null,null,null,null,null,null,null,null,0,null,0,null,null,null,{"$error":"#DIV/0!"},{"$error":"#DIV/0!"},{"$error":"#DIV/0!"},{"$error":"#DIV/0!"}]
[null,null,null,null,null,null,null,null,null,null,null,null,null,0,null,0,null,null,null,{"$error":"#DIV/0!"},{"$error":"#DIV/0!"},{"$error":"#DIV/0!"},{"$error":"#DIV/0!"}]
[null,null,null,null,null,null,null,null,null,null,null,null,null,0,null,0,null,null,null,{"$error":"#DIV/0!"},{"$error":"#DIV/0!"},{"$error":"#DIV/0!"},{"$error":"#DIV/0!"}]
[null,null,null,null,null,null,null,null,null,null,null,null,null,0,null,0,null,null,null,{"$error":"#DIV/0!"},{"$error":"#DIV/0!"},{"$error":"#DIV/0!"},{"$error":"#DIV/0!"}]
[null,null,null,null,null,null,null,null,null,null,null,null,null,0,null,0,null,null,null,{"$error":"#DIV/0!"},{"$error":"#DIV/0!"},{"$error":"#DIV/0!"},{"$error":"#DIV/0!"}]
[null,null,null,null,null,null,null,null,null,null,null,null,null,0,null,0,null,null,null,{"$error":"#DIV/0!"},{"$error":"#DIV/0!"},{"$error":"#DIV/0!"},{"$error":"#DIV/0!"}]
[null,"Total Identified Students",null,null,null,{"$f":"COUNTIF(F194:G212, \"YES\")","v":0},null,{"$f":"SUMIF(F194:G212, \"YES\", H194:I212)","v":0},null,"Total Private School Set-Asides",null,null,null,{"$f":"SUM(N194:O212)","v":0},null,{"$f":"SUM(P194:Q212)","v":0},null,"Release of Obligation Amounts",null,null,null,{"$f":"SUM(V194:V212)","v":{"$error":"#DIV/0!"}},{"$f":"SUM(W194:W212)","v":{"$error":"#DIV/0!"}}]
[null,null,"Per Pupil Expenditure \n(calculated field):          ",{"$f":"(J181/H213)","v":{"$error":"#DIV/0!"}},null,"Per Pupil Expenditure for Transferability funds (calculated field):          ",{"$f":"(J185/H213)","v":{"$error":"#DIV/0!"}},null,null,null,null,null,null,{"$f":"\"Use this Figure for Private School Set-Asides in the \n \" & $B$1 & \"  Budget\"","v":"Use this Figure for Private School Set-Asides in the \n 2026-2027  Budget"},null,{"$f":"\"Use this Figure for Private School Set-Asides in the \n \" & $B$1 & \"  Transferability Budget\"","v":"Use this Figure for Private School Set-Asides in the \n 2026-2027  Transferability Budget"}]
[null,"Page 100"]

{"sheet":"Title IV, Part A","index":19,"n_rows":230,"n_cols":27,"rows_kept":230,"cut":false,"hidden":false,"merged":[[128,1,128,22],[127,2,127,22],[96,1,96,22],[95,1,95,22],[94,1,94,22],[93,1,93,22],[92,1,92,22],[105,1,105,9],[105,10,105,12],[105,13,105,22],[125,1,125,22],[104,1,104,22],[102,1,102,22],[103,1,103,22],[124,1,124,22],[123,1,123,22],[122,1,122,22],[118,1,118,22],[119,1,119,22],[114,1,114,22],[115,1,115,22],[106,1,106,22],[107,1,107,22],[113,1,113,9],[232,1,232,16],[184,8,184,9],[184,10,184,11],[184,12,184,13],[184,14,184,16],[185,14,185,16],[187,1,187,4],[187,5,187,6],[187,8,187,9],[187,10,187,11],[187,12,187,13],[186,1,186,4],[186,5,186,6],[186,8,186,9],[186,10,186,11],[186,12,186,13],[231,1,231,16],[230,10,230,16],[185,1,185,4],[185,5,185,6],[185,8,185,9],[185,10,185,11],[185,12,185,13],[188,14,188,16],[171,1,171,22],[175,2,175,22],[173,2,173,22],[176,1,176,22],[174,1,174,22],[186,14,186,16],[187,14,187,16],[184,1,184,4],[184,5,184,6],[0,10,0,16],[156,2,156,8],[156,9,156,15],[157,2,157,8],[157,9,157,15],[67,1,67,22],[68,1,68,22],[69,1,69,22],[70,1,70,22],[77,1,77,22],[78,1,78,22],[79,1,79,22],[80,1,80,22],[83,1,83,22],[84,1,84,22],[85,1,85,22],[86,1,86,22],[6,2,6,22],[34,1,34,22],[129,1,129,9],[129,10,129,12],[129,13,129,22],[130,1,130,22],[131,1,131,22],[188,1,188,4],[188,10,188,11],[188,12,188,13],[188,5,188,6],[188,8,188,9],[5,2,5,22],[4,1,4,22],[3,1,3,22],[2,2,2,22],[29,1,29,22],[31,1,31,22],[59,1,59,22],[54,1,54,22],[52,1,52,22],[51,1,51,22],[169,1,169,22],[7,2,7,22],[40,3,40,22],[39,3,39,22],[38,3,38,22],[37,3,37,22],[36,3,36,22],[162,2,162,8],[182,1,182,4],[191,14,191,16],[189,1,189,4],[189,5,189,6],[189,8,189,9],[189,10,189,11],[189,12,189,13],[190,1,190,4],[190,5,190,6],[190,8,190,9],[190,10,190,11],[190,12,190,13],[190,14,190,16],[189,14,189,16],[191,1,191,4],[191,5,191,6],[191,8,191,9],[191,10,191,11],[191,12,191,13],[192,14,192,16],[193,14,193,16],[195,1,195,4],[195,5,195,6],[195,8,195,9],[195,10,195,11],[195,12,195,13],[194,1,194,4],[194,5,194,6],[194,8,194,9],[194,10,194,11],[194,12,194,13],[194,14,194,16],[195,14,195,16],[193,1,193,4],[193,5,193,6],[193,8,193,9],[193,10,193,11],[193,12,193,13],[192,1,192,4],[192,5,192,6],[192,8,192,9],[192,10,192,11],[192,12,192,13],[196,14,196,16],[197,14,197,16],[199,1,199,4],[199,5,199,6],[199,8,199,9],[199,10,199,11],[199,12,199,13],[198,1,198,4],[198,5,198,6],[198,8,198,9],[198,10,198,11],[198,12,198,13],[198,14,198,16],[199,14,199,16],[197,1,197,4],[197,5,197,6],[197,8,197,9],[197,10,197,11],[197,12,197,13],[196,1,196,4],[196,5,196,6],[196,8,196,9],[196,10,196,11],[196,12,196,13],[200,14,200,16],[201,14,201,16],[203,1,203,4],[203,5,203,6],[203,8,203,9],[203,10,203,11],[203,12,203,13],[202,1,202,4],[202,5,202,6],[202,8,202,9],[202,10,202,11],[202,12,202,13],[202,14,202,16],[203,14,203,16],[201,1,201,4],[201,5,201,6],[201,8,201,9],[201,10,201,11],[201,12,201,13],[200,1,200,4],[200,5,200,6],[200,8,200,9],[200,10,200,11],[200,12,200,13],[204,14,204,16],[205,14,205,16],[207,1,207,4],[207,5,207,6],[207,8,207,9],[207,10,207,11],[207,12,207,13],[206,1,206,4],[206,5,206,6],[206,8,206,9],[206,10,206,11],[206,12,206,13],[206,14,206,16],[207,14,207,16],[205,1,205,4],[205,5,205,6],[205,8,205,9],[205,10,205,11],[205,12,205,13],[204,1,204,4],[204,5,204,6],[204,8,204,9],[204,10,204,11],[204,12,204,13],[208,14,208,16],[209,14,209,16],[211,1,211,4],[211,5,211,6],[211,8,211,9],[211,10,211,11],[211,12,211,13],[210,1,210,4],[210,5,210,6],[210,8,210,9],[210,10,210,11],[210,12,210,13],[210,14,210,16],[211,14,211,16],[209,1,209,4],[209,5,209,6],[209,8,209,9],[209,10,209,11],[209,12,209,13],[208,1,208,4],[208,5,208,6],[208,8,208,9],[208,10,208,11],[208,12,208,13],[213,1,213,4],[213,5,213,6],[213,8,213,9],[213,10,213,11],[213,12,213,13],[212,1,212,4],[212,5,212,6],[212,8,212,9],[212,10,212,11],[212,12,212,13],[215,10,215,11],[215,12,215,13],[214,1,214,4],[214,5,214,6],[214,8,214,9],[214,10,214,11],[214,12,214,13],[214,14,214,16],[215,14,215,16],[222,1,222,4],[222,5,222,6],[222,8,222,9],[222,10,222,11],[222,12,222,13],[216,14,216,16],[217,14,217,16],[219,1,219,4],[219,5,219,6],[219,8,219,9],[219,10,219,11],[219,12,219,13],[218,1,218,4],[218,5,218,6],[218,8,218,9],[218,10,218,11],[218,12,218,13],[218,14,218,16],[219,14,219,16],[217,1,217,4],[217,5,217,6],[217,8,217,9],[217,10,217,11],[217,12,217,13],[228,8,228,9],[228,10,228,11],[227,10,227,11],[224,1,224,4],[224,5,224,6],[224,8,224,9],[227,1,227,4],[227,5,227,6],[227,8,227,9],[224,10,224,11],[226,1,226,4],[226,5,226,6],[226,8,226,9],[226,10,226,11],[225,1,225,4],[225,5,225,6],[225,8,225,9],[225,10,225,11],[15,2,15,22],[152,1,152,22],[154,1,154,22],[153,2,153,11],[137,1,137,22],[108,1,108,22],[100,1,100,22],[109,1,109,22],[88,1,88,22],[81,1,81,22],[90,2,90,22],[97,1,97,9],[97,10,97,12],[97,13,97,22],[98,1,98,22],[99,1,99,22],[82,2,82,22],[132,1,132,22],[56,1,56,22],[47,1,47,22],[46,1,46,22],[45,1,45,22],[44,1,44,22],[43,1,43,22],[9,1,9,22],[42,2,42,22],[53,1,53,22],[1,2,1,22],[58,2,58,22],[55,1,55,22],[71,1,71,22],[87,1,87,22],[74,2,74,22],[14,1,14,22],[13,1,13,22],[12,2,12,22],[11,2,11,22],[10,2,10,22],[60,2,60,22],[66,2,66,22],[76,2,76,22],[64,1,64,22],[63,1,63,22],[62,1,62,22],[61,1,61,22],[72,1,72,22],[65,1,65,22],[35,2,35,22],[113,10,113,12],[113,13,113,22],[117,1,117,9],[117,10,117,12],[117,13,117,22],[111,1,111,22],[110,2,110,22],[181,1,181,4],[164,1,164,22],[116,1,116,22],[120,1,120,22],[153,12,153,13],[159,1,159,16],[155,2,155,16],[160,2,160,16],[161,2,161,8],[161,9,161,15],[133,1,133,9],[133,10,133,12],[121,1,121,9],[121,10,121,12],[121,13,121,22],[180,10,180,11],[143,2,143,22],[162,9,162,15],[163,2,163,8],[163,9,163,15],[158,2,158,8],[158,9,158,15],[149,3,149,11],[147,3,147,11],[146,2,146,22],[144,3,144,11],[151,15,151,21],[151,13,151,14],[151,3,151,11],[139,2,139,22],[133,13,133,22],[134,1,134,22],[135,1,135,22],[136,1,136,22],[142,1,142,22],[145,1,145,22],[148,1,148,22],[150,1,150,22],[149,13,149,22],[147,13,147,22],[144,13,144,22],[141,1,141,22],[140,1,140,22],[221,14,221,16],[172,1,172,22],[168,1,168,22],[167,1,167,22],[166,1,166,22],[165,2,165,22],[181,14,181,16],[180,14,180,16],[183,1,183,4],[183,5,183,6],[183,8,183,9],[183,10,183,11],[183,12,183,13],[183,14,183,16],[216,1,216,4],[216,5,216,6],[216,8,216,9],[216,10,216,11],[216,12,216,13],[212,14,212,16],[213,14,213,16],[215,1,215,4],[215,5,215,6],[215,8,215,9],[229,1,229,22],[178,18,178,22],[178,12,178,17],[178,7,178,11],[178,1,178,6],[177,18,177,22],[177,12,177,17],[177,7,177,11],[177,1,177,6],[180,1,180,4],[182,5,182,6],[181,5,181,6],[180,5,180,6],[182,8,182,9],[181,8,181,9],[180,8,180,9],[182,10,182,11],[181,10,181,11],[179,1,179,22],[227,17,227,18],[182,12,182,13],[181,12,181,13],[180,12,180,13],[182,14,182,16],[224,12,224,13],[226,12,226,13],[225,12,225,13],[224,14,224,16],[225,14,225,16],[226,14,226,16],[221,10,221,11],[221,12,221,13],[220,1,220,4],[220,14,220,16],[222,14,222,16],[223,14,223,16],[221,1,221,4],[221,5,221,6],[221,8,221,9],[220,5,220,6],[220,8,220,9],[220,10,220,11],[220,12,220,13],[223,1,223,4],[223,5,223,6],[223,8,223,9],[223,10,223,11],[223,12,223,13],[101,1,101,9],[101,10,101,12],[101,13,101,22],[48,2,48,22],[49,1,49,22],[26,3,26,22],[28,2,28,22],[15,1,28,1],[22,2,22,22],[27,2,27,22],[30,1,30,22],[75,1,75,22],[50,2,50,22],[16,2,16,22],[17,2,17,22],[23,2,23,22],[18,3,18,22],[19,3,19,22],[20,3,20,22],[21,3,21,22],[24,3,24,22],[25,3,25,22],[32,1,32,22],[33,1,33,22]]}
[null,{"$f":"'Main Page'!$N$9","v":"2026-2027"},null,"School Division:",{"$f":"'Main Page'!$L$14","v":0},null,null,null,"Division Number:",{"$f":"'Main Page'!$L$15","v":" "},{"$f":"'Main Page'!$B$6","v":"Local Consolidated Application"}]
[null,"6.","TITLE IV, PART A - STUDENT SUPPORT AND ACADEMIC ENRICHMENT GRANT",null,null,null,null,null,null,null,null,null,null,null,null,null,null,null,null,null,null,null,null,null,null,null,true]
[null,null,"a.  Needs Assessment"]
[]
[null,"The purpose of this subpart is to improve students’ academic achievement by increasing the capacity of states, local educational agencies, schools, and local communities to —"]
[null,"1.","provide all students with access to a well-rounded education;\n"]
[null,"2.","improve school conditions for student learning; and"]
[null,"3.","improve the use of technology in order to improve the academic achievement and digital literacy of all students."]
[]
[null,"Any local educational agency receiving an allocation in an amount less than $30,000 may designate funds to any of these areas above. Any LEA receiving an allocation of $30,000 or greater must designate funds as follows:"]
[null,"-","not less than 20 percent of funds to support well-rounded educational opportunities;\n"]
[null,"-","not less than 20 percent of funds to safe and healthy students; and\n"]
[null,"-","a portion of funds for activities to support the effective use of technology.\n"]
[null,"Special Rule: No more than 15 percent of funds allocated by the LEA for activities to support the effective use of technology may be used \"for purchasing technology infrastructure as described in subsection (a)(2)(B), which includes technology infrastructure purchased for the activities under subsection (a)(4)(A).\" To clarify, LEAs or consortiums of LEAs may not spend more than 15 percent of funding in this content area on devices, equipment, software applications, platforms, digital instructional resources and/or other one-time IT purchases. (ESEA section 4109(b))."]
[null,"Narrative Boxes"]
[null,"Box 1a:  ","Describe the needs assessment process, ensuring that all required information outlined below is included. In addition, provide a summary of the results of the needs assessment process. (The summary of the needs assessment should do more than list findings; it must demonstrate a clear connection between the identified needs and the services and activities the LEA intends to fund with Title IV, Part A resources.)\n\nAll local education agencies are required to base activities on demonstrated district-determined needs in consultation with stakeholders.   "]
[null,null,"Section 4106 (c) CONSULTATION. — (1) IN GENERAL.—A local educational agency, or consortium of such agencies, shall develop its application through consultation with parents, teachers, principals, other school leaders, specialized instructional support personnel, students, community-based organizations, local government representatives (which may include a local law enforcement agency, local juvenile court, local child welfare agency, or local public housing agency), Indian tribes or tribal organizations that may be located in the region served by the local educational agency (where applicable), charter school teachers, principals, and other school leaders (if such agency or consortium of such agencies supports charter schools), and others with relevant and demonstrated expertise in programs and activities designed to meet the purpose of this subpart. "]
[null,null,"All local education agencies must include:"]
[null,null,"A.","when the needs assessment was conducted;"]
[null,null,"B.","who participated in the assessment process and determining the LEA’s priorities;"]
[null,null,"C.","what data was collected and analyzed to include a description of qualitative and quantitative data; and"]
[null,null,"D.","how the identified schools receiving services were identified as meeting one of the following criteria listed under section 4106(e)(2)(A) provided on the Program Specific Assurances tab."]
[]
[null,null,"Local education agencies receiving allocations of $30,000 or greater must conduct and provide a description of a comprehensive needs assessment (once every three years) that was conducted to examine needs for improvement in the areas of —"]
[null,null,"A.","access to, and opportunities for, a well-rounded education for all students;"]
[null,null,"B.","school conditions for student learning in order to create a healthy and safe school environment; and"]
[null,null,"C.","access to personalized learning experiences supported by technology and professional development for the effective use of data and technology.    "]
[]
[null,null,"LEA's transferring funds to another federal program must complete a needs assessment for the three Title IV, Part A, categories and describe why funds are of greater need in the identified federal program funds will be transferred to.  If the activities are allowable under Title IV, Part A, describe the local education agency's rationale for transferring the funds to another program."]
[]
[]
[]
[]
[null,"Page 101"]
[]
[null,"Box 1b:  ","In accordance with ESEA Section 4106(e) (2) and (f), each school division or consortium of school divisions receiving Title IV, Part A, funds will prioritize the distribution of funds to schools served based on one or more of the following criteria —  "]
[null,null,"A.","Are among the schools with the greatest needs;      "]
[null,null,"B.","Have the highest percentages or numbers of children counted under Section 1124(c) (i.e., children counted for purposes of basic grants to LEAs under Title I, Part A of the ESEA);"]
[null,null,"C.","Are identified for comprehensive support and improvement under Section 1111(c)(4)(D)(i) (i.e., are among the lowest-achieving schools); \n"]
[null,null,"D.","Are implementing targeted support and improvement plans as described in Section 1111(d)(2) (i.e., have consistently underperforming student subgroups); or"]
[null,null,"E.","Are identified as a persistently dangerous public elementary school or secondary school under Section 8532. (ESEA Section 4106(e)(2)(A));Describe, if applicable, how funds will be used for activities related to supporting well-rounded education."]
[]
[null,null,"If directing funds to district-wide activities, the division must provide a rationale that is based on the local needs assessment and results of the stakeholder engagement process. If schools are identified as needing Comprehensive and/or Targeted Supports in the division, outline how the division prioritizes funding for these schools and how additional supports are provided."]
[]
[]
[]
[]
[]
[null,null,"b.  Program Overview "]
[]
[null,"Box 2:  ","Describe, if applicable, how Title IV, Part A funds will be used to support activities that promote well rounded education. Include an explanation of how evidence based practices will be incorporated, and describe how these activities will align with challenging State academic standards, Virginia’s accountability plan, and agency priorities: setting high expectations for student performance; ensuring every K 12 student has a high quality, licensed teacher; creating innovative pathways for every learner; investing in safe and healthy schools and centers; and promoting parents as partners."]
[]
[]
[]
[]
[]
[null,"Page 102"]
[null,{"$f":"'Main Page'!$N$9","v":"2026-2027"},null,"School Division:",{"$f":"'Main Page'!$L$14","v":0},null,null,null,"Division Number:",{"$f":"'Main Page'!$L$15","v":" "},{"$f":"'Main Page'!$B$6","v":"Local Consolidated Application"}]
[null,null,"b.  Program Overview (continued)"]
[]
[null,"Box 3:  ","Describe, if applicable, how Title IV, Part A funds will be used to support activities that promote safe and healthy students. Include an explanation of how evidence based practices will be incorporated, and describe how these activities will align with challenging State academic standards, Virginia’s accountability plan, and agency priorities: setting high expectations for student performance; ensuring every K 12 student has a high quality, licensed teacher; creating innovative pathways for every learner; investing in safe and healthy schools and centers; and promoting parents as partners."]
[]
[]
[]
[]
[]
[null,"Box 4:  ","Describe, if applicable, how Title IV, Part A funds will be used to support activities that promote the effective use of technology. Include an explanation of how evidence based practices will be incorporated, and describe how these activities will align with challenging State academic standards, Virginia’s accountability plan, and agency priorities: setting high expectations for student performance; ensuring every K 12 student has a high quality, licensed teacher; creating innovative pathways for every learner; investing in safe and healthy schools and centers; and promoting parents as partners.\n\nNOTE:  LEAs may not spend more than 15 percent of the funds allocated to the effective use of technology category to purchase equipment, devices, software, platforms, digital instructional resources, or other one-time IT purchases (e.g. if allocating $12,000 to support the effective use of technology, then only $1,800 may be used to purchase technology infrastructure)."]
[]
[]
[]
[]
[]
[null,"Page 103"]
[null,{"$f":"'Main Page'!$N$9","v":"2026-2027"},null,"School Division:",{"$f":"'Main Page'!$L$14","v":0},null,null,null,"Division Number:",{"$f":"'Main Page'!$L$15","v":" "},{"$f":"'Main Page'!$B$6","v":"Local Consolidated Application"}]
[null,null,"b.  Program Overview (continued)"]
[]
[null,"Box 5:  "," Describe how the local educational agency, or consortium of such agencies, will periodically evaluate the effectiveness of the activities carried out under this section based on such objectives and outcomes. Include the frequency of the evaluation, who is responsible, and how each activity will be evaluated."]
[]
[]
[]
[]
[]
[null,"Box 6:  ","PROFESSIONAL DEVELOPMENT: If funds are to be used for professional development, describe how they meet the statutory definition of professional development in Section 8101(42), which requires that professional development be: sustained; intensive; collaborative; job-embedded; data-driven; and classroom focused. Describe the alignment to overarching LEA strategic goals. (Section 2103(b)(3)(E))  (If funds are not used for professional development, indicate N/A.) Examples of professional development activities may include items from any object code, such as mentors, professional development/instructional coaches, contracted services, conferences, professional learning communities (PLC); leadership development and associated costs. \n\nThe number of attendees attending a single event should align with what is reasonable and necessary to achieve the goals and objectives of the grant. When multiple employees plan to attend the same event, it is advisable to conduct a cost analysis to determine whether it would be more cost-effective to send the employees to the event or to invite a speaker(s) to address the team."]
[]
[]
[]
[]
[]
[null,"Page 104"]
[null,{"$f":"'Main Page'!$N$9","v":"2026-2027"},null,"School Division:",{"$f":"'Main Page'!$L$14","v":0},null,null,null,"Division Number:",{"$f":"'Main Page'!$L$15","v":" "},{"$f":"'Main Page'!$B$6","v":"Local Consolidated Application"}]
[null,null,"c.  Progress Towards Meeting Measurable Objectives"]
[]
[null,"Section 1"]
[null,"Section 4104(a)(2) of ESSA requires that States report the degree to which divisions have made progress toward meeting the objectives and outcomes in their approved applications."]
[null,"Describe the division's progress towards meeting the measurable objectives. Evidence toward meeting the objectives must be reported even if the objective is still in progress or the division was unable to collect all data needed to determine the final outcome. The Local Education Agency may choose to report on either of the open award year. Enter the award year the division is reporting on in the space provided below."]
[null,{"$f":"\"Indicate the application year (ex: \" &    YEAR('Main Page'!$N$8)-2  & \"-\" &  YEAR('Main Page'!$N$8)-1 &  \" or \" & YEAR('Main Page'!$N$8)-1 & \"-\" &  YEAR('Main Page'!$N$8)&  \") for the measurable objective and include relevant qualitative and quantitative data.\"","v":"Indicate the application year (ex: 2024-2025 or 2025-2026) for the measurable objective and include relevant qualitative and quantitative data."}]
[]
[null,"Measurable Objective 1:",null,null,null,null,null,null,null,null,"Award Year:"]
[]
[]
[]
[null,"Measurable Objective 2:",null,null,null,null,null,null,null,null,"Award Year:"]
[]
[]
[]
[null,"Measurable Objective 3:",null,null,null,null,null,null,null,null,"Award Year:"]
[]
[]
[]
[null,"Page 105"]
[null,null,"c.  Progress Towards Meeting Measurable Objectives (continued)"]
[]
[null,{"$f":"'Main Page'!$N$9","v":"2026-2027"},null,"School Division:",{"$f":"'Main Page'!$L$14","v":0},null,null,null,"Division Number:",{"$f":"'Main Page'!$L$15","v":" "},{"$f":"'Main Page'!$B$6","v":"Local Consolidated Application"}]
[null,"Measurable Objective 4:",null,null,null,null,null,null,null,null,"Award Year:"]
[]
[]
[]
[null,"Measurable Objective 5:",null,null,null,null,null,null,null,null,"Award Year:"]
[]
[]
[]
[null,"Measurable Objective 6:",null,null,null,null,null,null,null,null,"Award Year:"]
[]
[]
[]
[null,"Page 106"]
[null,{"$f":"'Main Page'!$N$9","v":"2026-2027"},null,"School Division:",{"$f":"'Main Page'!$L$14","v":0},null,null,null,"Division Number:",{"$f":"'Main Page'!$L$15","v":" "},{"$f":"'Main Page'!$B$6","v":"Local Consolidated Application"}]
[null,null,"c.  Progress Towards Meeting Measurable Objectives (continued)"]
[]
[null,"Measurable Objective 7:",null,null,null,null,null,null,null,null,"Award Year:"]
[]
[]
[]
[null,"Measurable Objective 8:",null,null,null,null,null,null,null,null,"Award Year:"]
[]
[]
[]
[null,"Page 107"]
[null,{"$f":"'Main Page'!$N$9","v":"2026-2027"},null,"School Division:",{"$f":"'Main Page'!$L$14","v":0},null,null,null,"Division Number:",{"$f":"'Main Page'!$L$15","v":" "},{"$f":"'Main Page'!$B$6","v":"Local Consolidated Application"}]
[null,null,"d.  Private School Participation"]
[]
[null,"Each year, the school division must contact all eligible private (nonprofit) schools and engage in meaningful consultation on the availability of equitable services funded by Title IV, Part A. (ESEA Section 8501 and Title VIII, Uniform Provisions, Part F, Subpart 1)."]
[]
[null,"1.","Are there private nonprofit schools in your school division’s attendance area?"]
[null,null,null,"Yes (If yes, complete the remainder of this page.)",null,null,null,null,null,null,null,null,null,"No (If no, it is not necessary to complete the rest of this page.)"]
[]
[null,"2.","Place an \"X\" in the appropriate block(s) to indicate how private schools in the division were notified on the availability of equitable services funded by Title IV, Part A. (Copies of the notification must be kept on file for monitoring purposes.)"]
[null,null,null,"Regular Mail",null,null,null,null,null,null,null,null,null,"Certified Mail"]
[]
[null,null,null,"Telephone Calls",null,null,null,null,null,null,null,null,null,"Meetings"]
[]
[null,null,null,"Visits to the Private School",null,null,null,null,null,null,null,null,null,"Other (Please specify)"]
[]
[null,"3.",{"$f":"\"What is the public school division's projected K-12 enrollment for the \" & 'Main Page'!$N$9 &\" school year?\"","v":"What is the public school division's projected K-12 enrollment for the 2026-2027 school year?"}]
[]
[null,"4.","Determining Set-Asides (These fields will calculate automatically once enrollment figures have been entered)."]
[null,null,"a. Proposed Budget ",null,null,null,null,null,null,{"$f":"'Consolidated Budget'!L5","v":0}]
[null,null,"b. Amount of funds allocated for administration ",null,null,null,null,null,null,{"$f":"'Consolidated Budget'!O62","v":0}]
[null,null,"c. Amount to use for set-aside calculations",null,null,null,null,null,null,{"$f":"J157-J158","v":0}]
[]
[null,"5.","Determining additional set-asides as a result of Transferability. These fields will calculate automatically once budget and enrollment figures have been entered."]
[null,null,"a. Proposed Budget ",null,null,null,null,null,null,{"$f":"'Consolidated Transferability'!O11","v":0}]
[null,null,"b. Amount of funds allocated for administration ",null,null,null,null,null,null,{"$f":"'Consolidated Transferability'!O67","v":0}]
[null,null,"c. Amount to use for set-aside calculations",null,null,null,null,null,null,{"$f":"J162-J163","v":0}]
[]
[null,"6.","Provide a description of how Title IV, Part A, funds will be used to support services, activities, and other expenditures for the private schools, if applicable."]
[]
[]
[]
[null,"Page 108"]
[null,{"$f":"'Main Page'!$N$9","v":"2026-2027"},null,"School Division:",{"$f":"'Main Page'!$L$14","v":0},null,null,null,"Division Number:",{"$f":"'Main Page'!$L$15","v":" "},{"$f":"'Main Page'!$B$6","v":"Local Consolidated Application"}]
[null,"Calculation of Set-Asides"]
[]
[null,"7.",{"$f":"\"Complete the chart below:\n• In Column A, list all eligible private schools in the geographic boundaries of the school division.\n• In Column B, indicate the participation status of the listed private school(s) for the \" & 'Main Page'!N9 & \" award year, as a result of consultation.\n• In Column C, enter the K-12 enrollment of private schools participating in services for the \" & 'Main Page'!N9 & \" award year. \n• Column D will automatically calculate the value of services for the \" & 'Main Page'!N9 & \" award year.\n• In Column G, indicate the method of notification to the non-participating private schools.\"","v":"Complete the chart below:\n• In Column A, list all eligible private schools in the geographic boundaries of the school division.\n• In Column B, indicate the participation status of the listed private school(s) for the 2026-2027 award year, as a result of consultation.\n• In Column C, enter the K-12 enrollment of private schools participating in services for the 2026-2027 award year. \n• Column D will automatically calculate the value of services for the 2026-2027 award year.\n• In Column G, indicate the method of notification to the non-participating private schools."}]
[]
[null,"8.","Provide a description of how Title IV, Part A funds will be used to support private schools beginning on row 155."]
[]
[null,{"$f":"\"Value of Services for \nParticipating Private Schools \n– from Title IVA \" & 'Main Page'!$N$9 & \" Budget\"","v":"Value of Services for \nParticipating Private Schools \n– from Title IVA 2026-2027 Budget"},null,null,null,null,null,{"$f":"\"Value of Additional Services for Participating Private Schools \n- from \" & 'Main Page'!$N$9 & \" Transferability\"","v":"Value of Additional Services for Participating Private Schools \n- from 2026-2027 Transferability"},null,null,null,null,{"$f":"\"Total Value of Services for \nPublic Schools from \n\"&'Main Page'!$N$9&\" Allocation\"","v":"Total Value of Services for \nPublic Schools from \n2026-2027 Allocation"},null,null,null,null,null,{"$f":"\"Total Value of Additional Services for Public Schools from \n\" & 'Main Page'!$N$9 & \" Transferability\"","v":"Total Value of Additional Services for Public Schools from \n2026-2027 Transferability"}]
[null,{"$f":"I228","v":0},null,null,null,null,null,{"$f":"K228","v":0},null,null,null,null,{"$f":"J159-I228","v":0},null,null,null,null,null,{"$f":"J164-K228","v":0}]
[]
[null,"A",null,null,null,"B",null,"C","D",null,"E",null,"F",null,"G",null,null,"H","I",null,null,"J","K"]
[null," Private Schools",null,null,null,{"$f":"\"Participation Status for \n\" & 'Main Page'!$N$9 & \"   Award Year?\n(Yes/No)  \"","v":"Participation Status for \n2026-2027   Award Year?\n(Yes/No)  "},null,"K-12\n Enrollment ",{"$f":"+\"Value of Services for Participating Private Schools – \nfrom Title IVA \n\" & B1 & \"  budget\n(calculated field)\"","v":"Value of Services for Participating Private Schools – \nfrom Title IVA \n2026-2027  budget\n(calculated field)"},null,{"$f":"\"Value of Additional Services for Participating Private Schools - \nfrom  \" & $B$1 & \"  Transferability\"","v":"Value of Additional Services for Participating Private Schools - \nfrom  2026-2027  Transferability"},null,"Total Value of Services (D+E)",null,"Method of Notification\n (for Non-Participating Schools Only)",null,null,"Release of Obligation? \n(Yes/No)","Amount of Funds Released","ROO portion for T2","ROO portion for Transfer",{"$f":"\"New Set Aside Amount from the \"&'Main Page'!$N$9&\" Budget\"","v":"New Set Aside Amount from the 2026-2027 Budget"},{"$f":"\"New Set Aside Amount from the \"&'Main Page'!$N$9&\" Transferability Budget\"","v":"New Set Aside Amount from the 2026-2027 Transferability Budget"}]
[null,null,null,null,null,null,null,null,{"$f":"ROUND(IF(F183=\"Yes\",H183*$C$229,0),2)","v":0},null,{"$f":"ROUND(IF(F183=\"Yes\",H183*$F$229,0),2)","v":0},null,{"$f":"SUM(I183+K183)","v":0},null,null,null,null,null,null,{"$f":"($J$157/($J$157+$J$162))*S183","v":{"$error":"#DIV/0!"}},{"$f":"($J$162/($J$157+$J$162)*S183)","v":{"$error":"#DIV/0!"}},{"$f":"I183-T183","v":{"$error":"#DIV/0!"}},{"$f":"K183-U183","v":{"$error":"#DIV/0!"}}]
[null,null,null,null,null,null,null,null,{"$f":"ROUND(IF(F184=\"Yes\",H184*$C$229,0),2)","v":0},null,{"$f":"ROUND(IF(F184=\"Yes\",H184*$F$229,0),2)","v":0},null,{"$f":"SUM(I184+K184)","v":0},null,null,null,null,null,null,{"$f":"($J$157/($J$157+$J$162))*S184","v":{"$error":"#DIV/0!"}},{"$f":"($J$162/($J$157+$J$162)*S184)","v":{"$error":"#DIV/0!"}},{"$f":"I184-T184","v":{"$error":"#DIV/0!"}},{"$f":"K184-U184","v":{"$error":"#DIV/0!"}}]
[null,null,null,null,null,null,null,null,0,null,0,null,0,null,null,null,null,null,null,{"$error":"#DIV/0!"},{"$error":"#DIV/0!"},{"$error":"#DIV/0!"},{"$error":"#DIV/0!"}]
[null,null,null,null,null,null,null,null,0,null,0,null,0,null,null,null,null,null,null,{"$error":"#DIV/0!"},{"$error":"#DIV/0!"},{"$error":"#DIV/0!"},{"$error":"#DIV/0!"}]
[null,null,null,null,null,null,null,null,0,null,0,null,0,null,null,null,null,null,null,{"$error":"#DIV/0!"},{"$error":"#DIV/0!"},{"$error":"#DIV/0!"},{"$error":"#DIV/0!"}]
[null,null,null,null,null,null,null,null,0,null,0,null,0,null,null,null,null,null,null,{"$error":"#DIV/0!"},{"$error":"#DIV/0!"},{"$error":"#DIV/0!"},{"$error":"#DIV/0!"}]
[null,null,null,null,null,null,null,null,0,null,0,null,0,null,null,null,null,null,null,{"$error":"#DIV/0!"},{"$error":"#DIV/0!"},{"$error":"#DIV/0!"},{"$error":"#DIV/0!"}]
[null,null,null,null,null,null,null,null,0,null,0,null,0,null,null,null,null,null,null,{"$error":"#DIV/0!"},{"$error":"#DIV/0!"},{"$error":"#DIV/0!"},{"$error":"#DIV/0!"}]
[null,null,null,null,null,null,null,null,0,null,0,null,0,null,null,null,null,null,null,{"$error":"#DIV/0!"},{"$error":"#DIV/0!"},{"$error":"#DIV/0!"},{"$error":"#DIV/0!"}]
[null,null,null,null,null,null,null,null,0,null,0,null,0,null,null,null,null,null,null,{"$error":"#DIV/0!"},{"$error":"#DIV/0!"},{"$error":"#DIV/0!"},{"$error":"#DIV/0!"}]
[null,null,null,null,null,null,null,null,0,null,0,null,0,null,null,null,null,null,null,{"$error":"#DIV/0!"},{"$error":"#DIV/0!"},{"$error":"#DIV/0!"},{"$error":"#DIV/0!"}]
[null,null,null,null,null,null,null,null,0,null,0,null,0,null,null,null,null,null,null,{"$error":"#DIV/0!"},{"$error":"#DIV/0!"},{"$error":"#DIV/0!"},{"$error":"#DIV/0!"}]
[null,null,null,null,null,null,null,null,0,null,0,null,0,null,null,null,null,null,null,{"$error":"#DIV/0!"},{"$error":"#DIV/0!"},{"$error":"#DIV/0!"},{"$error":"#DIV/0!"}]
[null,null,null,null,null,null,null,null,0,null,0,null,0,null,null,null,null,null,null,{"$error":"#DIV/0!"},{"$error":"#DIV/0!"},{"$error":"#DIV/0!"},{"$error":"#DIV/0!"}]
[null,null,null,null,null,null,null,null,0,null,0,null,0,null,null,null,null,null,null,{"$error":"#DIV/0!"},{"$error":"#DIV/0!"},{"$error":"#DIV/0!"},{"$error":"#DIV/0!"}]
[null,null,null,null,null,null,null,null,0,null,0,null,0,null,null,null,null,null,null,{"$error":"#DIV/0!"},{"$error":"#DIV/0!"},{"$error":"#DIV/0!"},{"$error":"#DIV/0!"}]
[null,null,null,null,null,null,null,null,0,null,0,null,0,null,null,null,null,null,null,{"$error":"#DIV/0!"},{"$error":"#DIV/0!"},{"$error":"#DIV/0!"},{"$error":"#DIV/0!"}]
[null,null,null,null,null,null,null,null,0,null,0,null,0,null,null,null,null,null,null,{"$error":"#DIV/0!"},{"$error":"#DIV/0!"},{"$error":"#DIV/0!"},{"$error":"#DIV/0!"}]
[null,null,null,null,null,null,null,null,0,null,0,null,0,null,null,null,null,null,null,{"$error":"#DIV/0!"},{"$error":"#DIV/0!"},{"$error":"#DIV/0!"},{"$error":"#DIV/0!"}]
[null,null,null,null,null,null,null,null,0,null,0,null,0,null,null,null,null,null,null,{"$error":"#DIV/0!"},{"$error":"#DIV/0!"},{"$error":"#DIV/0!"},{"$error":"#DIV/0!"}]
[null,null,null,null,null,null,null,null,0,null,0,null,0,null,null,null,null,null,null,{"$error":"#DIV/0!"},{"$error":"#DIV/0!"},{"$error":"#DIV/0!"},{"$error":"#DIV/0!"}]
[null,null,null,null,null,null,null,null,0,null,0,null,0,null,null,null,null,null,null,{"$error":"#DIV/0!"},{"$error":"#DIV/0!"},{"$error":"#DIV/0!"},{"$error":"#DIV/0!"}]
[null,null,null,null,null,null,null,null,0,null,0,null,0,null,null,null,null,null,null,{"$error":"#DIV/0!"},{"$error":"#DIV/0!"},{"$error":"#DIV/0!"},{"$error":"#DIV/0!"}]
[null,null,null,null,null,null,null,null,0,null,0,null,0,null,null,null,null,null,null,{"$error":"#DIV/0!"},{"$error":"#DIV/0!"},{"$error":"#DIV/0!"},{"$error":"#DIV/0!"}]
[null,null,null,null,null,null,null,null,0,null,0,null,0,null,null,null,null,null,null,{"$error":"#DIV/0!"},{"$error":"#DIV/0!"},{"$error":"#DIV/0!"},{"$error":"#DIV/0!"}]
[null,null,null,null,null,null,null,null,0,null,0,null,0,null,null,null,null,null,null,{"$error":"#DIV/0!"},{"$error":"#DIV/0!"},{"$error":"#DIV/0!"},{"$error":"#DIV/0!"}]
[null,null,null,null,null,null,null,null,0,null,0,null,0,null,null,null,null,null,null,{"$error":"#DIV/0!"},{"$error":"#DIV/0!"},{"$error":"#DIV/0!"},{"$error":"#DIV/0!"}]
[null,null,null,null,null,null,null,null,0,null,0,null,0,null,null,null,null,null,null,{"$error":"#DIV/0!"},{"$error":"#DIV/0!"},{"$error":"#DIV/0!"},{"$error":"#DIV/0!"}]
[null,null,null,null,null,null,null,null,0,null,0,null,0,null,null,null,null,null,null,{"$error":"#DIV/0!"},{"$error":"#DIV/0!"},{"$error":"#DIV/0!"},{"$error":"#DIV/0!"}]
[null,null,null,null,null,null,null,null,0,null,0,null,0,null,null,null,null,null,null,{"$error":"#DIV/0!"},{"$error":"#DIV/0!"},{"$error":"#DIV/0!"},{"$error":"#DIV/0!"}]
[null,null,null,null,null,null,null,null,0,null,0,null,0,null,null,null,null,null,null,{"$error":"#DIV/0!"},{"$error":"#DIV/0!"},{"$f":"I213-T213","v":{"$error":"#DIV/0!"}},{"$error":"#DIV/0!"}]
[null,null,null,null,null,null,null,null,0,null,0,null,0,null,null,null,null,null,null,{"$error":"#DIV/0!"},{"$error":"#DIV/0!"},{"$error":"#DIV/0!"},{"$error":"#DIV/0!"}]
[null,null,null,null,null,null,null,null,0,null,0,null,0,null,null,null,null,null,null,{"$error":"#DIV/0!"},{"$error":"#DIV/0!"},{"$error":"#DIV/0!"},{"$error":"#DIV/0!"}]
[null,null,null,null,null,null,null,null,0,null,{"$f":"ROUND(IF(F216=\"Yes\",H216*$F$229,0),2)","v":0},null,0,null,null,null,null,null,null,{"$error":"#DIV/0!"},{"$error":"#DIV/0!"},{"$error":"#DIV/0!"},{"$error":"#DIV/0!"}]
[null,null,null,null,null,null,null,null,{"$f":"ROUND(IF(F217=\"Yes\",H217*$C$229,0),2)","v":0},null,0,null,0,null,null,null,null,null,null,{"$error":"#DIV/0!"},{"$error":"#DIV/0!"},{"$error":"#DIV/0!"},{"$error":"#DIV/0!"}]
[null,null,null,null,null,null,null,null,0,null,0,null,0,null,null,null,null,null,null,{"$error":"#DIV/0!"},{"$error":"#DIV/0!"},{"$error":"#DIV/0!"},{"$error":"#DIV/0!"}]
[null,null,null,null,null,null,null,null,0,null,0,null,0,null,null,null,null,null,null,{"$error":"#DIV/0!"},{"$error":"#DIV/0!"},{"$error":"#DIV/0!"},{"$error":"#DIV/0!"}]
[null,null,null,null,null,null,null,null,0,null,0,null,0,null,null,null,null,null,null,{"$error":"#DIV/0!"},{"$error":"#DIV/0!"},{"$error":"#DIV/0!"},{"$error":"#DIV/0!"}]
[null,null,null,null,null,null,null,null,0,null,0,null,0,null,null,null,null,null,null,{"$error":"#DIV/0!"},{"$error":"#DIV/0!"},{"$error":"#DIV/0!"},{"$error":"#DIV/0!"}]
[null,null,null,null,null,null,null,null,0,null,0,null,0,null,null,null,null,null,null,{"$error":"#DIV/0!"},{"$error":"#DIV/0!"},{"$error":"#DIV/0!"},{"$error":"#DIV/0!"}]
[null,null,null,null,null,null,null,null,0,null,0,null,0,null,null,null,null,null,null,{"$error":"#DIV/0!"},{"$error":"#DIV/0!"},{"$error":"#DIV/0!"},{"$error":"#DIV/0!"}]
[null,null,null,null,null,null,null,null,0,null,0,null,0,null,null,null,null,null,null,{"$error":"#DIV/0!"},{"$error":"#DIV/0!"},{"$error":"#DIV/0!"},{"$error":"#DIV/0!"}]
[null,null,null,null,null,null,null,null,0,null,0,null,0,null,null,null,null,null,null,{"$error":"#DIV/0!"},{"$error":"#DIV/0!"},{"$error":"#DIV/0!"},{"$error":"#DIV/0!"}]
[null,null,null,null,null,null,null,null,0,null,0,null,0,null,null,null,null,null,null,{"$error":"#DIV/0!"},{"$error":"#DIV/0!"},{"$error":"#DIV/0!"},{"$error":"#DIV/0!"}]
[null,null,null,null,null,null,null,null,0,null,0,null,0,null,null,null,null,null,null,{"$error":"#DIV/0!"},{"$error":"#DIV/0!"},{"$error":"#DIV/0!"},{"$error":"#DIV/0!"}]
[null,"Total Private School Set-Asides",null,null,null,{"$f":"COUNTIF(F183:G227, \"Yes\")","v":0},null,{"$f":"SUMIF(F183:G227, \"Yes\", H183:H227)","v":0},{"$f":"SUM(I183:J227)","v":0},null,{"$f":"SUM(K183:L227)","v":0},null,null,null,null,null,null,"Release of Obligation Amounts",null,null,null,{"$f":"SUM(V183:V227)","v":{"$error":"#DIV/0!"}},{"$f":"SUM(W183:W227)","v":{"$error":"#DIV/0!"}}]
[null,"Per Pupil Expenditure \n(calculated field): ",{"$f":"IF(ISERROR(SUM(J159)/(SUM(M154)+SUMIF(F183:G227,\"Yes\",H183:H227))),0,SUM(J159)/(SUM(M154)+SUMIF(F183:G227,\"Yes\",H183:H227)))","v":0},null,"Per Pupil Expenditure for Transferability funds (calculated field):",{"$f":"IF(ISERROR(SUM(J164)/(SUM(M154)+SUMIF(F183:G227,\"Yes\",H183:H227))),0,SUM(J164)/(SUM(M154)+SUMIF(F183:G227,\"Yes\",H183:H227)))","v":0},null,null,{"$f":"\"Use this Figure for Private School Set-Asides in the \n\" & 'Main Page'!N9 & \" Budget\"","v":"Use this Figure for Private School Set-Asides in the \n2026-2027 Budget"},null,{"$f":"\"Use this Figure for Private School Set-Asides in the \" & 'Main Page'!N9 & \" Transferability Budget\"","v":"Use this Figure for Private School Set-Asides in the 2026-2027 Transferability Budget"}]
[null,"Page 109"]

{"sheet":"Title V, Part B, Subpart 2","index":20,"n_rows":27,"n_cols":11,"rows_kept":27,"cut":false,"hidden":false,"merged":[[15,3,15,16],[16,1,16,16],[5,1,5,16],[0,10,0,16],[1,2,1,16],[2,2,2,16],[3,1,3,16],[4,1,4,16],[10,1,10,16],[11,3,11,16],[12,1,12,16],[13,3,13,16],[14,1,14,16],[0,17,26,17],[0,0,1048575,0],[24,1,24,16],[25,1,25,16],[26,1,26,16],[18,1,18,16],[19,1,19,16],[20,1,20,16],[21,1,21,16],[22,1,22,16],[23,1,23,16],[17,2,17,16],[6,1,6,16],[7,3,7,16],[8,1,8,16],[9,3,9,16]]}
[null,{"$f":"'Main Page'!$N$9","v":"2026-2027"},null,"School Division:",{"$f":"'Main Page'!$L$14","v":0},null,null,null,"Division Number:",{"$f":"'Main Page'!$L$15","v":" "},{"$f":"'Main Page'!$B$6","v":"Local Consolidated Application"}]
[null,"7.","TITLE V, PART B, SUBPART 2, RURAL AND LOW-INCOME SCHOOLS"]
[null,null,"a.  Use of Funds "]
[]
[null,"Title V, Part B, Subpart 2, funds may be used for one or more of the categories listed below  Please indicate the areas by \"Checking\" in the corresponding box.  These categories must align with the measurable objectives indicated in the application and must support the goals of the ESEA, as amended by the Every Student Succeeds Act of 2015 (ESSA)."]
[]
[null,"Place an \"X\" in all categories that apply."]
[null,null,"1.","Activities authorized under Title I, Part A, Improving Basic Programs Operated by Local Educational Agencies."]
[]
[null,null,"2.","Activities authorized under Title II, Part A, Supporting Effective Instruction."]
[]
[null,null,"3.","Activities authorized under Title III, Part A, Language Instruction for English Learners and Immigrant Students."]
[]
[null,null,"4.","Activities authorized under Title IV, Part A, Student Support and Academic Enrichment Grants."]
[]
[null,null,"5.","Parental involvement activities."]
[]
[null,null,"b.  Enhanced Student Achievement or Division Improvement Activities Being Implemented"]
[]
[null,"Describe how funds under this subpart will be used in conjunction with other federal funds in order to enhance student achievement or school improvement efforts."]
[]
[]
[]
[]
[]
[]
[null,"Page 110"]

{"sheet":"Expenditure Descriptions","index":21,"n_rows":27,"n_cols":11,"rows_kept":27,"cut":false,"hidden":false,"merged":[[12,2,12,16],[13,2,13,16],[15,2,15,16],[9,1,9,16],[10,2,10,16],[14,1,14,16],[0,10,0,16],[1,1,1,16],[11,1,11,16],[7,1,7,16],[8,2,8,16],[2,1,2,16],[3,1,3,16],[4,1,4,16],[5,1,5,16],[6,1,6,16],[28,1,28,16],[18,2,18,16],[25,2,25,16],[27,1,27,16],[26,1,26,16],[16,1,16,16],[21,2,21,16],[24,2,24,16],[17,2,17,16],[19,1,19,16],[20,2,20,16],[22,1,22,16],[23,2,23,16],[46,6,46,7],[46,8,46,9],[46,10,46,11],[41,2,41,16],[42,2,42,16],[43,1,43,16],[45,6,45,7],[45,8,45,9],[45,10,45,11],[48,6,48,7],[48,8,48,9],[48,10,48,11],[47,6,47,7],[47,8,47,9],[47,10,47,11],[40,3,40,16],[29,4,29,16],[30,4,30,16],[31,4,31,16],[32,4,32,16],[33,4,33,16],[34,5,34,16],[35,5,35,16],[36,5,36,16],[37,4,37,16],[38,3,38,16],[39,3,39,16]]}
[null,{"$f":"'Main Page'!$N$9","v":"2026-2027"},null,"School Division:",{"$f":"'Main Page'!$L$14","v":0},null,null,null,"Division Number:",{"$f":"'Main Page'!$L$15","v":" "},{"$f":"'Main Page'!$B$6","v":"Local Consolidated Application"}]
[null,"EXPENDITURE ACCOUNT DESCRIPTIONS"]
[]
[null,"These accounts are for budgeting and recording expenditures of the educational agency for activities under its control.  Below are definitions of the major expenditure categories.  The descriptions provided are examples only.   For further clarification on the proper expenditures of funds, contact your school division budget or finance office, the grant specialist in the Virginia Department of Education, or refer to the appropriate federal act."]
[]
[null,"OBJECT CODE DEFINITIONS:"]
[null,"(revised 12/2/25)"]
[]
[null,1000,"PERSONAL SERVICES – Includes all compensation for the direct labor of persons in the employment of the local government. Salaries and wages paid to employees for full‐ and part‐time work, including overtime, shift differential, and similar compensation. Includes payments for time not worked, including sick leave, vacation, holidays, jury duty, military leave, and other paid absences that are earned during the reporting period. \n\nFor the purposes of this report, the term “salaries” means all compensation including base wage. This also includes amounts paid through salary reduction plans, such as tax‐sheltered annuities and flexible benefit plans. Do not confuse this definition with the Virginia Retirement System (VRS) definition, which excludes supplements for retirement calculation purposes in some circumstances."]
[]
[null,2000,"EMPLOYEE BENEFITS – Job related benefits provided to employees as part of their total compensation. Fringe benefits include the employer’s portion of FICA, pensions, insurance (life, health, disability income, etc.) and employee\nallowances.\n\nNOTE: Fringe Benefits are a significant component of employee compensation and, like salaries and wages, are charged to the appropriate object of expenditure within each program. If possible, fringe benefit costs should be charged to the applicable educational program or activity on an ongoing basis. An alternative is to charge all fringe benefits to various benefit accounts. As part of the year‐end closing process, these accounts are closed, and all costs are allocated to the appropriate educational program or activity. The following methods are suggested for allocating such cost at year‐end. If these methods do not provide reasonable allocations based on circumstances within the school division, then the school division should use another reasonable allocation method. Consistency in application should be maintained at all times.\n\n1) Allocation by percentage of payroll dollars\n2) Allocation by Head Count\n3) Direct to Program or Activity"]
[]
[null,3000,"PURCHASED/CONTRACTUAL SERVICES – Services acquired from outside sources (i.e., private vendors, public authorities, or other governmental entities). Purchase of the service is on a fee basis or fixed time contract basis. Payments for long-term rentals and utilities are not included in this account description. One-time event rental space is included. Allowable payments would be to individuals or firms that are independent contractors and not employees of the grantee or sub‐grantee organization. The word honorarium is sometimes used to characterize such payments; the term “fee” is preferred.\n\nFood Purchases – Prepared meals, working meals, and/or catered services purchased through a vendor are included in this object code. Reimbursement is capped at the per diem rate for the meal listed according to the state travel regulations. Examples for this object code include meals provided during day‐long professional development sessions, or meals provided to support attendance at family engagement activities. Food purchased from catering services and restaurants such as Pizza Hut, Panera Bread, and Subway is included in this object code.\n\nOnline Subscriptions - Payments to vendors that provide online subscriptions or site licenses.\n\nTransportation Services Public Carriers – Payments to public carriers for transportation of pupils on vehicles that are used by the public. Include payments for pupils transported in intra‐city transit buses, taxicabs, ride share, airplanes, and intercity/interstate passenger buses.\n\nTransportation Services Private Carriers – Payments (either cash or tokens) to parents for transportation of pupils in lieu of providing transportation on school buses. Include allowable payments to parents for pupils attending public, private, and non‐sectarian schools. Include costs associated with transporting special education students in school board‐owned vehicles to and from school.\n\nTransportation Services by Contract – Payments to private owners of school buses who contract with the school board to transport pupils to and from public schools. Include payments to owners of private vehicles that contract with the school board to transport pupils to and from designated public and private schools.\n"]
[null,null,"Purchase of Service from Other Governmental Entities – Payments for services purchased from other governmental entities (i.e., other local governments, public authorities, state agencies, and other LEAs) on a contract/fee basis. Tuition payments to other local governments for a jointly operated center are not included here but are reported under “Payments to Joint Operations” (object code 7000).\n\nTuition Paid – Other Divisions In‐State, Tuition Paid – Other Divisions Out‐of‐State, and Tuition Paid – Private Schools are included in this object code."]
[]
[null,4000,"INTERNAL SERVICES – Charges from an Internal Service Fund to other functions/activities/elements of the local government for the use of intergovernmental services, such as data processing, automotive/motor pool, central purchasing/central stores, print shop, and risk management. These services are provided by internal services within the School District and possibly the county but not a vendor.\n\nFood Purchases – Food purchased from the food services department of a school division or sub‐grantee equivalent to support professional development or family engagement events is included in this object code. For example, internal expenses for school cafeterias to provide meals to support attendance at family engagement activities are included in this object code."]
[null,"Page 111"]
[null,5000,"OTHER CHARGES – Include expenditures that support the use of programs. Includes expenditures that support the program, including utilities (maintenance and operation of plant), staff/administrative/consultant travel, office and cell phone charges, training, leases/rental (including copier), indirect cost, and other.\n\nFood Purchases – Food Purchases under this object code is restricted to food purchases related to travel reimbursement for meals only (see Travel below). If the sub‐recipient’s internal travel policies conform to state travel regulations, reimbursement is allowable at per diem meals rates according to state travel regulations. If the sub‐recipient’s internal travel policies require reimbursement for the cost of each meal, reimbursement is capped at the per diem rate for the meal listed according to the state travel regulations. Sub‐recipients must elect either meals per diem or per meals costs as their internal travel policy.\n\nTelecommunications – Include expenditures for recurring telecommunications services for the use of on‐line computer technology (e.g., telephone/telecommunications line charges). Telephone charges for line service for Internet connectivity and the Electronic Classroom program. Package pricing from a vendor for Accident or cyber‐risk insurance, LTE mobile carrier data plans, Internet access via an Internet Service Provider. Package pricing from a vendor for hardware, content filtering, data plans, extended warranty services and other components of the package when no breakout pricing is available.\n\nUtilities – Payments for heat, electricity, water, and sewer services regardless of whether the service is provided by a private enterprise authority or an enterprise fund operated by a local government.\n\nCommunications – Payments for postal, messenger, and telecommunications services, typically office voice telephone charges. (Telecommunication costs directly related to technology uses should be coded\nunder 6000.) In addition, office telephone charges would be coded under this code. \n\nInsurance – Payments for insurance except those that relate to personal services (i.e., hospitalization, group life, worker’s compensation, unemployment).\n"]
[null,null,"Leases and Rentals – Includes payments for leases that are not capitalized and rental of land, structures, and equipment. Do not include payments made under a lease‐purchase agreement.\n\nTravel – Includes payments for travel reimbursement for staff/administrative/consultant travel. These are travel costs that are being reimbursed directly to travelers. These costs may include lodging, mileage, meals, and incidentals as allowable according to state travel regulations or documented sub‐recipient internal travel policies. If the sub‐recipient does not have documented internal travel policies, state travel regulations will prevail.\n\nContributions to Other Entities – Includes payments to other governmental entities or community organizations that are not related to the direct purchase of a service on a fee basis (which is reported under object code 3000) or payments to joint operations (which are reflected under object code 7000).\n\nPublic Assistance Payments – Payments to individuals for public assistance programs (general government use only).\n\nMiscellaneous Other Charges – Includes expenditures that support the program, including indirect costs and other costs."]
[]
[null,6000,"MATERIALS AND SUPPLIES – Includes articles and commodities that are consumed or materially altered when used and minor equipment that is not capitalized. This includes any equipment purchased under $5,000, unless the LEA has set a lower capitalization threshold. Therefore, computer equipment under $5,000 would be reported in “materials and supplies.”\n\nFood Purchases – Food items purchased from a grocery store or its equivalent for snacks or breaks is included in this object code. Examples include bottled water, granola bars, cookies, and fruit purchased from a store such as Wal‐Mart, Food Lion, Costco, etc. Prepared meals is not included in this object code; see object code 3000 for prepared/working/catered meals as purchased/contracted services. \n\nVehicle and Powered Equipment Fuels – Gasoline, lubricating oils, or such other fuel used in the operation of vehicles and powered equipment (e.g., lawnmowers) purchased from private sources or governmental agencies.\n\nVehicle and Powered Equipment Supplies – Tires, spark plugs, batteries, and chains used in the operation of vehicles and powered equipment purchased from private sources or governmental agencies.\n\nTextbooks – All textbooks and workbooks purchased to be used in the classroom must be supplemental.\n\nInstructional Materials – Books (not textbooks) and other materials.\n"]
[null,null,"Technology Software – Include expenditures for computer programs used in the classroom for instructional purposes, operating system software (i.e., standalone software, not software that is pre‐installed and included in hardware costs), application software, and on‐line, one time or downloadable software and content. Include expenditures for both additions and replacement.\n\nNon‐Capitalized Technology Hardware – Include expenditures for hardware or classroom technology equipment that is not capitalized.\n\nNon‐Capitalized Technology Infrastructure – Include expenditures for technology infrastructure that is not capitalized."]
[null,"Page 112"]
[null,8000,"CAPITAL OUTLAY – Note: Indirect cost cannot be claimed against capital outlay and equipment.\n\nCapital Outlay - Outlays that result in the acquisition of or additions to fixed assets. Capital Outlay includes the purchase of fixed assets both replacement and/or additional.\n\nTechnology – Hardware Replacements – Include capital outlay for replacement of hardware or classroom technology equipment. (For further clarification on which expenditures should be included in this object code, see the “Special Note” below).\n\nTechnology – Infrastructure Replacements – Include capital outlay for replacement of technology infrastructure. (For further clarification on which expenditures should be included in this object code, see the “Special Note” below).\n\nCapital Outlay Additions – Include machinery, equipment, furniture, fixtures, communications equipment, motor vehicles, etc. that are capitalized.\n\nTechnology – Hardware Additions – Include capital outlay for additional hardware or classroom technology equipment. (For further clarification on which expenditures should be included in this object code, see the “Special Note” below).\n\nTechnology – Infrastructure Additions – Include capital outlay for additional technology infrastructure. (For further clarification on which expenditures should be included in this object code, see the “Special Note” below).\n"]
[null,null,"Special Note ‐ Classification of Hardware and Infrastructure Expenditures:\n\nReport expenditures under technology “hardware” for computers, associated peripheral equipment, and other specialized technology equipment. Computers include desktop and laptops, and mainframe machines. Peripheral equipment includes devices attached to computers, such as monitors, keyboards, disk drives, modems, printers, scanners, cameras and speakers, etc.\n\nReport other specialized computer devices under technology “hardware” such as fax‐back and voice‐mail resources; videoconferencing and other distance education tools, including satellite transmitters and receivers; cable‐based receivers; and modem or codec‐based video equipment; projection devices, from transparent and opaque projectors to video monitors; and graphing calculators and other specialized computational aids.\n\nReport expenditures under technology “infrastructure” for equipment and devices that enable the linking of computers or video hardware to networks (such as routers, hubs, switches, access servers, modems, or codecs). Infrastructure also refers to cabling installations, whether wire, fiber optic, or coaxial, as well as electrical capacity expansion or HVAC upgrades to support networks. In wireless networking systems, include receivers and transmitters under infrastructure."]
[]
[null,"Page 113"]

{"sheet":"General Assurances","index":22,"n_rows":44,"n_cols":11,"rows_kept":44,"cut":false,"hidden":false,"merged":[[0,10,0,16],[5,1,5,4],[5,5,5,16],[6,1,6,4],[6,5,6,16],[1,1,1,16],[3,1,3,4],[3,5,3,16],[4,1,4,4],[4,5,4,16],[7,1,7,4],[7,5,7,16],[8,1,8,4],[8,5,8,16],[9,1,9,4],[9,5,9,16],[10,1,10,4],[10,5,10,16],[22,4,22,16],[11,1,11,16],[12,2,12,16],[13,2,13,16],[14,2,14,16],[15,2,15,16],[16,3,16,16],[17,3,17,16],[18,4,18,16],[19,4,19,16],[20,4,20,16],[21,4,21,16],[31,4,31,16],[23,4,23,16],[24,4,24,16],[25,4,25,16],[26,4,26,16],[27,4,27,16],[28,4,28,16],[29,4,29,16],[30,4,30,16],[45,6,45,7],[45,8,45,9],[45,10,45,11],[32,4,32,16],[33,4,33,16],[34,5,34,16],[35,5,35,16],[36,5,36,16],[37,4,37,16],[38,3,38,16],[39,3,39,16],[41,2,41,16],[42,2,42,16],[43,1,43,16],[40,3,40,16],[48,6,48,7],[48,8,48,9],[48,10,48,11],[46,6,46,7],[46,8,46,9],[46,10,46,11],[47,6,47,7],[47,8,47,9],[47,10,47,11]]}
[null,{"$f":"'Main Page'!$N$9","v":"2026-2027"},null,"School Division:",{"$f":"'Main Page'!$L$14","v":0},null,null,null,"Division Number:",{"$f":"'Main Page'!$L$15","v":" "},{"$f":"'Main Page'!$B$6","v":"Local Consolidated Application"}]
[null,"GENERAL ASSURANCES"]
[]
[null,"Title I, Part A",null,null,null,"Improving Basic Programs Operated by Local Educational Agencies"]
[null,"Title I, Part C",null,null,null,"Education of Migratory  Children"]
[null,"Title I, Part D, Subpart 2",null,null,null,"Prevention and Intervention Programs for Children and Youth Who Are Neglected, Delinquent, or At-Risk"]
[null,"Title II, Part A",null,null,null,"Supporting Effective Instruction"]
[null,"Title III, Part A ",null,null,null,"Language Instruction for English Learners and Immigrant Students"]
[null,"Title IV, Part A",null,null,null,"Student Support and Academic Enrichments Grants"]
[null,"Title V, Part B, Subpart 2",null,null,null,"Rural and Low-Income School Program"]
[]
[null,"The school division/grantee assures:"]
[null,"I.","Each program will be administered in accordance with all applicable statutes, regulations, program plans, and applications;"]
[null,"II.","The control of funds provided under each program and title to property acquired with program funds will be in a public agency, a nonprofit private agency, institution, organization, or an Indian tribe, if the law authorizing the program provides for assistance to those entities;"]
[null,"III.","The public agency, nonprofit private agency, institution, organization, or Indian tribe, will administer the funds and property to the extent required by the authorizing statutes;"]
[null,"IV.","It will adopt and use proper methods of administering each program, including - "]
[null,null,"A.","The enforcement of any obligations imposed by law on agencies, institutions, organizations, and other recipients responsible for carrying out each program;"]
[null,null,"B.","The correction of deficiencies in program operations that are identified through audits, monitoring, or evaluation and that:"]
[null,null,null,"1.","It will maintain fiscal effort in support of free public education;"]
[null,null,null,"2.","It will provide services with state and local funds that are at least comparable to services provided in schools and areas not receiving special federal funds; "]
[null,null,null,"3.","The majority of the resources in the school division are derived from nonfederal funds;"]
[null,null,null,"4.","It is in compliance with the requirements in Title VIII, Section 8524 and has no policy that prevents, or otherwise denies participation in, constitutionally protected prayer in public elementary and secondary schools;"]
[null,null,null,"5.","It will comply with the audit requirements for each program; "]
[null,null,null,"6.","The federal funds are used to supplement, not supplant regular nonfederal funds;"]
[null,null,null,"7.","It will cooperate in carrying out any evaluation of each program conducted by or for the state educational agency, the Secretary, or other federal officials;\n\n"]
[null,null,null,"8.","It will use such fiscal control and fund accounting procedures as will ensure proper disbursement of, and accounting for, federal funds paid to the applicant under each program;"]
[null,null,null,"9.","It will submit such reports to the state educational agency (which shall make the reports available to the Governor) and the Secretary of Education as the state educational agency and Secretary may require to enable the state educational agency and the Secretary to perform their duties under each program;\n"]
[null,null,null,"10.","It will maintain such records for five years, provide such information, and afford such access to the records as the state educational agency (after consultation with the Governor) or the Secretary may reasonably require to carry out the state educational agency’s or the Secretary’s duties; "]
[null,null,null,"11.","It consulted with teachers, school administrators, parents, members of the community, nonprofit organizations and other interested parties in the development of this plan;"]
[null,null,null,"12.","It afforded a reasonable opportunity for public comment on the plan or application and considered such comment before the application was submitted;"]
[null,null,null,"13.","It will provide information in an understandable and uniform format and, to the extent practicable, be provided in a language that the parents can understand;"]
[null,null,null,"14.","It is in compliance with the requirement regarding equal access to public school facilities as specified in Title VIII, Section 8525;"]
[null,null,null,"15.","It is in compliance with the requirement regarding the prohibition on aiding and abetting sexual abuse as specified in Title VIII, Section 8546;"]
[null,null,null,"16.","It will comply with the other application requirements outlined in"]
[null,null,null,null,null,"Section 8501. Private School Children;"]
[null,null,null,null,null,"Section 8502. Bypass; and"]
[null,null,null,null,null,"Section 8521. Maintenance of Effort under Title VIII –Other Provisions;"]
[null,null,null,"17.","It will ensure that funds are expended in accordance with the school division’s approved application or amended application.  In the event the local division needs to expend funds in any manner other than stipulated in the approved application, the plan must be amended using the amendment process provided by the Department of Education.  The application must be amended before funds can be expended for activities not approved in the original application;"]
[null,null,"C.","It will collect and disseminate information collected under Section 1111 in a manner that protects the privacy of individuals;\n"]
[null,null,"D.","It will adhere to the provisions of the Federal Funding Transparency and Accountability Act (FFATA), and will obtain a valid Unique Entity Identifier (UEI) number prior to applying for funds;"]
[null,null,"E.","It will comply with the provisions of 2 CFR part 200 section 200.116, which prohibits the purchase of certain telecommunications and video surveillance services or equipment as described in Public Law 115-232, section 889."]
[null,"V.","It will comply with Section 22.1-277.07, of the Code of Virginia that requires the expulsion for one year of any student determined to have brought a firearm to school.  A description of each incident, the name of the school concerned, the number of students expelled from each school, and the type of firearm used in each instance of expulsion will be reported to the Virginia Department of Education in compliance with provisions under Section 8561 (Gun-Free Schools Act).  This agency has a policy that requires referral to the criminal justice or the juvenile delinquency system of any student who brings a firearm or weapon to school; and"]
[null,"VI.","It will participate, if selected, in the state National Assessment of Educational Progress in 4th and 8th grade reading and mathematics carried out under Section 303 of the National Assessment of Educational Progress Act."]
[null,"Page 114"]

{"sheet":"Program Specific Assurances","index":23,"n_rows":132,"n_cols":11,"rows_kept":132,"cut":false,"hidden":false,"merged":[[131,1,131,16],[83,1,83,16],[75,1,75,16],[76,10,76,16],[77,1,77,16],[110,1,110,16],[124,3,124,16],[125,3,125,16],[126,3,126,16],[128,2,128,16],[129,2,129,16],[119,3,119,16],[120,3,120,16],[121,3,121,16],[122,3,122,16],[123,2,123,16],[113,1,113,16],[114,1,114,16],[116,1,116,16],[117,2,117,16],[118,3,118,16],[108,2,108,16],[109,2,109,16],[111,1,111,16],[112,10,112,16],[103,2,103,16],[104,2,104,16],[105,2,105,16],[106,2,106,16],[107,2,107,16],[100,5,100,16],[99,6,99,16],[98,6,98,16],[101,3,101,16],[102,2,102,16],[93,4,93,16],[94,4,94,16],[95,4,95,16],[96,4,96,16],[97,5,97,16],[88,3,88,16],[89,4,89,16],[90,4,90,16],[91,4,91,16],[92,4,92,16],[85,2,85,16],[86,2,86,16],[87,2,87,16],[79,1,79,16],[81,1,81,15],[82,1,82,15],[72,2,72,16],[73,2,73,16],[78,1,78,16],[84,1,84,16],[69,2,69,16],[70,2,70,16],[71,2,71,16],[63,3,63,16],[65,1,65,16],[66,1,66,16],[67,2,67,16],[68,2,68,16],[58,2,58,16],[59,3,59,16],[60,3,60,16],[61,3,61,16],[62,3,62,16],[40,2,40,16],[41,2,41,16],[37,4,37,16],[52,2,52,16],[53,2,53,16],[55,1,55,16],[56,1,56,16],[57,2,57,16],[47,1,47,16],[48,2,48,16],[49,2,49,16],[50,2,50,16],[51,2,51,16],[29,3,29,16],[30,3,30,16],[8,2,8,16],[7,2,7,16],[6,2,6,16],[5,2,5,16],[46,1,46,16],[20,3,20,16],[19,3,19,16],[13,5,13,16],[12,4,12,16],[11,4,11,16],[14,5,14,16],[15,5,15,16],[16,2,16,16],[17,2,17,16],[18,2,18,16],[23,1,23,16],[28,2,28,16],[25,3,25,16],[26,3,26,16],[21,1,21,16],[27,3,27,16],[31,3,31,16],[127,2,127,16],[115,1,115,16],[80,1,80,16],[74,1,74,16],[64,1,64,16],[42,1,42,16],[0,10,0,16],[2,1,2,16],[10,3,10,16],[3,1,3,16],[4,2,4,16],[9,3,9,16],[43,1,43,16],[44,10,44,16],[45,1,45,16],[38,4,38,16],[39,4,39,16],[32,3,32,16],[33,3,33,16],[34,3,34,16],[35,3,35,16],[36,3,36,16],[22,10,22,16],[1,1,1,16]]}
[null,{"$f":"'Main Page'!$N$9","v":"2026-2027"},null,"School Division:",{"$f":"'Main Page'!$L$14","v":0},null,null,null,"Division Number:",{"$f":"'Main Page'!$L$15","v":" "},{"$f":"'Main Page'!$B$6","v":"Local Consolidated Application"}]
[null,"PROGRAM SPECIFIC ASSURANCES"]
[null,"Title I, Part A – Improving Basic Programs"]
[null,"The school division/grantee will:"]
[null,"I.","Ensure that migratory children and formerly migratory children who are eligible to receive services under this part are selected to receive such services on the same basis as other children who are selected to receive services under this part;"]
[null,"II.","Provide services to eligible children attending private elementary schools and secondary schools in accordance with Section 1117, and timely and meaningful consultation with private school officials regarding such services;"]
[null,"III.","Participate, if selected, in the National Assessment of Educational Progress in reading and mathematics in grades 4 and 8 carried out under section 303(b)(3) of the National Assessment of Educational Progress Authorization Act (20 U.S.C.9622(b)(3));"]
[null,"IV.","Coordinate and integrate services provided under this part with other educational services at the local educational agency or individual school level, such as services for English learners, children with disabilities, migratory children, American Indian, Alaska Native, and Native Hawaiian children, and homeless children and youths, in order to increase program effectiveness, eliminate duplication, and reduce fragmentation of the instructional program;"]
[null,"V.","Collaborate with the State or local child welfare agency to—"]
[null,null,"A.","Designate a point of contact if the corresponding child welfare agency notifies the local educational agency, in writing, that the agency has designated an employee to serve as a point of contact for the local educational agency; and"]
[null,null,"B.","Develop and implement clear written procedures governing how transportation to maintain children in foster care in their school of origin when in their best interest will be provided, arranged, and funded for the duration of the time in foster care, which procedures shall—"]
[null,null,null,"1.","Ensure that children in foster care needing transportation to the school of origin will promptly receive transportation in a cost-effective manner and in accordance with Section 475(4)(A) of the Social Security Act (42 U.S.C. 675(4)(A)); and"]
[null,null,null,"2.","Ensure that, if there are additional costs incurred in providing transportation to maintain children in foster care in their schools of origin, the local educational agency will provide transportation to the school of origin if—"]
[null,null,null,null,"a.","The local child welfare agency agrees to reimburse the local educational agency for the cost of such transportation;"]
[null,null,null,null,"b.","The local educational agency agrees to pay for the cost of such transportation; or "]
[null,null,null,null,"c.","The local educational agency and the local child welfare agency agree to share the cost of such transportation; "]
[null,"VI.","Ensure that all teachers and paraprofessionals working in a program supported with funds under this part meet applicable State certification and licensure requirements, including any requirements for certification obtained through alternative routes to certification;"]
[null,"VII.","In the case of a local educational agency that chooses to use funds under this part to provide early childhood education services to low-income children below the age of compulsory school attendance, ensure that such services comply with the performance standards established under Section 641A(a) of the Head Start Act (42 U.S.C. 9836a(a));"]
[null,"VIII.","Develop agreements and carry out the following coordination activities with Head Start and, if feasible, other early childhood programs;"]
[null,null,"A.","developing and implementing a systematic procedure for receiving records regarding such children, transferred with parental consent from a Head Start program or, where applicable, another early childhood education program;"]
[null,null,"B.","establishing channels of communication between school staff and their counterparts (including teachers, social workers, and health staff) in such Head Start agencies or other entities carrying out early childhood education programs, as appropriate, to facilitate coordination of programs;\n"]
[null,"Page 115"]
[null,{"$f":"'Main Page'!$N$9","v":"2026-2027"},null,"School Division:",{"$f":"'Main Page'!$L$14","v":0},null,null,null,"Division Number:",{"$f":"'Main Page'!$L$15","v":" "},{"$f":"'Main Page'!$B$6","v":"Local Consolidated Application"}]
[null,"PROGRAM SPECIFIC ASSURANCES (CONTINUED)"]
[]
[null,null,"C.","conducting meetings involving parents, kindergarten or elementary school teachers, and Head Start teachers or, if appropriate, teachers from other early childhood education programs, to discuss the developmental and other needs of individual children;"]
[null,null,"D.","organizing and participating in joint transition-related training of school staff, Head Start program staff, and, where appropriate, other early childhood education program staff; and"]
[null,null,"E.","linking the educational services provided by such local educational agency with the services provided by local Head Start agencies."]
[null,"IX.","For each local educational agency that uses funds under Title I, Part A, or Title III, Part A, identify all English learners within 30 days of enrollment, and, not later than 30 days after the beginning of the school year (or, for those children who have not been identified as English learners prior to the beginning of the school year but are identified as English learners during the school year, within the first two weeks of the child being placed in a language instruction educational program), the local educational agency shall notify the children’s parents of an English learner identified for participation or participating in such a program, of—"]
[null,null,"A.","The reasons for the identification of their child as an English learner and in need of placement in a language instruction educational program;"]
[null,null,"B.","The child’s level of English proficiency, how such level was assessed, and the status of the child’s academic achievement;"]
[null,null,"C.","The methods of instruction used in the program in which their child is, or will be, participating and the methods of instruction used in other available programs, including how such programs differ in content, instructional goals, and the use of English and a native language in instruction;"]
[null,null,"D.","How the program in which their child is, or will be, participating will meet the educational strengths and needs of their child;"]
[null,null,"E.","How such program will specifically help their child learn English and meet age-appropriate academic achievement standards for grade promotion and graduation; "]
[null,null,"F.","The specific exit requirements for the program, including the expected rate of transition from such program into classrooms that are not tailored for English learners, and the expected rate of graduation from high school (including four-year adjusted cohort graduation rates and extended-year adjusted cohort graduation rates for such program) if funds under this part are used for children in high schools;"]
[null,null,"G.","In the case of a child with a disability, how such program meets the objectives of the individualized education program of the child, as described in Section 614(d) of the Individuals with Disabilities Education Act (20 U.S.C. 1414(d));"]
[null,null,"H.","Information pertaining to parental rights that includes written guidance—"]
[null,null,null,"1.","Detailing the right that parents have to have their child immediately removed from such program upon their request;"]
[null,null,null,"2.","Detailing the options that parents have to decline to enroll their child in such program or to choose another program or method of instruction, if available; and"]
[null,null,null,"3.","Assisting parents in selecting among various programs and methods of instruction, if more than 1 program or method is offered by the eligible entity;"]
[null,"X.","Use Virginia’s Early Learning and Development Standards to align preschool and K-12 curriculum; and"]
[null,"XI.","Use VALLS: Pre-K (if there is a Title I preschool program) and report data to the VLP Office at the University of Virginia using the student’s State Testing Identifier (STI)."]
[]
[null,"Page 116"]
[null,{"$f":"'Main Page'!$N$9","v":"2026-2027"},null,"School Division:",{"$f":"'Main Page'!$L$14","v":0},null,null,null,"Division Number:",{"$f":"'Main Page'!$L$15","v":" "},{"$f":"'Main Page'!$B$6","v":"Local Consolidated Application"}]
[null,"PROGRAM SPECIFIC ASSURANCES (CONTINUED)"]
[null,"Title I, Part C – Education of Migratory Children"]
[null,"The school division/grantee will:"]
[null,"I.","It will use funds received only for programs and projects, including the education of Priority for Services migrant students and the acquisition of equipment, in accordance with Section 1306;"]
[null,"II.","It will consult with parent advisory councils for migrant education programs of one school year in duration and that all such programs and projects are carried out in a manner that provides for the same parental involvement as is required for programs and projects under Section 1116 and that the programs and projects are provided in a format and language understandable to the parents;"]
[null,"III.","It will make adequate provision for addressing the unmet educational needs of preschool migratory children and migratory children who have dropped out of school;"]
[null,"IV.","The effectiveness of programs and projects will be determined, where feasible, using the same approaches and standards that will be used to assess the performance of students, schools, and local educational agencies under Title I, Part A;"]
[null,"V.","The programs and projects will provide for: (A) advocacy and outreach activities for migratory children and their families, including informing children and parents of, or helping such children and families gain access to, other education, health, nutrition, and social services; (B) professional development programs, including mentoring, for teacher and other program personnel; (C) family literacy programs; (D) the integration of informational technology into educational and related programs; and (E) programs to facilitate the transition of secondary school students to postsecondary education or employment; and"]
[null,"VI.","It will assist the state in determining the number of migrant children under Section 1303(a)(1)."]
[]
[null,"Title I, Part D, Subpart 2 – Prevention and Intervention Programs for Children and Youth Who Are Neglected, Delinquent or At-Risk"]
[null,"The school division/grantee will:"]
[null,"I.","It will give priority to such children and youth who are likely to be released from incarceration within a two-year period;"]
[null,"II.","It will carry out the evaluation requirements of Section 1431.  Each local educational agency that conducts a program under Subpart 2 will evaluate the program, disaggregating data on participation by gender, race, ethnicity, and age, not less than once every three years, to determine the program's impact on the ability of participants to: "]
[null,null,"A.","maintain and improve educational achievement;"]
[null,null,"B.","accrue school credits that meet state requirements for grade promotion and secondary school graduation;"]
[null,null,"C.","make the transition to a regular program or other education program operated by a local educational agency;"]
[null,null,"D.","complete secondary school (or secondary school equivalency requirements) and obtain employment after leaving the correctional facility or institution for neglected or delinquent children and youth; and"]
[null,null,"E.","participate, as appropriate, in postsecondary education and job training programs."]
[]
[null,"Title II, Part A - Teacher Quality"]
[null,"The school division/grantee will:"]
[null,"I.","Professional development activities provided through this program are coordinated with professional development activities provided through other federal, state, and local programs;"]
[null,"II.","It will comply with Section 8501 (regarding participation by private school children and teachers);"]
[null,"III.","The plan is based on consultation with a variety of stakeholders, including teachers, principals, other school leaders, paraprofessionals (including organizations representing such individuals), specialized instructional support personnel, charter school leaders (in a local educational agency that has charter schools), parents, community partners, and other organizations or partners with relevant and demonstrated expertise in programs and activities designed to meet the purpose of this title;  "]
[null,"IV.","Activities and programs will address the needs of all students, including children with disabilities, English learners, and gifted and talented students;"]
[null,"V.","The funds are expended according to Title II, Part A guidelines for teachers, administrators, other school leaders, and paraprofessional staff only. These guidelines can be found within the guidance document: ESSA Title II, Part A Guidance – Supporting Educators; "]
[null,"VI.","Professional development activities are for teachers, administrators, paraprofessionals, and other school leaders to ensure “high quality” instruction and leadership. These activities should be based on evidence-based research and should adhere to the requirements of high quality professional development; and "]
[null,"VII.","Students in high-poverty or high-minority Title I schools will not be taught by inexperienced, out-of-field, or ineffective teachers at a higher rate than students in other schools."]
[]
[null,"Page 117"]
[null,{"$f":"'Main Page'!$N$9","v":"2026-2027"},null,"School Division:",{"$f":"'Main Page'!$L$14","v":0},null,null,null,"Division Number:",{"$f":"'Main Page'!$L$15","v":" "},{"$f":"'Main Page'!$B$6","v":"Local Consolidated Application"}]
[null,"PROGRAM SPECIFIC ASSURANCES (CONTINUED)"]
[null,"Title III, Part A - Instruction for English Learners and Immigrant Children and Youth"]
[null,"Title III funds cannot be used for academic programs and LIEP services provided to ELs that are required under other local, state, and federal laws to include Title VI of the Civil Rights Act of 1964, the Equal Educational Opportunities Act of 1974 (EEOA). The division will comply with the supplement, not supplant, provisions as described below: "]
[]
[null,"Section 3115"]
[null,"(g) SUPPLEMENT, NOT SUPPLANT - Federal funds made available under this subpart shall be used so as to supplement the level of federal, state, and local public funds that, in the absence of such availability, would have been expended for programs for English learners and immigrant children and youth and in no case to supplant such Federal, State, and local public funds."]
[]
[null,"The school division/grantee will:"]
[null,"I.","It will include in the plan under ESEA Section 3114 a certification that all teachers in any LIEP are, or will be, funded under this part are fluent in English and any other language used for instruction, including having written and oral communications skills;"]
[null,"II.","All ELs will be identified within 30 days of enrollment"]
[null,"III.","It will comply with the parental notification requirements as described below:"]
[null,null,"A.","Each eligible entity using funds provided under this title to provide a LIEP shall, not later than 30 days after the beginning of the school year, inform a parent or the parents of ELs identified for participation in, or participating in, such program of — "]
[null,null,null,"1.","the reasons for the identification of their child as an EL and in need of placement in a LIEP;"]
[null,null,null,"2.","the child’s level of English proficiency, how such level was assessed, and the status of the child’s academic achievement;"]
[null,null,null,"3.","the method of instruction used in the program in which their child is, or will be, participating, and the methods of instruction used in other available programs, including how such programs differ in content, instruction goals, and use of English and a native language in instruction;"]
[null,null,null,"4.","how the program in which their child is, or will be participating, will meet the educational strengths and needs of the child;"]
[null,null,null,"5.","how such program will specifically help their child learn English, and meet age appropriate academic achievement standards for grade promotion and graduation;"]
[null,null,null,"6.","the specific exit requirements for such program, the expected rate of transition from such program into classrooms that are not tailored for ELs, and the expected rate of graduation from secondary school for such program if funds under this title are used for children in secondary schools;"]
[null,null,null,"7.","in the case of a child with a disability, how such program meets the objectives of the individualized education program of the child; and"]
[null,null,null,"8.","information pertaining to parental rights that includes written guidance — "]
[null,null,null,null,"a.","detailing —"]
[null,null,null,null,null,"(i).","the right that parents have to have their child immediately removed from such program upon their request; and"]
[null,null,null,null,null,"(ii).","the options that parents have to decline to enroll their child in such program or to choose another program or method of instruction, if available; and"]
[null,null,null,null,"b.","assisting parents in selecting among various programs and methods of instruction, if more than one program or method is offered by the eligible entity."]
[null,null,"B.","RECEIPT OF INFORMATION- The information required to be provided under subsection (a) to a parent shall be provided in an understandable and uniform format and, to the extent practicable, in a language that the parent can understand."]
[null,"IV.","It will comply with the Parents Right-to-Know requirements in ESEA Section 1112(e);"]
[null,"V.","It will annually assess the English proficiency of all ELs participating in programs funded under this part;"]
[null,"VI."," It will base its proposed plan on effective research on teaching ELs;"]
[null,"VII.","It will ensure that the programs will enable children to speak, read, write, and comprehend the English language and meet challenging state academic content and student academic achievement standards; "]
[null,"VIII."," It will not violate any state law, including state constitutional law, regarding the education of ELs, consistent with ESEA Sections 3125 and 3126; "]
[null,"IX.","It consulted with teachers, researchers, school administrators and other school personnel, parents and family members, community members, public or private entities, institutions of higher education, and other stakeholders in developing the Title III local plan described in the program overview section;"]
[null,"X.","It will, if applicable, coordinate activities and share relevant data under the plan with local Head Start agencies, including migrant and seasonal Head Start agencies, and other early childhood education providers; and"]
[null,"XI.","Immigrant children and youth (IY) funds will be specifically targeted to eligible immigrant students and their families.\n"]
[]
[null,"Page 118"]
[null,{"$f":"'Main Page'!$N$9","v":"2026-2027"},null,"School Division:",{"$f":"'Main Page'!$L$14","v":0},null,null,null,"Division Number:",{"$f":"'Main Page'!$L$15","v":" "},{"$f":"'Main Page'!$B$6","v":"Local Consolidated Application"}]
[null,"PROGRAM SPECIFIC ASSURANCES (CONTINUED)"]
[null,"Titie IV, Part A - Student Support and Academic Enrichment Grants"]
[]
[null,"In accordance with ESEA Section 4106(e) (2) and (f), each school division/grantee or consortium of school divisions receiving Title IV, Part A, funds will: "]
[null,"I.","Prioritize the distribution of funds to schools served based on one or more of the following criteria—"]
[null,null,"A.","Are among the schools with the greatest needs;"]
[null,null,"B.","Have the highest percentages or numbers of children counted under Section 1124(c) (i.e., children counted for purposes of basic grants to LEAs under Title I, Part A of the ESEA);"]
[null,null,"C.","Are identified for comprehensive support and improvement under Section 1111(c)(4)(D)(i) (i.e., are among the lowest-achieving schools); "]
[null,null,"D.","Are implementing targeted support and improvement plans as described in Section 1111(d)(2) (i.e., have consistently underperforming student subgroups); or"]
[null,null,"E.","Are identified as a persistently dangerous public elementary school or secondary school under Section 8532. (ESEA Section 4106(e)(2)(A));"]
[null,"II.","Divisions or consortia that receives $30,000 or more will use—"]
[null,null,"A.","Not less than 20 percent of funds to support one or more of the activities authorized under Section 4107 pertaining to well-rounded educational opportunities; "]
[null,null,"B.","Not less than 20 percent of funds to support one or more activities authorized under Section 4108 pertaining to safe and healthy students; and"]
[null,null,"C.","A portion of funds to support one or more activities authorized under Section 4109(a) pertaining to the effective use of technology, including an assurance that it will not use more than 15 percent of the remaining portion for purchasing technology infrastructure as described in Section 4109(b). (ESEA Section 4106(e)(2)(C)-(E));"]
[null,"III.","III. Reserve not more than 2 percent for the direct administrative costs of carrying out the division’s responsibilities (ESEA Section 4105(c));\n"]
[null,"IV.","Comply with Section 8501-8504, regarding equitable participation of private school children and teachers (ESEA Section 4106(e)(2)(B)); and\n"]
[null,"V.","Complete an annual State report regarding how funds for the SSAE program are being used (ESEA Section 4106(e)(2)(F)).\n"]
[]
[null,"Page 119"]

{"sheet":"Division Schools","index":24,"n_rows":1853,"n_cols":10,"rows_kept":1853,"cut":false,"hidden":true,"merged":[]}
["ed","School Name ","s",null,{"$f":"SUBTOTAL(3,B2:B5005)","v":1852}]
[1,"Accawmacke Elementary","PK - 05"]
[1,"Arcadia High","09 - 12"]
[1,"Arcadia Middle","06 - 08"]
[1,"Chincoteague Elementary","PK - 05"]
[1,"Chincoteague High","06 - 12"]
[1,"Kegotank Elementary","PK - 05"]
[1,"Metompkin Elementary","PK - 05"]
[1,"Nandua High","09 - 12"]
[1,"Nandua Middle","06 - 08"]
[1,"Pungoteague Elementary","PK - 05"]
[1,"Tangier Combined","KG - 12"]
[2,"Agnor-Hurt Elementary","PK - 05"]
[2,"Albemarle County Community Public Charter School","06 - 08"]
[2,"Albemarle High","09 - 12"]
[2,"Baker-Butler Elementary","PK - 05"]
[2,"Broadus Wood Elementary","PK - 05"]
[2,"Brownsville Elementary","PK - 05"]
[2,"Crozet Elementary","KG - 05"]
[2,"Hollymead Elementary","PK - 05"]
[2,"Ivy Elmentary ","KG - 05"]
[2,"Jack Jouett Middle","06 - 08"]
[2,"Jackson P. Burley Middle","06 - 08"]
[2,"Joseph T. Henley Middle","06 - 08"]
[2,"Leslie H. Walton Middle","06 - 08"]
[2,"Mary Carr Greer Elementary","PK - 05"]
[2,"Monticello High","09 - 12"]
[2,"Mortimer Y. Sutherland Middle","06 - 08"]
[2,"Murray High","09 - 12"]
[2,"Paul H. Cale Elementary","PK - 05"]
[2,"Red Hill Elementary","PK - 05"]
[2,"Scottsville Elementary","PK - 05"]
[2,"Stone Robinson Elementary","PK - 05"]
[2,"Stony Point Elementary","KG - 05"]
[2,"Virginia L. Murray Elementary","PK - 05"]
[2,"Western Albemarle High","09 - 12"]
[2,"Woodbrook Elementary","PK - 05"]
[3,"Alleghany High","09 - 12"]
[3,"Callaghan Elementary","PK - 05"]
[3,"Covington Middle","06 - 08"]
[3,"Jeter Watson Elementary","PK - 05"]
[3,"Jeter-Watson Intermediate","04 - 07"]
[3,"Mountain View Elementary","PK - 05"]
[3,"Sharon Elementary","PK - 05"]
[4,"Amelia County Elementary","PK - 04"]
[4,"Amelia County High","09 - 12"]
[4,"Amelia County Middle","05 - 08"]
[5,"Amelon Elementary","PK - 05"]
[5,"Amherst County High","09 - 12"]
[5,"Amherst Elementary","PK - 05"]
[5,"Amherst Middle","06 - 08"]
[5,"Central Elementary","PK - 05"]
[5,"Elon Elementary","PK - 05"]
[5,"Madison Heights Elementary","PK - 05"]
[5,"Monelison Middle","06 - 08"]
[5,"Temperance Elementary","PK - 05"]
[6,"Appomattox County High","09 - 12"]
[6,"Appomattox Elementary","03 - 05"]
[6,"Appomattox Middle","06 - 08"]
[6,"Appomattox Primary","PK - 02"]
[7,"Abingdon Elementary","PK - 05"]
[7,"Arlington Community High","09 - 12"]
[7,"Arlington Science Focus School","PK - 05"]
[7,"Arlington Traditional","PK - 05"]
[7,"Ashlawn Elementary","PK - 05"]
[7,"Barcroft Elementary","PK - 05"]
[7,"Barrett Elementary","PK - 05"]
[7,"Campbell Elementary","PK - 05"]
[7,"Carlin Springs Elementary","PK - 05"]
[7,"Claremont Immersion","PK - 05"]
[7,"Discovery Elementary","PK - 05"]
[7,"Dr. Charles R. Drew Elementary","PK - 05"]
[7,"Francis Scott Key Elementary","PK - 05"]
[7,"Glebe Elementary","PK - 05"]
[7,"Gunston Middle","06 - 08"]
[7,"Henry Elementary","PK - 05"]
[7,"Hoffman-Boston Elementary","PK - 05"]
[7,"Jamestown Elementary","PK - 05"]
[7,"Jefferson Middle","06 - 08"]
[7,"Kenmore Middle","06 - 08"]
[7,"Long Branch Elementary","PK - 05"]
[7,"McKinley Elementary","PK - 05"]
[7,"Nottingham Elementary","KG - 05"]
[7,"Oakridge Elementary","PK - 05"]
[7,"Randolph Elementary","PK - 05"]
[7,"Swanson Middle","06 - 08"]
[7,"Taylor Elementary","PK - 05"]
[7,"Tuckahoe Elementary","PK - 05"]
[7,"Wakefield High","09 - 12"]
[7,"Washington-Lee High","09 - 12"]
[7,"Williamsburg Middle","06 - 08"]
[7,"Yorktown High","09 - 12"]
[8,"Beverley Manor Middle","06 - 08"]
[8,"Buffalo Gap High","09 - 12"]
[8,"Cassell Elementary","PK - 05"]
[8,"Churchville Elementary","PK - 05"]
[8,"Craigsville Elementary","PK - 05"]
[8,"Edward G. Clymore Elementary","PK - 05"]
[8,"Fort Defiance High","09 - 12"]
[8,"Guy K. Stump Elementary","PK - 05"]
[8,"North River Elementary","PK - 05"]
[8,"Riverheads Elementary","PK - 05"]
[8,"Riverheads High","09 - 12"]
[8,"S. Gordon Stewart Middle","06 - 08"]
[8,"Stuarts Draft Elementary","PK - 05"]
[8,"Stuarts Draft High","09 - 12"]
[8,"Stuarts Draft Middle","06 - 08"]
[8,"Wilson Elementary","PK - 05"]
[8,"Wilson Memorial High","09 - 12"]
[8,"Wilson Middle","06 - 08"]
[9,"Bath County High","08 - 12"]
[9,"Millboro Elementary","PK - 07"]
[9,"Valley Elementary","PK - 07"]
[10,"Bedford Elementary","02 - 05"]
[10,"Bedford Primary","PK - 01"]
[10,"Big Island Elementary","PK - 05"]
[10,"Boonsboro Elementary","KG - 05"]
[10,"Forest Elementary","KG - 05"]
[10,"Forest Middle","06 - 08"]
[10,"Goodview Elementary","PK - 05"]
[10,"Huddleston Elementary","PK - 05"]
[10,"Jefferson Forest High","09 - 12"]
[10,"Liberty High","09 - 12"]
[10,"Liberty Middle","06 - 08"]
[10,"Moneta Elementary","PK - 05"]
[10,"Montvale Elementary","PK - 05"]
[10,"New London Academy Elementary","PK - 05"]
[10,"Otter River Elementary","PK - 05"]
[10,"Staunton River High","09 - 12"]
[10,"Staunton River Middle","06 - 08"]
[10,"Stewartsville Elementary","PK - 05"]
[10,"Thomas Jefferson Elementary","PK - 05"]
[11,"Bland County Elementary","KG - 05"]
[11,"Bland County High","06 - 12"]
[12,"Breckinridge Elementary","PK - 05"]
[12,"Buchanan Elementary","PK - 05"]
[12,"Central Academy Middle","06 - 08"]
[12,"Cloverdale Elementary","KG - 05"]
[12,"Colonial Elementary","PK - 05"]
[12,"Eagle Rock Elementary","PK - 05"]
[12,"Greenfield Elementary","PK - 05"]
[12,"James River High","09 - 12"]
[12,"Lord Botetourt High","09 - 12"]
[12,"Read Mountain Middle","06 - 08"]
[12,"Troutville Elementary","PK - 05"]
[13,"Brunswick High","09 - 12"]
[13,"James S. Russell Middle","07 - 08"]
[13,"Meherrin Powellton Elementary","PK - 06"]
[13,"Red Oak-Sturgeon Elementary","PK - 06"]
[13,"Totaro Elementary","PK - 06"]
[14,"Council Elementary/Middle","PK - 07"]
[14,"Council High","08 - 12"]
[14,"Grundy High","09 - 12"]
[14,"Hurley Elementary/Middle","PK - 07"]
[14,"Hurley High","08 - 12"]
[14,"Riverview Elementary/Middle","PK - 08"]
[14,"Twin Valley Elementary/Middle","PK - 07"]
[14,"Twin Valley High","08 - 12"]
[15,"Buckingham County Elementary","03 - 05"]
[15,"Buckingham County High","09 - 12"]
[15,"Buckingham County Middle","06 - 08"]
[15,"Buckingham County Prekindergarten Center","PK - PK"]
[15,"Buckingham County Primary","KG - 02"]
[16,"Altavista Elementary","PK - 05"]
[16,"Altavista High","06 - 12"]
[16,"Brookneal Elementary","PK - 05"]
[16,"Brookville High","09 - 12"]
[16,"Brookville Middle","06 - 08"]
[16,"Concord Elementary","PK - 05"]
[16,"Leesville Road Elementary","PK - 05"]
[16,"Rustburg Elementary","PK - 05"]
[16,"Rustburg High","09 - 12"]
[16,"Rustburg Middle","06 - 08"]
[16,"Tomahawk Elementary","PK - 05"]
[16,"William Campbell High","06 - 12"]
[16,"Yellow Branch Elementary","PK - 05"]
[17,"Bowling Green Elementary","PK - 05"]
[17,"Caroline High","09 - 12"]
[17,"Caroline Middle","06 - 08"]
[17,"Lewis & Clark Elementary","PK - 05"]
[17,"Madison Elementary","PK - 05"]
[18,"Carroll County High","09 - 12"]
[18,"Carroll County Middle School","06 - 08"]
[18,"Fancy Gap Elementary","PK - 05"]
[18,"Gladesboro Elementary School","PK - 05"]
[18,"Gladeville Elementary School","PK - 05"]
[18,"Hillsville Elementary School","PK - 05"]
[18,"Laurel Elementary School","PK - 05"]
[18,"Oakland Elementary","PK - 05"]
[18,"St. Paul","PK - 07"]
[19,"Charles City County Elementary","PK - 06"]
[19,"Charles City County High","07 - 12"]
[20,"Bacon District Elementary","PK - 05"]
[20,"Central Middle","06 - 08"]
[20,"Eureka Elementary","PK - 05"]
[20,"Phenix Elementary","PK - 05"]
[20,"Randolph Henry High","09 - 12"]
[21,"A.M. Davis Elementary","PK - 05"]
[21,"Alberta Smith Elementary","PK - 05"]
[21,"Bailey Bridge Middle","06 - 08"]
[21,"Bellwood Elementary","PK - 05"]
[21,"Bensley Elementary","PK - 05"]
[21,"Bettie Weaver Elementary","PK - 05"]
[21,"Beulah Elementary","PK - 05"]
[21,"Bon Air Elementary","PK - 05"]
[21,"C.C. Wells Elementary","PK - 05"]
[21,"C.E. Curtis Elementary","PK - 05"]
[21,"Carver College and Career Academy","09 - 12"]
[21,"Carver Middle","06 - 08"]
[21,"Chester Early Learning Academy","PK - PK"]
[21,"Clover Hill Elementary","PK - 05"]
[21,"Clover Hill High","09 - 12"]
[21,"Cosby High","09 - 12"]
[21,"Crestwood Elementary","PK - 05"]
[21,"Ecoff Elementary","PK - 05"]
[21,"Elizabeth Davis Middle","06 - 08"]
[21,"Elizabeth Scott Elementary","PK - 05"]
[21,"Enon Elementary","PK - 05"]
[21,"Ettrick Elementary","PK - 05"]
[21,"Evergreen Elementary","PK - 05"]
[21,"Falling Creek Elementary","PK - 05"]
[21,"Falling Creek Middle","06 - 08"]
[21,"Grange Hall Elementary","PK - 05"]
[21,"Greenfield Elementary","PK - 05"]
[21,"Harrowgate Elementary","PK - 05"]
[21,"Hopkins Road Elementary","PK - 05"]
[21,"J.A. Chalkley Elementary","PK - 05"]
[21,"J.B. Watkins Elementary","PK - 05"]
[21,"J.G. Hening Elementary","PK - 05"]
[21,"Jacobs Road Elementary","PK - 05"]
[21,"James River High","09 - 12"]
[21,"Lloyd C. Bird High","09 - 12"]
[21,"Manchester High","09 - 12"]
[21,"Manchester Middle","06 - 08"]
[21,"Marguerite F. Christian Elementary","PK - 05"]
[21,"Matoaca Elementary","PK - 05"]
[21,"Matoaca High","09 - 12"]
[21,"Matoaca Middle","06 - 08"]
[21,"Meadowbrook High","09 - 12"]
[21,"Midlothian High","09 - 12"]
[21,"Midlothian Middle","06 - 08"]
[21,"Monacan High","09 - 12"]
[21,"Moseley Elementary","KG - 05"]
[21,"O.B. Gates Elementary","PK - 05"]
[21,"Old Hundred Elementary","KG - 05"]
[21,"Providence Elementary","PK - 05"]
[21,"Providence Middle","06 - 08"]
[21,"Reams Road Elementary","PK - 05"]
[21,"Robious Elementary","PK - 05"]
[21,"Robious Middle","06 - 08"]
[21,"Salem Church Elementary","PK - 05"]
[21,"Salem Church Middle","06 - 08"]
[21,"Spring Run Elementary","PK - 05"]
[21,"Swift Creek Elementary","PK - 05"]
[21,"Swift Creek Middle","06 - 08"]
[21,"Thelma Crenshaw Elementary","PK - 05"]
[21,"Thomas Dale High","09 - 12"]
[21,"Tomahawk Creek Middle","06 - 08"]
[21,"W.W. Gordon Elementary","PK - 05"]
[21,"Winterpock Elementary","PK - 05"]
[21,"Woolridge Elementary","PK - 05"]
[22,"Boyce Elementary","PK - 05"]
[22,"Clarke County High","09 - 12"]
[22,"D.G. Cooley Elementary","PK - 05"]
[22,"Johnson-Williams Middle","06 - 08"]
[23,"Craig County High","06 - 12"]
[23,"McCleary Elementary","PK - 05"]
[24,"A.G. Richardson Elementary","PK - 05"]
[24,"Culpeper County High","09 - 12"]
[24,"Culpeper Middle","06 - 08"]
[24,"Eastern View High","09 - 12"]
[24,"Emerald Hill Elementary","PK - 05"]
[24,"Farmington Elementary","PK - 05"]
[24,"Floyd T. Binns Middle","06 - 08"]
[24,"Galbreath-Marshall Building","PK - PK"]
[24,"Pearl Sample Elementary","PK - 05"]
[24,"Sycamore Park Elementary","PK - 05"]
[24,"Yowell Elementary","PK - 05"]
[25,"Cumberland Elementary","PK - 04"]
[25,"Cumberland High","09 - 12"]
[25,"Cumberland Middle","05 - 08"]
[26,"Ridgeview ","PK - 04"]
[26,"Ridgeview High","09 - 12"]
[26,"Ridgeview Middle","05 - 08"]
[27,"Dinwiddie County High","09 - 12"]
[27,"Dinwiddie County Middle","06 - 08"]
[27,"Dinwiddie Elementary","KG - 05"]
[27,"Midway Elementary","KG - 05"]
[27,"Southside Elementary","KG - 05"]
[27,"Sunnyside Elementary","KG - 05"]
[27,"Sutherland Elementary","KG - 05"]
[28,"Essex High","08 - 12"]
[28,"James H. Cary Intermediate","05 - 08"]
[28,"Tappahannock Elementary","PK - 04"]
[29,"Aldrin Elementary","PK - 06"]
[29,"Annandale High","09 - 12"]
[29,"Annandale Terrace Elementary","PK - 05"]
[29,"Archer Elementary","PK - 06"]
[29,"Armstrong Elementary","PK - 06"]
[29,"Bailey's Elementary School for the Arts and Sciences","PK - 02"]
[29,"Bailey's Upper Elementary for the Arts and Sciences","03 - 05"]
[29,"Beech Tree Elementary","PK - 05"]
[29,"Belle View Elementary","PK - 06"]
[29,"Belvedere Elementary","PK - 05"]
[29,"Bonnie Brae Elementary","PK - 06"]
[29,"Braddock Elementary","PK - 05"]
[29,"Bren Mar Park Elementary","PK - 05"]
[29,"Brookfield Elementary","PK - 06"]
[29,"Bryant High","07 - 12"]
[29,"Bucknell Elementary","PK - 06"]
[29,"Bull Run E.C. Resource Ctr","PK - PK"]
[29,"Bull Run Elementary","PK - 06"]
[29,"Bush Hill Elementary","PK - 06"]
[29,"Camelot Elementary","PK - 06"]
[29,"Cameron Elementary","PK - 06"]
[29,"Canterbury Woods Elementary","PK - 06"]
[29,"Cardinal Forest Elementary","PK - 06"]
[29,"Carson Middle","07 - 08"]
[29,"Centre Ridge Elementary","PK - 06"]
[29,"Centreville Elementary","PK - 06"]
[29,"Centreville High","09 - 12"]
[29,"Chantilly High","09 - 12"]
[29,"Cherry Run Elementary","PK - 06"]
[29,"Chesterbrook Elementary","PK - 06"]
[29,"Churchill Road Elementary","PK - 06"]
[29,"Clearview Elementary","PK - 06"]
[29,"Clermont Elementary","PK - 06"]
[29,"Coates Elementary","PK - 06"]
[29,"Columbia Elementary","PK - 05"]
[29,"Colvin Run Elementary","PK - 06"]
[29,"Cooper Middle","07 - 08"]
[29,"Crestwood Elementary","PK - 06"]
[29,"Crossfield Elementary","PK - 06"]
[29,"Cub Run Elementary","PK - 06"]
[29,"Cunningham Park Elementary","PK - 06"]
[29,"Daniels Run Elementary","PK - 06"]
[29,"Deer Park Elementary","PK - 06"]
[29,"Dogwood Elementary","PK - 06"]
[29,"Dranesville Elementary","PK - 06"]
[29,"Dunn Loring E.C. Resource Ctr.","PK - PK"]
[29,"Eagle View Elementary","PK - 06"]
[29,"Edison High","09 - 12"]
[29,"Fairfax County Adult High","09 - 12"]
[29,"Fairfax High","09 - 12"]
[29,"Fairfax Villa Elementary","PK - 06"]
[29,"Fairhill Elementary","PK - 06"]
[29,"Fairview Elementary","PK - 06"]
[29,"Falls Church High","09 - 12"]
[29,"Flint Hill Elementary","PK - 06"]
[29,"Floris Elementary","PK - 06"]
[29,"Forest Edge Elementary","PK - 06"]
[29,"Forestdale Elementary","PK - 06"]
[29,"Forestville Elementary","PK - 06"]
[29,"Fort Belvoir Elementary","PK - 03"]
[29,"Fort Belvoir Upper","04 - 06"]
[29,"Fort Hunt Elementary","PK - 06"]
[29,"Fox Mill Elementary","PK - 06"]
[29,"Franconia Elementary","PK - 06"]
[29,"Franklin Middle","07 - 08"]
[29,"Freedom Hill Elementary","PK - 06"]
[29,"Frost Middle","07 - 08"]
[29,"Garfield Elementary","PK - 06"]
[29,"Glasgow Middle","06 - 08"]
[29,"Glen Forest Elementary","PK - 05"]
[29,"Graham Road Elementary","PK - 06"]
[29,"Great Falls Elementary","PK - 06"]
[29,"Greenbriar East Elementary","PK - 06"]
[29,"Greenbriar West Elementary","PK - 06"]
[29,"Groveton Elementary","PK - 06"]
[29,"Gunston Elementary","PK - 06"]
[29,"Halley Elementary","PK - 06"]
[29,"Haycock Elementary","PK - 06"]
[29,"Hayfield Elementary","PK - 06"]
[29,"Hayfield High","09 - 12"]
[29,"Hayfield Middle","07 - 08"]
[29,"Herndon Elementary","PK - 06"]
[29,"Herndon High","09 - 12"]
[29,"Herndon Middle","07 - 08"]
[29,"Hollin Meadows Elementary","PK - 06"]
[29,"Holmes Middle","06 - 08"]
[29,"Hughes Middle","07 - 08"]
[29,"Hunt Valley Elementary","PK - 06"]
[29,"Hunters Woods Elementary School for the Arts and Sciences","PK - 06"]
[29,"Hutchison Elementary","PK - 06"]
[29,"Hybla Valley Elementary","PK - 06"]
[29,"Irving Middle","07 - 08"]
[29,"Island Creek Elementary","PK - 06"]
[29,"Jackson Middle","07 - 08"]
[29,"Johnson Middle","07 - 08"]
[29,"Justice High","09 - 12"]
[29,"Keene Mill Elementary","PK - 06"]
[29,"Kent Gardens Elementary","PK - 06"]
[29,"Key Center ","PK - 12"]
[29,"Key Middle","07 - 08"]
[29,"Kilmer Center","PK - 12"]
[29,"Kilmer Middle","07 - 08"]
[29,"Kings Glen Elementary","04 - 06"]
[29,"Kings Park Elementary","PK - 03"]
[29,"Lake Anne Elementary","PK - 06"]
[29,"Lake Braddock High","09 - 12"]
[29,"Lake Braddock Middle","07 - 08"]
[29,"Lane Elementary","PK - 06"]
[29,"Langley High","09 - 12"]
[29,"Laurel Hill Elementary","PK - 06"]
[29,"Laurel Ridge Elementary","PK - 06"]
[29,"Lees Corner Elementary","PK - 06"]
[29,"Lemon Road Elementary","PK - 06"]
[29,"Lewis High","09 - 12"]
[29,"Liberty Middle","07 - 08"]
[29,"Little Run Elementary","PK - 06"]
[29,"London Towne Elementary","PK - 06"]
[29,"Longfellow Middle","07 - 08"]
[29,"Lorton Station Elementary","PK - 06"]
[29,"Lynbrook Elementary","PK - 06"]
[29,"Madison High","09 - 12"]
[29,"Mantua Elementary","PK - 06"]
[29,"Marshall High","09 - 12"]
[29,"Marshall Road Elementary","PK - 06"]
[29,"Mason Crest Elementary","PK - 05"]
[29,"McLean High","09 - 12"]
[29,"McNair Elementary","PK - 02"]
[29,"McNair Upper Elementary","03 - 06"]
[29,"Mosaic Elementary","PK - 06"]
[29,"Mount Eagle Elementary","PK - 06"]
[29,"Mount Vernon High","09 - 12"]
[29,"Mount Vernon Woods Elementary","PK - 06"]
[29,"Mountain View High","09 - 12"]
[29,"Navy Elementary","PK - 06"]
[29,"Newington Forest Elementary","PK - 06"]
[29,"North Springfield Elementary","PK - 05"]
[29,"Oak Hill Elementary","PK - 06"]
[29,"Oak View Elementary","PK - 06"]
[29,"Oakton Elementary","PK - 06"]
[29,"Oakton High","09 - 12"]
[29,"Olde Creek Elementary","PK - 06"]
[29,"Orange Hunt Elementary","PK - 06"]
[29,"Parklawn Elementary","PK - 05"]
[29,"Pimmit E.C. Resource Ctr.","PK - PK"]
[29,"Pine Spring Elementary","PK - 06"]
[29,"Poe Middle","06 - 08"]
[29,"Poplar Tree Elementary","PK - 06"]
[29,"Powell Elementary","PK - 06"]
[29,"Providence Elementary","PK - 06"]
[29,"Ravensworth Elementary","PK - 06"]
[29,"Riverside Elementary","PK - 06"]
[29,"Robinson Secondary","07 - 12"]
[29,"Rocky Run Middle","07 - 08"]
[29,"Rolling Valley Elementary","PK - 06"]
[29,"Rose Hill Elementary","PK - 06"]
[29,"Sandburg Middle","07 - 08"]
[29,"Sangster Elementary","PK - 06"]
[29,"Saratoga Elementary","PK - 06"]
[29,"Sherman Elementary","PK - 06"]
[29,"Shrevewood Elementary","PK - 06"]
[29,"Silverbrook Elementary","PK - 06"]
[29,"Sleepy Hollow Elementary","PK - 05"]
[29,"South County High","09 - 12"]
[29,"South County Middle","07 - 08"]
[29,"South Lakes High","09 - 12"]
[29,"Spring Hill Elementary","PK - 06"]
[29,"Springfield Estates Elementary","PK - 06"]
[29,"Stenwood Elementary","PK - 06"]
[29,"Stone Middle","07 - 08"]
[29,"Stratford Landing Elementary","PK - 06"]
[29,"Sunrise Valley Elementary","PK - 06"]
[29,"Terra Centre Elementary","PK - 06"]
[29,"Terraset Elementary","PK - 06"]
[29,"Thomas Jefferson High for Science and Technology","09 - 12"]
[29,"Thoreau Middle","07 - 08"]
[29,"Timber Lane Elementary","PK - 06"]
[29,"Twain Middle","07 - 08"]
[29,"Union Mill Elementary","PK - 06"]
[29,"Vienna Elementary","PK - 06"]
[29,"Virginia Hills E.C. Resource Ctr.","PK - PK"]
[29,"Virginia Run Elementary","PK - 06"]
[29,"Wakefield Forest Elementary","PK - 06"]
[29,"Waples Mill Elementary","PK - 06"]
[29,"Washington Mill Elementary","PK - 06"]
[29,"Waynewood Elementary","PK - 06"]
[29,"West Potomac High","09 - 12"]
[29,"West Springfield Elementary","PK - 06"]
[29,"West Springfield High","09 - 12"]
[29,"Westbriar Elementary","PK - 06"]
[29,"Westfield High","09 - 12"]
[29,"Westgate Elementary","PK - 06"]
[29,"Westlawn Elementary","PK - 06"]
[29,"Weyanoke Elementary","PK - 05"]
[29,"White Oaks Elementary","PK - 06"]
[29,"Whitman Middle","07 - 08"]
[29,"Willow Springs Elementary","PK - 06"]
[29,"Wolftrap Elementary","PK - 06"]
[29,"Woodburn Elementary","PK - 06"]
[29,"Woodlawn Elementary","PK - 06"]
[29,"Woodley Hills Elementary","PK - 06"]
[29,"Woodson High","09 - 12"]
[30,"Auburn Middle","06 - 08"]
[30,"C. Hunter Ritchie Elementary","PK - 05"]
[30,"C.M. Bradley Elementary","PK - 05"]
[30,"Cedar Lee Middle","06 - 08"]
[30,"Claude Thompson Elementary","PK - 05"]
[30,"Fauquier High","09 - 12"]
[30,"Grace Miller Elementary","PK - 05"]
[30,"Greenville Elementary","PK - 05"]
[30,"H.M. Pearson Elementary","PK - 05"]
[30,"James G. Brumfield Elementary","PK - 05"]
[30,"Kettle Run High","09 - 12"]
[30,"Liberty High","09 - 12"]
[30,"Margaret M. Pierce Elementary","PK - 05"]
[30,"Marshall Middle","06 - 08"]
[30,"Mary Walter Elementary","PK - 05"]
[30,"P.B. Smith Elementary","PK - 05"]
[30,"W.C. Taylor Middle","06 - 08"]
[30,"W.G. Coleman Elementary","PK - 05"]
[30,"Warrenton Middle","06 - 08"]
[31,"Check Elementary","PK - 07"]
[31,"Floyd County High","08 - 12"]
[31,"Floyd Elementary","PK - 07"]
[31,"Indian Valley Elementary","KG - 07"]
[31,"Willis Elementary","PK - 07"]
[32,"Carysbrook Elementary","03 - 04"]
[32,"Central Elementary","01 - 02"]
[32,"Fluvanna County High","08 - 12"]
[32,"Fluvanna Middle","05 - 07"]
[32,"West Central Primary School","PK - KG"]
[33,"Benjamin Franklin Middle-East","06 - 06"]
[33,"Benjamin Franklin Middle-West","07 - 08"]
[33,"Boones Mill Elementary","PK - 05"]
[33,"Burnt Chimney Elementary","PK - 05"]
[33,"Callaway Elementary","PK - 05"]
[33,"Dudley Elementary","PK - 05"]
[33,"Ferrum Elementary","PK - 05"]
[33,"Franklin County High","09 - 12"]
[33,"Gereau Center for Applied Technology & Career Exploration","08 - 08"]
[33,"Glade Hill Elementary","PK - 05"]
[33,"Lee M. Waid Elementary","PK - 05"]
[33,"Rocky Mount Elementary","PK - 05"]
[33,"Snow Creek Elementary","PK - 05"]
[33,"Sontag Elementary","PK - 05"]
[33,"Windy Gap Elementary","PK - 05"]
[34,"Admiral Richard E. Byrd Middle","06 - 08"]
[34,"Apple Pie Ridge Elementary","KG - 05"]
[34,"Armel Elementary","KG - 05"]
[34,"Bass-Hoover Elementary","KG - 05"]
[34,"Evendale Elementary","KG - 05"]
[34,"Frederick County Middle","06 - 08"]
[34,"Gainesboro Elementary","KG - 05"]
[34,"Greenwood Mill Elementary","KG - 05"]
[34,"Indian Hollow Elementary","KG - 05"]
[34,"James Wood High","09 - 12"]
[34,"James Wood Middle","06 - 08"]
[34,"Jordan Springs Elementary ","KG - 05"]
[34,"Middletown Elementary","KG - 05"]
[34,"Millbrook High","09 - 12"]
[34,"Orchard View Elementary","KG - 05"]
[34,"Redbud Run Elementary","KG - 05"]
[34,"Robert E. Aylor Middle","06 - 08"]
[34,"Sherando High","09 - 12"]
[34,"Stonewall Elementary","KG - 05"]
[35,"Eastern Elementary/Middle","PK - 07"]
[35,"Giles High","08 - 12"]
[35,"Macy Mcclaugherty Elementary/Middle","PK - 07"]
[35,"Narrows Elementary/Middle","PK - 07"]
[35,"Narrows High","08 - 12"]
[36,"Abingdon Elementary","PK - 05"]
[36,"Achilles Elementary","PK - 05"]
[36,"Bethel Elementary","PK - 05"]
[36,"Botetourt Elementary","PK - 05"]
[36,"Gloucester High","09 - 12"]
[36,"Page Middle","06 - 08"]
[36,"Peasley Middle","06 - 08"]
[36,"Petsworth Elementary","PK - 05"]
[37,"Byrd Elementary","PK - 05"]
[37,"Goochland Elementary","PK - 05"]
[37,"Goochland High","09 - 12"]
[37,"Goochland Middle","06 - 08"]
[37,"Randolph Elementary","PK - 05"]
[38,"Fairview Elementary","KG - 05"]
[38,"Fries School","PK - 07"]
[38,"Grayson County High","09 - 12"]
[38,"Grayson Highlands School","PK - 07"]
[38,"Independence Elementary","KG - 05"]
[38,"Independence Middle","06 - 08"]
[39,"Nathanael Greene Elementary","03 - 05"]
[39,"Nathanael Greene Primary","PK - 02"]
[39,"Ruckersville Elementary","KG - 05"]
[39,"William Monroe High","09 - 12"]
[39,"William Monroe Middle","06 - 08"]
[40,"Edward W. Wyatt Middle","05 - 08"]
[40,"Greensville County High","09 - 12"]
[40,"Greensville Elementary","PK - 05"]
[41,"Clays Mill Elementary","KG - 05"]
[41,"Cluster Springs Elementary","KG - 05"]
[41,"Halifax County High","09 - 12"]
[41,"Halifax County Middle","06 - 08"]
[41,"Meadville Elementary","KG - 05"]
[41,"Scottsburg Elementary","KG - 05"]
[41,"Sinai Elementary","KG - 05"]
[41,"South Boston Elementary","KG - 05"]
[41,"South Boston/Halifax Early Learning Center","PK - PK"]
[41,"Sydnor Jennings Elementary","KG - 05"]
[42,"Ashland Elementary ","KG - 05"]
[42,"Atlee High","09 - 12"]
[42,"Battlefield Park Elementary","PK - 05"]
[42,"Beaverdam Elementary","PK - 05"]
[42," Bell Creek Middle","06 - 08"]
[42,"Chickahominy Middle","06 - 08"]
[42,"Cold Harbor Elementary","PK - 05"]
[42,"Cool Spring Elementary","PK - 05"]
[42,"Elmont Elementary","PK - 05"]
[42,"Hanover High","09 - 12"]
[42,"Kersey Creek Elementary","PK - 05"]
[42,"Laurel Meadow Elementary","PK - 05"]
[42,"Liberty Middle","06 - 08"]
[42,"Mechanicsville Elementary","PK - 05"]
[42,"Mechanicsville High","09 - 12"]
[42,"Oak Knoll Middle","06 - 08"]
[42,"Patrick Henry High","09 - 12"]
[42,"Pearson's Corner Elementary","PK - 05"]
[42,"Pole Green Elementary","PK - 05"]
[42,"Rural Point Elementary","PK - 05"]
[42,"South Anna Elementary","PK - 05"]
[42,"Washington-Henry Elementary","PK - 05"]
[43,"Anthony P. Mehfoud Elementary","PK - 02"]
[43,"Arthur Ashe Jr. Elementary","PK - 05"]
[43,"Brookland Middle","06 - 08"]
[43,"Cashell Donahoe Elementary","PK - 05"]
[43,"Chamberlayne Elementary","PK - 05"]
[43,"Charles M. Johnson Elementary","PK - 05"]
[43,"Colonial Trail Elementary","KG - 05"]
[43,"Crestview Elementary","PK - 05"]
[43,"David A. Kaechele Elementary","PK - 05"]
[43,"Deep Run High","09 - 12"]
[43,"Douglas S. Freeman High","09 - 12"]
[43,"Dumbarton Elementary","PK - 05"]
[43,"Echo Lake Elementary","PK - 05"]
[43,"Elizabeth Holladay Elementary","PK - 05"]
[43,"Elko Middle","06 - 08"]
[43,"Fair Oaks Elementary","PK - 05"]
[43,"Fairfield Middle","06 - 08"]
[43,"Gayton Elementary","PK - 05"]
[43,"George F. Baker Elementary","PK - 05"]
[43,"George H. Moody Middle","06 - 08"]
[43,"Glen Allen Elementary","PK - 05"]
[43,"Glen Allen High","09 - 12"]
[43,"Glen Lea Elementary","PK - 05"]
[43,"Greenwood Elementary","PK - 05"]
[43,"Harold Macon Ratcliffe Elementary","PK - 05"]
[43,"Harvie Elementary","KG - 05"]
[43,"Henrico High","09 - 12"]
[43,"Henry D. Ward Elementary","PK - 05"]
[43,"Hermitage High","09 - 12"]
[43,"Highland Springs Elementary","PK - 05"]
[43,"Highland Springs High","09 - 12"]
[43,"Holman Middle","06 - 08"]
[43,"Hungary Creek Middle","06 - 08"]
[43,"Jackson Davis Elementary","PK - 05"]
[43,"Jacob L. Adams Elementary","PK - 05"]
[43,"John Randolph Tucker High","09 - 12"]
[43,"John Rolfe Middle","06 - 08"]
[43,"L. Douglas Wilder Middle","06 - 08"]
[43,"Laburnum Elementary","PK - 05"]
[43,"Lakeside Elementary","PK - 05"]
[43,"Longdale Elementary","PK - 05"]
[43,"Maude Trevvett Elementary","PK - 05"]
[43,"Maybeury Elementary","PK - 05"]
[43,"Mills E. Godwin High","09 - 12"]
[43,"Montrose Elementary","PK - 05"]
[43,"Nuckols Farm Elementary","PK - 05"]
[43,"Pemberton Elementary","PK - 05"]
[43,"Pinchbeck Elementary","PK - 05"]
[43,"Pocahontas Middle","06 - 08"]
[43,"Quioccasin Middle","06 - 08"]
[43,"R.C. Longan Elementary","PK - 05"]
[43,"Ridge Elementary","PK - 05"]
[43,"Rivers Edge Elementary","PK - 05"]
[43,"Ruby F. Carver Elementary","PK - 05"]
[43,"Sandston Elementary","PK - 05"]
[43,"Seven Pines Elementary","PK - 05"]
[43,"Shady Grove Elementary","PK - 05"]
[43,"Short Pump Elementary","PK - 05"]
[43,"Short Pump Middle","06 - 08"]
[43,"Skipwith Elementary","PK - 05"]
[43,"Springfield Park Elementary","PK - 05"]
[43,"Three Chopt Elementary","PK - 05"]
[43,"Tuckahoe Elementary","PK - 05"]
[43,"Tuckahoe Middle","06 - 08"]
[43,"Twin Hickory Elementary","PK - 05"]
[43,"Varina Elementary","03 - 05"]
[43,"Varina High","09 - 12"]
[44,"Axton Elementary","PK - 05"]
[44,"Bassett High","09 - 12"]
[44,"Campbell Court Elementary","PK - 05"]
[44,"Drewry Mason Elementary","PK - 05"]
[44,"Fieldale-Collinsville Middle","06 - 08"]
[44,"G. W. Carver Elementary","PK - 05"]
[44,"Laurel Park Middle","06 - 08"]
[44,"Magna Vista High","09 - 12"]
[44,"Meadow View Elementary","PK - 05"]
[44,"Mount Olivet Elementary","PK - 05"]
[44,"Rich Acres Elementary","PK - 05"]
[44,"Sanville Elementary","PK - 05"]
[44,"Stanleytown Elementary","PK - 05"]
[45,"Highland Elementary","PK - 05"]
[45,"Highland High","06 - 12"]
[46,"Carrollton Elementary","PK - 03"]
[46,"Carrsville Elementary","PK - 05"]
[46,"Georgie D. Tyler Middle","06 - 08"]
[46,"Hardy Elementary","PK - 04"]
[46,"Smithfield High","09 - 12"]
[46,"Smithfield Middle","07 - 08"]
[46,"Westside Elementary","04 - 06"]
[46,"Windsor Elementary","PK - 05"]
[46,"Windsor High","09 - 12"]
[48,"King George Elementary","KG - 06"]
[48,"King George High","09 - 12"]
[48,"King George Middle","07 - 08"]
[48,"Potomac Elementary","KG - 06"]
[48,"Sealston Elementary","KG - 06"]
[49,"Central High","07 - 12"]
[49,"King & Queen Elementary","PK - 06"]
[49,"Lawson-Marriott Elementary","PK - 06"]
[50,"Acquinton Elementary","03 - 05"]
[50,"Cool Spring Primary","PK - 02"]
[50,"Hamilton Holmes Middle","06 - 08"]
[50,"King William High","09 - 12"]
[51,"Lancaster High","09 - 12"]
[51,"Lancaster Elementary","PK - 07"]
[52,"Dryden Elementary","PK - 05"]
[52,"Elk Knob Elementary","PK - 05"]
[52,"Elydale Elementary","05 - 07"]
[52,"Flatwoods Elementary","PK - 05"]
[52,"Jonesville Middle","06- 08"]
[52,"Lee High","08 - 12"]
[52,"Pennington Middle","06- 08"]
[52,"Rose Hill Elementary","PK - 04"]
[52,"St. Charles Elementary","PK - 05"]
[52,"Thomas Walker High","08 - 12"]
[53,"Aldie Elementary","PK - 05"]
[53,"Algonkian Elementary","PK - 05"]
[53,"Arcola Elementary","PK - 05"]
[53,"Ashburn Elementary","PK - 05"]
[53,"Ball's Bluff Elementary","PK - 05"]
[53,"Banneker Elementary","PK - 05"]
[53,"Belmont Ridge Middle","06 - 08"]
[53,"Belmont Station Elementary","PK - 05"]
[53,"Blue Ridge Middle","06 - 08"]
[53,"Brambleton Middle","06 - 08"]
[53,"Briar Woods High","09 - 12"]
[53,"Broad Run High","09 - 12"]
[53,"Buffalo Trail Elementary","PK - 05"]
[53,"Cardinal Ridge Elementary","PK - 05"]
[53,"Catoctin Elementary","PK - 05"]
[53,"Cedar Lane Elementary","PK - 05"]
[53,"Cool Spring Elementary","PK - 05"]
[53,"Countryside Elementary","PK - 05"]
[53,"Creighton's Corner Elementary","PK - 05"]
[53,"Discovery Elementary School","PK - 05"]
[53,"Dominion High","PK - 12"]
[53,"Dominion Trail Elementary","PK - 05"]
[53,"Eagle Ridge Middle","06 - 08"]
[53,"Elaine E. Thompson Elementary","03 - 05"]
[53,"Emerick Elementary","PK - 05"]
[53,"Evergreen Mill Elementary","PK - 05"]
[53,"Farmwell Station Middle","06 - 08"]
[53,"Forest Grove Elementary","PK - 05"]
[53,"Frederick Douglass Elementary","PK - 05"]
[53,"Freedom High","09 - 12"]
[53,"Goshen Post Elementary","PK - 05"]
[53,"Guilford Elementary","PK - 05"]
[53,"Gum Spring Middle","06 - 07"]
[53,"Hamilton Elementary","PK - 05"]
[53,"Harmony Middle","06 - 08"]
[53,"Harper Park Middle","06 - 08"]
[53,"Henrietta Lacks Elementary","K - 02"]
[53,"Heritage High","PK - 12"]
[53,"Hillsboro Charter Academy","PK - 05"]
[53,"Hillside Elementary","PK - 05"]
[53,"Horizon Elementary","PK - 05"]
[53,"Hovatter Elementary","PK - 05"]
[53,"Hutchison Farm Elementary","PK - 05"]
[53,"Independence High","09 - 12"]
[53,"J. Lupton Simpson Middle","06 - 08"]
[53,"J. Michael Lunsford Middle","06 - 08"]
[53,"John Champe High School","10 - 12"]
[53,"John W. Tolbert Jr. Elementary","PK - 05"]
[53,"Kenneth W.Culbert Elementary","PK - 05"]
[53,"Leesburg Elementary","PK - 05"]
[53,"Legacy Elementary","PK - 05"]
[53,"Liberty Elementary","PK - 05"]
[53,"Lightridge High","09 - 12"]
[53,"Lincoln Elementary","PK - 05"]
[53,"Little River Elementary","PK - 05"]
[53,"Loudoun County High","09 - 12"]
[53,"Loudoun Valley High","09 - 12"]
[53,"Lovettsville Elementary","PK - 05"]
[53,"Lowes Island Elementary","PK - 05"]
[53,"Lucketts Elementary","PK - 05"]
[53,"Madison's Trust Elementary","PK - 05"]
[53,"Meadowland Elementary","PK - 05"]
[53,"Middleburg Community Charter","KG - 05"]
[53,"Mill Run Elementary","PK - 05"]
[53,"Moorefield Station Elementary ","PK - 05"]
[53,"Mountain View Elementary","PK - 05"]
[53,"Newton-Lee Elementary","PK - 05"]
[53,"Park View High","09 - 12"]
[53,"Pinebrook Elementary","PK - 05"]
[53,"Potomac Falls High","09 - 12"]
[53,"Potowmack Elementary","PK - 05"]
[53,"Richard and Mildred Loving Elementary","PK - 05"]
[53,"River Bend Middle","06 - 08"]
[53,"Riverside High","09 - 12"]
[53,"Rock Ridge High","PK - 12"]
[53,"Rolling Ridge Elementary","PK - 05"]
[53,"Rosa Lee Carter Elementary","PK - 05"]
[53,"Round Hill Elementary","PK - 05"]
[53,"Sanders Corner Elementary","PK - 05"]
[53,"Seldens Landing Elementary","PK - 05"]
[53,"Seneca Ridge Middle","06 - 08"]
[53,"Smart's Mill Middle","06 - 08"]
[53,"Sterling Elementary","PK - 05"]
[53,"Sterling Middle","06 - 08"]
[53,"Steuart W. Weller Elementary","PK - 05"]
[53,"Stone Bridge High","09 - 12"]
[53,"Stone Hill Middle","06 - 08"]
[53,"Sugarland Elementary","PK - 05"]
[53,"Sully Elementary","PK - 05"]
[53,"Sycolin Creek Elementary","PK - 05"]
[53,"Trailside Middle","06 - 08"]
[53,"Tuscarora High","PK- 12"]
[53,"Waterford Elementary","PK - 05"]
[53,"Watson Mountain Middle ","06 - 08"]
[53,"Waxpool Elementary","PK - 05"]
[53,"Willard Middle","06 - 08"]
[53,"William Obediah Robey High","09 - 12"]
[53,"Woodgrove High","PK- 12"]
[54,"Jouett Elementary","PK - 05"]
[54,"Louisa County High","09 - 12"]
[54,"Louisa County Middle","06 - 08"]
[54,"Moss-Nuckols Elementary","PK - 05"]
[54,"Thomas Jefferson Elementary","PK - 05"]
[54,"Trevilians Elementary","PK - 05"]
[55,"Central High","09 - 12"]
[55,"Kenbridge Elementary","PK - 05"]
[55,"Lunenburg Middle","06 - 08"]
[55,"Victoria Elementary","KG - 05"]
[56,"Madison County High","09 - 12"]
[56,"Madison Primary","PK - 02"]
[56,"Waverly Yowell Elementary","03 - 05"]
[56,"William H. Wetsel Middle","06 - 08"]
[57,"Mathews Elementary","PK - 05"]
[57,"Mathews High","08 - 12"]
[57,"Thomas Hunter Middle","06 - 07"]
[58,"Chase City Elementary","PK - 05"]
[58,"Clarksville Elementary","PK - 05"]
[58,"LaCrosse Elementary","PK - 05"]
[58,"Mecklenburg High","09 - 12"]
[58,"Mecklenburg Middle","06 - 08"]
[58,"South Hill Elementary","PK - 05"]
[59,"Middlesex Elementary","PK - 05"]
[59,"Middlesex High","09 - 12"]
[59,"St. Clare Walker Middle","06 - 08"]
[60,"Auburn Elementary","PK - 05"]
[60,"Auburn High","09 - 12"]
[60,"Auburn Middle","06 - 08"]
[60,"Belview Elementary","PK - 05"]
[60,"Blacksburg High","09 - 12"]
[60,"Blacksburg Middle","06 - 08"]
[60,"Christiansburg Elementary","03 - 05"]
[60,"Christiansburg High","09 - 12"]
[60,"Christiansburg Middle","06 - 08"]
[60,"Christiansburg Primary","PK - 02"]
[60,"Eastern Montgomery Elementary","PK - 05"]
[60,"Eastern Montgomery High","09 - 12"]
[60,"Falling Branch Elementary","PK - 05"]
[60,"Gilbert Linkous Elementary","PK - 05"]
[60,"Harding Avenue Elementary","KG - 05"]
[60,"Kipps Elementary","KG - 05"]
[60,"Margaret Beeks Elementary","PK - 05"]
[60,"Prices Fork Elementary","PK - 05"]
[60,"Shawsville Middle","06 - 08"]
[62,"Nelson County High","09 - 12"]
[62,"Nelson Middle","06 - 08"]
[62,"Rockfish River Elementary","PK - 05"]
[62,"Tye River Elementary","PK - 05"]
[63,"George W. Watkins Elementary","PK - 05"]
[63,"New Kent Elementary","PK - 05"]
[63,"New Kent High","09 - 12"]
[63,"New Kent Middle","06 - 08"]
[65,"Kiptopeke Elementary","PK - 06"]
[65,"Northampton High","09 - 12"]
[65,"Northampton Middle","07 - 08"]
[65,"Occohannock Elementary","PK - 06"]
[66,"Northumberland Elementary","PK - 05"]
[66,"Northumberland High","09 - 12"]
[66,"Northumberland Middle","06 - 08"]
[67,"Blackstone Primary","PK - 04"]
[67,"Crewe Primary","PK - 04"]
[67,"Nottoway High","09 - 12"]
[67,"Nottoway Intermediate","05 - 06"]
[67,"Nottoway Middle","07 - 08"]
[68,"Gordon Barbour Elementary","KG - 05"]
[68,"Lightfoot Elementary","03 - 05"]
[68,"Locust Grove Elementary","03 - 05"]
[68,"Locust Grove Middle","06 - 08"]
[68,"Locust Grove Primary School","KG - 02"]
[68,"Orange County High","09 - 12"]
[68,"Orange Elementary","KG - 05"]
[68,"Prospect Heights Middle","06 - 08"]
[68,"Unionville Elementary","KG - 02"]
[69,"Luray Elementary","PK - 05"]
[69,"Luray High","09 - 12"]
[69,"Luray Middle","06 - 08"]
[69,"Page County High","09 - 12"]
[69,"Page County Middle","06 - 08"]
[69,"Shenandoah Elementary","PK - 05"]
[69,"Springfield Elementary","PK - 05"]
[69,"Stanley Elementary","PK - 05"]
[70,"Blue Ridge Elementary","PK - 07"]
[70,"Hardin Reynolds Elementary","04 - 07"]
[70,"Meadows of Dan Elementary","KG - 07"]
[70,"Patrick County High","08 - 12"]
[70,"Patrick Springs Elementary","PK - 03"]
[70,"Stuart Elementary","PK - 07"]
[70,"Woolwine Elementary","PK - 07"]
[71,"Brosville Elementary","PK - 05"]
[71,"Chatham Elementary","PK - 05"]
[71,"Chatham High","09 - 12"]
[71,"Chatham Middle","06 - 08"]
[71,"Dan River High","09 - 12"]
[71,"Dan River Middle","06 - 08"]
[71,"Gretna Elementary","PK - 05"]
[71,"Gretna High","09 - 12"]
[71,"Gretna Middle","06 - 08"]
[71,"John L. Hurt Elementary","PK - 05"]
[71,"Kentuck Elementary","PK - 05"]
[71,"Mount Airy Elementary","PK - 05"]
[71,"Southside Elementary","PK - 05"]
[71,"Stony Mill Elementary","PK - 05"]
[71,"Tunstall High","09 - 12"]
[71,"Tunstall Middle","06 - 08"]
[71,"Twin Springs Elementary","PK - 05"]
[71,"Union Hall Elementary","PK - 05"]
[72,"Flat Rock Elementary","PK - 05"]
[72,"Pocahontas Elementary","KG - 05"]
[72,"Powhatan Elementary","KG - 05"]
[72,"Powhatan High","09 - 12"]
[72,"Powhatan Middle","06 - 08"]
[73,"Prince Edward County High","09 - 12"]
[73,"Prince Edward Elementary","PK - 04"]
[73,"Prince Edward Middle","05 - 08"]
[74,"David A. Harrison Elementary","PK - 05"]
[74,"J.E.J. Moore Middle","06 - 08"]
[74,"L.L. Beazley Elementary","PK - 05"]
[74,"North Elementary","PK - 05"]
[74,"Middle Road Elementary","PK - 05"]
[74,"Prince George High","09 - 12"]
[74,"South Elementary","PK - 05"]
[75,"A. Henderson Elementary","PK - 05"]
[75,"Antietam Elementary","PK - 05"]
[75,"Ashland Elementary","PK - 05"]
[75,"Battlefield High","09 - 12"]
[75,"Bel Air Elementary","PK - 05"]
[75,"Belmont Elementary","PK - 05"]
[75,"Bennett Elementary","PK - 05"]
[75,"Brentsville District High","09 - 12"]
[75,"Bristow Run Elementary","PK - 05"]
[75,"Buckland Mills Elementary","PK - 05"]
[75,"Bull Run Middle","06 - 08"]
[75,"C.A. Sinclair Elementary","PK - 05"]
[75,"C.D. Hylton High","09 - 12"]
[75,"Cedar Point Elementary","PK - 05"]
[75,"Charles J. Colgan Sr. High","09 - 12"]
[75,"Chris Yung Elementary","PK - 05"]
[75,"Coles Elementary","PK - 05"]
[75,"Covington-Harper Elementary","PK - 05"]
[75,"Dale City Elementary","PK - 05"]
[75,"Dumfries Elementary","PK - 05"]
[75,"E.H. Marsteller Middle","06 - 08"]
[75,"Elizabeth Vaughan Elementary","PK - 05"]
[75,"Enterprise Elementary","PK - 05"]
[75,"Fannie W. Fitzgerald Elementary","PK - 05"]
[75,"Featherstone Elementary","PK - 05"]
[75,"Forest Park High","09 - 12"]
[75,"Fred M. Lynn Middle","06 - 08"]
[75,"Freedom High","09 - 12"]
[75,"Gainesville Middle","06 - 08"]
[75,"Gainesville High","09 - 12"]
[75,"Gar-Field High","09 - 12"]
[75,"George G. Tyler Elementary","PK - 05"]
[75,"George M. Hampton Middle","06 - 08"]
[75,"George P. Mullen Elementary","PK - 05"]
[75,"Glenkirk Elementary","PK - 05"]
[75,"Graham Park Middle","06 - 08"]
[75,"Haymarket Elementary","PK - 05"]
[75,"Herbert J. Saunders Middle","06 - 08"]
[75,"Innovation Elementary","K - 05"]
[75,"J.W. Alvey Elementary","PK - 05"]
[75,"John F. Pattie Sr. Elementary","PK - 05"]
[75,"John Jenkins Elementary","PK - 05"]
[75,"Kerrydale Elementary","PK - 05"]
[75,"Kyle R. Wilson Elementary","PK - 05"]
[75,"Lake Ridge Elementary","PK - 05"]
[75,"Lake Ridge Middle","06 - 08"]
[75,"Leesylvania Elementary","PK - 05"]
[75,"Loch Lomond Elementary","PK - 05"]
[75,"Louise A. Benton Middle","06 - 08"]
[75,"Martin Luther King Jr. Elementary","PK - 05"]
[75,"Marumsco Hills Elementary","PK - 05"]
[75,"Mary G. Porter Traditional","01 - 08"]
[75,"Mary Williams Elementary","PK - 05"]
[75,"Minnieville Elementary","PK - 05"]
[75,"Montclair Elementary","PK - 05"]
[75,"Mountain View Elementary","PK - 05"]
[75,"Neabsco Elementary","PK - 05"]
[75,"Occoquan Elementary","PK - 05"]
[75,"Old Bridge Elementary","PK - 05"]
[75,"Osbourn Park High","09 - 12"]
[75,"Parkside Middle","06 - 08"]
[75,"Patriot High","09 - 12"]
[75,"Pennington School","01 - 08"]
[75,"Piney Branch Elementary","PK - 05"]
[75,"Potomac High","09 - 12"]
[75,"Potomac Middle","06 - 08"]
[75,"Potomac View Elementary","PK - 05"]
[75,"R. Dean Kilby Elementary","PK - 05"]
[75,"Rippon Middle","06 - 08"]
[75,"River Oaks Elementary","PK - 05"]
[75,"Rockledge Elementary","PK - 05"]
[75,"Ronald Wilson Reagan Middle","06 - 08"]
[75,"Rosa Parks Elementary","PK - 05"]
[75,"Samuel L. Gravely Jr. Elementary","PK - 05"]
[75,"Sharon C. McAuliffe Elementary","PK - 05"]
[75,"Signal Hill Elementary","PK - 05"]
[75,"Sonnie Penn Elementary","PK - 05"]
[75,"Springwoods Elementary","PK - 05"]
[75,"Stonewall Jackson High","09 - 12"]
[75,"Stuart M. Beville Middle","06 - 08"]
[75,"Sudley Elementary","PK - 05"]
[75,"Suella G. Ellis Elementary","PK - 05"]
[75,"Swans Creek Elementary","PK - 05"]
[75,"T. Clay Wood Elementary","PK - 05"]
[75,"The Nokesville School","KG - 08"]
[75,"Thurgood Marshall Elementary","PK - 05"]
[75,"Triangle Elementary","PK - 05"]
[75,"Unity Braxton Middle","06 - 08"]
[75,"Victory Elementary","PK - 05"]
[75,"West Gate Elementary","PK - 05"]
[75,"Westridge Elementary","PK - 05"]
[75,"Woodbine Pre-School Center","PK - PK"]
[75,"Woodbridge High","09 - 12"]
[75,"Woodbridge Middle","06 - 08"]
[75,"Yorkshire Elementary","PK - 05"]
[77,"Critzer Elementary","PK - 05"]
[77,"Dublin Elementary","PK - 05"]
[77,"Pulaski County Senior High","09 - 12"]
[77,"Pulaski Elementary","PK - 05"]
[77,"Pulaski Middle","06 - 08"]
[77,"Riverlawn Elementary","PK - 05"]
[77,"Snowville Elementary","PK - 05"]
[78,"Rappahannock County Elementary","PK - 07"]
[78,"Rappahannock County High","08 - 12"]
[79,"Rappahannock High","08 - 12"]
[79,"Richmond County Elementary","KG - 07"]
[80,"Back Creek Elementary","PK - 05"]
[80,"Bonsack Elementary","PK - 05"]
[80,"Burlington Elementary","PK - 05"]
[80,"Cave Spring Elementary","PK - 05"]
[80,"Cave Spring High","09 - 12"]
[80,"Cave Spring Middle","06 - 08"]
[80,"Clearbrook Elementary","PK - 05"]
[80,"Fort Lewis Elementary","PK - 05"]
[80,"Glen Cove Elementary","PK - 05"]
[80,"Glenvar Elementary","PK - 05"]
[80,"Glenvar High","09 - 12"]
[80,"Glenvar Middle","06 - 08"]
[80,"Green Valley Elementary","PK - 05"]
[80,"Herman L. Horn Elementary","PK - 05"]
[80,"Hidden Valley High","09 - 12"]
[80,"Hidden Valley Middle","06 - 08"]
[80,"Mason's Cove Elementary","PK - 05"]
[80,"Mount Pleasant Elementary","PK - 05"]
[80,"Mountain View Elementary","PK - 05"]
[80,"Northside High","09 - 12"]
[80,"Northside Middle","06 - 08"]
[80,"Oak Grove Elementary","PK - 05"]
[80,"Penn Forest Elementary","PK - 05"]
[80,"W.E. Cundiff Elementary","PK - 05"]
[80,"William Byrd High","09 - 12"]
[80,"William Byrd Middle","06 - 08"]
[81,"Central Elementary","PK - 05"]
[81,"Fairfield Elementary","PK - 05"]
[81,"Maury River Middle","06 - 08"]
[81,"Mountain View Elementary","KG - 05"]
[81,"Natural Bridge Elementary","PK - 05"]
[81,"Rockbridge County High","09 - 12"]
[82,"Broadway High","09 - 12"]
[82,"Cub Run Elementary","PK - 05"]
[82,"East Rockingham High","09 - 12"]
[82,"Elkton Elementary","PK - 05"]
[82,"Elkton Middle","06 - 08"]
[82,"Fulks Run Elementary","PK - 05"]
[82,"J. Frank Hillyard Middle","06 - 08"]
[82,"John C. Myers Elementary","PK - 05"]
[82,"John W. Wayland Elementary","PK - 05"]
[82,"Lacey Spring Elementary","PK - 05"]
[82,"Linville-Edom Elementary","PK - 05"]
[82,"McGaheysville Elementary","PK - 05"]
[82,"Montevideo Middle","06 - 08"]
[82,"Mountain View Elementary","PK - 05"]
[82,"Ottobine Elementary","PK - 05"]
[82,"Peak View Elementary","PK - 05"]
[82,"Plains Elementary","PK - 05"]
[82,"Pleasant Valley Elementary","PK - 05"]
[82,"River Bend Elementary","PK - 05"]
[82,"South River Elementary","PK - 05"]
[82,"Spotswood High","09 - 12"]
[82,"Turner Ashby High","09 - 12"]
[82,"Wilbur S. Pence Middle","06 - 08"]
[83,"Belfast Elk Garden Elementary","KG - 05"]
[83,"Castlewood Elementary","01 - 07"]
[83,"Castlewood High","08 - 12"]
[83,"Honaker Elementary","PK - 07"]
[83,"Honaker High","08 - 12"]
[83,"Lebanon Elementary","02 - 04"]
[83,"Lebanon High","08 - 12"]
[83,"Lebanon Middle","05 - 07"]
[83,"Lebanon Primary","PK - 01"]
[84,"Duffield-Pattonsville Primary","KG - 04"]
[84,"Dungannon Intermediate","04 - 07"]
[84,"Gate City High","09 - 12"]
[84,"Gate City Middle","07 - 08"]
[84,"Hilton Elementary","KG - 06"]
[84,"Nickelsville Elementary","KG - 07"]
[84,"Rye Cove High","08 - 12"]
[84,"Rye Cove Intermediate","05 - 07"]
[84,"Shoemaker Elementary","KG - 06"]
[84,"Twin Springs High","08 - 12"]
[84,"Weber City Elementary","KG - 06"]
[84,"Yuma Elementary","KG - 06"]
[85,"Ashby-Lee Elementary","PK - 05"]
[85,"Central High","09 - 12"]
[85,"North Fork Middle","05 - 07"]
[85,"Peter Muhlenberg Middle","06 - 08"]
[85,"Sandy Hook Elementary","PK - 05"]
[85,"Signal Knob Middle","06 - 08"]
[85,"Stonewall Jackson High","08 - 12"]
[85,"Strasburg High","09 - 12"]
[85,"W.W. Robinson Elementary","PK - 05"]
[86,"Atkins Elementary","PK - 05"]
[86,"Chilhowie Elementary","PK - 05"]
[86,"Chilhowie High","09 - 12"]
[86,"Chilhowie Middle","06 - 08"]
[86,"Marion Elementary","PK - 05"]
[86,"Marion Middle","06 - 08"]
[86,"Marion Senior High","09 - 12"]
[86,"Northwood High","09 - 12"]
[86,"Northwood Middle","06 - 08"]
[86,"Oak Point Elementary School","PK - 05"]
[86,"Rich Valley Elementary","PK - 05"]
[86,"Saltville Elementary","PK - 05"]
[86,"Sugar Grove Elementary","PK - 05"]
[87,"Capron Elementary","PK - 05"]
[87,"Meherrin Elementary","PK - 05"]
[87,"Nottoway Elementary","PK - 05"]
[87,"Riverdale Elementary","PK - 05"]
[87,"Southampton High","09 - 12"]
[87,"Southampton Middle","06 - 08"]
[88,"Battlefield Elementary","PK - 05"]
[88,"Battlefield Middle","06 - 08"]
[88,"Berkeley Elementary","PK - 05"]
[88,"Brock Road Elementary","PK - 05"]
[88,"Cedar Forest Elementary","PK - 05"]
[88,"Chancellor Elementary","PK - 05"]
[88,"Chancellor High","09 - 12"]
[88,"Chancellor Middle","06 - 08"]
[88,"Courthouse Road Elementary","PK - 05"]
[88,"Courtland Elementary","PK - 05"]
[88,"Courtland High","09 - 12"]
[88,"Freedom Middle","06 - 08"]
[88,"Harrison Road Elementary","PK - 05"]
[88,"Lee Hill Elementary","PK - 05"]
[88,"Livingston Elementary","PK - 05"]
[88,"Massaponax High","09 - 12"]
[88,"Ni River Middle","06 - 08"]
[88,"Parkside Elementary","PK - 05"]
[88,"Post Oak Middle","06 - 08"]
[88,"Riverbend High","09 - 12"]
[88,"Riverview Elementary","PK - 05"]
[88,"Salem Elementary","PK - 05"]
[88,"Smith Station Elementary","PK - 05"]
[88,"Spotswood Elementary","PK - 05"]
[88,"Spotsylvania Elementary","PK - 05"]
[88,"Spotsylvania High","09 - 12"]
[88,"Spotsylvania Middle","06 - 08"]
[88,"Thornburg Middle","06 - 08"]
[88,"Wilderness Elementary","PK - 05"]
[89,"Andrew G. Wright Middle","06 - 08"]
[89,"Anne E. Moncure Elementary","PK - 05"]
[89,"Anthony Burns Elementary","KG - 05"]
[89,"Brooke Point High","09 - 12"]
[89,"Colonial Forge High","09 - 12"]
[89,"Conway Elementary","PK - 05"]
[89,"Donald B. Dixon-Lyle R. Smith Middle","06 - 08"]
[89,"Edward E. Drew Jr. Middle","06 - 08"]
[89,"Falmouth Elementary","PK - 05"]
[89,"Ferry Farm Elementary","PK - 05"]
[89,"Garrisonville Elementary","PK - 05"]
[89,"Grafton Village Elementary","PK - 05"]
[89,"H.H. Poole Middle","06 - 08"]
[89,"Hampton Oaks Elementary","PK - 05"]
[89,"Hartwood Elementary","PK - 05"]
[89,"Kate Waller Barrett Elementary","PK - 05"]
[89,"Margaret Brent Elementary","PK - 05"]
[89,"Mountain View High","09 - 12"]
[89,"North Stafford High","09 - 12"]
[89,"Park Ridge Elementary","PK - 05"]
[89,"Rockhill Elementary","PK - 05"]
[89,"Rocky Run Elementary","PK - 05"]
[89,"Rodney E. Thompson Middle","06 - 08"]
[89,"Shirley C. Heim Middle","06 - 08"]
[89,"Stafford Elementary","PK - 05"]
[89,"Stafford Middle","06 - 08"]
[89,"Stafford Senior High","09 - 12"]
[89,"T. Benton Gayle Middle","06 - 08"]
[89,"Widewater Elementary","PK - 05"]
[89,"Winding Creek Elementary","PK - 05"]
[90,"Luther P. Jackson Middle","05 - 08"]
[90,"Surry County High","09 - 12"]
[90,"Surry Elementary","PK - 04"]
[91,"Sussex Central Elementary","PK - 05"]
[91,"Sussex Central High","09 - 12"]
[91,"Sussex Central Middle","06 - 08"]
[92,"Abb's Valley-Boissevain Elementary","PK - 05"]
[92,"Cedar Bluff Elementary","PK - 05"]
[92,"Dudley Primary","PK - 01"]
[92,"Graham High","09 - 12"]
[92,"Graham Intermediate","02 - 05"]
[92,"Graham Middle","06 - 08"]
[92,"Richlands Elementary","PK - 05"]
[92,"Richlands High","09 - 12"]
[92,"Richlands Middle","06 - 08"]
[92,"Tazewell Primary","PK - 02"]
[92,"Tazewell High","09 - 12"]
[92,"Tazewell Intermediate","03 - 05"]
[92,"Tazewell Middle","06 - 08"]
[93,"A.S. Rhodes Elementary","KG - 05"]
[93,"E. Wilson Morrison Elementary","KG - 05"]
[93,"Hilda J. Barbour Elementary","KG - 05"]
[93,"Leslie Fox Keyser Elementary","KG - 05"]
[93,"Ressie Jeffries Elementary","KG - 05"]
[93,"Skyline High","09 - 12"]
[93,"Skyline Middle","06 - 08"]
[93,"Warren County High","09 - 12"]
[93,"Warren County Middle","06 - 08"]
[94,"Abingdon Elementary","PK - 05"]
[94,"Abingdon High","09 - 12"]
[94,"Damascus Middle","06 - 08"]
[94,"E.B. Stanley Middle","06 - 08"]
[94,"Glade Spring Middle","06 - 08"]
[94,"Greendale Elementary","PK - 05"]
[94,"High Point Elementary","PK - 05"]
[94,"Holston High","09 - 12"]
[94,"John S. Battle High","09 - 12"]
[94,"Meadowview Elementary","PK - 05"]
[94,"Patrick Henry High","09 - 12"]
[94,"Rhea Valley Elementary","PK - 05"]
[94,"Valley Institute Elementary","PK - 05"]
[94,"Wallace Middle","06 - 08"]
[94,"Watauga Elementary","PK - 05"]
[95,"Cople Elementary","PK - 05"]
[95,"Montross Middle","06 - 08"]
[95,"Washington District Elementary","PK - 05"]
[95,"Westmoreland High","09 - 12"]
[96,"Central High","09 - 12"]
[96,"Coeburn Middle","05 - 08"]
[96,"Coeburn Primary","PK - 04"]
[96,"Eastside High","09 - 12"]
[96,"J.W. Adams Combined","PK - 08"]
[96,"L.F. Addington Middle","05 - 08"]
[96,"St. Paul Elementary","PK - 08"]
[96,"Union High","09 - 12"]
[96,"Union Middle","05 - 08"]
[96,"Union Primary","PK - 04"]
[96,"Wise Primary","PK - 04"]
[97,"Fort Chiswell High","09 - 12"]
[97,"Fort Chiswell Middle","06 - 08"]
[97,"George Wythe High","09 - 12"]
[97,"Jackson Memorial Elementary","PK - 05"]
[97,"Max Meadows Elementary","PK - 05"]
[97,"Rural Retreat Elementary","PK - 05"]
[97,"Rural Retreat High","09 - 12"]
[97,"Rural Retreat Middle","06 - 08"]
[97,"Scott Memorial Middle","06 - 08"]
[97,"Sheffey Elementary","PK - 05"]
[97,"Speedwell Elementary","PK - 05"]
[97,"Spiller Elementary","PK - 05"]
[98,"Bethel Manor Elementary","KG - 05"]
[98,"Bruton High","09 - 12"]
[98,"Coventry Elementary","KG - 05"]
[98,"Dare Elementary","KG - 05"]
[98,"Grafton Bethel Elementary","KG - 05"]
[98,"Grafton High","09 - 12"]
[98,"Grafton Middle","06 - 08"]
[98,"Magruder Elementary","KG - 05"]
[98,"Mount Vernon Elementary","PK - 05"]
[98,"Queens Lake Middle","06 - 08"]
[98,"Seaford Elementary","KG - 05"]
[98,"Tabb Elementary","KG - 05"]
[98,"Tabb High","09 - 12"]
[98,"Tabb Middle","06 - 08"]
[98,"Waller Mill Elementary","KG - 05"]
[98,"York High","09 - 12"]
[98,"York River Academy","09 - 12"]
[98,"Yorktown Elementary","KG - 05"]
[98,"Yorktown Middle","06 - 08"]
[101,"Alexandria City High ","09 - 12"]
[101,"Charles Barrett Elementary","PK - 05"]
[101,"Cora Kelly Magnet Elementary","PK - 05"]
[101,"Douglas Macarthur Elementary","KG - 05"]
[101,"Early Childhood Center","PK - PK"]
[101,"Ferdinand T. Day Elementary","KG - 05"]
[101,"Francis C. Hammond Middle","06 - 08"]
[101,"George Mason Elementary","KG - 05"]
[101,"George Washington Middle","06 - 08"]
[101,"James K. Polk Elementary","KG - 05"]
[101,"Jefferson-Houston Elementary","PK - 08"]
[101,"John Adams Elementary","PK - 05"]
[101,"Lyles-Crouch Elementary","KG - 05"]
[101,"Mount Vernon Elementary","PK - 05"]
[101,"Naomi L. Brooks Elementary ","KG - 05"]
[101,"Patrick Henry Elementary","KG - 07"]
[101,"Samuel W. Tucker Elementary","KG - 05"]
[101,"William Ramsay Elementary","KG - 05"]
[102,"Virginia High","09 - 12"]
[102,"Virginia Intermediate School","02 - 05"]
[102,"Virginia Middle","06 - 08"]
[102,"Virginia Primary School","PK - 01"]
[103,"Enderly Heights Elementary","03 - 05"]
[103,"F.W. Kling Jr. Elementary","PK - 02"]
[103,"Parry McCluer High","08 - 12"]
[103,"Parry McCluer Middle","06 - 07"]
[104,"Charlottesville High","09 - 12"]
[104,"Charlottesville Middle","07 - 08"]
[104,"Greenbrier Elementary","PK - 04"]
[104,"Jackson-Via Elementary","PK - 04"]
[104,"Summit Elementary","PK - 04"]
[104,"Sunrise Elementary","PK - 04"]
[104,"Tall Oaks Elementary ","PK - 04"]
[104,"Trailblazer Elementary","PK - 04"]
[104,"Walker Upper Elementary","05 - 06"]
[106,"Colonial Heights High","09 - 12"]
[106,"Colonial Heights Middle","06 - 08"]
[106,"Lakeview Elementary","PK - 05"]
[106,"North Elementary","PK - 05"]
[106,"Tussing Elementary","PK - 05"]
[108,"Edwin A. Gibson Elementary School","KG - 05"]
[108,"Forest Hills Elementary","KG - 05"]
[108,"Galileo Magnet High","09 - 12"]
[108,"George Washington High","09 - 12"]
[108,"Grove Park Preschool","PK - PK"]
[108,"O. Trent Bonner Middle","06 - 08"]
[108,"Park Avenue Elementary","KG - 05"]
[108,"Schoolfield Elementary","KG - 05"]
[108,"The Northside Preschool","PK - PK"]
[108,"Westwood Middle","06 - 08"]
[108,"Woodberry Hills Elementary","KG - 03"]
[108,"Woodrow Wilson Intermediate","04 - 05"]
[109,"Jessie Thackrey Preschool","PK - PK"]
[109,"Mary Ellen Henderson Middle","06 - 08"]
[109,"Meridian High","09 - 12"]
[109,"Mount Daniel School","KG - 01"]
[109,"Oak Street Elementary","02 - 05"]
[110,"Gladys West Elementary","K - 05"]
[110,"Hugh Mercer Elementary","KG - 05"]
[110,"James Monroe High","09 - 12"]
[110,"Lafayette Elementary","KG - 05"]
[110,"Walker-Grant Early Childhood Center","PK - PK"]
[110,"Walker-Grant Middle","06 - 08"]
[111,"Galax Elementary","PK - 05"]
[111,"Galax High","09 - 12"]
[111,"Galax Middle","06 - 08"]
[112,"A.W.E. Bassette Elementary","PK - 05"]
[112,"Aberdeen Elementary","PK - 05"]
[112,"Alfred S. Forrest Elementary","KG - 05"]
[112,"Armstrong Elementary","KG - 05"]
[112,"Barron Elementary","PK - 05"]
[112,"Benjamin Syms Middle","06 - 08"]
[112,"Bethel High","09 - 12"]
[112,"Booker Elementary","KG - 05"]
[112,"C. Alton Lindsay Middle","06 - 08"]
[112,"Captain John Smith Elementary","PK - 05"]
[112,"Cesar Tarrant Middle","06 - 08"]
[112,"Christopher C. Kraft Elementary","KG - 05"]
[112,"Francis Asbury Elementary","KG - 05"]
[112,"Francis W. Jones Magnet Middle","06 - 08"]
[112,"George P. Phenix Elementary","PK - 08"]
[112,"Hampton High","09 - 12"]
[112,"Hunter B. Andrews","PK - 08"]
[112,"Jane H. Bryan Elementary","PK - 05"]
[112,"John B. Cary Elementary","PK - 05"]
[112,"John Tyler Elementary","PK - 05"]
[112,"Kecoughtan High","09 - 12"]
[112,"Luther W. Machen Elementary","PK - 05"]
[112,"Moton Early Childhood Center","PK - PK"]
[112,"Paul Burbank Elementary","KG - 05"]
[112,"Phillips Elementary","KG - 05"]
[112,"Phoebus High","09 - 12"]
[112,"Samuel P. Langley Elementary","KG - 05"]
[112,"Thomas Eaton Middle","06 - 08"]
[112,"Tucker-Capps Elementary","PK - 05"]
[112,"William Mason Cooper Elementary","PK - 05"]
[113,"Bluestone Elementary","KG - 05"]
[113,"Harrisonburg High","09 - 12"]
[113,"Keister Elementary","KG - 05"]
[113,"Skyline Middle","06 - 08"]
[113,"Smithland Elementary","KG - 05"]
[113,"Spotswood Elementary","KG - 05"]
[113,"Stone Spring Elementary","KG - 05"]
[113,"Thomas Harrison Middle","06 - 08"]
[113,"Waterman Elementary","KG - 05"]
[114,"Carter G. Woodson Middle","06 - 08"]
[114,"Dupont Elementary","KG - 05"]
[114,"Harry E. James Elementary","KG - 05"]
[114,"Hopewell High","09 - 12"]
[114,"Patrick Copeland Elementary","KG - 05"]
[114,"Woodlawn Pre-School Learning Center","PK - PK"]
[115,"Bedford Hills Elementary","KG - 05"]
[115,"Dearington Elementary/Innovation","KG - 05"]
[115,"E.C. Glass High","09 - 12"]
[115,"Heritage Elementary","PK - 05"]
[115,"Heritage High","09 - 12"]
[115,"Linkhorne Elementary","KG - 05"]
[115,"Linkhorne Middle","06 - 08"]
[115,"Paul Laurence Dunbar Middle for Innovation","06 - 08"]
[115,"Paul Munro Elementary","PK - 05"]
[115,"Perrymont Elementary","KG - 05"]
[115,"Robert S. Payne Elementary","PK - 05"]
[115,"Sandusky Elementary","KG - 05"]
[115,"Sandusky Middle","06 - 08"]
[115,"Sheffield Elementary","KG - 05"]
[115,"T.C. Miller Elementary for Innovation","KG - 05"]
[115,"William M. Bass Elementary","KG - 05"]
[116,"Albert Harris Elementary","KG - 05"]
[116,"Clearview Early Childhood Center","PK - PK"]
[116,"Martinsville High","09 - 12"]
[116,"Martinsville Middle","06 - 08"]
[116,"Patrick Henry Elementary","KG - 05"]
[117,"Achievable Dream Academy","PK - 05"]
[117,"Achievable Dream Middle/High","06 - 12"]
[117,"B.C. Charles Elementary","PK - 05"]
[117,"B.T. Washington Middle","06 - 08"]
[117,"Carver Elementary","PK - 05"]
[117,"Crittenden Middle","06 - 08"]
[117,"David A. Dutrow Elementary","PK - 05"]
[117,"Deer Park Elementary","PK - 05"]
[117,"Denbigh Early Childhood Center","PK - PK"]
[117,"Denbigh High","09 - 12"]
[117,"Discovery STEM Academy","KG - 05"]
[117,"Ella J. Fitzgerald Middle","06 - 08"]
[117,"Ethel M. Gildersleeve Middle","06 - 08"]
[117,"General Stanford Elementary","PK - 05"]
[117,"George J. McIntosh Elementary","PK - 05"]
[117,"Heritage High","09 - 12"]
[117,"Hidenwood Elementary","PK - 05"]
[117,"Hilton Elementary","PK - 05"]
[117,"Homer L. Hines Middle","06 - 08"]
[117,"Huntington Middle","07 - 08"]
[117,"John Marshall Early Childhood Center","PK - KG"]
[117,"Joseph H. Saunders Elementary","PK - 05"]
[117,"Katherine Johnson Elementary","PK - 05"]
[117,"Kiln Creek Elementary","PK - 05"]
[117,"Knollwood Meadows Elementary","K - 05"]
[117,"L.F. Palmer Elementary","PK - 05"]
[117,"Mary Passage Middle","06 - 08"]
[117,"Menchville High","09 - 12"]
[117,"Newsome Park Elementary","PK - 05"]
[117,"Oliver C. Greenwood Elementary","PK - 05"]
[117,"Richard T. Yates Elementary","PK - 05"]
[117,"Richneck Elementary","PK - 05"]
[117,"Riverside Elementary","PK - 05"]
[117,"Sedgefield Elementary","PK - 05"]
[117,"Stoney Run Elementary","K - 05"]
[117,"T. Ryland Sanford Elementary","PK - 05"]
[117,"Warwick High","09 - 12"]
[117,"Watkins Early Childhood Center","PK - PK"]
[117,"Willis A. Jenkins Elementary","PK - 05"]
[117,"Woodside High","09 - 12"]
[118,"Academy for Discovery at Lakewood","03 - 08"]
[118,"Azalea Gardens Middle","06 - 08"]
[118,"Bay View Elementary","PK - 05"]
[118,"Berkley/Campostella Early Childhood Education Center","PK - PK"]
[118,"Blair Middle","06 - 08"]
[118,"Booker T. Washington High ","09 - 12"]
[118,"Camp Allen Elementary","PK - 05"]
[118,"Chesterfield Academy Elementary","PK - 05"]
[118,"Coleman Place Elementary","PK - 05"]
[118,"Crossroads Elementary","PK - 08"]
[118,"Easton Preschool","PK - PK"]
[118,"Fairlawn Elementary","PK - 02"]
[118,"Ghent K-8","KG - 08"]
[118,"Granby Elementary","PK - 05"]
[118,"Granby High","09 - 12"]
[118,"Ingleside Elementary","PK - 05"]
[118,"Jacox Elementary","PK - 05"]
[118,"James Monroe Elementary","PK - 05"]
[118,"Lake Taylor High","09 - 12"]
[118,"Lake Taylor School","KG - 08"]
[118,"Larchmont Elementary","PK - 05"]
[118,"Larrymore Elementary","PK - 05"]
[118,"Lindenwood Elementary","PK - 05"]
[118,"Little Creek Elementary","PK - 05"]
[118,"Mary Calcott Elementary","PK - 05"]
[118,"Matthew Fontaine Maury High","09 - 12"]
[118,"Northside Middle","06 - 08"]
[118,"Norview Elementary","PK - 05"]
[118,"Norview High","09 - 12"]
[118,"Norview Middle","06 - 08"]
[118,"Ocean View Elementary","KG - 05"]
[118,"Oceanair Elementary","PK - 05"]
[118,"P.B. Young Sr. Elementary","PK - 02"]
[118,"Richard Bowling Elementary","PK - 05"]
[118,"Ruffner School","03 - 08"]
[118,"Sewells Point Elementary","PK - 05"]
[118,"Sherwood Forest Elementary","PK - 05"]
[118,"Southside STEM Academy at Campostella","KG - 08"]
[118,"St. Helena Elementary","PK - 05"]
[118,"Suburban Park Elementary","PK - 05"]
[118,"Tanners Creek Elementary","PK - 05"]
[118,"Tarrallton Elementary","PK - 05"]
[118,"Walter Herron Taylor Elementary","PK - 05"]
[118,"Willard Model Elementary","PK - 05"]
[118,"Willoughby Early Childhood Center","PK - PK"]
[119,"J.I. Burton High","08 - 12"]
[119,"Norton Elementary","PK - 07"]
[120,"Cool Spring Elementary","KG - 05"]
[120,"Lakemont Elementary","KG - 05"]
[120,"Peabody Middle","06 - 07"]
[120,"Petersburg High","09 - 12"]
[120,"Pleasants Lane Elementary","KG - 05"]
[120,"Vernon Johns Middle","06 - 08"]
[120,"Walnut Hill Elementary","KG - 05"]
[120,"Westview Early Childhood Education Center","PK - PK"]
[121,"Brighton Elementary","KG - 06"]
[121,"Churchland Academy Elementary","KG - 06"]
[121,"Churchland Elementary","PKKG"]
[121,"Churchland High","09 - 12"]
[121,"Churchland Middle","07 - 08"]
[121,"Churchland Preschool Center","PK - PK"]
[121,"Churchland Primary & Intermediate","KG - 06"]
[121,"Cradock Elementary","KG - 06"]
[121,"Cradock Middle","07 - 08"]
[121,"Douglass Park Elementary","KG - 06"]
[121,"Hodges Manor Elementary","KG - 06"]
[121,"I.C. Norcom High","09 - 12"]
[121,"Lakeview Elementary","KG - 06"]
[121,"Manor High","09 - 12"]
[121,"Mount Hermon Preschool Center","PK - PK"]
[121,"Olive Branch Preschool Center","PK - PK"]
[121,"Park View Elementary","KG - 06"]
[121,"Simonsdale Elementary","KG - 06"]
[121,"Victory Elementary","KG - 06"]
[121,"Waterview Elementary","KG - 06"]
[121,"Westhaven Elementary","KG - 06"]
[121,"William E. Waters Middle","07 - 08"]
[122,"Belle Heth Elementary","03 - 06"]
[122,"John N. Dalton Intermediate","07 - 08"]
[122,"McHarg Elementary","PK - 02"]
[122,"Radford High","09 - 12"]
[123,"Albert Hill Middle","06 - 08"]
[123,"Amelia Street Special Education","PK - 12"]
[123,"Armstrong High","09 - 12"]
[123,"Barack Obama Elementary","PK - 05"]
[123,"Bellevue Elementary","PK - 05"]
[123,"Blackwell Elementary","PK - 05"]
[123,"Broad Rock Elementary","PK - 05"]
[123,"Cardinal Elementary","PK - 05"]
[123,"Chimborazo Elementary","PK - 05"]
[123,"Dogwood Middle","06 - 08"]
[123,"Elizabeth D. Redd Elementary","PK - 05"]
[123,"Fairfield Court Elementary","PK - 05"]
[123,"Frances W. McClenney Elementary ","PK - 05"]
[123,"Franklin Military Academy","06 - 12"]
[123,"G.H. Reid Elementary","PK - 05"]
[123,"George W. Carver Elementary","PK - 05"]
[123,"Henderson Middle","06 - 08"]
[123,"Henry Marsh Elementary","PK - 05"]
[123,"Huguenot High","09 - 12"]
[123,"J.B. Fisher Elementary","PK - 05"]
[123,"J.L. Francis Elementary","PK - 05"]
[123,"John Marshall High","09 - 12"]
[123,"Linwood Holton Elementary","PK - 05"]
[123,"Lois Harrison-Jones Elementary ","PK - 05"]
[123,"Lucille M. Brown Middle","06 - 08"]
[123,"Martin Luther King Jr Early Learning Center","PK - PK"]
[123,"Martin Luther King Jr. Middle","06 - 08"]
[123,"Mary Munford Elementary","PK - 05"]
[123,"Maymont Pre-K Center","PK - PK"]
[123,"Miles Jones Elementary","PK - 05"]
[123,"Oak Grove/Bellemeade Elementary","PK - 05"]
[123,"Open High","09 - 12"]
[123,"Overby-Sheppard Elementary","PK - 05"]
[123,"Patrick Henry School of Science and Arts","KG - 05"]
[123,"Richmond Career Education and Employment (Charter School)","09 - 12"]
[123,"Richmond Community High","09 - 12"]
[123,"Richmond High School for the Art","09 - 12"]
[123,"Richmond Success Academy","06 - 12"]
[123,"Richmond Virtual Acacemy","KG - 12"]
[123,"River City Middle","06 - 08"]
[123,"Southampton Elementary","PK - 05"]
[123,"Summer Hill Preschool Center ","PK - PK"]
[123,"Swansboro Elementary","PK - 05"]
[123,"Thomas C. Boushall Middle","06 - 08"]
[123,"Thomas Jefferson High","09 - 12"]
[123,"Westover Hills Elementary","PK - 05"]
[123,"William Fox Elementary","PK - 05"]
[123,"Woodville Elementary","PK - 05"]
[124,"Addison Aerospace Magnet Middle","06 - 08"]
[124,"Breckinridge Middle","06 - 08"]
[124,"Crystal Spring Elementary","PK - 05"]
[124,"Fairview Elementary","PK - 05"]
[124,"Fallon Park Elementary","PK - 05"]
[124,"Fishburn Park Elementary","PK - 05"]
[124,"Garden City Elementary","PK - 05"]
[124,"Grandin Court Elementary","KG - 05"]
[124,"Highland Park Elementary","PK - 05"]
[124,"Hurt Park Elementary","PK - 05"]
[124,"James Madison Middle","06 - 08"]
[124,"John P. Fishwick Middle","06 - 08"]
[124,"Lincoln Terrace Elementary","PK - 05"]
[124,"Monterey Elementary","KG - 05"]
[124,"Morningside Elementary","PK - 05"]
[124,"Patrick Henry High","09 - 12"]
[124,"Preston Park Elementary","PK - 05"]
[124,"Roanoke Academy For Mathematics & Science Elementary","PK - 05"]
[124,"Round Hill Elementary","PK - 05"]
[124,"Virginia Heights Elementary","PK - 05"]
[124,"Wasena Elementary","KG - 05"]
[124,"Westside Elementary","PK - 05"]
[124,"William Fleming High","09 - 12"]
[124,"Woodrow Wilson Middle","06 - 08"]
[126,"Arthur R. Ware Elementary","KG - 05"]
[126,"Bessie Weller Elementary","KG - 05"]
[126,"Staunton High","09 - 12"]
[126,"Shelburne Middle","06 - 08"]
[126,"Staunton City School PreSchool Programs","PK - PK"]
[126,"Thomas C. McSwain Elementary","KG - 05"]
[127,"Booker T. Washington Elementary","PK - 05"]
[127,"Colonel Fred Cherry Middle","06 - 08"]
[127,"Creekside Elementary","PK - 05"]
[127,"Elephant's Fork Elementary","PK - 05"]
[127,"Florence Bowser Elementary","PK - 01"]
[127,"Forest Glen Middle","06 - 08"]
[127,"Hillpoint Elementary","PK - 05"]
[127,"John F. Kennedy Middle","06 - 08"]
[127,"John Yeates Middle","06 - 08"]
[127,"Kilby Shores Elementary","PK - 05"]
[127,"King's Fork High","09 - 12"]
[127,"King's Fork Middle","06 - 08"]
[127,"Lakeland High","09 - 12"]
[127,"Mack Benn Jr. Elementary","PK - 05"]
[127,"Nansemond Parkway Elementary","PK - 05"]
[127,"Nansemond River High","09 - 12"]
[127,"Northern Shores Elementary","PK - 05"]
[127,"Oakland Elementary","PK - 05"]
[127,"Pioneer Elementary","PK - 05"]
[128,"Alanton Elementary","KG - 05"]
[128,"Arrowhead Elementary","PK - 05"]
[128,"Bayside Elementary","PK - 05"]
[128,"Bayside High","09 - 12"]
[128,"Bayside Middle","06 - 08"]
[128,"Birdneck Elementary","PK - 05"]
[128,"Brandon Middle","06 - 08"]
[128,"Brookwood Elementary","KG - 05"]
[128,"Centerville Elementary","KG - 05"]
[128,"Christopher Farms Elementary","PK - 05"]
[128,"College Park Elementary","PK - 05"]
[128,"Corporate Landing Elementary","KG - 05"]
[128,"Corporate Landing Middle","06 - 08"]
[128,"Creeds Elementary","KG - 05"]
[128,"Diamond Springs Elementary","PK - 01"]
[128,"Fairfield Elementary","KG - 05"]
[128,"First Colonial High","09 - 12"]
[128,"Floyd Kellam High","09 - 12"]
[128,"Frank W. Cox High","09 - 12"]
[128,"Glenwood Elementary","PK - 05"]
[128,"Great Neck Middle","06 - 08"]
[128,"Green Run Collegiate","09 - 12"]
[128,"Green Run Elementary","KG - 05"]
[128,"Green Run High","09 - 12"]
[128,"Hermitage Elementary","KG - 05"]
[128,"Holland Elementary","PK - 05"]
[128,"Independence Middle","06 - 08"]
[128,"Indian Lakes Elementary","KG - 05"]
[128,"John B. Dey Elementary","KG - 05"]
[128,"Kempsville Elementary","PK - 05"]
[128,"Kempsville High","09 - 12"]
[128,"Kempsville Meadows Elementary","PK - 05"]
[128,"Kempsville Middle","06 - 08"]
[128,"King's Grant Elementary","KG - 05"]
[128,"Kingston Elementary","KG - 05"]
[128,"Landstown Elementary","KG - 05"]
[128,"Landstown High","09 - 12"]
[128,"Landstown Middle","06 - 08"]
[128,"Larkspur Middle","06 - 08"]
[128,"Linkhorn Park Elementary","PK - 05"]
[128,"Luxford Elementary","PK - 05"]
[128,"Lynnhaven Elementary","PK - 05"]
[128,"Lynnhaven Middle","06 - 08"]
[128,"Malibu Elementary","PK - 05"]
[128,"New Castle Elementary","KG - 05"]
[128,"Newtown Elementary","02 - 03"]
[128,"North Landing Elementary","KG - 05"]
[128,"Ocean Lakes Elementary","PK - 05"]
[128,"Ocean Lakes High","09 - 12"]
[128,"Old Donation School","02 - 08"]
[128,"Parkway Elementary","PK - 05"]
[128,"Pembroke Elementary","KG - 05"]
[128,"Pembroke Meadows Elementary","PK - 05"]
[128,"Plaza Middle","06 - 08"]
[128,"Point O' View Elementary","KG - 05"]
[128,"Princess Anne Elementary","KG - 05"]
[128,"Princess Anne High","09 - 12"]
[128,"Princess Anne Middle","06 - 08"]
[128,"Providence Elementary","PK - 05"]
[128,"Red Mill Elementary","KG - 05"]
[128,"Rosemont Elementary","PK - 05"]
[128,"Rosemont Forest Elementary","KG - 05"]
[128,"Salem Elementary","PK - 05"]
[128,"Salem High","09 - 12"]
[128,"Salem Middle","06 - 08"]
[128,"Seatack Elementary an Achievable Dream Academy","KG - 05"]
[128,"Shelton Park Elementary","PK - 05"]
[128,"Strawbridge Elementary","KG - 05"]
[128,"Tallwood Elementary","KG - 05"]
[128,"Tallwood High","09 - 12"]
[128,"Thalia Elementary","KG - 05"]
[128,"Thoroughgood Elementary","KG - 05"]
[128,"Three Oaks Elementary","PK - 05"]
[128,"Trantwood Elementary","PK - 05"]
[128,"Virginia Beach Middle","06 - 08"]
[128,"W.T. Cooke Elementary","PK - 05"]
[128,"White Oaks Elementary","PK - 05"]
[128,"Williams Elementary","04 - 05"]
[128,"Windsor Oaks Elementary","KG - 05"]
[128,"Windsor Woods Elementary","PK - 05"]
[128,"Woodstock Elementary","KG - 05"]
[130,"Berkeley Glenn Elementary","KG - 05"]
[130,"Kate Collins Middle","06 - 08"]
[130,"Wayne Hills Center","PK - PK"]
[130,"Waynesboro High","09 - 12"]
[130,"Wenonah Elementary","KG - 05"]
[130,"Westwood Hills Elementary","KG - 05"]
[130,"William Perry Elementary","KG - 05"]
[131,"Berkeley Middle","06 - 08"]
[131,"Clara Byrd Baker Elementary","PK - 05"]
[131,"D.J. Montague Elementary","KG - 05"]
[131,"J. Blaine Blayton Elementary","PK - 05"]
[131,"James Blair Middle","06 - 08"]
[131,"James River Elementary","KG - 05"]
[131,"Jamestown High","09 - 12"]
[131,"Lafayette High","09 - 12"]
[131,"Laurel Lane Elementary ","PK - 05"]
[131,"Lois Hornsby Middle","06 - 08"]
[131,"Matoaka Elementary","KG - 05"]
[131,"Matthew Whaley Elementary","KG - 05"]
[131,"Norge Elementary","PK - 05"]
[131,"Stonehouse Elementary","KG - 05"]
[131,"Toano Middle","06 - 08"]
[131,"Warhill High","09 - 12"]
[132,"Daniel Morgan Intermediate","05 - 06"]
[132,"Daniel Morgan Middle","07 - 08"]
[132,"Frederick Douglass Elementary","PK - 04"]
[132,"Garland R. Quarles Elementary","PK - 04"]
[132,"John Handley High","09 - 12"]
[132,"John Kerr Elementary","PK - 04"]
[132,"Virginia Avenue Charlotte Dehart Elementary","PK - 04"]
[135,"Franklin High","07 - 12",null,null,null,8888,"Special Situation Schools"]
[135,"S.P. Morton Elementary","PK - 06",null,null,510395001762,280,"West Point Elementary","PK",5]
[136,"B.M. Williams Elementary","K - 05",null,null,510395001763,290,"West Point High",9,12]
[136,"Butts Road Intermediate","03 - 05",null,null,510395001502,391,"West Point Middle",6,8]
[136,"Butts Road Primary","PK - 02"]
[136,"Camelot Elementary","PK - 05"]
[136,"Cedar Road Elementary","PK - 05"]
[136,"Crestwood Elementary","K - 05"]
[136,"Crestwood Middle","06 - 08"]
[136,"Deep Creek Central Elementary","PK - 05"]
[136,"Deep Creek Elementary","PK - 05"]
[136,"Deep Creek High","09 - 12"]
[136,"Deep Creek Middle","06 - 08"]
[136,"Edwin W. Chittum Elementary","PK - 05"]
[136,"G.A. Treakle Elementary","PK - 05"]
[136,"George W. Carver Intermediate","03 - 05"]
[136,"Georgetown Primary","PK - 03"]
[136,"Grassfield Elementary","PK - 05"]
[136,"Grassfield High","09 - 12"]
[136,"Great Bridge High","09 - 12"]
[136,"Great Bridge Intermediate","03 - 05"]
[136,"Great Bridge Middle","06 - 08"]
[136,"Great Bridge Primary","PK - 02"]
[136,"Greenbrier Intermediate","03 - 05"]
[136,"Greenbrier Middle","06 - 08"]
[136,"Greenbrier Primary","PK - 02"]
[136,"Hickory Elementary","PK - 05"]
[136,"Hickory High","09 - 12"]
[136,"Hickory Middle","06 - 08"]
[136,"Hugo A. Owens Middle","06 - 08"]
[136,"Indian River High","09 - 12"]
[136,"Indian River Middle","06 - 08"]
[136,"Jolliff Middle","06 - 08"]
[136,"Norfolk Highlands Primary","PK - 03"]
[136,"Oscar F. Smith High","09 - 12"]
[136,"Oscar Smith Middle","06 - 08"]
[136,"Portlock Primary","PK - 02"]
[136,"Rena B. Wright Primary","PK - 02"]
[136,"Southeastern Elementary","PK - 05"]
[136,"Southwestern Elementary","PK - 05"]
[136,"Sparrow Road Intermediate","04 - 05"]
[136,"Thurgood Marshall Elementary","PK - 05"]
[136,"Truitt Intermediate","03 - 05"]
[136,"Western Branch High","09 - 12"]
[136,"Western Branch Intermediate","03 - 05"]
[136,"Western Branch Middle","06 - 08"]
[136,"Western Branch Primary","PK - 02"]
[137,"Harrington Waddell Elementary","KG - 05"]
[137,"Lylburn Downing Middle","06 - 08"]
[139,"Andrew Lewis Middle","06 - 08"]
[139,"East Salem Elementary","PK - 05"]
[139,"G.W. Carver Elementary","PK - 05"]
[139,"Salem High","09 - 12"]
[139,"South Salem Elementary","KG - 05"]
[139,"West Salem Elementary","KG - 05"]
[142,"Poquoson Elementary","03 - 05"]
[142,"Poquoson High","09 - 12"]
[142,"Poquoson Middle","06 - 08"]
[142,"Poquoson Primary","PK - 02"]
[143,"Baldwin Elementary","PK - 04"]
[143,"Baldwin Intermediate","05 - 06"]
[143,"George Carr Round Elementary","PK - 04"]
[143,"Grace E. Metz Middle","07 - 08"]
[143,"Jennie Dean Elementary","PK - 04"]
[143,"Mayfield Intermediate","05 - 06"]
[143,"Osbourn High","09 - 12"]
[143,"Richard C. Haydon Elementary","PK - 04"]
[143,"Weems Elementary","PK - 04"]
[144,"Cougar Elementary","PK - 02"]
[144,"Manassas Park Elementary","03 - 05"]
[144,"Manassas Park High","09 - 12"]
[144,"Manassas Park Middle","06 - 08"]
[202,"Colonial Beach Elementary","PK - 07"]
[202,"Colonial Beach High","08 - 12"]
[207,"West Point Elementary","PK - 05"]
[207,"West Point Middle/High","06 - 12"]
[917,"Yvonne B. Miller High","07 - 12"]

{"sheet":"Prefills","index":25,"n_rows":144,"n_cols":67,"rows_kept":144,"cut":false,"hidden":true,"merged":[[3,50,4,57],[2,50,2,51],[40,51,40,53],[41,51,41,53],[37,51,37,53],[38,51,38,53],[39,51,39,53],[25,51,25,53],[43,51,43,53],[36,51,36,53],[44,51,44,53],[45,51,45,53],[10,50,10,57],[26,51,26,53],[27,51,27,53],[28,51,28,53],[35,51,35,53],[34,51,34,53],[31,51,31,53],[32,51,32,53],[33,51,33,53],[29,51,29,53],[30,51,30,53],[24,51,24,53],[42,51,42,53],[13,60,14,60],[22,50,23,50],[22,51,23,53],[0,3,0,5],[1,3,1,5],[1,32,1,33],[3,3,3,5],[2,3,2,5],[0,7,0,9],[1,7,1,9],[2,7,2,9],[3,7,3,9],[3,11,3,13],[0,15,0,17],[0,19,0,21],[3,32,3,33],[0,32,0,33],[2,32,2,33],[3,23,3,25],[3,27,3,29],[0,23,0,25],[0,27,0,29],[1,23,1,25],[1,27,1,29],[2,23,2,25],[2,27,2,29],[1,11,1,13],[2,11,2,13],[3,15,3,17],[3,19,3,21],[0,11,0,13],[1,19,1,21],[2,15,2,17],[2,19,2,21],[1,15,1,17]]}
["Allocation Total Column:",null,null,{"$f":"SUM(F6:F144)","v":327716195.17000002},null,null,null,{"$f":"SUM(J6:J144)","v":584667.43999999994},null,null,null,{"$f":"SUM(N6:N144)","v":967449.16999999993},null,null,null,{"$f":"SUM(R6:R144)","v":42319611.000000007},null,null,null,{"$f":"SUM(V6:V144)","v":16763606.73},null,null,null,{"$f":"SUM(Z6:Z144)","v":22280057.999999996},null,null,null,{"$f":"SUM(AD6:AD144)","v":2710483},null,null,null,null,{"$f":"SUM(AH6:AH156)","v":611},null,35,36,37,38,39,40,41,42,43,44,45,46,47,48,49,50,51,52,53,54,55,56,57,58,59,60,61,62,63,64,65,66,67]
["Allocation Check Column: ",null,null,{"$f":"327716195.17-D1","v":0},null,null,null,{"$f":"584667.44-H1","v":0},null,null,null,{"$f":"967449.17-L1","v":0},null,null,null,{"$f":"42319611-P1","v":0},null,null,null,{"$f":"16763606.73-T1","v":0},null,null,null,{"$f":"22280058-X1","v":0},null,null,null,{"$f":"2710483-AB1","v":0},null,null,null,null,{"$f":"611-AG1","v":0}]
[null,{"$f":"SUBTOTAL(3,B6:B144)","v":139},null,"Title I, Part A",null,null,null,"Title I, Part C",null,null,null,"Title I, Part D",null,null,null,"Title II, Part A",null,null,null,"Title III, Part A",null,null,null,"Title IV, Part A",null,null,null,"Title V, Part B",null,null,null,null,"Title I, Part D, Subpart 2",null,null,null,null,null,null,null,null,null,null,null,null,null,null,null,null,null,"Anchor Cell is Z3"]
["Project Group ID:",null,null,1,null,null,null,"2",null,null,null,"3",null,null,null,"4",null,null,null,"6",null,null,null,"97",null,null,null,"9",null,null,null,null,null,null,null,null,null,null,null,null,null,null,null,null,null,null,null,null,null,null,"Change Colors on all the sheets "]
["Division","Div Num",null,"Div Num","Consolidated App Flag","Allocation",null,"Div Num","Consolidated App Flag","Allocation",null,"Div Num","Consolidated App Flag","Allocation",null,"Div Num","Consolidated App Flag","Allocation",null,"Div Num","Consolidated App Flag","Allocation",null,"Div Num","Consolidated App Flag","Allocation",null,"Div Num","Consolidated App Flag","Allocation",null,null,"Div Num","Neglected Count"]
["Accomack County Public Schools",1,null,1,null,2079954.32,null,1,null,131558.87,null,1,null,0,null,1,null,272599.08,null,1,null,90950.03,null,1,null,131892.14000000001,null,1,null,170913.13,null,null,1]
["Albemarle County Public Schools",2,null,2,null,2025266.75,null,2,null,97684.67,null,2,null,39070.06,null,2,null,366399.62,null,2,null,183137.53,null,2,null,141734.62,null,2,null,null,null,null,2,null,null,null,"Transferability Funding Source",null,"Yes or No"]
["Alexandria City Public Schools",101,null,3,null,1046984.28,null,3,null,null,null,3,null,0,null,3,null,130342.3,null,3,null,null,null,3,null,74459.520000000004,null,3,null,null,null,null,3,24,null,null,"Title II, Part A, Transferability",null,"Yes"]
["Alleghany Highlands Public Schools",3,null,4,null,405175,null,4,null,null,null,4,null,0,null,4,null,68551.92,null,4,null,null,null,4,null,25060,null,4,null,null,null,null,4,null,null,null,"Title IV, Part A, Transferability",null,"No"]
["Amelia County Public Schools",4,null,5,null,1187997.75,null,5,null,null,null,5,null,0,null,5,null,173221.95,null,5,null,null,null,5,null,81422.86,null,5,null,null,null,null,5]
["Amherst County Public Schools",5,null,6,null,665384.79,null,6,null,null,null,6,null,0,null,6,null,99632.67,null,6,null,null,null,6,null,43509.26,null,6,null,null,null,null,6,null,null,null,"Consolidated Categories",null,"Consolidated Categories_OC1000",null,"Consolidated Categories_OC2000",null,"Consolidated Categories_OC5000",null,null,null,null,null,null,null,"Color and Color# (Number)"]
["Appomattox County Public Schools",6,null,7,null,3715026.23,null,7,null,null,null,7,null,0,null,7,null,651686.74,null,7,null,712893.05,null,7,null,270399.31,null,7,null,null,null,null,7,null,null,null,"Title I, Part A Categories",null,"Title I, Part A Categories",null,"Title I, Part A Categories",null,"Title I, Part A Categories"]
["Arlington County Public Schools",7,null,8,null,1567106.07,null,8,null,null,null,8,null,0,null,8,null,280006.77,null,8,null,36221.03,null,8,null,108614.44,null,8,null,null,null,null,8,null,null,null,"   CSI/TSI",null,"   CSI/TSI",null,"   CSI/TSI",null,"   CSI/TSI",null,null,null,null,null,null,null,1,2,3,4,5,6,7,8,null,"Step 1.   Go to \"Narrative\" TAB and click on a CELL with LAST Year's   Blank COLOR"]
["Augusta County Public Schools",8,null,9,null,109213.32,null,9,null,null,null,9,null,0,null,9,null,17187.86,null,9,null,null,null,9,null,10000,null,9,null,null,null,null,9,null,null,null,"   Division",null,"   Division",null,"   Division",null,"   Division",null,null,null,null,null,null,null,9,10,11,12,13,14,15,16,null,null,null,null,"Press the Format Painter ICON.  Click on the Cell AX10.    (Old Color should show)"]
["Bath County Public Schools",9,null,10,null,2028245.06,null,10,null,null,null,10,null,0,null,10,null,341646.3,null,10,null,13803.75,null,10,null,125469.82,null,10,null,null,null,null,10,null,null,null,"   Early Childhood",null,"   Early Childhood",null,"   Early Childhood",null,"   Early Childhood",null,null,null,null,null,null,null,17,18,19,20,21,22,23,24]
["Bedford County Public Schools",10,null,11,null,155103.26999999999,null,11,null,null,null,11,null,0,null,11,null,23758.579999999998,null,11,null,0,null,11,null,11030.65,null,11,null,null,null,null,11,null,null,null,"   Foster Care",null,"   Foster Care",null,"   Employee Benefits Differential",null,"   Foster Care",null,null,null,null,null,null,null,25,26,27,28,29,30,31,32]
["Bland County Public Schools",11,null,12,null,473166.69,null,12,null,null,null,12,null,0,null,12,null,100106.31999999999,null,12,null,16133.490000000002,null,12,null,33650.71,null,12,null,null,null,null,12,null,null,null,"   Homeless",null,"   Homeless",null,"   Foster Care",null,"   Homeless",null,null,null,null,null,null,null,33,34,35,36,37,38,39,40,null,null,null,"Step 2.   Pick a New COLOR# for this year Type the number into AE21(Color B:)"]
["Botetourt County Public Schools",12,null,13,null,974994.92,null,13,null,null,null,13,null,0,null,13,null,109501.26,null,13,null,null,null,13,null,70297.119999999995,null,13,null,48993.54,null,null,13,null,null,null,"   Neglected",null,"   Neglected",null,"   Homeless",null,"   Neglected",null,null,null,null,null,null,null,41,42,43,44,45,46,47,48,null,null,null,"Step 3.   Refresh the color chart to the left by pessing \"Refresh\""]
["Bristol City Public Schools",102,null,14,null,1297407.3,null,14,null,null,null,14,null,0,null,14,null,132991.82,null,14,null,null,null,14,null,102391.63,null,14,null,80358.75,null,null,14,null,null,null,"   Non Set-Aside",null,"   Non Set-Aside",null,"   Neglected",null,"   Non Set-Aside",null,null,null,null,null,null,null,49,50,51,52,53,54,55,56]
["Brunswick County Public Schools",13,null,15,null,795679.21,null,15,null,null,null,15,null,0,null,15,null,110745.34,null,15,null,null,null,15,null,52503.7,null,15,null,65610.100000000006,null,null,15,null,null,null,"   PFE (Division)",null,"   PFE (Division)",null,"   Non Set-Aside",null,"   PFE (Division)"]
["Buchanan County Public Schools",14,null,16,null,2255467.96,null,16,null,null,null,16,null,0,null,16,null,316190.39,null,16,null,29497.68,null,16,null,131516.48000000001,null,16,null,null,null,null,16,null,null,null,"   PFE (School Level)",null,"   PFE (School Level)",null,"   PFE (Division)",null,"   PFE (School Level)"]
["Buckingham County Public Schools",15,null,17,null,868047.65,null,17,null,null,null,17,null,0,null,17,null,163189.28,null,17,null,21533.85,null,17,null,61733.88,null,17,null,null,null,null,17,null,null,null,"   Title I Private School",null,"   Title I Private School",null,"   PFE (School Level)",null,"   Title I Private School"]
["Buena Vista City Public Schools",103,null,18,null,1433190.92,null,18,null,28699.660000000003,null,18,null,0,null,18,null,194070.38,null,18,null,17558.37,null,18,null,94554.15,null,18,null,120946.72,null,null,18,6,null,null,"Title I, Part C Categories",null,"   Salary Differential",null,"   Title I Private School",null,"Title I, Part C Categories",null,null,null,null,null,null,null,"Range for Color Change","Tab Name",null,null,null,null,"Color #"]
["Campbell County Public Schools",16,null,19,null,207179.62,null,19,null,null,null,19,null,0,null,19,null,28975.91,null,19,null,null,null,19,null,13706.8,null,19,null,null,null,null,19,null,null,null,"   Migrant",null,"Title I, Part C Categories",null,"Title I, Part C Categories",null,"  Migrant",null,null,null,null,null,null,1,null,null,null,null,null,"Old Color A:",20,null,null,-4142]
["Caroline County Public Schools",17,null,20,null,1205856.94,null,20,null,null,null,20,null,0,null,20,null,130217.56999999999,null,20,null,null,null,20,null,55638.33,null,20,null,58800.03,null,null,20,null,null,null,"   Title I C Private School ",null,"   Migrant",null,"   Migrant",null,"   Title I C Private School ",null,null,null,null,null,null,2,"A:R","Coordinated Consolidated Info.",null,null,null,"New Color B:",40,null,null,null,null,null,"Step 4.   Refresh the color from Color A:  to Color B: for all Tabs listed"]
["Carroll County Public Schools",18,null,21,null,10170374.220000001,null,21,null,null,null,21,null,0,null,21,null,1500149.46,null,21,null,830870.96000000008,null,21,null,710787.41,null,21,null,null,null,null,21,24,null,null,"Title I, Part D Categories",null,"   Title I C Private School ",null,"   Title I C Private School ",null,"Title I, Part D Categories",null,null,null,null,null,null,3,"A:S","Consolidated Budget Summary"]
["Charles City County Public Schools",19,null,22,null,224616.16,null,22,null,null,null,22,null,0,null,22,null,46694.869999999995,null,22,null,13914.18,null,22,null,14184.91,null,22,null,null,null,null,22,null,null,null,"   Delinquent",null,"Title I, Part D Categories",null,"Title I, Part D Categories",null,"   Delinquent",null,null,null,null,null,null,4,"A:S","Consolidated Transferability"]
["Charlotte County Public Schools",20,null,23,null,194554.27,null,23,null,null,null,23,null,0,null,23,null,26827.99,null,23,null,null,null,23,null,12561.3,null,23,null,null,null,null,23,null,null,null,"Title II, Part A Categories",null,"   Delinquent",null,"   Delinquent",null,"Title II, Part A Categories",null,null,null,null,null,null,5,"A:R","GEPA"]
["Charlottesville City Public Schools",104,null,24,null,1766720.19,null,24,null,null,null,24,null,0,null,24,null,290535.12,null,24,null,177393.15,null,24,null,113843.12,null,24,null,null,null,null,24,62,null,null,"   Title IIA Administration",null,"Title II, Part A Categories",null,"Title II, Part A Categories",null,"   Title IIA Administration",null,null,null,null,null,null,6,"A:R","Title I, Part A"]
["Chesapeake City Public Schools",136,null,25,null,510439.82,null,25,null,null,null,25,null,0,null,25,null,71395.38,null,25,null,null,null,25,null,36301.5,null,25,null,41755.42,null,null,25,null,null,null,"   Book Study",null,"   Title IIA Administration",null,"   Title IIA Administration",null,"   Class size Reduction",null,null,null,null,null,null,7,"A:S","35% and Above Low-Income"]
["Chesterfield County Public Schools",21,null,26,null,846132.94,null,26,null,null,null,26,null,0,null,26,null,100082.06,null,26,null,null,null,26,null,66802.77,null,26,null,61640.800000000003,null,null,26,null,null,null,"   Class size Reduction",null,"   Class size Reduction",null,"   Class size Reduction",null,"   Evaluation",null,null,null,null,null,null,8,"A:S","Below 35% Low-Income"]
["Clarke County Public Schools",22,null,27,null,1109302.8500000001,null,27,null,null,null,27,null,0,null,27,null,170367.55000000002,null,27,null,15460.2,null,27,null,66064.17,null,27,null,null,null,null,27,null,null,null,"   Evaluation",null,"   Evaluation",null,"   Evaluation",null,"   Indirect Cost",null,null,null,null,null,null,9,"A:Q","Private School"]
["Colonial Beach Town Public Schools",202,null,28,null,467406.78,null,28,null,null,null,28,null,0,null,28,null,65597.89,null,28,null,null,null,28,null,32123.56,null,28,null,39654.03,null,null,28,null,null,null,"   Leadership",null,"   Leadership",null,"   Leadership",null,"   Leadership",null,null,null,null,null,null,10,"A:R","School Improvement"]
["Colonial Heights City Public Schools",106,null,29,null,35293856.130000003,null,29,null,null,null,29,null,0,null,29,null,3933775.77,null,29,null,4348554.8899999997,null,29,null,2657019.0799999996,null,29,null,null,null,null,29,null,null,null,"   Mentoring/Induction",null,"   Mentoring/Induction",null,"   Mentoring/Induction",null,"   Mentoring/Induction",null,null,null,null,null,null,11,"A:R","Skipped School Provision"]
["Craig County Public Schools",23,null,30,null,1113764.74,null,30,null,null,null,30,null,0,null,30,null,238838.86,null,30,null,121693.83,null,30,null,78734.429999999993,null,30,null,null,null,null,30,null,null,null,"   Title II Private School",null,"   Title II Private School",null,"   Title II Private School",null,"   Title II Private School",null,null,null,null,null,null,12,"A:R","Title I, Part A, Neglected"]
["Culpeper County Public Schools",24,null,31,null,490413.83,null,31,null,null,null,31,null,0,null,31,null,78173.94,null,31,null,null,null,31,null,34877.29,null,31,null,null,null,null,31,null,null,null,"   Professional Development",null,"   Professional Development",null,"   Professional Development",null,"   Professional Development",null,null,null,null,null,null,13,"A:R","Title I, Part A, Homeless"]
["Cumberland County Public Schools",25,null,32,null,495750.45,null,32,null,null,null,32,null,0,null,32,null,97095.06,null,32,null,9938.6999999999989,null,32,null,33287.25,null,32,null,null,null,null,32,5,null,null,"   Recruitment/Retention",null,"   Recruitment/Retention",null,"   Recruitment/Retention",null,"   Recruitment/Retention",null,null,null,null,null,null,14,"A:R","Title I, Part A, Early Childhood"]
["Danville City Public Schools",108,null,33,null,2191467.15,null,33,null,null,null,33,null,0,null,33,null,284659.52,null,33,null,16564.489999999998,null,33,null,145465.60000000001,null,33,null,null,null,null,33,null,null,null,"   Teacher Quality (assessments)",null,"   Teacher Quality (assessments)",null,"   Teacher Quality (assessments)",null,"   Teacher Quality (assessments)",null,null,null,null,null,null,15,"A:R","Title I, Part C"]
["Department Of Juvenile Justice",917,null,34,null,1992806.42,null,34,null,null,null,34,null,120931.15,null,34,null,357695.16000000003,null,34,null,173673.22,null,34,null,141724.57,null,34,null,null,null,null,34,null,null,null,"   Other",null,"   Other",null,"   Other",null,"   Other",null,null,null,null,null,null,16,"A:R","Title I, Part D, Subpart 2"]
["Dickenson County Public Schools",26,null,35,null,559361.17000000004,null,35,null,null,null,35,null,0,null,35,null,82214.960000000006,null,35,null,0,null,35,null,41650.42,null,35,null,null,null,null,35,null,null,null,"Title IIIA Categories",null,"Title IIIA Categories",null,"Title IIIA Categories",null,"Title IIIA Categories",null,null,null,null,null,null,17,"A:Q","Title II, Part A"]
["Dinwiddie County Public Schools",27,null,36,null,888054.79,null,36,null,null,null,36,null,0,null,36,null,161141.60999999999,null,36,null,null,null,36,null,63156.76,null,36,null,null,null,null,36,null,null,null,"   EL Subgrant",null,"   EL Subgrant",null,"   EL Subgrant",null,"   EL Subgrant",null,null,null,null,null,null,18,"A:R","Title III, Part A"]
["Emporia City Public Schools",138,null,37,null,499737.73,null,37,null,null,null,37,null,0,null,37,null,74078.87,null,37,null,null,null,37,null,31017.66,null,37,null,null,null,null,37,113,null,null,"   EL Private School",null,"   EL Private School",null,"   EL Private School",null,"   EL Private School",null,null,null,null,null,null,19,"A:Q","Title IV, Part A"]
["Essex County Public Schools",28,null,38,null,736735.85,null,38,null,null,null,38,null,0,null,38,null,92890.52,null,38,null,null,null,38,null,51372.35,null,38,null,55609.03,null,null,38,null,null,null,"   EL Administrative",null,"   EL Administrative",null,"   EL Administrative",null,"   EL Administrative",null,null,null,null,null,null,20,"A:R","Title V, Part B, Subpart 2"]
["Fairfax City Public Schools",134,null,39,null,552901.31000000006,null,39,null,null,null,39,null,0,null,39,null,101176.4,null,39,null,19214.82,null,39,null,38288.78,null,39,null,null,null,null,39,null,null,null,"   IY Subgrant",null,"   EL Indirect Costs",null,"   EL Indirect Costs",null,"   EL Indirect Costs",null,null,null,null,null,null,21,"A:R","Expenditure Descriptions"]
["Fairfax County Public Schools",29,null,40,null,1306801.6499999999,null,40,null,null,null,40,null,122791.63,null,40,null,150636.59000000003,null,40,null,15612.16,null,40,null,81275.209999999992,null,40,null,69890.710000000006,null,null,40,null,null,null,"Title IVA Categories",null,"   IY Subgrant",null,"   IY Subgrant",null,"   IY Subgrant",null,null,null,null,null,null,22,"A:R","General Assurances"]
["Falls Church City Public Schools",109,null,41,null,2855421.75,null,41,null,null,null,41,null,0,null,41,null,331884.93,null,41,null,10490.84,null,41,null,113452.03,null,41,null,150405.10999999999,null,null,41,null,null,null,"   Safe & Healthy Students - Admin",null,"Title IVA Categories",null,"Title IVA Categories",null,"   IY Subgrant Indirect Cost",null,null,null,null,null,null,23,"A:R","Program Specific Assurances"]
["Fauquier County Public Schools",30,null,42,null,1612752.84,null,42,null,null,null,42,null,0,null,42,null,313577.69,null,42,null,63908.159999999996,null,42,null,131227.21,null,42,null,null,null,null,42,null,null,null,"   Safe & Healthy Students - PS",null,"   Safe & Healthy Students - Admin",null,"   Safe & Healthy Students - Admin",null,"Title IVA Categories"]
["Floyd County Public Schools",31,null,43,null,12644469.220000001,null,43,null,null,null,43,null,0,null,43,null,1566741.08,null,43,null,710099.46,null,43,null,791690.34,null,43,null,null,null,null,43,62,null,null,"   Safe & Healthy Students",null,"   Safe & Healthy Students - PS",null,"   Safe & Healthy Students - PS",null,"   Safe & Healthy Students - Indirect Costs"]
["Fluvanna County Public Schools",32,null,44,null,3232927.86,null,44,null,null,null,44,null,0,null,44,null,408506.25,null,44,null,59200.4,null,44,null,178087.89,null,44,null,240764.91,null,null,44,null,null,null,"   Technology - Admin",null,"   Safe & Healthy Students",null,"   Safe & Healthy Students",null,"   Safe & Healthy Students - PS"]
["Franklin City Public Schools",135,null,45,null,86242.32,null,45,null,null,null,45,null,0,null,45,null,12091.330000000002,null,45,null,0,null,45,null,10000,null,45,null,null,null,null,45,null,null,null,"   Technology - PS",null,"   Technology - Admin",null,"   Technology - Admin",null,"   Safe & Healthy Students"]
["Franklin County Public Schools",33,null,46,null,798782.89,null,46,null,null,null,46,null,0,null,46,null,159738.25,null,46,null,null,null,46,null,54508.05,null,46,null,null,null,null,46,null,null,null,"   Technology",null,"   Technology - PS",null,"   Technology - PS",null,"   Technology - Indirect Costs"]
["Frederick County Public Schools",34,null,47,null,null,null,47,null,null,null,47,null,0,null,47,null,null,null,47,null,null,null,47,null,null,null,47,null,null,null,null,47,null,null,null,"   Well Rounded Students - Admin",null,"   Technology",null,"   Technology",null,"   Technology - PS"]
["Fredericksburg City Public Schools",110,null,48,null,516189.24,null,48,null,null,null,48,null,0,null,48,null,105033.29,null,48,null,null,null,48,null,36710.39,null,48,null,null,null,null,48,null,null,null,"   Well Rounded Students - PS",null,"   Well Rounded Students - Admin",null,"   Well Rounded Students - Admin",null,"   Technology"]
["Galax City Public Schools",111,null,49,null,279349.07,null,49,null,null,null,49,null,0,null,49,null,36480.559999999998,null,49,null,null,null,49,null,20391.7,null,49,null,null,null,null,49,null,null,null,"   Well Rounded Students",null,"   Well Rounded Students - PS",null,"   Well Rounded Students - PS",null,"   Well Rounded Students - Indirect Costs"]
["Giles County Public Schools",35,null,50,null,298330.89,null,50,null,null,null,50,null,0,null,50,null,58452.369999999995,null,50,null,null,null,50,null,21216.720000000001,null,50,null,null,null,null,50,null,null,null,"Title V Categories",null,"   Well Rounded Students",null,"   Well Rounded Students",null,"   Well Rounded Students - PS"]
["Gloucester County Public Schools",36,null,51,null,449816.75,null,51,null,null,null,51,null,0,null,51,null,60068.5,null,51,null,0,null,51,null,31990.1,null,51,null,33739,null,null,51,null,null,null,"   Rural and Low Income",null,"Title V Categories",null,"Title V Categories",null,"   Well Rounded Students"]
["Goochland County Public Schools",37,null,52,null,1880316.76,null,52,null,null,null,52,null,0,null,52,null,173627.25,null,52,null,0,null,52,null,148582.81,null,52,null,97286.62,null,null,52,21,null,null,null,null,"   Rural and Low Income",null,"   Rural and Low Income",null,"Title V Categories"]
["Grayson County Public Schools",38,null,53,null,2344353.04,null,53,null,null,null,53,null,0,null,53,null,1198168.82,null,53,null,1336433.17,null,53,null,141488.69,null,53,null,null,null,null,53,99,null,null,"Programs",null,null,null,null,null,"   Rural and Low Income"]
["Greene County Public Schools",39,null,54,null,1069548.76,null,54,null,null,null,54,null,0,null,54,null,181561.46,null,54,null,18993.96,null,54,null,75492.44,null,54,null,null,null,null,54,null,null,null,"Title I, Part A",null,"Title IA Neglected Categories"]
["Greensville County Public Schools",40,null,55,null,768993.1,null,55,null,null,null,55,null,76279.649999999994,null,55,null,90597.88,null,55,null,16564.489999999998,null,55,null,46240.08,null,55,null,55297.71,null,null,55,null,null,null,"Title I, Part C",null,"Local Neglected Facility"]
["Halifax County Public Schools",41,null,56,null,366828.74,null,56,null,null,null,56,null,0,null,56,null,64886.76,null,56,null,null,null,56,null,25460.07,null,56,null,null,null,null,56,null,null,null,"Title I, Part D, Subpart 2 ",null,"Local School Division"]
["Hampton City Public Schools",112,null,57,null,207945.33,null,57,null,null,null,57,null,0,null,57,null,35170.720000000001,null,57,null,null,null,57,null,14788.67,null,57,null,null,null,null,57,null,null,null,"Title II, Part A"]
["Hanover County Public Schools",42,null,58,null,2171742.71,null,58,null,null,null,58,null,0,null,58,null,196277.74,null,58,null,null,null,58,null,130733.24,null,58,null,131220.19,null,null,58,null,null,null,"Title III, Part A"]
["Harrisonburg City Public Schools",113,null,59,null,416238.9,null,59,null,null,null,59,null,0,null,59,null,56386.37,null,59,null,null,null,59,null,28547.72,null,59,null,null,null,null,59,null,null,null,"Title IV, Part A"]
["Henrico County Public Schools",43,null,60,null,1932591,null,60,null,null,null,60,null,0,null,60,null,324672.39999999997,null,60,null,61842.979999999996,null,60,null,137442.17000000001,null,60,null,null,null,null,60,null,null,null,"Title V, Part B, Subpart 2"]
["Henry County Public Schools",44,null,62,null,546551.65,null,62,null,null,null,62,null,0,null,62,null,78112.160000000003,null,62,null,null,null,62,null,36461.050000000003,null,62,null,null,null,null,62]
["Highland County Public Schools",45,null,63,null,357525.13,null,63,null,null,null,63,null,0,null,63,null,76100.02,null,63,null,null,null,63,null,22006.18,null,63,null,null,null,null,63]
["Hopewell City Public Schools",114,null,65,null,830129.83,null,65,null,38538.43,null,65,null,0,null,65,null,93271.81,null,65,null,14135.04,null,65,null,59357.07,null,65,null,45763.62,null,null,65]
["Isle Of Wight County Public Schools",46,null,66,null,483588.65,null,66,null,null,null,66,null,0,null,66,null,63429.440000000002,null,66,null,null,null,66,null,33639.21,null,66,null,40471.230000000003,null,null,66]
["James City County Public Schools",47,null,67,null,919795.19999999995,null,67,null,null,null,67,null,0,null,67,null,116031.64,null,67,null,null,null,67,null,49842.07,null,67,null,61874.29,null,null,67]
["James Madison University",871,null,68,null,1024198.39,null,68,null,null,null,68,null,0,null,68,null,184228.55,null,68,null,34133.57,null,68,null,68868.63,null,68,null,null,null,null,68]
["King And Queen County Public Schools",49,null,69,null,965004.80000000005,null,69,null,null,null,69,null,0,null,69,null,133783.42000000001,null,69,null,null,null,69,null,67499.070000000007,null,69,null,null,null,null,69]
["King George County Public Schools",48,null,70,null,791946.03,null,70,null,null,null,70,null,0,null,70,null,101287.88,null,70,null,null,null,70,null,56210.1,null,70,null,null,null,null,70]
["King William County Public Schools",50,null,71,null,2371478.77,null,71,null,null,null,71,null,0,null,71,null,305219.31,null,71,null,24711.72,null,71,null,166485.87,null,71,null,null,null,null,71]
["Lancaster County Public Schools",51,null,72,null,398726.91,null,72,null,null,null,72,null,0,null,72,null,86849.64,null,72,null,null,null,72,null,27802.42,null,72,null,null,null,null,72]
["Lee County Public Schools",52,null,73,null,1465958.43,null,73,null,null,null,73,null,0,null,73,null,167662.19,null,73,null,null,null,73,null,75391.97,null,73,null,63547.62,null,null,73]
["Lexington City Public Schools",137,null,74,null,1017925.64,null,74,null,null,null,74,null,0,null,74,null,178330.12,null,74,null,20773.719999999998,null,74,null,73030.44,null,74,null,null,null,null,74]
["Loudoun County Public Schools",53,null,75,null,16880299.93,null,75,null,null,null,75,null,33488.629999999997,null,75,null,2158440.52,null,75,null,2286738.0900000003,null,75,null,1114020.9099999999,null,75,null,null,null,null,75,50]
["Louisa County Public Schools",54,null,77,null,1522620.97,null,77,null,null,null,77,null,0,null,77,null,213925.33000000002,null,77,null,null,null,77,null,86323.56,null,77,null,null,null,null,77]
["Lunenburg County Public Schools",55,null,78,null,178437.95,null,78,null,null,null,78,null,0,null,78,null,30299.07,null,78,null,null,null,78,null,13322.13,null,78,null,null,null,null,78]
["Lynchburg City Public Schools",115,null,79,null,426569.08,null,79,null,null,null,79,null,0,null,79,null,59925.25,null,79,null,null,null,79,null,23230.58,null,79,null,48526.559999999998,null,null,79]
["Madison County Public Schools",56,null,80,null,1766498.65,null,80,null,null,null,80,null,0,null,80,null,311854.02,null,80,null,71568.400000000009,null,80,null,125630,null,80,null,null,null,null,80]
["Manassas City Public Schools",143,null,81,null,636020.87,null,81,null,null,null,81,null,0,null,81,null,96687.66,null,81,null,null,null,81,null,49565.34,null,81,null,null,null,null,81]
["Manassas Park City Public Schools",144,null,82,null,2370124.63,null,82,null,null,null,82,null,0,null,82,null,388861.5,null,82,null,186976.25,null,82,null,147719.94,null,82,null,null,null,null,82]
["Martinsville City Public Schools",116,null,83,null,1366762.92,null,83,null,null,null,83,null,0,null,83,null,176510.56,null,83,null,null,null,83,null,96201.82,null,83,null,114136.66,null,null,83]
["Mathews County Public Schools",57,null,84,null,1070424.44,null,84,null,null,null,84,null,0,null,84,null,146530.41,null,84,null,null,null,84,null,67171.66,null,84,null,146591.48000000001,null,null,84]
["Mecklenburg County Public Schools",58,null,85,null,1320330.76,null,85,null,null,null,85,null,0,null,85,null,214633.22,null,85,null,57694.18,null,85,null,100510.44,null,85,null,null,null,null,85]
["Middlesex County Public Schools",59,null,86,null,1492438.38,null,86,null,null,null,86,null,0,null,86,null,169002,null,86,null,null,null,86,null,104964.49,null,86,null,null,null,null,86]
["Montgomery County Public Schools",60,null,87,null,715414.11,null,87,null,null,null,87,null,0,null,87,null,100991.26000000001,null,87,null,null,null,87,null,47316.94,null,87,null,null,null,null,87]
["Nelson County Public Schools",62,null,88,null,4225313.2,null,88,null,null,null,88,null,0,null,88,null,663070.56000000006,null,88,null,318528.39,null,88,null,291164.71999999997,null,88,null,null,null,null,88]
["New Kent County Public Schools",63,null,89,null,3387261.62,null,89,null,null,null,89,null,0,null,89,null,630519.43000000005,null,89,null,429326.06,null,89,null,214685.85,null,89,null,null,null,null,89,12]
["Newport News City Public Schools",117,null,90,null,273229.05,null,90,null,null,null,90,null,0,null,90,null,38725.1,null,90,null,0,null,90,null,17806.060000000001,null,90,null,24321.65,null,null,90]
["Norfolk City Public Schools",118,null,91,null,705170.17,null,91,null,null,null,91,null,0,null,91,null,75319.790000000008,null,91,null,null,null,91,null,39845.49,null,91,null,35217.760000000002,null,null,91]
["Northampton County Public Schools",65,null,92,null,2639416.0299999998,null,92,null,null,null,92,null,0,null,92,null,329915.59000000003,null,92,null,null,null,92,null,170939.09,null,92,null,183949.54,null,null,92]
["Northumberland County Public Schools",66,null,93,null,1116505.49,null,93,null,null,null,93,null,0,null,93,null,173842.89,null,93,null,28270.07,null,93,null,89374.59,null,93,null,null,null,null,93]
["Norton City Public Schools",119,null,94,null,1816370.93,null,94,null,null,null,94,null,0,null,94,null,257818.93,null,94,null,2916.43,null,94,null,123029.39,null,94,null,null,null,null,94]
["Nottoway County Public Schools",67,null,95,null,737507.37,null,95,null,48084.369999999995,null,95,null,0,null,95,null,95462.91,null,95,null,10711.71,null,95,null,54668.54,null,95,null,54052.44,null,null,95]
["Orange County Public Schools",68,null,96,null,2049582.65,null,96,null,null,null,96,null,0,null,96,null,228390.04,null,96,null,0,null,96,null,155491.66,null,96,null,null,null,null,96]
["Page County Public Schools",69,null,97,null,1512289.62,null,97,null,null,null,97,null,0,null,97,null,168765,null,97,null,0,null,97,null,119501.27,null,97,null,null,null,null,97,13]
["Patrick County Public Schools",70,null,98,null,1062236.45,null,98,null,null,null,98,null,0,null,98,null,230869.44,null,98,null,46380.59,null,98,null,64044.9,null,98,null,null,null,null,98]
["Petersburg City Public Schools",120,null,101,null,4582537.2699999996,null,101,null,null,null,101,null,0,null,101,null,638453.69000000006,null,101,null,729437.86,null,101,null,305272.25,null,101,null,null,null,null,101]
["Pittsylvania County Public Schools",71,null,102,null,1393446.08,null,102,null,null,null,102,null,0,null,102,null,159450.60999999999,null,102,null,null,null,102,null,95581.08,null,102,null,null,null,null,102]
["Poquoson City Public Schools",142,null,103,null,311537.17,null,103,null,null,null,103,null,0,null,103,null,41731.129999999997,null,103,null,null,null,103,null,23023.49,null,103,null,null,null,null,103]
["Portsmouth City Public Schools",121,null,104,null,1488350.43,null,104,null,null,null,104,null,0,null,104,null,212262.44,null,104,null,90391.51999999999,null,104,null,105577.02,null,104,null,null,null,null,104]
["Powhatan County Public Schools",72,null,106,null,789686.17,null,106,null,null,null,106,null,0,null,106,null,123399.74,null,106,null,28882.489999999998,null,106,null,49497.57,null,106,null,null,null,null,106]
["Prince Edward County Public Schools",73,null,108,null,4718359.66,null,108,null,null,null,108,null,0,null,108,null,415972.88,null,108,null,40735.99,null,108,null,373410.95,null,108,null,194339.75,null,null,108]
["Prince George County Public Schools",74,null,109,null,61944.29,null,109,null,null,null,109,null,0,null,109,null,34775.449999999997,null,109,null,23240.039999999997,null,109,null,10000,null,109,null,null,null,null,109]
["Prince William County Public Schools",75,null,110,null,1348894.21,null,110,null,null,null,110,null,0,null,110,null,191245.4,null,110,null,97234,null,110,null,94776.03,null,110,null,null,null,null,110]
["Pulaski County Public Schools",77,null,111,null,804455.48,null,111,null,null,null,111,null,0,null,111,null,78826.3,null,111,null,26724.240000000002,null,111,null,60921.22,null,111,null,49538.35,null,null,111]
["Radford City Public Schools",122,null,112,null,8170147.0999999996,null,112,null,null,null,112,null,0,null,112,null,892519.70000000007,null,112,null,52742.03,null,112,null,535087.23,null,112,null,null,null,null,112]
["Rappahannock County Public Schools",78,null,113,null,1850385.21,null,113,null,null,null,113,null,0,null,113,null,242622.29,null,113,null,292882.14999999997,null,113,null,111373.53,null,113,null,null,null,null,113,1]
["Richmond City Public Schools",123,null,114,null,2460740.02,null,114,null,null,null,114,null,0,null,114,null,278657.12,null,114,null,26171.899999999998,null,114,null,151354.97,null,114,null,null,null,null,114]
["Richmond County Public Schools",79,null,115,null,4502969.12,null,115,null,null,null,115,null,74419.17,null,115,null,539802.69000000006,null,115,null,39865.22,null,115,null,297789.48,null,115,null,null,null,null,115,28]
["Roanoke City Public Schools",124,null,116,null,1441724.16,null,116,null,null,null,116,null,0,null,116,null,169485.07,null,116,null,19115.100000000002,null,116,null,96631.28,null,116,null,61562.97,null,null,116]
["Roanoke County Public Schools",80,null,117,null,15466413.17,null,117,null,null,null,117,null,122791.63,null,117,null,1596747.88,null,117,null,258967.15,null,117,null,1007486.43,null,117,null,null,null,null,117]
["Rockbridge County Public Schools",81,null,118,null,18462087,null,118,null,null,null,118,null,0,null,118,null,1888303.5,null,118,null,218432.84,null,118,null,1193057.6499999999,null,118,null,null,null,null,118]
["Rockingham County Public Schools",82,null,119,null,333946.48,null,119,null,null,null,119,null,0,null,119,null,36740.660000000003,null,119,null,null,null,119,null,22639.84,null,119,null,29147.07,null,null,119]
["Russell County Public Schools",83,null,120,null,4034585.97,null,120,null,null,null,120,null,0,null,120,null,391546.52999999997,null,120,null,43445,null,120,null,286932.02,null,120,null,null,null,null,120,20]
["Salem City Public Schools",139,null,121,null,7476805.4500000002,null,121,null,null,null,121,null,213955.08000000002,null,121,null,861968.42,null,121,null,36883.61,null,121,null,501779.69,null,121,null,null,null,null,121]
["Scott County Public Schools",84,null,122,null,429119.87,null,122,null,null,null,122,null,0,null,122,null,62510.47,null,122,null,null,null,122,null,24930.240000000002,null,122,null,null,null,null,122]
["Shenandoah County Public Schools",85,null,123,null,16484715.859999999,null,123,null,null,null,123,null,0,null,123,null,1482081.96,null,123,null,474501.36,null,123,null,1303937.6100000001,null,123,null,null,null,null,123,54]
["Smyth County Public Schools",86,null,124,null,8462803.2400000002,null,124,null,null,null,124,null,0,null,124,null,927491.64,null,124,null,258566.16,null,124,null,585011.14,null,124,null,null,null,null,124]
["Southampton County Public Schools",87,null,126,null,927633.68,null,126,null,null,null,126,null,72558.69,null,126,null,134028.60999999999,null,126,null,12809.869999999999,null,126,null,65773.37,null,126,null,null,null,null,126]
["Spotsylvania County Public Schools",88,null,127,null,4166747.07,null,127,null,null,null,127,null,0,null,127,null,619955.67000000004,null,127,null,22638.15,null,127,null,248910.31,null,127,null,null,null,null,127]
["Stafford County Public Schools",89,null,128,null,17872156.16,null,128,null,null,null,128,null,91163.48,null,128,null,1987385.21,null,128,null,305253.26,null,128,null,1300172.3500000001,null,128,null,null,null,null,128,6]
["State Operated Programs",901,null,130,null,1105097.46,null,130,null,null,null,130,null,0,null,130,null,161751.1,null,130,null,41332.43,null,130,null,75007.17,null,130,null,null,null,null,130]
["Staunton City Public Schools",126,null,131,null,1815592.8800000001,null,131,null,null,null,131,null,0,null,131,null,329787.72000000003,null,131,null,95003.560000000012,null,131,null,128538.23999999999,null,131,null,null,null,null,131]
["Suffolk City Public Schools",127,null,132,null,1499507.94,null,132,null,null,null,132,null,0,null,132,null,209943.09000000003,null,132,null,135098.95000000001,null,132,null,87836.59,null,132,null,null,null,null,132]
["Surry County Public Schools",90,null,134,null,null,null,134,null,null,null,134,null,0,null,134,null,null,null,134,null,null,null,134,null,null,null,134,null,null,null,null,134]
["Sussex County Public Schools",91,null,135,null,1062219.3,null,135,null,null,null,135,null,0,null,135,null,111485.77,null,135,null,null,null,135,null,73123.89,null,135,null,34556.21,null,null,135]
["Tazewell County Public Schools",92,null,136,null,9586317.3699999992,null,136,null,null,null,136,null,0,null,136,null,1315626.5499999998,null,136,null,174844.59999999998,null,136,null,528486.06000000006,null,136,null,null,null,null,136]
["Va Beach City Public Schools",128,null,137,null,91707.19,null,137,null,null,null,137,null,0,null,137,null,17546.25,null,137,null,null,null,137,null,10000,null,137,null,null,null,null,137]
["Va Dept Of Correctional Education",900,null,138,null,null,null,138,null,null,null,138,null,0,null,138,null,null,null,138,null,null,null,138,null,null,null,138,null,null,null,null,138]
["VSDB Staunton",218,null,139,null,665873.93999999994,null,139,null,null,null,139,null,0,null,139,null,118309.1,null,139,null,24007,null,139,null,42532.13,null,139,null,null,null,null,139,11]
["Warren County Public Schools",93,null,142,null,182085.29,null,142,null,null,null,142,null,0,null,142,null,41128.119999999995,null,142,null,null,null,142,null,11064.23,null,142,null,null,null,null,142]
["Washington County Public Schools",94,null,143,null,2270323.81,null,143,null,null,null,143,null,0,null,143,null,319379.71999999997,null,143,null,353222.92,null,143,null,107970.83,null,143,null,null,null,null,143]
["Waynesboro City Public Schools",130,null,144,null,478472.28,null,144,null,null,null,144,null,0,null,144,null,88270.56,null,144,null,166160.27000000002,null,144,null,33749.39,null,144,null,null,null,null,144]
["West Point Town Public Schools",207,null,202,null,230627.57,null,202,null,null,null,202,null,0,null,202,null,22411.25,null,202,null,null,null,202,null,18224.21,null,202,null,null,null,null,202]
["Westmoreland County Public Schools",95,null,207,null,70779.81,null,207,null,null,null,207,null,0,null,207,null,12895.810000000001,null,207,null,null,null,207,null,10000,null,207,null,null,null,null,207]
["Williamsburg City Public Schools",131,null,218,null,80348.850000000006,null,218,null,null,null,218,null,0,null,218,null,2531.5899999999997,null,218,null,0,null,218,null,10000,null,218,null,null,null,null,218]
["Winchester City Public Schools",132,null,871,null,null,null,871,null,240101.44,null,871,null,null,null,871,null,null,null,871,null,null,null,871,null,null,null,871,null,null,null,null,871]
["Wise County Public Schools",96,null,900,null,null,null,900,null,null,null,900,null,null,null,900,null,null,null,900,null,null,null,900,null,null,null,900,null,null,null,null,900]
["Wythe County Public Schools",97,null,901,null,null,null,901,null,null,null,901,null,null,null,901,null,null,null,901,null,null,null,901,null,null,null,901,null,null,null,null,901]
["York County Public Schools",98,null,917,null,250908.79,null,917,null,null,null,917,null,null,null,917,null,6939.36,null,917,null,null,null,917,null,11301.18,null,917,null,null,null,null,917]

{"sheet":"BdgtAndTrnsfrConfigs","index":26,"n_rows":396,"n_cols":33,"rows_kept":396,"cut":false,"hidden":true,"merged":[[0,22,0,26],[0,28,0,32]]}
["Details Object Code","Details Program","Details Category","Detail Key","Summary Program","Summary Expenditure","Summary Key",null,"Details Object Code","Details Program","Details Category","Detail Key","Summary Program","Summary Expenditure","Summary Key",null,"Values - Bdgt Details Categories",null,"Values - Bdgt Summary Programs",null,"Values - Summary Expenditures",null,"Consolidated Budget Table",null,null,null,null,null,"Consolidated Transfer Table"]
[1000,"Title I, Part A","CSI/TSI",{"$f":"TRIM(BdgtXrefTable[[#This Row],[Details Object Code]])&\"|\"&TRIM(BdgtXrefTable[[#This Row],[Details Program]])&\"|\"&TRIM(BdgtXrefTable[[#This Row],[Details Category]])","v":"1000|Title I, Part A|CSI/TSI"},"Title I, Part A","Set-Aside",{"$f":"TRIM(BdgtXrefTable[[#This Row],[Summary Program]])&\"|\"&TRIM(BdgtXrefTable[[#This Row],[Summary Expenditure]])","v":"Title I, Part A|Set-Aside"},null,1000,"Title II, Part A, Transferability","CSI/TSI",{"$f":"TRIM(TrnsfrXrefTable[[#This Row],[Details Object Code]])&\"|\"&TRIM(TrnsfrXrefTable[[#This Row],[Details Program]])&\"|\"&TRIM(TrnsfrXrefTable[[#This Row],[Details Category]])","v":"1000|Title II, Part A, Transferability|CSI/TSI"},"Title II, Part A - APE61481","Set-Aside",{"$f":"TRIM(TrnsfrXrefTable[[#This Row],[Summary Program]])&\"|\"&TRIM(TrnsfrXrefTable[[#This Row],[Summary Expenditure]])","v":"Title II, Part A - APE61481|Set-Aside"},null,{"$f":"_xlfn._xlws.SORT(_xlfn.UNIQUE(_xlfn._xlws.FILTER(_xlfn.VSTACK(TRIM(Consolidated_Categories),TRIM(Consolidated_Categories_OC1000),TRIM(Consolidated_Categories_OC2000),TRIM(Consolidated_Categories_OC5000)), LEFT(_xlfn.VSTACK(Consolidated_Categories,Consolidated_Categories_OC1000,Consolidated_Categories_OC2000,Consolidated_Categories_OC5000),1)=\" \")))","v":"Book Study"},null,{"$f":"_xlfn._xlws.SORT(_xlfn.UNIQUE(_xlfn.VSTACK(\nLOOKUP(2, 1/('Consolidated Budget'!A$4:F$4<>\"\"), 'Consolidated Budget'!A$4:F$4) & IF(TRIM('Consolidated Budget'!F$6)=\"\",\"\",\" - \" & TRIM('Consolidated Budget'!F$6)),\nLOOKUP(2, 1/('Consolidated Budget'!B$4:G$4<>\"\"), 'Consolidated Budget'!B$4:G$4) & IF(TRIM('Consolidated Budget'!G$6)=\"\",\"\",\" - \" & TRIM('Consolidated Budget'!G$6)),\nLOOKUP(2, 1/('Consolidated Budget'!C$4:H$4<>\"\"), 'Consolidated Budget'!C$4:H$4) & IF(TRIM('Consolidated Budget'!H$6)=\"\",\"\",\" - \" & TRIM('Consolidated Budget'!H$6)),\nLOOKUP(2, 1/('Consolidated Budget'!D$4:I$4<>\"\"), 'Consolidated Budget'!D$4:I$4) & IF(TRIM('Consolidated Budget'!I$6)=\"\",\"\",\" - \" & TRIM('Consolidated Budget'!I$6)),\nLOOKUP(2, 1/('Consolidated Budget'!E$4:J$4<>\"\"), 'Consolidated Budget'!E$4:J$4) & IF(TRIM('Consolidated Budget'!J$6)=\"\",\"\",\" - \" & TRIM('Consolidated Budget'!J$6)),\nLOOKUP(2, 1/('Consolidated Budget'!F$4:K$4<>\"\"), 'Consolidated Budget'!F$4:K$4) & IF(TRIM('Consolidated Budget'!K$6)=\"\",\"\",\" - \" & TRIM('Consolidated Budget'!K$6)),\nLOOKUP(2, 1/('Consolidated Budget'!G$4:L$4<>\"\"), 'Consolidated Budget'!G$4:L$4) & IF(TRIM('Consolidated Budget'!L$6)=\"\",\"\",\" - \" & TRIM('Consolidated Budget'!L$6)),\nLOOKUP(2, 1/('Consolidated Budget'!H$4:M$4<>\"\"), 'Consolidated Budget'!H$4:M$4) & IF(TRIM('Consolidated Budget'!M$6)=\"\",\"\",\" - \" & TRIM('Consolidated Budget'!M$6)),\nLOOKUP(2, 1/('Consolidated Budget'!I$4:N$4<>\"\"), 'Consolidated Budget'!I$4:N$4) & IF(TRIM('Consolidated Budget'!N$6)=\"\",\"\",\" - \" & TRIM('Consolidated Budget'!N$6)),\nLOOKUP(2, 1/('Consolidated Budget'!J$4:O$4<>\"\"), 'Consolidated Budget'!J$4:O$4) & IF(TRIM('Consolidated Budget'!O$6)=\"\",\"\",\" - \" & TRIM('Consolidated Budget'!O$6)),\nLOOKUP(2, 1/('Consolidated Budget'!K$4:P$4<>\"\"), 'Consolidated Budget'!K$4:P$4) & IF(TRIM('Consolidated Budget'!P$6)=\"\",\"\",\" - \" & TRIM('Consolidated Budget'!P$6))\n)))","v":"Title I, Part A"},null,{"$f":"_xlfn._xlws.SORT(_xlfn.UNIQUE(_xlfn._xlws.FILTER('Consolidated Budget'!C8:C59,LEFT('Consolidated Budget'!C8:C59,6)<>\"Total \")))","v":"Administrative"},null,{"$f":"_xlfn.LET(_xlpm.data,_xlfn.VSTACK(\n_xlfn.HSTACK(_xlfn.SEQUENCE(ROWS(Bdgt1),1,1000,0),TRIM(INDEX(Bdgt1,,11)),TRIM(INDEX(Bdgt1,,13)),IFERROR(VALUE(INDEX(Bdgt1,,16)),0)),\n_xlfn.HSTACK(_xlfn.SEQUENCE(ROWS(Bdgt2),1,2000,0),TRIM(INDEX(Bdgt2,,11)),TRIM(INDEX(Bdgt2,,13)),IFERROR(VALUE(INDEX(Bdgt2,,16)),0)),\n_xlfn.HSTACK(_xlfn.SEQUENCE(ROWS(Bdgt3),1,3000,0),TRIM(INDEX(Bdgt3,,11)),TRIM(INDEX(Bdgt3,,13)),IFERROR(VALUE(INDEX(Bdgt3,,16)),0)),\n_xlfn.HSTACK(_xlfn.SEQUENCE(ROWS(Bdgt4),1,4000,0),TRIM(INDEX(Bdgt4,,11)),TRIM(INDEX(Bdgt4,,13)),IFERROR(VALUE(INDEX(Bdgt4,,16)),0)),\n_xlfn.HSTACK(_xlfn.SEQUENCE(ROWS(Bdgt5),1,5000,0),TRIM(INDEX(Bdgt5,,11)),TRIM(INDEX(Bdgt5,,13)),IFERROR(VALUE(INDEX(Bdgt5,,16)),0)),\n_xlfn.HSTACK(_xlfn.SEQUENCE(ROWS(Bdgt6),1,6000,0),TRIM(INDEX(Bdgt6,,11)),TRIM(INDEX(Bdgt6,,13)),IFERROR(VALUE(INDEX(Bdgt6,,16)),0)),\n_xlfn.HSTACK(_xlfn.SEQUENCE(ROWS(Bdgt8),1,8000,0),TRIM(INDEX(Bdgt8,,11)),TRIM(INDEX(Bdgt8,,13)),IFERROR(VALUE(INDEX(Bdgt8,,16)),0))\n),\n_xlpm.filteredData, _xlfn._xlws.FILTER(_xlpm.data, (INDEX(_xlpm.data,,2) <> \"\") + (INDEX(_xlpm.data,,3) <> \"\") + (INDEX(_xlpm.data,,4) <> 0)),\n_xlpm.extendedData, IFERROR(_xlfn.HSTACK(_xlpm.filteredData, INDEX(_xlpm.filteredData, , 1) & \"|\" & IFERROR(VLOOKUP(INDEX(_xlpm.filteredData, , 1) & \"|\" & INDEX(_xlpm.filteredData, , 2) & \"|\" & INDEX(_xlpm.filteredData, , 3),BdgtXrefTable[[Detail Key]:[Summary Key]],4,FALSE),\"?\")),_xlfn.HSTACK(\"N/A\",\"N/A\",\"N/A\",\"N/A\",\"N/A\")),\n_xlpm.extendedData\n)","v":"N/A"},"N/A","N/A","N/A","N/A",null,{"$f":"_xlfn.LET(\n_xlpm.data, _xlfn.VSTACK(\n_xlfn.HSTACK(_xlfn.SEQUENCE(ROWS(Trnsfr1), 1, 1000, 0), TRIM(INDEX(Trnsfr1, , 11)), TRIM(INDEX(Trnsfr1, , 13)), IFERROR(VALUE(INDEX(Trnsfr1, , 16)), 0)),\n_xlfn.HSTACK(_xlfn.SEQUENCE(ROWS(Trnsfr2), 1, 2000, 0), TRIM(INDEX(Trnsfr2, , 11)), TRIM(INDEX(Trnsfr2, , 13)), IFERROR(VALUE(INDEX(Trnsfr2, , 16)), 0)),\n_xlfn.HSTACK(_xlfn.SEQUENCE(ROWS(Trnsfr3), 1, 3000, 0), TRIM(INDEX(Trnsfr3, , 11)), TRIM(INDEX(Trnsfr3, , 13)), IFERROR(VALUE(INDEX(Trnsfr3, , 16)), 0)),\n_xlfn.HSTACK(_xlfn.SEQUENCE(ROWS(Trnsfr4), 1, 4000, 0), TRIM(INDEX(Trnsfr4, , 11)), TRIM(INDEX(Trnsfr4, , 13)), IFERROR(VALUE(INDEX(Trnsfr4, , 16)), 0)),\n_xlfn.HSTACK(_xlfn.SEQUENCE(ROWS(Trnsfr5), 1, 5000, 0), TRIM(INDEX(Trnsfr5, , 11)), TRIM(INDEX(Trnsfr5, , 13)), IFERROR(VALUE(INDEX(Trnsfr5, , 16)), 0)),\n_xlfn.HSTACK(_xlfn.SEQUENCE(ROWS(Trnsfr6), 1, 6000, 0), TRIM(INDEX(Trnsfr6, , 11)), TRIM(INDEX(Trnsfr6, , 13)), IFERROR(VALUE(INDEX(Trnsfr6, , 16)), 0)),\n_xlfn.HSTACK(_xlfn.SEQUENCE(ROWS(Trnsfr8), 1, 8000, 0), TRIM(INDEX(Trnsfr8, , 11)), TRIM(INDEX(Trnsfr8, , 13)), IFERROR(VALUE(INDEX(Trnsfr8, , 16)), 0))\n),\n_xlpm.filteredData, _xlfn._xlws.FILTER(_xlpm.data, (INDEX(_xlpm.data, , 2) <> \"\") + (INDEX(_xlpm.data, , 3) <> \"\") + (INDEX(_xlpm.data, , 4) <> 0)),\n_xlpm.extendedData, IFERROR(_xlfn.HSTACK(_xlpm.filteredData, INDEX(_xlpm.filteredData, , 1) & \"|\" & IFERROR(VLOOKUP(INDEX(_xlpm.filteredData, , 1) & \"|\" & INDEX(_xlpm.filteredData, , 2) & \"|\" & INDEX(_xlpm.filteredData, , 3),TrnsfrXrefTable[[Detail Key]:[Summary Key]],4,FALSE),\"?\")),_xlfn.HSTACK(\"N/A\",\"N/A\",\"N/A\",\"N/A\",\"N/A\")),\n_xlpm.extendedData\n)","v":"N/A"},"N/A","N/A","N/A","N/A"]
[1000,"Title I, Part A","Division",{"$f":"TRIM(BdgtXrefTable[[#This Row],[Details Object Code]])&\"|\"&TRIM(BdgtXrefTable[[#This Row],[Details Program]])&\"|\"&TRIM(BdgtXrefTable[[#This Row],[Details Category]])","v":"1000|Title I, Part A|Division"},"Title I, Part A","Set-Aside",{"$f":"TRIM(BdgtXrefTable[[#This Row],[Summary Program]])&\"|\"&TRIM(BdgtXrefTable[[#This Row],[Summary Expenditure]])","v":"Title I, Part A|Set-Aside"},null,1000,"Title II, Part A, Transferability","Delinquent",{"$f":"TRIM(TrnsfrXrefTable[[#This Row],[Details Object Code]])&\"|\"&TRIM(TrnsfrXrefTable[[#This Row],[Details Program]])&\"|\"&TRIM(TrnsfrXrefTable[[#This Row],[Details Category]])","v":"1000|Title II, Part A, Transferability|Delinquent"},"Title II, Part A - APE60015","Non Set-Aside",{"$f":"TRIM(TrnsfrXrefTable[[#This Row],[Summary Program]])&\"|\"&TRIM(TrnsfrXrefTable[[#This Row],[Summary Expenditure]])","v":"Title II, Part A - APE60015|Non Set-Aside"},null,"Class size Reduction",null,"Title I, Part C",null,"Contracted Services"]
[1000,"Title I, Part A","Early Childhood",{"$f":"TRIM(BdgtXrefTable[[#This Row],[Details Object Code]])&\"|\"&TRIM(BdgtXrefTable[[#This Row],[Details Program]])&\"|\"&TRIM(BdgtXrefTable[[#This Row],[Details Category]])","v":"1000|Title I, Part A|Early Childhood"},"Title I, Part A","Set-Aside",{"$f":"TRIM(BdgtXrefTable[[#This Row],[Summary Program]])&\"|\"&TRIM(BdgtXrefTable[[#This Row],[Summary Expenditure]])","v":"Title I, Part A|Set-Aside"},null,1000,"Title II, Part A, Transferability","Division",{"$f":"TRIM(TrnsfrXrefTable[[#This Row],[Details Object Code]])&\"|\"&TRIM(TrnsfrXrefTable[[#This Row],[Details Program]])&\"|\"&TRIM(TrnsfrXrefTable[[#This Row],[Details Category]])","v":"1000|Title II, Part A, Transferability|Division"},"Title II, Part A - APE61481","Set-Aside",{"$f":"TRIM(TrnsfrXrefTable[[#This Row],[Summary Program]])&\"|\"&TRIM(TrnsfrXrefTable[[#This Row],[Summary Expenditure]])","v":"Title II, Part A - APE61481|Set-Aside"},null,"CSI/TSI",null,"Title I, Part D",null,"Indirect Costs"]
[1000,"Title I, Part A","Foster Care",{"$f":"TRIM(BdgtXrefTable[[#This Row],[Details Object Code]])&\"|\"&TRIM(BdgtXrefTable[[#This Row],[Details Program]])&\"|\"&TRIM(BdgtXrefTable[[#This Row],[Details Category]])","v":"1000|Title I, Part A|Foster Care"},"Title I, Part A","Set-Aside",{"$f":"TRIM(BdgtXrefTable[[#This Row],[Summary Program]])&\"|\"&TRIM(BdgtXrefTable[[#This Row],[Summary Expenditure]])","v":"Title I, Part A|Set-Aside"},null,1000,"Title II, Part A, Transferability","Early Childhood",{"$f":"TRIM(TrnsfrXrefTable[[#This Row],[Details Object Code]])&\"|\"&TRIM(TrnsfrXrefTable[[#This Row],[Details Program]])&\"|\"&TRIM(TrnsfrXrefTable[[#This Row],[Details Category]])","v":"1000|Title II, Part A, Transferability|Early Childhood"},"Title II, Part A - APE61481","Set-Aside",{"$f":"TRIM(TrnsfrXrefTable[[#This Row],[Summary Program]])&\"|\"&TRIM(TrnsfrXrefTable[[#This Row],[Summary Expenditure]])","v":"Title II, Part A - APE61481|Set-Aside"},null,"Delinquent",null,"Title II, Part A",null,"Internal Services"]
[1000,"Title I, Part A","Homeless",{"$f":"TRIM(BdgtXrefTable[[#This Row],[Details Object Code]])&\"|\"&TRIM(BdgtXrefTable[[#This Row],[Details Program]])&\"|\"&TRIM(BdgtXrefTable[[#This Row],[Details Category]])","v":"1000|Title I, Part A|Homeless"},"Title I, Part A","Set-Aside",{"$f":"TRIM(BdgtXrefTable[[#This Row],[Summary Program]])&\"|\"&TRIM(BdgtXrefTable[[#This Row],[Summary Expenditure]])","v":"Title I, Part A|Set-Aside"},null,1000,"Title II, Part A, Transferability","EL Administrative",{"$f":"TRIM(TrnsfrXrefTable[[#This Row],[Details Object Code]])&\"|\"&TRIM(TrnsfrXrefTable[[#This Row],[Details Program]])&\"|\"&TRIM(TrnsfrXrefTable[[#This Row],[Details Category]])","v":"1000|Title II, Part A, Transferability|EL Administrative"},"Title II, Part A - APE60016","Administrative",{"$f":"TRIM(TrnsfrXrefTable[[#This Row],[Summary Program]])&\"|\"&TRIM(TrnsfrXrefTable[[#This Row],[Summary Expenditure]])","v":"Title II, Part A - APE60016|Administrative"},null,"Division",null,"Title III, Part A - EL",null,"Materials"]
[1000,"Title I, Part A","Neglected",{"$f":"TRIM(BdgtXrefTable[[#This Row],[Details Object Code]])&\"|\"&TRIM(BdgtXrefTable[[#This Row],[Details Program]])&\"|\"&TRIM(BdgtXrefTable[[#This Row],[Details Category]])","v":"1000|Title I, Part A|Neglected"},"Title I, Part A","Set-Aside",{"$f":"TRIM(BdgtXrefTable[[#This Row],[Summary Program]])&\"|\"&TRIM(BdgtXrefTable[[#This Row],[Summary Expenditure]])","v":"Title I, Part A|Set-Aside"},null,1000,"Title II, Part A, Transferability","EL Private School",{"$f":"TRIM(TrnsfrXrefTable[[#This Row],[Details Object Code]])&\"|\"&TRIM(TrnsfrXrefTable[[#This Row],[Details Program]])&\"|\"&TRIM(TrnsfrXrefTable[[#This Row],[Details Category]])","v":"1000|Title II, Part A, Transferability|EL Private School"},"Title II, Part A - APE60016","Private School Set-Aside ",{"$f":"TRIM(TrnsfrXrefTable[[#This Row],[Summary Program]])&\"|\"&TRIM(TrnsfrXrefTable[[#This Row],[Summary Expenditure]])","v":"Title II, Part A - APE60016|Private School Set-Aside"},null,"Early Childhood",null,"Title III, Part A - IY",null,"Non Set-Aside"]
[1000,"Title I, Part A","PFE (Division)",{"$f":"TRIM(BdgtXrefTable[[#This Row],[Details Object Code]])&\"|\"&TRIM(BdgtXrefTable[[#This Row],[Details Program]])&\"|\"&TRIM(BdgtXrefTable[[#This Row],[Details Category]])","v":"1000|Title I, Part A|PFE (Division)"},"Title I, Part A","Parent and Family Engagement Set-Aside",{"$f":"TRIM(BdgtXrefTable[[#This Row],[Summary Program]])&\"|\"&TRIM(BdgtXrefTable[[#This Row],[Summary Expenditure]])","v":"Title I, Part A|Parent and Family Engagement Set-Aside"},null,1000,"Title II, Part A, Transferability","EL Subgrant",{"$f":"TRIM(TrnsfrXrefTable[[#This Row],[Details Object Code]])&\"|\"&TRIM(TrnsfrXrefTable[[#This Row],[Details Program]])&\"|\"&TRIM(TrnsfrXrefTable[[#This Row],[Details Category]])","v":"1000|Title II, Part A, Transferability|EL Subgrant"},"Title II, Part A - APE60016","Non-Administrative",{"$f":"TRIM(TrnsfrXrefTable[[#This Row],[Summary Program]])&\"|\"&TRIM(TrnsfrXrefTable[[#This Row],[Summary Expenditure]])","v":"Title II, Part A - APE60016|Non-Administrative"},null,"EL Administrative",null,"Title IV, Part A - Safe & Healthy Students",null,"Non-Administrative"]
[1000,"Title I, Part A","PFE (School Level)",{"$f":"TRIM(BdgtXrefTable[[#This Row],[Details Object Code]])&\"|\"&TRIM(BdgtXrefTable[[#This Row],[Details Program]])&\"|\"&TRIM(BdgtXrefTable[[#This Row],[Details Category]])","v":"1000|Title I, Part A|PFE (School Level)"},"Title I, Part A","Parent and Family Engagement Set-Aside",{"$f":"TRIM(BdgtXrefTable[[#This Row],[Summary Program]])&\"|\"&TRIM(BdgtXrefTable[[#This Row],[Summary Expenditure]])","v":"Title I, Part A|Parent and Family Engagement Set-Aside"},null,1000,"Title II, Part A, Transferability","Foster Care",{"$f":"TRIM(TrnsfrXrefTable[[#This Row],[Details Object Code]])&\"|\"&TRIM(TrnsfrXrefTable[[#This Row],[Details Program]])&\"|\"&TRIM(TrnsfrXrefTable[[#This Row],[Details Category]])","v":"1000|Title II, Part A, Transferability|Foster Care"},"Title II, Part A - APE61481","Set-Aside",{"$f":"TRIM(TrnsfrXrefTable[[#This Row],[Summary Program]])&\"|\"&TRIM(TrnsfrXrefTable[[#This Row],[Summary Expenditure]])","v":"Title II, Part A - APE61481|Set-Aside"},null,"EL Indirect Costs",null,"Title IV, Part A - Sum",null,"Parent and Family Engagement Set-Aside"]
[1000,"Title I, Part A","Title I Private School",{"$f":"TRIM(BdgtXrefTable[[#This Row],[Details Object Code]])&\"|\"&TRIM(BdgtXrefTable[[#This Row],[Details Program]])&\"|\"&TRIM(BdgtXrefTable[[#This Row],[Details Category]])","v":"1000|Title I, Part A|Title I Private School"},"Title I, Part A","Private School Set-Aside ",{"$f":"TRIM(BdgtXrefTable[[#This Row],[Summary Program]])&\"|\"&TRIM(BdgtXrefTable[[#This Row],[Summary Expenditure]])","v":"Title I, Part A|Private School Set-Aside"},null,1000,"Title II, Part A, Transferability","Homeless",{"$f":"TRIM(TrnsfrXrefTable[[#This Row],[Details Object Code]])&\"|\"&TRIM(TrnsfrXrefTable[[#This Row],[Details Program]])&\"|\"&TRIM(TrnsfrXrefTable[[#This Row],[Details Category]])","v":"1000|Title II, Part A, Transferability|Homeless"},"Title II, Part A - APE61481","Set-Aside",{"$f":"TRIM(TrnsfrXrefTable[[#This Row],[Summary Program]])&\"|\"&TRIM(TrnsfrXrefTable[[#This Row],[Summary Expenditure]])","v":"Title II, Part A - APE61481|Set-Aside"},null,"EL Private School",null,"Title IV, Part A - Technology",null,"Private School Set-Aside "]
[1000,"Title I, Part A","Salary Differential",{"$f":"TRIM(BdgtXrefTable[[#This Row],[Details Object Code]])&\"|\"&TRIM(BdgtXrefTable[[#This Row],[Details Program]])&\"|\"&TRIM(BdgtXrefTable[[#This Row],[Details Category]])","v":"1000|Title I, Part A|Salary Differential"},"Title I, Part A","Set-Aside",{"$f":"TRIM(BdgtXrefTable[[#This Row],[Summary Program]])&\"|\"&TRIM(BdgtXrefTable[[#This Row],[Summary Expenditure]])","v":"Title I, Part A|Set-Aside"},null,1000,"Title II, Part A, Transferability","IY Subgrant",{"$f":"TRIM(TrnsfrXrefTable[[#This Row],[Details Object Code]])&\"|\"&TRIM(TrnsfrXrefTable[[#This Row],[Details Program]])&\"|\"&TRIM(TrnsfrXrefTable[[#This Row],[Details Category]])","v":"1000|Title II, Part A, Transferability|IY Subgrant"},"Title II, Part A - APE60016","Non-Administrative",{"$f":"TRIM(TrnsfrXrefTable[[#This Row],[Summary Program]])&\"|\"&TRIM(TrnsfrXrefTable[[#This Row],[Summary Expenditure]])","v":"Title II, Part A - APE60016|Non-Administrative"},null,"EL Subgrant",null,"Title IV, Part A - Well-Rounded Education",null,"Set-Aside"]
[1000,"Title I, Part A","Non Set-Aside",{"$f":"TRIM(BdgtXrefTable[[#This Row],[Details Object Code]])&\"|\"&TRIM(BdgtXrefTable[[#This Row],[Details Program]])&\"|\"&TRIM(BdgtXrefTable[[#This Row],[Details Category]])","v":"1000|Title I, Part A|Non Set-Aside"},"Title I, Part A","Non Set-Aside",{"$f":"TRIM(BdgtXrefTable[[#This Row],[Summary Program]])&\"|\"&TRIM(BdgtXrefTable[[#This Row],[Summary Expenditure]])","v":"Title I, Part A|Non Set-Aside"},null,1000,"Title II, Part A, Transferability","Migrant",{"$f":"TRIM(TrnsfrXrefTable[[#This Row],[Details Object Code]])&\"|\"&TRIM(TrnsfrXrefTable[[#This Row],[Details Program]])&\"|\"&TRIM(TrnsfrXrefTable[[#This Row],[Details Category]])","v":"1000|Title II, Part A, Transferability|Migrant"},"Title II, Part A - APE60014","Non Set-Aside",{"$f":"TRIM(TrnsfrXrefTable[[#This Row],[Summary Program]])&\"|\"&TRIM(TrnsfrXrefTable[[#This Row],[Summary Expenditure]])","v":"Title II, Part A - APE60014|Non Set-Aside"},null,"Employee Benefits Differential",null,"Title V, Part B"]
[2000,"Title I, Part A","CSI/TSI",{"$f":"TRIM(BdgtXrefTable[[#This Row],[Details Object Code]])&\"|\"&TRIM(BdgtXrefTable[[#This Row],[Details Program]])&\"|\"&TRIM(BdgtXrefTable[[#This Row],[Details Category]])","v":"2000|Title I, Part A|CSI/TSI"},"Title I, Part A","Set-Aside",{"$f":"TRIM(BdgtXrefTable[[#This Row],[Summary Program]])&\"|\"&TRIM(BdgtXrefTable[[#This Row],[Summary Expenditure]])","v":"Title I, Part A|Set-Aside"},null,1000,"Title II, Part A, Transferability","Neglected",{"$f":"TRIM(TrnsfrXrefTable[[#This Row],[Details Object Code]])&\"|\"&TRIM(TrnsfrXrefTable[[#This Row],[Details Program]])&\"|\"&TRIM(TrnsfrXrefTable[[#This Row],[Details Category]])","v":"1000|Title II, Part A, Transferability|Neglected"},"Title II, Part A - APE61481","Set-Aside",{"$f":"TRIM(TrnsfrXrefTable[[#This Row],[Summary Program]])&\"|\"&TRIM(TrnsfrXrefTable[[#This Row],[Summary Expenditure]])","v":"Title II, Part A - APE61481|Set-Aside"},null,"Evaluation"]
[2000,"Title I, Part A","Division",{"$f":"TRIM(BdgtXrefTable[[#This Row],[Details Object Code]])&\"|\"&TRIM(BdgtXrefTable[[#This Row],[Details Program]])&\"|\"&TRIM(BdgtXrefTable[[#This Row],[Details Category]])","v":"2000|Title I, Part A|Division"},"Title I, Part A","Set-Aside",{"$f":"TRIM(BdgtXrefTable[[#This Row],[Summary Program]])&\"|\"&TRIM(BdgtXrefTable[[#This Row],[Summary Expenditure]])","v":"Title I, Part A|Set-Aside"},null,1000,"Title II, Part A, Transferability","PFE (Division)",{"$f":"TRIM(TrnsfrXrefTable[[#This Row],[Details Object Code]])&\"|\"&TRIM(TrnsfrXrefTable[[#This Row],[Details Program]])&\"|\"&TRIM(TrnsfrXrefTable[[#This Row],[Details Category]])","v":"1000|Title II, Part A, Transferability|PFE (Division)"},"Title II, Part A - APE61481","Parent and Family Engagement Set-Aside",{"$f":"TRIM(TrnsfrXrefTable[[#This Row],[Summary Program]])&\"|\"&TRIM(TrnsfrXrefTable[[#This Row],[Summary Expenditure]])","v":"Title II, Part A - APE61481|Parent and Family Engagement Set-Aside"},null,"Foster Care"]
[2000,"Title I, Part A","Early Childhood",{"$f":"TRIM(BdgtXrefTable[[#This Row],[Details Object Code]])&\"|\"&TRIM(BdgtXrefTable[[#This Row],[Details Program]])&\"|\"&TRIM(BdgtXrefTable[[#This Row],[Details Category]])","v":"2000|Title I, Part A|Early Childhood"},"Title I, Part A","Set-Aside",{"$f":"TRIM(BdgtXrefTable[[#This Row],[Summary Program]])&\"|\"&TRIM(BdgtXrefTable[[#This Row],[Summary Expenditure]])","v":"Title I, Part A|Set-Aside"},null,1000,"Title II, Part A, Transferability","PFE (School Level)",{"$f":"TRIM(TrnsfrXrefTable[[#This Row],[Details Object Code]])&\"|\"&TRIM(TrnsfrXrefTable[[#This Row],[Details Program]])&\"|\"&TRIM(TrnsfrXrefTable[[#This Row],[Details Category]])","v":"1000|Title II, Part A, Transferability|PFE (School Level)"},"Title II, Part A - APE61481","Parent and Family Engagement Set-Aside",{"$f":"TRIM(TrnsfrXrefTable[[#This Row],[Summary Program]])&\"|\"&TRIM(TrnsfrXrefTable[[#This Row],[Summary Expenditure]])","v":"Title II, Part A - APE61481|Parent and Family Engagement Set-Aside"},null,"Homeless"]
[2000,"Title I, Part A","Employee Benefits Differential",{"$f":"TRIM(BdgtXrefTable[[#This Row],[Details Object Code]])&\"|\"&TRIM(BdgtXrefTable[[#This Row],[Details Program]])&\"|\"&TRIM(BdgtXrefTable[[#This Row],[Details Category]])","v":"2000|Title I, Part A|Employee Benefits Differential"},"Title I, Part A","Set-Aside",{"$f":"TRIM(BdgtXrefTable[[#This Row],[Summary Program]])&\"|\"&TRIM(BdgtXrefTable[[#This Row],[Summary Expenditure]])","v":"Title I, Part A|Set-Aside"},null,1000,"Title II, Part A, Transferability","Safe & Healthy Students - PS",{"$f":"TRIM(TrnsfrXrefTable[[#This Row],[Details Object Code]])&\"|\"&TRIM(TrnsfrXrefTable[[#This Row],[Details Program]])&\"|\"&TRIM(TrnsfrXrefTable[[#This Row],[Details Category]])","v":"1000|Title II, Part A, Transferability|Safe & Healthy Students - PS"},"Title II, Part A - APE60017","Private School Set-Aside ",{"$f":"TRIM(TrnsfrXrefTable[[#This Row],[Summary Program]])&\"|\"&TRIM(TrnsfrXrefTable[[#This Row],[Summary Expenditure]])","v":"Title II, Part A - APE60017|Private School Set-Aside"},null,"Indirect Cost"]
[2000,"Title I, Part A","Foster Care",{"$f":"TRIM(BdgtXrefTable[[#This Row],[Details Object Code]])&\"|\"&TRIM(BdgtXrefTable[[#This Row],[Details Program]])&\"|\"&TRIM(BdgtXrefTable[[#This Row],[Details Category]])","v":"2000|Title I, Part A|Foster Care"},"Title I, Part A","Set-Aside",{"$f":"TRIM(BdgtXrefTable[[#This Row],[Summary Program]])&\"|\"&TRIM(BdgtXrefTable[[#This Row],[Summary Expenditure]])","v":"Title I, Part A|Set-Aside"},null,1000,"Title II, Part A, Transferability","Safe & Healthy Students - Admin",{"$f":"TRIM(TrnsfrXrefTable[[#This Row],[Details Object Code]])&\"|\"&TRIM(TrnsfrXrefTable[[#This Row],[Details Program]])&\"|\"&TRIM(TrnsfrXrefTable[[#This Row],[Details Category]])","v":"1000|Title II, Part A, Transferability|Safe & Healthy Students - Admin"},"Title II, Part A - APE60017","Administrative",{"$f":"TRIM(TrnsfrXrefTable[[#This Row],[Summary Program]])&\"|\"&TRIM(TrnsfrXrefTable[[#This Row],[Summary Expenditure]])","v":"Title II, Part A - APE60017|Administrative"},null,"IY Subgrant"]
[2000,"Title I, Part A","Homeless",{"$f":"TRIM(BdgtXrefTable[[#This Row],[Details Object Code]])&\"|\"&TRIM(BdgtXrefTable[[#This Row],[Details Program]])&\"|\"&TRIM(BdgtXrefTable[[#This Row],[Details Category]])","v":"2000|Title I, Part A|Homeless"},"Title I, Part A","Set-Aside",{"$f":"TRIM(BdgtXrefTable[[#This Row],[Summary Program]])&\"|\"&TRIM(BdgtXrefTable[[#This Row],[Summary Expenditure]])","v":"Title I, Part A|Set-Aside"},null,1000,"Title II, Part A, Transferability","Safe & Healthy Students",{"$f":"TRIM(TrnsfrXrefTable[[#This Row],[Details Object Code]])&\"|\"&TRIM(TrnsfrXrefTable[[#This Row],[Details Program]])&\"|\"&TRIM(TrnsfrXrefTable[[#This Row],[Details Category]])","v":"1000|Title II, Part A, Transferability|Safe & Healthy Students"},"Title II, Part A - APE60017","Non-Administrative",{"$f":"TRIM(TrnsfrXrefTable[[#This Row],[Summary Program]])&\"|\"&TRIM(TrnsfrXrefTable[[#This Row],[Summary Expenditure]])","v":"Title II, Part A - APE60017|Non-Administrative"},null,"IY Subgrant Indirect Cost",null,"Values - Trnsfr Summary Programs",null,"Values - Trnsfr Summary Expenditures"]
[2000,"Title I, Part A","Neglected",{"$f":"TRIM(BdgtXrefTable[[#This Row],[Details Object Code]])&\"|\"&TRIM(BdgtXrefTable[[#This Row],[Details Program]])&\"|\"&TRIM(BdgtXrefTable[[#This Row],[Details Category]])","v":"2000|Title I, Part A|Neglected"},"Title I, Part A","Set-Aside",{"$f":"TRIM(BdgtXrefTable[[#This Row],[Summary Program]])&\"|\"&TRIM(BdgtXrefTable[[#This Row],[Summary Expenditure]])","v":"Title I, Part A|Set-Aside"},null,1000,"Title II, Part A, Transferability","Salary Differential",{"$f":"TRIM(TrnsfrXrefTable[[#This Row],[Details Object Code]])&\"|\"&TRIM(TrnsfrXrefTable[[#This Row],[Details Program]])&\"|\"&TRIM(TrnsfrXrefTable[[#This Row],[Details Category]])","v":"1000|Title II, Part A, Transferability|Salary Differential"},"Title II, Part A - APE61481","Set-Aside",{"$f":"TRIM(TrnsfrXrefTable[[#This Row],[Summary Program]])&\"|\"&TRIM(TrnsfrXrefTable[[#This Row],[Summary Expenditure]])","v":"Title II, Part A - APE61481|Set-Aside"},null,"Leadership",null,{"$f":"_xlfn._xlws.SORT(TRANSPOSE(TRIM(LEFT('Consolidated Transferability'!F10:Q10, FIND(\", Transferability\", 'Consolidated Transferability'!F10:Q10) - 1) & \" - \" & RIGHT('Consolidated Transferability'!F10:Q10, 8))))","v":"Title II, Part A - APE60014"},null,{"$f":"_xlfn._xlws.SORT(_xlfn.UNIQUE(_xlfn._xlws.FILTER('Consolidated Transferability'!C13:C64,LEFT('Consolidated Transferability'!C13:C64,6)<>\"Total \")))","v":"Administrative"}]
[2000,"Title I, Part A","PFE (Division)",{"$f":"TRIM(BdgtXrefTable[[#This Row],[Details Object Code]])&\"|\"&TRIM(BdgtXrefTable[[#This Row],[Details Program]])&\"|\"&TRIM(BdgtXrefTable[[#This Row],[Details Category]])","v":"2000|Title I, Part A|PFE (Division)"},"Title I, Part A","Parent and Family Engagement Set-Aside",{"$f":"TRIM(BdgtXrefTable[[#This Row],[Summary Program]])&\"|\"&TRIM(BdgtXrefTable[[#This Row],[Summary Expenditure]])","v":"Title I, Part A|Parent and Family Engagement Set-Aside"},null,1000,"Title II, Part A, Transferability","Technology - PS",{"$f":"TRIM(TrnsfrXrefTable[[#This Row],[Details Object Code]])&\"|\"&TRIM(TrnsfrXrefTable[[#This Row],[Details Program]])&\"|\"&TRIM(TrnsfrXrefTable[[#This Row],[Details Category]])","v":"1000|Title II, Part A, Transferability|Technology - PS"},"Title II, Part A - APE60017","Private School Set-Aside ",{"$f":"TRIM(TrnsfrXrefTable[[#This Row],[Summary Program]])&\"|\"&TRIM(TrnsfrXrefTable[[#This Row],[Summary Expenditure]])","v":"Title II, Part A - APE60017|Private School Set-Aside"},null,"Mentoring/Induction",null,"Title II, Part A - APE60015",null,"Contracted Services"]
[2000,"Title I, Part A","PFE (School Level)",{"$f":"TRIM(BdgtXrefTable[[#This Row],[Details Object Code]])&\"|\"&TRIM(BdgtXrefTable[[#This Row],[Details Program]])&\"|\"&TRIM(BdgtXrefTable[[#This Row],[Details Category]])","v":"2000|Title I, Part A|PFE (School Level)"},"Title I, Part A","Parent and Family Engagement Set-Aside",{"$f":"TRIM(BdgtXrefTable[[#This Row],[Summary Program]])&\"|\"&TRIM(BdgtXrefTable[[#This Row],[Summary Expenditure]])","v":"Title I, Part A|Parent and Family Engagement Set-Aside"},null,1000,"Title II, Part A, Transferability","Technology - Admin",{"$f":"TRIM(TrnsfrXrefTable[[#This Row],[Details Object Code]])&\"|\"&TRIM(TrnsfrXrefTable[[#This Row],[Details Program]])&\"|\"&TRIM(TrnsfrXrefTable[[#This Row],[Details Category]])","v":"1000|Title II, Part A, Transferability|Technology - Admin"},"Title II, Part A - APE60017","Administrative",{"$f":"TRIM(TrnsfrXrefTable[[#This Row],[Summary Program]])&\"|\"&TRIM(TrnsfrXrefTable[[#This Row],[Summary Expenditure]])","v":"Title II, Part A - APE60017|Administrative"},null,"Migrant",null,"Title II, Part A - APE60016",null,"Indirect Costs"]
[2000,"Title I, Part A","Title I Private School",{"$f":"TRIM(BdgtXrefTable[[#This Row],[Details Object Code]])&\"|\"&TRIM(BdgtXrefTable[[#This Row],[Details Program]])&\"|\"&TRIM(BdgtXrefTable[[#This Row],[Details Category]])","v":"2000|Title I, Part A|Title I Private School"},"Title I, Part A","Private School Set-Aside ",{"$f":"TRIM(BdgtXrefTable[[#This Row],[Summary Program]])&\"|\"&TRIM(BdgtXrefTable[[#This Row],[Summary Expenditure]])","v":"Title I, Part A|Private School Set-Aside"},null,1000,"Title II, Part A, Transferability","Technology",{"$f":"TRIM(TrnsfrXrefTable[[#This Row],[Details Object Code]])&\"|\"&TRIM(TrnsfrXrefTable[[#This Row],[Details Program]])&\"|\"&TRIM(TrnsfrXrefTable[[#This Row],[Details Category]])","v":"1000|Title II, Part A, Transferability|Technology"},"Title II, Part A - APE60017","Non-Administrative",{"$f":"TRIM(TrnsfrXrefTable[[#This Row],[Summary Program]])&\"|\"&TRIM(TrnsfrXrefTable[[#This Row],[Summary Expenditure]])","v":"Title II, Part A - APE60017|Non-Administrative"},null,"Neglected",null,"Title II, Part A - APE60017",null,"Internal Services"]
[2000,"Title I, Part A","Non Set-Aside",{"$f":"TRIM(BdgtXrefTable[[#This Row],[Details Object Code]])&\"|\"&TRIM(BdgtXrefTable[[#This Row],[Details Program]])&\"|\"&TRIM(BdgtXrefTable[[#This Row],[Details Category]])","v":"2000|Title I, Part A|Non Set-Aside"},"Title I, Part A","Non Set-Aside",{"$f":"TRIM(BdgtXrefTable[[#This Row],[Summary Program]])&\"|\"&TRIM(BdgtXrefTable[[#This Row],[Summary Expenditure]])","v":"Title I, Part A|Non Set-Aside"},null,1000,"Title II, Part A, Transferability","Title I C Private School",{"$f":"TRIM(TrnsfrXrefTable[[#This Row],[Details Object Code]])&\"|\"&TRIM(TrnsfrXrefTable[[#This Row],[Details Program]])&\"|\"&TRIM(TrnsfrXrefTable[[#This Row],[Details Category]])","v":"1000|Title II, Part A, Transferability|Title I C Private School"},"Title II, Part A - APE60014","Private School Set-Aside ",{"$f":"TRIM(TrnsfrXrefTable[[#This Row],[Summary Program]])&\"|\"&TRIM(TrnsfrXrefTable[[#This Row],[Summary Expenditure]])","v":"Title II, Part A - APE60014|Private School Set-Aside"},null,"Non Set-Aside",null,"Title II, Part A - APE60018",null,"Materials"]
[3000,"Title I, Part A","CSI/TSI",{"$f":"TRIM(BdgtXrefTable[[#This Row],[Details Object Code]])&\"|\"&TRIM(BdgtXrefTable[[#This Row],[Details Program]])&\"|\"&TRIM(BdgtXrefTable[[#This Row],[Details Category]])","v":"3000|Title I, Part A|CSI/TSI"},"Title I, Part A","Set-Aside",{"$f":"TRIM(BdgtXrefTable[[#This Row],[Summary Program]])&\"|\"&TRIM(BdgtXrefTable[[#This Row],[Summary Expenditure]])","v":"Title I, Part A|Set-Aside"},null,1000,"Title IV, Part A, Transferability","Title I C Private School",{"$f":"TRIM(TrnsfrXrefTable[[#This Row],[Details Object Code]])&\"|\"&TRIM(TrnsfrXrefTable[[#This Row],[Details Program]])&\"|\"&TRIM(TrnsfrXrefTable[[#This Row],[Details Category]])","v":"1000|Title IV, Part A, Transferability|Title I C Private School"},"Title IV, Part A - APE60020","Private School Set-Aside ",{"$f":"TRIM(TrnsfrXrefTable[[#This Row],[Summary Program]])&\"|\"&TRIM(TrnsfrXrefTable[[#This Row],[Summary Expenditure]])","v":"Title IV, Part A - APE60020|Private School Set-Aside"},null,"Other",null,"Title II, Part A - APE61481",null,"Non Set-Aside"]
[3000,"Title I, Part A","Division",{"$f":"TRIM(BdgtXrefTable[[#This Row],[Details Object Code]])&\"|\"&TRIM(BdgtXrefTable[[#This Row],[Details Program]])&\"|\"&TRIM(BdgtXrefTable[[#This Row],[Details Category]])","v":"3000|Title I, Part A|Division"},"Title I, Part A","Set-Aside",{"$f":"TRIM(BdgtXrefTable[[#This Row],[Summary Program]])&\"|\"&TRIM(BdgtXrefTable[[#This Row],[Summary Expenditure]])","v":"Title I, Part A|Set-Aside"},null,1000,"Title II, Part A, Transferability","Title I Private School",{"$f":"TRIM(TrnsfrXrefTable[[#This Row],[Details Object Code]])&\"|\"&TRIM(TrnsfrXrefTable[[#This Row],[Details Program]])&\"|\"&TRIM(TrnsfrXrefTable[[#This Row],[Details Category]])","v":"1000|Title II, Part A, Transferability|Title I Private School"},"Title II, Part A - APE61481","Private School Set-Aside ",{"$f":"TRIM(TrnsfrXrefTable[[#This Row],[Summary Program]])&\"|\"&TRIM(TrnsfrXrefTable[[#This Row],[Summary Expenditure]])","v":"Title II, Part A - APE61481|Private School Set-Aside"},null,"PFE (Division)",null,"Title IV, Part A - APE60019",null,"Non-Administrative"]
[3000,"Title I, Part A","Early Childhood",{"$f":"TRIM(BdgtXrefTable[[#This Row],[Details Object Code]])&\"|\"&TRIM(BdgtXrefTable[[#This Row],[Details Program]])&\"|\"&TRIM(BdgtXrefTable[[#This Row],[Details Category]])","v":"3000|Title I, Part A|Early Childhood"},"Title I, Part A","Set-Aside",{"$f":"TRIM(BdgtXrefTable[[#This Row],[Summary Program]])&\"|\"&TRIM(BdgtXrefTable[[#This Row],[Summary Expenditure]])","v":"Title I, Part A|Set-Aside"},null,1000,"Title II, Part A, Transferability","Well Rounded Students - PS",{"$f":"TRIM(TrnsfrXrefTable[[#This Row],[Details Object Code]])&\"|\"&TRIM(TrnsfrXrefTable[[#This Row],[Details Program]])&\"|\"&TRIM(TrnsfrXrefTable[[#This Row],[Details Category]])","v":"1000|Title II, Part A, Transferability|Well Rounded Students - PS"},"Title II, Part A - APE60017","Private School Set-Aside ",{"$f":"TRIM(TrnsfrXrefTable[[#This Row],[Summary Program]])&\"|\"&TRIM(TrnsfrXrefTable[[#This Row],[Summary Expenditure]])","v":"Title II, Part A - APE60017|Private School Set-Aside"},null,"PFE (School Level)",null,"Title IV, Part A - APE60020",null,"Parent and Family Engagement Set-Aside"]
[3000,"Title I, Part A","Foster Care",{"$f":"TRIM(BdgtXrefTable[[#This Row],[Details Object Code]])&\"|\"&TRIM(BdgtXrefTable[[#This Row],[Details Program]])&\"|\"&TRIM(BdgtXrefTable[[#This Row],[Details Category]])","v":"3000|Title I, Part A|Foster Care"},"Title I, Part A","Set-Aside",{"$f":"TRIM(BdgtXrefTable[[#This Row],[Summary Program]])&\"|\"&TRIM(BdgtXrefTable[[#This Row],[Summary Expenditure]])","v":"Title I, Part A|Set-Aside"},null,1000,"Title II, Part A, Transferability","Well Rounded Students - Admin",{"$f":"TRIM(TrnsfrXrefTable[[#This Row],[Details Object Code]])&\"|\"&TRIM(TrnsfrXrefTable[[#This Row],[Details Program]])&\"|\"&TRIM(TrnsfrXrefTable[[#This Row],[Details Category]])","v":"1000|Title II, Part A, Transferability|Well Rounded Students - Admin"},"Title II, Part A - APE60017","Administrative",{"$f":"TRIM(TrnsfrXrefTable[[#This Row],[Summary Program]])&\"|\"&TRIM(TrnsfrXrefTable[[#This Row],[Summary Expenditure]])","v":"Title II, Part A - APE60017|Administrative"},null,"Professional Development",null,"Title IV, Part A - APE60021",null,"Private School Set-Aside "]
[3000,"Title I, Part A","Homeless",{"$f":"TRIM(BdgtXrefTable[[#This Row],[Details Object Code]])&\"|\"&TRIM(BdgtXrefTable[[#This Row],[Details Program]])&\"|\"&TRIM(BdgtXrefTable[[#This Row],[Details Category]])","v":"3000|Title I, Part A|Homeless"},"Title I, Part A","Set-Aside",{"$f":"TRIM(BdgtXrefTable[[#This Row],[Summary Program]])&\"|\"&TRIM(BdgtXrefTable[[#This Row],[Summary Expenditure]])","v":"Title I, Part A|Set-Aside"},null,1000,"Title II, Part A, Transferability","Well Rounded Students",{"$f":"TRIM(TrnsfrXrefTable[[#This Row],[Details Object Code]])&\"|\"&TRIM(TrnsfrXrefTable[[#This Row],[Details Program]])&\"|\"&TRIM(TrnsfrXrefTable[[#This Row],[Details Category]])","v":"1000|Title II, Part A, Transferability|Well Rounded Students"},"Title II, Part A - APE60017","Non-Administrative",{"$f":"TRIM(TrnsfrXrefTable[[#This Row],[Summary Program]])&\"|\"&TRIM(TrnsfrXrefTable[[#This Row],[Summary Expenditure]])","v":"Title II, Part A - APE60017|Non-Administrative"},null,"Recruitment/Retention",null,"Title IV, Part A - APE60022",null,"Set-Aside"]
[3000,"Title I, Part A","Neglected",{"$f":"TRIM(BdgtXrefTable[[#This Row],[Details Object Code]])&\"|\"&TRIM(BdgtXrefTable[[#This Row],[Details Program]])&\"|\"&TRIM(BdgtXrefTable[[#This Row],[Details Category]])","v":"3000|Title I, Part A|Neglected"},"Title I, Part A","Set-Aside",{"$f":"TRIM(BdgtXrefTable[[#This Row],[Summary Program]])&\"|\"&TRIM(BdgtXrefTable[[#This Row],[Summary Expenditure]])","v":"Title I, Part A|Set-Aside"},null,1000,"Title II, Part A, Transferability","Rural and Low Income",{"$f":"TRIM(TrnsfrXrefTable[[#This Row],[Details Object Code]])&\"|\"&TRIM(TrnsfrXrefTable[[#This Row],[Details Program]])&\"|\"&TRIM(TrnsfrXrefTable[[#This Row],[Details Category]])","v":"1000|Title II, Part A, Transferability|Rural and Low Income"},"Title II, Part A - APE60018","Non Set-Aside",{"$f":"TRIM(TrnsfrXrefTable[[#This Row],[Summary Program]])&\"|\"&TRIM(TrnsfrXrefTable[[#This Row],[Summary Expenditure]])","v":"Title II, Part A - APE60018|Non Set-Aside"},null,"Rural and Low Income",null,"Title IV, Part A - APE60023"]
[3000,"Title I, Part A","PFE (Division)",{"$f":"TRIM(BdgtXrefTable[[#This Row],[Details Object Code]])&\"|\"&TRIM(BdgtXrefTable[[#This Row],[Details Program]])&\"|\"&TRIM(BdgtXrefTable[[#This Row],[Details Category]])","v":"3000|Title I, Part A|PFE (Division)"},"Title I, Part A","Parent and Family Engagement Set-Aside",{"$f":"TRIM(BdgtXrefTable[[#This Row],[Summary Program]])&\"|\"&TRIM(BdgtXrefTable[[#This Row],[Summary Expenditure]])","v":"Title I, Part A|Parent and Family Engagement Set-Aside"},null,2000,"Title II, Part A, Transferability","CSI/TSI",{"$f":"TRIM(TrnsfrXrefTable[[#This Row],[Details Object Code]])&\"|\"&TRIM(TrnsfrXrefTable[[#This Row],[Details Program]])&\"|\"&TRIM(TrnsfrXrefTable[[#This Row],[Details Category]])","v":"2000|Title II, Part A, Transferability|CSI/TSI"},"Title II, Part A - APE61481","Set-Aside",{"$f":"TRIM(TrnsfrXrefTable[[#This Row],[Summary Program]])&\"|\"&TRIM(TrnsfrXrefTable[[#This Row],[Summary Expenditure]])","v":"Title II, Part A - APE61481|Set-Aside"},null,"Safe & Healthy Students",null,"Title IV, Part A - APE60024"]
[3000,"Title I, Part A","PFE (School Level)",{"$f":"TRIM(BdgtXrefTable[[#This Row],[Details Object Code]])&\"|\"&TRIM(BdgtXrefTable[[#This Row],[Details Program]])&\"|\"&TRIM(BdgtXrefTable[[#This Row],[Details Category]])","v":"3000|Title I, Part A|PFE (School Level)"},"Title I, Part A","Parent and Family Engagement Set-Aside",{"$f":"TRIM(BdgtXrefTable[[#This Row],[Summary Program]])&\"|\"&TRIM(BdgtXrefTable[[#This Row],[Summary Expenditure]])","v":"Title I, Part A|Parent and Family Engagement Set-Aside"},null,2000,"Title II, Part A, Transferability","Delinquent",{"$f":"TRIM(TrnsfrXrefTable[[#This Row],[Details Object Code]])&\"|\"&TRIM(TrnsfrXrefTable[[#This Row],[Details Program]])&\"|\"&TRIM(TrnsfrXrefTable[[#This Row],[Details Category]])","v":"2000|Title II, Part A, Transferability|Delinquent"},"Title II, Part A - APE60015","Non Set-Aside",{"$f":"TRIM(TrnsfrXrefTable[[#This Row],[Summary Program]])&\"|\"&TRIM(TrnsfrXrefTable[[#This Row],[Summary Expenditure]])","v":"Title II, Part A - APE60015|Non Set-Aside"},null,"Safe & Healthy Students - Admin"]
[3000,"Title I, Part A","Title I Private School",{"$f":"TRIM(BdgtXrefTable[[#This Row],[Details Object Code]])&\"|\"&TRIM(BdgtXrefTable[[#This Row],[Details Program]])&\"|\"&TRIM(BdgtXrefTable[[#This Row],[Details Category]])","v":"3000|Title I, Part A|Title I Private School"},"Title I, Part A","Private School Set-Aside ",{"$f":"TRIM(BdgtXrefTable[[#This Row],[Summary Program]])&\"|\"&TRIM(BdgtXrefTable[[#This Row],[Summary Expenditure]])","v":"Title I, Part A|Private School Set-Aside"},null,2000,"Title II, Part A, Transferability","Division",{"$f":"TRIM(TrnsfrXrefTable[[#This Row],[Details Object Code]])&\"|\"&TRIM(TrnsfrXrefTable[[#This Row],[Details Program]])&\"|\"&TRIM(TrnsfrXrefTable[[#This Row],[Details Category]])","v":"2000|Title II, Part A, Transferability|Division"},"Title II, Part A - APE61481","Set-Aside",{"$f":"TRIM(TrnsfrXrefTable[[#This Row],[Summary Program]])&\"|\"&TRIM(TrnsfrXrefTable[[#This Row],[Summary Expenditure]])","v":"Title II, Part A - APE61481|Set-Aside"},null,"Safe & Healthy Students - Indirect Costs"]
[3000,"Title I, Part A","Non Set-Aside",{"$f":"TRIM(BdgtXrefTable[[#This Row],[Details Object Code]])&\"|\"&TRIM(BdgtXrefTable[[#This Row],[Details Program]])&\"|\"&TRIM(BdgtXrefTable[[#This Row],[Details Category]])","v":"3000|Title I, Part A|Non Set-Aside"},"Title I, Part A","Non Set-Aside",{"$f":"TRIM(BdgtXrefTable[[#This Row],[Summary Program]])&\"|\"&TRIM(BdgtXrefTable[[#This Row],[Summary Expenditure]])","v":"Title I, Part A|Non Set-Aside"},null,2000,"Title II, Part A, Transferability","Early Childhood",{"$f":"TRIM(TrnsfrXrefTable[[#This Row],[Details Object Code]])&\"|\"&TRIM(TrnsfrXrefTable[[#This Row],[Details Program]])&\"|\"&TRIM(TrnsfrXrefTable[[#This Row],[Details Category]])","v":"2000|Title II, Part A, Transferability|Early Childhood"},"Title II, Part A - APE61481","Set-Aside",{"$f":"TRIM(TrnsfrXrefTable[[#This Row],[Summary Program]])&\"|\"&TRIM(TrnsfrXrefTable[[#This Row],[Summary Expenditure]])","v":"Title II, Part A - APE61481|Set-Aside"},null,"Safe & Healthy Students - PS"]
[4000,"Title I, Part A","CSI/TSI",{"$f":"TRIM(BdgtXrefTable[[#This Row],[Details Object Code]])&\"|\"&TRIM(BdgtXrefTable[[#This Row],[Details Program]])&\"|\"&TRIM(BdgtXrefTable[[#This Row],[Details Category]])","v":"4000|Title I, Part A|CSI/TSI"},"Title I, Part A","Set-Aside",{"$f":"TRIM(BdgtXrefTable[[#This Row],[Summary Program]])&\"|\"&TRIM(BdgtXrefTable[[#This Row],[Summary Expenditure]])","v":"Title I, Part A|Set-Aside"},null,2000,"Title II, Part A, Transferability","EL Administrative",{"$f":"TRIM(TrnsfrXrefTable[[#This Row],[Details Object Code]])&\"|\"&TRIM(TrnsfrXrefTable[[#This Row],[Details Program]])&\"|\"&TRIM(TrnsfrXrefTable[[#This Row],[Details Category]])","v":"2000|Title II, Part A, Transferability|EL Administrative"},"Title II, Part A - APE60016","Administrative",{"$f":"TRIM(TrnsfrXrefTable[[#This Row],[Summary Program]])&\"|\"&TRIM(TrnsfrXrefTable[[#This Row],[Summary Expenditure]])","v":"Title II, Part A - APE60016|Administrative"},null,"Salary Differential"]
[4000,"Title I, Part A","Division",{"$f":"TRIM(BdgtXrefTable[[#This Row],[Details Object Code]])&\"|\"&TRIM(BdgtXrefTable[[#This Row],[Details Program]])&\"|\"&TRIM(BdgtXrefTable[[#This Row],[Details Category]])","v":"4000|Title I, Part A|Division"},"Title I, Part A","Set-Aside",{"$f":"TRIM(BdgtXrefTable[[#This Row],[Summary Program]])&\"|\"&TRIM(BdgtXrefTable[[#This Row],[Summary Expenditure]])","v":"Title I, Part A|Set-Aside"},null,2000,"Title II, Part A, Transferability","EL Private School",{"$f":"TRIM(TrnsfrXrefTable[[#This Row],[Details Object Code]])&\"|\"&TRIM(TrnsfrXrefTable[[#This Row],[Details Program]])&\"|\"&TRIM(TrnsfrXrefTable[[#This Row],[Details Category]])","v":"2000|Title II, Part A, Transferability|EL Private School"},"Title II, Part A - APE60016","Private School Set-Aside ",{"$f":"TRIM(TrnsfrXrefTable[[#This Row],[Summary Program]])&\"|\"&TRIM(TrnsfrXrefTable[[#This Row],[Summary Expenditure]])","v":"Title II, Part A - APE60016|Private School Set-Aside"},null,"Teacher Quality (assessments)"]
[4000,"Title I, Part A","Early Childhood",{"$f":"TRIM(BdgtXrefTable[[#This Row],[Details Object Code]])&\"|\"&TRIM(BdgtXrefTable[[#This Row],[Details Program]])&\"|\"&TRIM(BdgtXrefTable[[#This Row],[Details Category]])","v":"4000|Title I, Part A|Early Childhood"},"Title I, Part A","Set-Aside",{"$f":"TRIM(BdgtXrefTable[[#This Row],[Summary Program]])&\"|\"&TRIM(BdgtXrefTable[[#This Row],[Summary Expenditure]])","v":"Title I, Part A|Set-Aside"},null,2000,"Title II, Part A, Transferability","EL Subgrant",{"$f":"TRIM(TrnsfrXrefTable[[#This Row],[Details Object Code]])&\"|\"&TRIM(TrnsfrXrefTable[[#This Row],[Details Program]])&\"|\"&TRIM(TrnsfrXrefTable[[#This Row],[Details Category]])","v":"2000|Title II, Part A, Transferability|EL Subgrant"},"Title II, Part A - APE60016","Non-Administrative",{"$f":"TRIM(TrnsfrXrefTable[[#This Row],[Summary Program]])&\"|\"&TRIM(TrnsfrXrefTable[[#This Row],[Summary Expenditure]])","v":"Title II, Part A - APE60016|Non-Administrative"},null,"Technology"]
[4000,"Title I, Part A","Foster Care",{"$f":"TRIM(BdgtXrefTable[[#This Row],[Details Object Code]])&\"|\"&TRIM(BdgtXrefTable[[#This Row],[Details Program]])&\"|\"&TRIM(BdgtXrefTable[[#This Row],[Details Category]])","v":"4000|Title I, Part A|Foster Care"},"Title I, Part A","Set-Aside",{"$f":"TRIM(BdgtXrefTable[[#This Row],[Summary Program]])&\"|\"&TRIM(BdgtXrefTable[[#This Row],[Summary Expenditure]])","v":"Title I, Part A|Set-Aside"},null,2000,"Title II, Part A, Transferability","Foster Care",{"$f":"TRIM(TrnsfrXrefTable[[#This Row],[Details Object Code]])&\"|\"&TRIM(TrnsfrXrefTable[[#This Row],[Details Program]])&\"|\"&TRIM(TrnsfrXrefTable[[#This Row],[Details Category]])","v":"2000|Title II, Part A, Transferability|Foster Care"},"Title II, Part A - APE61481","Set-Aside",{"$f":"TRIM(TrnsfrXrefTable[[#This Row],[Summary Program]])&\"|\"&TRIM(TrnsfrXrefTable[[#This Row],[Summary Expenditure]])","v":"Title II, Part A - APE61481|Set-Aside"},null,"Technology - Admin"]
[4000,"Title I, Part A","Homeless",{"$f":"TRIM(BdgtXrefTable[[#This Row],[Details Object Code]])&\"|\"&TRIM(BdgtXrefTable[[#This Row],[Details Program]])&\"|\"&TRIM(BdgtXrefTable[[#This Row],[Details Category]])","v":"4000|Title I, Part A|Homeless"},"Title I, Part A","Set-Aside",{"$f":"TRIM(BdgtXrefTable[[#This Row],[Summary Program]])&\"|\"&TRIM(BdgtXrefTable[[#This Row],[Summary Expenditure]])","v":"Title I, Part A|Set-Aside"},null,2000,"Title II, Part A, Transferability","Homeless",{"$f":"TRIM(TrnsfrXrefTable[[#This Row],[Details Object Code]])&\"|\"&TRIM(TrnsfrXrefTable[[#This Row],[Details Program]])&\"|\"&TRIM(TrnsfrXrefTable[[#This Row],[Details Category]])","v":"2000|Title II, Part A, Transferability|Homeless"},"Title II, Part A - APE61481","Set-Aside",{"$f":"TRIM(TrnsfrXrefTable[[#This Row],[Summary Program]])&\"|\"&TRIM(TrnsfrXrefTable[[#This Row],[Summary Expenditure]])","v":"Title II, Part A - APE61481|Set-Aside"},null,"Technology - Indirect Costs"]
[4000,"Title I, Part A","Neglected",{"$f":"TRIM(BdgtXrefTable[[#This Row],[Details Object Code]])&\"|\"&TRIM(BdgtXrefTable[[#This Row],[Details Program]])&\"|\"&TRIM(BdgtXrefTable[[#This Row],[Details Category]])","v":"4000|Title I, Part A|Neglected"},"Title I, Part A","Set-Aside",{"$f":"TRIM(BdgtXrefTable[[#This Row],[Summary Program]])&\"|\"&TRIM(BdgtXrefTable[[#This Row],[Summary Expenditure]])","v":"Title I, Part A|Set-Aside"},null,2000,"Title II, Part A, Transferability","IY Subgrant",{"$f":"TRIM(TrnsfrXrefTable[[#This Row],[Details Object Code]])&\"|\"&TRIM(TrnsfrXrefTable[[#This Row],[Details Program]])&\"|\"&TRIM(TrnsfrXrefTable[[#This Row],[Details Category]])","v":"2000|Title II, Part A, Transferability|IY Subgrant"},"Title II, Part A - APE60016","Non-Administrative",{"$f":"TRIM(TrnsfrXrefTable[[#This Row],[Summary Program]])&\"|\"&TRIM(TrnsfrXrefTable[[#This Row],[Summary Expenditure]])","v":"Title II, Part A - APE60016|Non-Administrative"},null,"Technology - PS"]
[4000,"Title I, Part A","PFE (Division)",{"$f":"TRIM(BdgtXrefTable[[#This Row],[Details Object Code]])&\"|\"&TRIM(BdgtXrefTable[[#This Row],[Details Program]])&\"|\"&TRIM(BdgtXrefTable[[#This Row],[Details Category]])","v":"4000|Title I, Part A|PFE (Division)"},"Title I, Part A","Parent and Family Engagement Set-Aside",{"$f":"TRIM(BdgtXrefTable[[#This Row],[Summary Program]])&\"|\"&TRIM(BdgtXrefTable[[#This Row],[Summary Expenditure]])","v":"Title I, Part A|Parent and Family Engagement Set-Aside"},null,2000,"Title II, Part A, Transferability","Migrant",{"$f":"TRIM(TrnsfrXrefTable[[#This Row],[Details Object Code]])&\"|\"&TRIM(TrnsfrXrefTable[[#This Row],[Details Program]])&\"|\"&TRIM(TrnsfrXrefTable[[#This Row],[Details Category]])","v":"2000|Title II, Part A, Transferability|Migrant"},"Title II, Part A - APE60014","Non Set-Aside",{"$f":"TRIM(TrnsfrXrefTable[[#This Row],[Summary Program]])&\"|\"&TRIM(TrnsfrXrefTable[[#This Row],[Summary Expenditure]])","v":"Title II, Part A - APE60014|Non Set-Aside"},null,"Title I C Private School"]
[4000,"Title I, Part A","PFE (School Level)",{"$f":"TRIM(BdgtXrefTable[[#This Row],[Details Object Code]])&\"|\"&TRIM(BdgtXrefTable[[#This Row],[Details Program]])&\"|\"&TRIM(BdgtXrefTable[[#This Row],[Details Category]])","v":"4000|Title I, Part A|PFE (School Level)"},"Title I, Part A","Parent and Family Engagement Set-Aside",{"$f":"TRIM(BdgtXrefTable[[#This Row],[Summary Program]])&\"|\"&TRIM(BdgtXrefTable[[#This Row],[Summary Expenditure]])","v":"Title I, Part A|Parent and Family Engagement Set-Aside"},null,2000,"Title II, Part A, Transferability","Neglected",{"$f":"TRIM(TrnsfrXrefTable[[#This Row],[Details Object Code]])&\"|\"&TRIM(TrnsfrXrefTable[[#This Row],[Details Program]])&\"|\"&TRIM(TrnsfrXrefTable[[#This Row],[Details Category]])","v":"2000|Title II, Part A, Transferability|Neglected"},"Title II, Part A - APE61481","Set-Aside",{"$f":"TRIM(TrnsfrXrefTable[[#This Row],[Summary Program]])&\"|\"&TRIM(TrnsfrXrefTable[[#This Row],[Summary Expenditure]])","v":"Title II, Part A - APE61481|Set-Aside"},null,"Title I Private School"]
[null,null,null,{"$f":"TRIM(BdgtXrefTable[[#This Row],[Details Object Code]])&\"|\"&TRIM(BdgtXrefTable[[#This Row],[Details Program]])&\"|\"&TRIM(BdgtXrefTable[[#This Row],[Details Category]])","v":"||"},null,null,{"$f":"TRIM(BdgtXrefTable[[#This Row],[Summary Program]])&\"|\"&TRIM(BdgtXrefTable[[#This Row],[Summary Expenditure]])","v":"|"},null,2000,"Title II, Part A, Transferability","PFE (Division)",{"$f":"TRIM(TrnsfrXrefTable[[#This Row],[Details Object Code]])&\"|\"&TRIM(TrnsfrXrefTable[[#This Row],[Details Program]])&\"|\"&TRIM(TrnsfrXrefTable[[#This Row],[Details Category]])","v":"2000|Title II, Part A, Transferability|PFE (Division)"},"Title II, Part A - APE61481","Parent and Family Engagement Set-Aside",{"$f":"TRIM(TrnsfrXrefTable[[#This Row],[Summary Program]])&\"|\"&TRIM(TrnsfrXrefTable[[#This Row],[Summary Expenditure]])","v":"Title II, Part A - APE61481|Parent and Family Engagement Set-Aside"},null,"Title II Private School"]
[4000,"Title I, Part A","Non Set-Aside",{"$f":"TRIM(BdgtXrefTable[[#This Row],[Details Object Code]])&\"|\"&TRIM(BdgtXrefTable[[#This Row],[Details Program]])&\"|\"&TRIM(BdgtXrefTable[[#This Row],[Details Category]])","v":"4000|Title I, Part A|Non Set-Aside"},"Title I, Part A","Non Set-Aside",{"$f":"TRIM(BdgtXrefTable[[#This Row],[Summary Program]])&\"|\"&TRIM(BdgtXrefTable[[#This Row],[Summary Expenditure]])","v":"Title I, Part A|Non Set-Aside"},null,2000,"Title II, Part A, Transferability","PFE (School Level)",{"$f":"TRIM(TrnsfrXrefTable[[#This Row],[Details Object Code]])&\"|\"&TRIM(TrnsfrXrefTable[[#This Row],[Details Program]])&\"|\"&TRIM(TrnsfrXrefTable[[#This Row],[Details Category]])","v":"2000|Title II, Part A, Transferability|PFE (School Level)"},"Title II, Part A - APE61481","Parent and Family Engagement Set-Aside",{"$f":"TRIM(TrnsfrXrefTable[[#This Row],[Summary Program]])&\"|\"&TRIM(TrnsfrXrefTable[[#This Row],[Summary Expenditure]])","v":"Title II, Part A - APE61481|Parent and Family Engagement Set-Aside"},null,"Title IIA Administration"]
[5000,"Title I, Part A","CSI/TSI",{"$f":"TRIM(BdgtXrefTable[[#This Row],[Details Object Code]])&\"|\"&TRIM(BdgtXrefTable[[#This Row],[Details Program]])&\"|\"&TRIM(BdgtXrefTable[[#This Row],[Details Category]])","v":"5000|Title I, Part A|CSI/TSI"},"Title I, Part A","Set-Aside",{"$f":"TRIM(BdgtXrefTable[[#This Row],[Summary Program]])&\"|\"&TRIM(BdgtXrefTable[[#This Row],[Summary Expenditure]])","v":"Title I, Part A|Set-Aside"},null,2000,"Title II, Part A, Transferability","Safe & Healthy Students - PS",{"$f":"TRIM(TrnsfrXrefTable[[#This Row],[Details Object Code]])&\"|\"&TRIM(TrnsfrXrefTable[[#This Row],[Details Program]])&\"|\"&TRIM(TrnsfrXrefTable[[#This Row],[Details Category]])","v":"2000|Title II, Part A, Transferability|Safe & Healthy Students - PS"},"Title II, Part A - APE60017","Private School Set-Aside ",{"$f":"TRIM(TrnsfrXrefTable[[#This Row],[Summary Program]])&\"|\"&TRIM(TrnsfrXrefTable[[#This Row],[Summary Expenditure]])","v":"Title II, Part A - APE60017|Private School Set-Aside"},null,"Well Rounded Students"]
[5000,"Title I, Part A","Division",{"$f":"TRIM(BdgtXrefTable[[#This Row],[Details Object Code]])&\"|\"&TRIM(BdgtXrefTable[[#This Row],[Details Program]])&\"|\"&TRIM(BdgtXrefTable[[#This Row],[Details Category]])","v":"5000|Title I, Part A|Division"},"Title I, Part A","Set-Aside",{"$f":"TRIM(BdgtXrefTable[[#This Row],[Summary Program]])&\"|\"&TRIM(BdgtXrefTable[[#This Row],[Summary Expenditure]])","v":"Title I, Part A|Set-Aside"},null,2000,"Title II, Part A, Transferability","Safe & Healthy Students - Admin",{"$f":"TRIM(TrnsfrXrefTable[[#This Row],[Details Object Code]])&\"|\"&TRIM(TrnsfrXrefTable[[#This Row],[Details Program]])&\"|\"&TRIM(TrnsfrXrefTable[[#This Row],[Details Category]])","v":"2000|Title II, Part A, Transferability|Safe & Healthy Students - Admin"},"Title II, Part A - APE60017","Administrative",{"$f":"TRIM(TrnsfrXrefTable[[#This Row],[Summary Program]])&\"|\"&TRIM(TrnsfrXrefTable[[#This Row],[Summary Expenditure]])","v":"Title II, Part A - APE60017|Administrative"},null,"Well Rounded Students - Admin"]
[5000,"Title I, Part A","Early Childhood",{"$f":"TRIM(BdgtXrefTable[[#This Row],[Details Object Code]])&\"|\"&TRIM(BdgtXrefTable[[#This Row],[Details Program]])&\"|\"&TRIM(BdgtXrefTable[[#This Row],[Details Category]])","v":"5000|Title I, Part A|Early Childhood"},"Title I, Part A","Set-Aside",{"$f":"TRIM(BdgtXrefTable[[#This Row],[Summary Program]])&\"|\"&TRIM(BdgtXrefTable[[#This Row],[Summary Expenditure]])","v":"Title I, Part A|Set-Aside"},null,2000,"Title II, Part A, Transferability","Safe & Healthy Students",{"$f":"TRIM(TrnsfrXrefTable[[#This Row],[Details Object Code]])&\"|\"&TRIM(TrnsfrXrefTable[[#This Row],[Details Program]])&\"|\"&TRIM(TrnsfrXrefTable[[#This Row],[Details Category]])","v":"2000|Title II, Part A, Transferability|Safe & Healthy Students"},"Title II, Part A - APE60017","Non-Administrative",{"$f":"TRIM(TrnsfrXrefTable[[#This Row],[Summary Program]])&\"|\"&TRIM(TrnsfrXrefTable[[#This Row],[Summary Expenditure]])","v":"Title II, Part A - APE60017|Non-Administrative"},null,"Well Rounded Students - Indirect Costs"]
[5000,"Title I, Part A","Foster Care",{"$f":"TRIM(BdgtXrefTable[[#This Row],[Details Object Code]])&\"|\"&TRIM(BdgtXrefTable[[#This Row],[Details Program]])&\"|\"&TRIM(BdgtXrefTable[[#This Row],[Details Category]])","v":"5000|Title I, Part A|Foster Care"},"Title I, Part A","Set-Aside",{"$f":"TRIM(BdgtXrefTable[[#This Row],[Summary Program]])&\"|\"&TRIM(BdgtXrefTable[[#This Row],[Summary Expenditure]])","v":"Title I, Part A|Set-Aside"},null,2000,"Title II, Part A, Transferability","Salary Differential",{"$f":"TRIM(TrnsfrXrefTable[[#This Row],[Details Object Code]])&\"|\"&TRIM(TrnsfrXrefTable[[#This Row],[Details Program]])&\"|\"&TRIM(TrnsfrXrefTable[[#This Row],[Details Category]])","v":"2000|Title II, Part A, Transferability|Salary Differential"},"Title II, Part A - APE61481","Set-Aside",{"$f":"TRIM(TrnsfrXrefTable[[#This Row],[Summary Program]])&\"|\"&TRIM(TrnsfrXrefTable[[#This Row],[Summary Expenditure]])","v":"Title II, Part A - APE61481|Set-Aside"},null,"Well Rounded Students - PS"]
[5000,"Title I, Part A","Homeless",{"$f":"TRIM(BdgtXrefTable[[#This Row],[Details Object Code]])&\"|\"&TRIM(BdgtXrefTable[[#This Row],[Details Program]])&\"|\"&TRIM(BdgtXrefTable[[#This Row],[Details Category]])","v":"5000|Title I, Part A|Homeless"},"Title I, Part A","Set-Aside",{"$f":"TRIM(BdgtXrefTable[[#This Row],[Summary Program]])&\"|\"&TRIM(BdgtXrefTable[[#This Row],[Summary Expenditure]])","v":"Title I, Part A|Set-Aside"},null,2000,"Title II, Part A, Transferability","Technology - PS",{"$f":"TRIM(TrnsfrXrefTable[[#This Row],[Details Object Code]])&\"|\"&TRIM(TrnsfrXrefTable[[#This Row],[Details Program]])&\"|\"&TRIM(TrnsfrXrefTable[[#This Row],[Details Category]])","v":"2000|Title II, Part A, Transferability|Technology - PS"},"Title II, Part A - APE60017","Private School Set-Aside ",{"$f":"TRIM(TrnsfrXrefTable[[#This Row],[Summary Program]])&\"|\"&TRIM(TrnsfrXrefTable[[#This Row],[Summary Expenditure]])","v":"Title II, Part A - APE60017|Private School Set-Aside"}]
[5000,"Title I, Part A","Neglected",{"$f":"TRIM(BdgtXrefTable[[#This Row],[Details Object Code]])&\"|\"&TRIM(BdgtXrefTable[[#This Row],[Details Program]])&\"|\"&TRIM(BdgtXrefTable[[#This Row],[Details Category]])","v":"5000|Title I, Part A|Neglected"},"Title I, Part A","Set-Aside",{"$f":"TRIM(BdgtXrefTable[[#This Row],[Summary Program]])&\"|\"&TRIM(BdgtXrefTable[[#This Row],[Summary Expenditure]])","v":"Title I, Part A|Set-Aside"},null,2000,"Title II, Part A, Transferability","Technology - Admin",{"$f":"TRIM(TrnsfrXrefTable[[#This Row],[Details Object Code]])&\"|\"&TRIM(TrnsfrXrefTable[[#This Row],[Details Program]])&\"|\"&TRIM(TrnsfrXrefTable[[#This Row],[Details Category]])","v":"2000|Title II, Part A, Transferability|Technology - Admin"},"Title II, Part A - APE60017","Administrative",{"$f":"TRIM(TrnsfrXrefTable[[#This Row],[Summary Program]])&\"|\"&TRIM(TrnsfrXrefTable[[#This Row],[Summary Expenditure]])","v":"Title II, Part A - APE60017|Administrative"}]
[5000,"Title I, Part A","PFE (Division)",{"$f":"TRIM(BdgtXrefTable[[#This Row],[Details Object Code]])&\"|\"&TRIM(BdgtXrefTable[[#This Row],[Details Program]])&\"|\"&TRIM(BdgtXrefTable[[#This Row],[Details Category]])","v":"5000|Title I, Part A|PFE (Division)"},"Title I, Part A","Parent and Family Engagement Set-Aside",{"$f":"TRIM(BdgtXrefTable[[#This Row],[Summary Program]])&\"|\"&TRIM(BdgtXrefTable[[#This Row],[Summary Expenditure]])","v":"Title I, Part A|Parent and Family Engagement Set-Aside"},null,2000,"Title II, Part A, Transferability","Technology",{"$f":"TRIM(TrnsfrXrefTable[[#This Row],[Details Object Code]])&\"|\"&TRIM(TrnsfrXrefTable[[#This Row],[Details Program]])&\"|\"&TRIM(TrnsfrXrefTable[[#This Row],[Details Category]])","v":"2000|Title II, Part A, Transferability|Technology"},"Title II, Part A - APE60017","Non-Administrative",{"$f":"TRIM(TrnsfrXrefTable[[#This Row],[Summary Program]])&\"|\"&TRIM(TrnsfrXrefTable[[#This Row],[Summary Expenditure]])","v":"Title II, Part A - APE60017|Non-Administrative"}]
[5000,"Title I, Part A","PFE (School Level)",{"$f":"TRIM(BdgtXrefTable[[#This Row],[Details Object Code]])&\"|\"&TRIM(BdgtXrefTable[[#This Row],[Details Program]])&\"|\"&TRIM(BdgtXrefTable[[#This Row],[Details Category]])","v":"5000|Title I, Part A|PFE (School Level)"},"Title I, Part A","Parent and Family Engagement Set-Aside",{"$f":"TRIM(BdgtXrefTable[[#This Row],[Summary Program]])&\"|\"&TRIM(BdgtXrefTable[[#This Row],[Summary Expenditure]])","v":"Title I, Part A|Parent and Family Engagement Set-Aside"},null,2000,"Title II, Part A, Transferability","Title I C Private School",{"$f":"TRIM(TrnsfrXrefTable[[#This Row],[Details Object Code]])&\"|\"&TRIM(TrnsfrXrefTable[[#This Row],[Details Program]])&\"|\"&TRIM(TrnsfrXrefTable[[#This Row],[Details Category]])","v":"2000|Title II, Part A, Transferability|Title I C Private School"},"Title II, Part A - APE60014","Private School Set-Aside ",{"$f":"TRIM(TrnsfrXrefTable[[#This Row],[Summary Program]])&\"|\"&TRIM(TrnsfrXrefTable[[#This Row],[Summary Expenditure]])","v":"Title II, Part A - APE60014|Private School Set-Aside"}]
[5000,"Title I, Part A","Title I Private School",{"$f":"TRIM(BdgtXrefTable[[#This Row],[Details Object Code]])&\"|\"&TRIM(BdgtXrefTable[[#This Row],[Details Program]])&\"|\"&TRIM(BdgtXrefTable[[#This Row],[Details Category]])","v":"5000|Title I, Part A|Title I Private School"},"Title I, Part A","Private School Set-Aside ",{"$f":"TRIM(BdgtXrefTable[[#This Row],[Summary Program]])&\"|\"&TRIM(BdgtXrefTable[[#This Row],[Summary Expenditure]])","v":"Title I, Part A|Private School Set-Aside"},null,2000,"Title II, Part A, Transferability","Title I Private School",{"$f":"TRIM(TrnsfrXrefTable[[#This Row],[Details Object Code]])&\"|\"&TRIM(TrnsfrXrefTable[[#This Row],[Details Program]])&\"|\"&TRIM(TrnsfrXrefTable[[#This Row],[Details Category]])","v":"2000|Title II, Part A, Transferability|Title I Private School"},"Title II, Part A - APE61481","Private School Set-Aside ",{"$f":"TRIM(TrnsfrXrefTable[[#This Row],[Summary Program]])&\"|\"&TRIM(TrnsfrXrefTable[[#This Row],[Summary Expenditure]])","v":"Title II, Part A - APE61481|Private School Set-Aside"}]
[5000,"Title I, Part A","Non Set-Aside",{"$f":"TRIM(BdgtXrefTable[[#This Row],[Details Object Code]])&\"|\"&TRIM(BdgtXrefTable[[#This Row],[Details Program]])&\"|\"&TRIM(BdgtXrefTable[[#This Row],[Details Category]])","v":"5000|Title I, Part A|Non Set-Aside"},"Title I, Part A","Non Set-Aside",{"$f":"TRIM(BdgtXrefTable[[#This Row],[Summary Program]])&\"|\"&TRIM(BdgtXrefTable[[#This Row],[Summary Expenditure]])","v":"Title I, Part A|Non Set-Aside"},null,2000,"Title II, Part A, Transferability","Well Rounded Students - PS",{"$f":"TRIM(TrnsfrXrefTable[[#This Row],[Details Object Code]])&\"|\"&TRIM(TrnsfrXrefTable[[#This Row],[Details Program]])&\"|\"&TRIM(TrnsfrXrefTable[[#This Row],[Details Category]])","v":"2000|Title II, Part A, Transferability|Well Rounded Students - PS"},"Title II, Part A - APE60017","Private School Set-Aside ",{"$f":"TRIM(TrnsfrXrefTable[[#This Row],[Summary Program]])&\"|\"&TRIM(TrnsfrXrefTable[[#This Row],[Summary Expenditure]])","v":"Title II, Part A - APE60017|Private School Set-Aside"}]
[6000,"Title I, Part A","CSI/TSI",{"$f":"TRIM(BdgtXrefTable[[#This Row],[Details Object Code]])&\"|\"&TRIM(BdgtXrefTable[[#This Row],[Details Program]])&\"|\"&TRIM(BdgtXrefTable[[#This Row],[Details Category]])","v":"6000|Title I, Part A|CSI/TSI"},"Title I, Part A","Set-Aside",{"$f":"TRIM(BdgtXrefTable[[#This Row],[Summary Program]])&\"|\"&TRIM(BdgtXrefTable[[#This Row],[Summary Expenditure]])","v":"Title I, Part A|Set-Aside"},null,2000,"Title II, Part A, Transferability","Well Rounded Students - Admin",{"$f":"TRIM(TrnsfrXrefTable[[#This Row],[Details Object Code]])&\"|\"&TRIM(TrnsfrXrefTable[[#This Row],[Details Program]])&\"|\"&TRIM(TrnsfrXrefTable[[#This Row],[Details Category]])","v":"2000|Title II, Part A, Transferability|Well Rounded Students - Admin"},"Title II, Part A - APE60017","Administrative",{"$f":"TRIM(TrnsfrXrefTable[[#This Row],[Summary Program]])&\"|\"&TRIM(TrnsfrXrefTable[[#This Row],[Summary Expenditure]])","v":"Title II, Part A - APE60017|Administrative"}]
[6000,"Title I, Part A","Division",{"$f":"TRIM(BdgtXrefTable[[#This Row],[Details Object Code]])&\"|\"&TRIM(BdgtXrefTable[[#This Row],[Details Program]])&\"|\"&TRIM(BdgtXrefTable[[#This Row],[Details Category]])","v":"6000|Title I, Part A|Division"},"Title I, Part A","Set-Aside",{"$f":"TRIM(BdgtXrefTable[[#This Row],[Summary Program]])&\"|\"&TRIM(BdgtXrefTable[[#This Row],[Summary Expenditure]])","v":"Title I, Part A|Set-Aside"},null,2000,"Title II, Part A, Transferability","Well Rounded Students",{"$f":"TRIM(TrnsfrXrefTable[[#This Row],[Details Object Code]])&\"|\"&TRIM(TrnsfrXrefTable[[#This Row],[Details Program]])&\"|\"&TRIM(TrnsfrXrefTable[[#This Row],[Details Category]])","v":"2000|Title II, Part A, Transferability|Well Rounded Students"},"Title II, Part A - APE60017","Non-Administrative",{"$f":"TRIM(TrnsfrXrefTable[[#This Row],[Summary Program]])&\"|\"&TRIM(TrnsfrXrefTable[[#This Row],[Summary Expenditure]])","v":"Title II, Part A - APE60017|Non-Administrative"}]
[6000,"Title I, Part A","Early Childhood",{"$f":"TRIM(BdgtXrefTable[[#This Row],[Details Object Code]])&\"|\"&TRIM(BdgtXrefTable[[#This Row],[Details Program]])&\"|\"&TRIM(BdgtXrefTable[[#This Row],[Details Category]])","v":"6000|Title I, Part A|Early Childhood"},"Title I, Part A","Set-Aside",{"$f":"TRIM(BdgtXrefTable[[#This Row],[Summary Program]])&\"|\"&TRIM(BdgtXrefTable[[#This Row],[Summary Expenditure]])","v":"Title I, Part A|Set-Aside"},null,2000,"Title II, Part A, Transferability","Rural and Low Income",{"$f":"TRIM(TrnsfrXrefTable[[#This Row],[Details Object Code]])&\"|\"&TRIM(TrnsfrXrefTable[[#This Row],[Details Program]])&\"|\"&TRIM(TrnsfrXrefTable[[#This Row],[Details Category]])","v":"2000|Title II, Part A, Transferability|Rural and Low Income"},"Title II, Part A - APE60018","Non Set-Aside",{"$f":"TRIM(TrnsfrXrefTable[[#This Row],[Summary Program]])&\"|\"&TRIM(TrnsfrXrefTable[[#This Row],[Summary Expenditure]])","v":"Title II, Part A - APE60018|Non Set-Aside"}]
[6000,"Title I, Part A","Foster Care",{"$f":"TRIM(BdgtXrefTable[[#This Row],[Details Object Code]])&\"|\"&TRIM(BdgtXrefTable[[#This Row],[Details Program]])&\"|\"&TRIM(BdgtXrefTable[[#This Row],[Details Category]])","v":"6000|Title I, Part A|Foster Care"},"Title I, Part A","Set-Aside",{"$f":"TRIM(BdgtXrefTable[[#This Row],[Summary Program]])&\"|\"&TRIM(BdgtXrefTable[[#This Row],[Summary Expenditure]])","v":"Title I, Part A|Set-Aside"},null,3000,"Title II, Part A, Transferability","CSI/TSI",{"$f":"TRIM(TrnsfrXrefTable[[#This Row],[Details Object Code]])&\"|\"&TRIM(TrnsfrXrefTable[[#This Row],[Details Program]])&\"|\"&TRIM(TrnsfrXrefTable[[#This Row],[Details Category]])","v":"3000|Title II, Part A, Transferability|CSI/TSI"},"Title II, Part A - APE61481","Set-Aside",{"$f":"TRIM(TrnsfrXrefTable[[#This Row],[Summary Program]])&\"|\"&TRIM(TrnsfrXrefTable[[#This Row],[Summary Expenditure]])","v":"Title II, Part A - APE61481|Set-Aside"}]
[6000,"Title I, Part A","Homeless",{"$f":"TRIM(BdgtXrefTable[[#This Row],[Details Object Code]])&\"|\"&TRIM(BdgtXrefTable[[#This Row],[Details Program]])&\"|\"&TRIM(BdgtXrefTable[[#This Row],[Details Category]])","v":"6000|Title I, Part A|Homeless"},"Title I, Part A","Set-Aside",{"$f":"TRIM(BdgtXrefTable[[#This Row],[Summary Program]])&\"|\"&TRIM(BdgtXrefTable[[#This Row],[Summary Expenditure]])","v":"Title I, Part A|Set-Aside"},null,3000,"Title II, Part A, Transferability","Delinquent",{"$f":"TRIM(TrnsfrXrefTable[[#This Row],[Details Object Code]])&\"|\"&TRIM(TrnsfrXrefTable[[#This Row],[Details Program]])&\"|\"&TRIM(TrnsfrXrefTable[[#This Row],[Details Category]])","v":"3000|Title II, Part A, Transferability|Delinquent"},"Title II, Part A - APE60015","Non Set-Aside",{"$f":"TRIM(TrnsfrXrefTable[[#This Row],[Summary Program]])&\"|\"&TRIM(TrnsfrXrefTable[[#This Row],[Summary Expenditure]])","v":"Title II, Part A - APE60015|Non Set-Aside"}]
[6000,"Title I, Part A","Neglected",{"$f":"TRIM(BdgtXrefTable[[#This Row],[Details Object Code]])&\"|\"&TRIM(BdgtXrefTable[[#This Row],[Details Program]])&\"|\"&TRIM(BdgtXrefTable[[#This Row],[Details Category]])","v":"6000|Title I, Part A|Neglected"},"Title I, Part A","Set-Aside",{"$f":"TRIM(BdgtXrefTable[[#This Row],[Summary Program]])&\"|\"&TRIM(BdgtXrefTable[[#This Row],[Summary Expenditure]])","v":"Title I, Part A|Set-Aside"},null,3000,"Title II, Part A, Transferability","Division",{"$f":"TRIM(TrnsfrXrefTable[[#This Row],[Details Object Code]])&\"|\"&TRIM(TrnsfrXrefTable[[#This Row],[Details Program]])&\"|\"&TRIM(TrnsfrXrefTable[[#This Row],[Details Category]])","v":"3000|Title II, Part A, Transferability|Division"},"Title II, Part A - APE61481","Set-Aside",{"$f":"TRIM(TrnsfrXrefTable[[#This Row],[Summary Program]])&\"|\"&TRIM(TrnsfrXrefTable[[#This Row],[Summary Expenditure]])","v":"Title II, Part A - APE61481|Set-Aside"}]
[6000,"Title I, Part A","PFE (Division)",{"$f":"TRIM(BdgtXrefTable[[#This Row],[Details Object Code]])&\"|\"&TRIM(BdgtXrefTable[[#This Row],[Details Program]])&\"|\"&TRIM(BdgtXrefTable[[#This Row],[Details Category]])","v":"6000|Title I, Part A|PFE (Division)"},"Title I, Part A","Parent and Family Engagement Set-Aside",{"$f":"TRIM(BdgtXrefTable[[#This Row],[Summary Program]])&\"|\"&TRIM(BdgtXrefTable[[#This Row],[Summary Expenditure]])","v":"Title I, Part A|Parent and Family Engagement Set-Aside"},null,3000,"Title II, Part A, Transferability","Early Childhood",{"$f":"TRIM(TrnsfrXrefTable[[#This Row],[Details Object Code]])&\"|\"&TRIM(TrnsfrXrefTable[[#This Row],[Details Program]])&\"|\"&TRIM(TrnsfrXrefTable[[#This Row],[Details Category]])","v":"3000|Title II, Part A, Transferability|Early Childhood"},"Title II, Part A - APE61481","Set-Aside",{"$f":"TRIM(TrnsfrXrefTable[[#This Row],[Summary Program]])&\"|\"&TRIM(TrnsfrXrefTable[[#This Row],[Summary Expenditure]])","v":"Title II, Part A - APE61481|Set-Aside"}]
[6000,"Title I, Part A","PFE (School Level)",{"$f":"TRIM(BdgtXrefTable[[#This Row],[Details Object Code]])&\"|\"&TRIM(BdgtXrefTable[[#This Row],[Details Program]])&\"|\"&TRIM(BdgtXrefTable[[#This Row],[Details Category]])","v":"6000|Title I, Part A|PFE (School Level)"},"Title I, Part A","Parent and Family Engagement Set-Aside",{"$f":"TRIM(BdgtXrefTable[[#This Row],[Summary Program]])&\"|\"&TRIM(BdgtXrefTable[[#This Row],[Summary Expenditure]])","v":"Title I, Part A|Parent and Family Engagement Set-Aside"},null,3000,"Title II, Part A, Transferability","EL Administrative",{"$f":"TRIM(TrnsfrXrefTable[[#This Row],[Details Object Code]])&\"|\"&TRIM(TrnsfrXrefTable[[#This Row],[Details Program]])&\"|\"&TRIM(TrnsfrXrefTable[[#This Row],[Details Category]])","v":"3000|Title II, Part A, Transferability|EL Administrative"},"Title II, Part A - APE60016","Administrative",{"$f":"TRIM(TrnsfrXrefTable[[#This Row],[Summary Program]])&\"|\"&TRIM(TrnsfrXrefTable[[#This Row],[Summary Expenditure]])","v":"Title II, Part A - APE60016|Administrative"}]
[6000,"Title I, Part A","Title I Private School",{"$f":"TRIM(BdgtXrefTable[[#This Row],[Details Object Code]])&\"|\"&TRIM(BdgtXrefTable[[#This Row],[Details Program]])&\"|\"&TRIM(BdgtXrefTable[[#This Row],[Details Category]])","v":"6000|Title I, Part A|Title I Private School"},"Title I, Part A","Private School Set-Aside ",{"$f":"TRIM(BdgtXrefTable[[#This Row],[Summary Program]])&\"|\"&TRIM(BdgtXrefTable[[#This Row],[Summary Expenditure]])","v":"Title I, Part A|Private School Set-Aside"},null,3000,"Title II, Part A, Transferability","EL Private School",{"$f":"TRIM(TrnsfrXrefTable[[#This Row],[Details Object Code]])&\"|\"&TRIM(TrnsfrXrefTable[[#This Row],[Details Program]])&\"|\"&TRIM(TrnsfrXrefTable[[#This Row],[Details Category]])","v":"3000|Title II, Part A, Transferability|EL Private School"},"Title II, Part A - APE60016","Private School Set-Aside ",{"$f":"TRIM(TrnsfrXrefTable[[#This Row],[Summary Program]])&\"|\"&TRIM(TrnsfrXrefTable[[#This Row],[Summary Expenditure]])","v":"Title II, Part A - APE60016|Private School Set-Aside"}]
[6000,"Title I, Part A","Non Set-Aside",{"$f":"TRIM(BdgtXrefTable[[#This Row],[Details Object Code]])&\"|\"&TRIM(BdgtXrefTable[[#This Row],[Details Program]])&\"|\"&TRIM(BdgtXrefTable[[#This Row],[Details Category]])","v":"6000|Title I, Part A|Non Set-Aside"},"Title I, Part A","Non Set-Aside",{"$f":"TRIM(BdgtXrefTable[[#This Row],[Summary Program]])&\"|\"&TRIM(BdgtXrefTable[[#This Row],[Summary Expenditure]])","v":"Title I, Part A|Non Set-Aside"},null,3000,"Title II, Part A, Transferability","EL Subgrant",{"$f":"TRIM(TrnsfrXrefTable[[#This Row],[Details Object Code]])&\"|\"&TRIM(TrnsfrXrefTable[[#This Row],[Details Program]])&\"|\"&TRIM(TrnsfrXrefTable[[#This Row],[Details Category]])","v":"3000|Title II, Part A, Transferability|EL Subgrant"},"Title II, Part A - APE60016","Contracted Services",{"$f":"TRIM(TrnsfrXrefTable[[#This Row],[Summary Program]])&\"|\"&TRIM(TrnsfrXrefTable[[#This Row],[Summary Expenditure]])","v":"Title II, Part A - APE60016|Contracted Services"}]
[8000,"Title I, Part A","CSI/TSI",{"$f":"TRIM(BdgtXrefTable[[#This Row],[Details Object Code]])&\"|\"&TRIM(BdgtXrefTable[[#This Row],[Details Program]])&\"|\"&TRIM(BdgtXrefTable[[#This Row],[Details Category]])","v":"8000|Title I, Part A|CSI/TSI"},"Title I, Part A","Set-Aside",{"$f":"TRIM(BdgtXrefTable[[#This Row],[Summary Program]])&\"|\"&TRIM(BdgtXrefTable[[#This Row],[Summary Expenditure]])","v":"Title I, Part A|Set-Aside"},null,3000,"Title II, Part A, Transferability","Foster Care",{"$f":"TRIM(TrnsfrXrefTable[[#This Row],[Details Object Code]])&\"|\"&TRIM(TrnsfrXrefTable[[#This Row],[Details Program]])&\"|\"&TRIM(TrnsfrXrefTable[[#This Row],[Details Category]])","v":"3000|Title II, Part A, Transferability|Foster Care"},"Title II, Part A - APE61481","Set-Aside",{"$f":"TRIM(TrnsfrXrefTable[[#This Row],[Summary Program]])&\"|\"&TRIM(TrnsfrXrefTable[[#This Row],[Summary Expenditure]])","v":"Title II, Part A - APE61481|Set-Aside"}]
[8000,"Title I, Part A","Division",{"$f":"TRIM(BdgtXrefTable[[#This Row],[Details Object Code]])&\"|\"&TRIM(BdgtXrefTable[[#This Row],[Details Program]])&\"|\"&TRIM(BdgtXrefTable[[#This Row],[Details Category]])","v":"8000|Title I, Part A|Division"},"Title I, Part A","Set-Aside",{"$f":"TRIM(BdgtXrefTable[[#This Row],[Summary Program]])&\"|\"&TRIM(BdgtXrefTable[[#This Row],[Summary Expenditure]])","v":"Title I, Part A|Set-Aside"},null,3000,"Title II, Part A, Transferability","Homeless",{"$f":"TRIM(TrnsfrXrefTable[[#This Row],[Details Object Code]])&\"|\"&TRIM(TrnsfrXrefTable[[#This Row],[Details Program]])&\"|\"&TRIM(TrnsfrXrefTable[[#This Row],[Details Category]])","v":"3000|Title II, Part A, Transferability|Homeless"},"Title II, Part A - APE61481","Set-Aside",{"$f":"TRIM(TrnsfrXrefTable[[#This Row],[Summary Program]])&\"|\"&TRIM(TrnsfrXrefTable[[#This Row],[Summary Expenditure]])","v":"Title II, Part A - APE61481|Set-Aside"}]
[8000,"Title I, Part A","Early Childhood",{"$f":"TRIM(BdgtXrefTable[[#This Row],[Details Object Code]])&\"|\"&TRIM(BdgtXrefTable[[#This Row],[Details Program]])&\"|\"&TRIM(BdgtXrefTable[[#This Row],[Details Category]])","v":"8000|Title I, Part A|Early Childhood"},"Title I, Part A","Set-Aside",{"$f":"TRIM(BdgtXrefTable[[#This Row],[Summary Program]])&\"|\"&TRIM(BdgtXrefTable[[#This Row],[Summary Expenditure]])","v":"Title I, Part A|Set-Aside"},null,3000,"Title II, Part A, Transferability","IY Subgrant",{"$f":"TRIM(TrnsfrXrefTable[[#This Row],[Details Object Code]])&\"|\"&TRIM(TrnsfrXrefTable[[#This Row],[Details Program]])&\"|\"&TRIM(TrnsfrXrefTable[[#This Row],[Details Category]])","v":"3000|Title II, Part A, Transferability|IY Subgrant"},"Title II, Part A - APE60016","Contracted Services",{"$f":"TRIM(TrnsfrXrefTable[[#This Row],[Summary Program]])&\"|\"&TRIM(TrnsfrXrefTable[[#This Row],[Summary Expenditure]])","v":"Title II, Part A - APE60016|Contracted Services"}]
[8000,"Title I, Part A","Foster Care",{"$f":"TRIM(BdgtXrefTable[[#This Row],[Details Object Code]])&\"|\"&TRIM(BdgtXrefTable[[#This Row],[Details Program]])&\"|\"&TRIM(BdgtXrefTable[[#This Row],[Details Category]])","v":"8000|Title I, Part A|Foster Care"},"Title I, Part A","Set-Aside",{"$f":"TRIM(BdgtXrefTable[[#This Row],[Summary Program]])&\"|\"&TRIM(BdgtXrefTable[[#This Row],[Summary Expenditure]])","v":"Title I, Part A|Set-Aside"},null,3000,"Title II, Part A, Transferability","Migrant",{"$f":"TRIM(TrnsfrXrefTable[[#This Row],[Details Object Code]])&\"|\"&TRIM(TrnsfrXrefTable[[#This Row],[Details Program]])&\"|\"&TRIM(TrnsfrXrefTable[[#This Row],[Details Category]])","v":"3000|Title II, Part A, Transferability|Migrant"},"Title II, Part A - APE60014","Non Set-Aside",{"$f":"TRIM(TrnsfrXrefTable[[#This Row],[Summary Program]])&\"|\"&TRIM(TrnsfrXrefTable[[#This Row],[Summary Expenditure]])","v":"Title II, Part A - APE60014|Non Set-Aside"}]
[8000,"Title I, Part A","Homeless",{"$f":"TRIM(BdgtXrefTable[[#This Row],[Details Object Code]])&\"|\"&TRIM(BdgtXrefTable[[#This Row],[Details Program]])&\"|\"&TRIM(BdgtXrefTable[[#This Row],[Details Category]])","v":"8000|Title I, Part A|Homeless"},"Title I, Part A","Set-Aside",{"$f":"TRIM(BdgtXrefTable[[#This Row],[Summary Program]])&\"|\"&TRIM(BdgtXrefTable[[#This Row],[Summary Expenditure]])","v":"Title I, Part A|Set-Aside"},null,3000,"Title II, Part A, Transferability","Neglected",{"$f":"TRIM(TrnsfrXrefTable[[#This Row],[Details Object Code]])&\"|\"&TRIM(TrnsfrXrefTable[[#This Row],[Details Program]])&\"|\"&TRIM(TrnsfrXrefTable[[#This Row],[Details Category]])","v":"3000|Title II, Part A, Transferability|Neglected"},"Title II, Part A - APE61481","Set-Aside",{"$f":"TRIM(TrnsfrXrefTable[[#This Row],[Summary Program]])&\"|\"&TRIM(TrnsfrXrefTable[[#This Row],[Summary Expenditure]])","v":"Title II, Part A - APE61481|Set-Aside"}]
[8000,"Title I, Part A","Neglected",{"$f":"TRIM(BdgtXrefTable[[#This Row],[Details Object Code]])&\"|\"&TRIM(BdgtXrefTable[[#This Row],[Details Program]])&\"|\"&TRIM(BdgtXrefTable[[#This Row],[Details Category]])","v":"8000|Title I, Part A|Neglected"},"Title I, Part A","Set-Aside",{"$f":"TRIM(BdgtXrefTable[[#This Row],[Summary Program]])&\"|\"&TRIM(BdgtXrefTable[[#This Row],[Summary Expenditure]])","v":"Title I, Part A|Set-Aside"},null,3000,"Title II, Part A, Transferability","PFE (Division)",{"$f":"TRIM(TrnsfrXrefTable[[#This Row],[Details Object Code]])&\"|\"&TRIM(TrnsfrXrefTable[[#This Row],[Details Program]])&\"|\"&TRIM(TrnsfrXrefTable[[#This Row],[Details Category]])","v":"3000|Title II, Part A, Transferability|PFE (Division)"},"Title II, Part A - APE61481","Parent and Family Engagement Set-Aside",{"$f":"TRIM(TrnsfrXrefTable[[#This Row],[Summary Program]])&\"|\"&TRIM(TrnsfrXrefTable[[#This Row],[Summary Expenditure]])","v":"Title II, Part A - APE61481|Parent and Family Engagement Set-Aside"}]
[8000,"Title I, Part A","PFE (Division)",{"$f":"TRIM(BdgtXrefTable[[#This Row],[Details Object Code]])&\"|\"&TRIM(BdgtXrefTable[[#This Row],[Details Program]])&\"|\"&TRIM(BdgtXrefTable[[#This Row],[Details Category]])","v":"8000|Title I, Part A|PFE (Division)"},"Title I, Part A","Parent and Family Engagement Set-Aside",{"$f":"TRIM(BdgtXrefTable[[#This Row],[Summary Program]])&\"|\"&TRIM(BdgtXrefTable[[#This Row],[Summary Expenditure]])","v":"Title I, Part A|Parent and Family Engagement Set-Aside"},null,3000,"Title II, Part A, Transferability","PFE (School Level)",{"$f":"TRIM(TrnsfrXrefTable[[#This Row],[Details Object Code]])&\"|\"&TRIM(TrnsfrXrefTable[[#This Row],[Details Program]])&\"|\"&TRIM(TrnsfrXrefTable[[#This Row],[Details Category]])","v":"3000|Title II, Part A, Transferability|PFE (School Level)"},"Title II, Part A - APE61481","Parent and Family Engagement Set-Aside",{"$f":"TRIM(TrnsfrXrefTable[[#This Row],[Summary Program]])&\"|\"&TRIM(TrnsfrXrefTable[[#This Row],[Summary Expenditure]])","v":"Title II, Part A - APE61481|Parent and Family Engagement Set-Aside"}]
[8000,"Title I, Part A","PFE (School Level)",{"$f":"TRIM(BdgtXrefTable[[#This Row],[Details Object Code]])&\"|\"&TRIM(BdgtXrefTable[[#This Row],[Details Program]])&\"|\"&TRIM(BdgtXrefTable[[#This Row],[Details Category]])","v":"8000|Title I, Part A|PFE (School Level)"},"Title I, Part A","Parent and Family Engagement Set-Aside",{"$f":"TRIM(BdgtXrefTable[[#This Row],[Summary Program]])&\"|\"&TRIM(BdgtXrefTable[[#This Row],[Summary Expenditure]])","v":"Title I, Part A|Parent and Family Engagement Set-Aside"},null,3000,"Title II, Part A, Transferability","Safe & Healthy Students - PS",{"$f":"TRIM(TrnsfrXrefTable[[#This Row],[Details Object Code]])&\"|\"&TRIM(TrnsfrXrefTable[[#This Row],[Details Program]])&\"|\"&TRIM(TrnsfrXrefTable[[#This Row],[Details Category]])","v":"3000|Title II, Part A, Transferability|Safe & Healthy Students - PS"},"Title II, Part A - APE60017","Private School Set-Aside ",{"$f":"TRIM(TrnsfrXrefTable[[#This Row],[Summary Program]])&\"|\"&TRIM(TrnsfrXrefTable[[#This Row],[Summary Expenditure]])","v":"Title II, Part A - APE60017|Private School Set-Aside"}]
[8000,"Title I, Part A","Title I Private School",{"$f":"TRIM(BdgtXrefTable[[#This Row],[Details Object Code]])&\"|\"&TRIM(BdgtXrefTable[[#This Row],[Details Program]])&\"|\"&TRIM(BdgtXrefTable[[#This Row],[Details Category]])","v":"8000|Title I, Part A|Title I Private School"},"Title I, Part A","Private School Set-Aside ",{"$f":"TRIM(BdgtXrefTable[[#This Row],[Summary Program]])&\"|\"&TRIM(BdgtXrefTable[[#This Row],[Summary Expenditure]])","v":"Title I, Part A|Private School Set-Aside"},null,3000,"Title II, Part A, Transferability","Safe & Healthy Students - Admin",{"$f":"TRIM(TrnsfrXrefTable[[#This Row],[Details Object Code]])&\"|\"&TRIM(TrnsfrXrefTable[[#This Row],[Details Program]])&\"|\"&TRIM(TrnsfrXrefTable[[#This Row],[Details Category]])","v":"3000|Title II, Part A, Transferability|Safe & Healthy Students - Admin"},"Title II, Part A - APE60017","Administrative",{"$f":"TRIM(TrnsfrXrefTable[[#This Row],[Summary Program]])&\"|\"&TRIM(TrnsfrXrefTable[[#This Row],[Summary Expenditure]])","v":"Title II, Part A - APE60017|Administrative"}]
[8000,"Title I, Part A","Non Set-Aside",{"$f":"TRIM(BdgtXrefTable[[#This Row],[Details Object Code]])&\"|\"&TRIM(BdgtXrefTable[[#This Row],[Details Program]])&\"|\"&TRIM(BdgtXrefTable[[#This Row],[Details Category]])","v":"8000|Title I, Part A|Non Set-Aside"},"Title I, Part A","Non Set-Aside",{"$f":"TRIM(BdgtXrefTable[[#This Row],[Summary Program]])&\"|\"&TRIM(BdgtXrefTable[[#This Row],[Summary Expenditure]])","v":"Title I, Part A|Non Set-Aside"},null,3000,"Title II, Part A, Transferability","Safe & Healthy Students",{"$f":"TRIM(TrnsfrXrefTable[[#This Row],[Details Object Code]])&\"|\"&TRIM(TrnsfrXrefTable[[#This Row],[Details Program]])&\"|\"&TRIM(TrnsfrXrefTable[[#This Row],[Details Category]])","v":"3000|Title II, Part A, Transferability|Safe & Healthy Students"},"Title II, Part A - APE60017","Non-Administrative",{"$f":"TRIM(TrnsfrXrefTable[[#This Row],[Summary Program]])&\"|\"&TRIM(TrnsfrXrefTable[[#This Row],[Summary Expenditure]])","v":"Title II, Part A - APE60017|Non-Administrative"}]
[1000,"Title I, Part C","Title I C Private School",{"$f":"TRIM(BdgtXrefTable[[#This Row],[Details Object Code]])&\"|\"&TRIM(BdgtXrefTable[[#This Row],[Details Program]])&\"|\"&TRIM(BdgtXrefTable[[#This Row],[Details Category]])","v":"1000|Title I, Part C|Title I C Private School"},"Title I, Part C","Private School Set-Aside ",{"$f":"TRIM(BdgtXrefTable[[#This Row],[Summary Program]])&\"|\"&TRIM(BdgtXrefTable[[#This Row],[Summary Expenditure]])","v":"Title I, Part C|Private School Set-Aside"},null,3000,"Title II, Part A, Transferability","Salary Differential",{"$f":"TRIM(TrnsfrXrefTable[[#This Row],[Details Object Code]])&\"|\"&TRIM(TrnsfrXrefTable[[#This Row],[Details Program]])&\"|\"&TRIM(TrnsfrXrefTable[[#This Row],[Details Category]])","v":"3000|Title II, Part A, Transferability|Salary Differential"},"Title II, Part A - APE61481","Set-Aside",{"$f":"TRIM(TrnsfrXrefTable[[#This Row],[Summary Program]])&\"|\"&TRIM(TrnsfrXrefTable[[#This Row],[Summary Expenditure]])","v":"Title II, Part A - APE61481|Set-Aside"}]
[1000,"Title I, Part C","Migrant",{"$f":"TRIM(BdgtXrefTable[[#This Row],[Details Object Code]])&\"|\"&TRIM(BdgtXrefTable[[#This Row],[Details Program]])&\"|\"&TRIM(BdgtXrefTable[[#This Row],[Details Category]])","v":"1000|Title I, Part C|Migrant"},"Title I, Part C","Non Set-Aside",{"$f":"TRIM(BdgtXrefTable[[#This Row],[Summary Program]])&\"|\"&TRIM(BdgtXrefTable[[#This Row],[Summary Expenditure]])","v":"Title I, Part C|Non Set-Aside"},null,3000,"Title II, Part A, Transferability","Technology - PS",{"$f":"TRIM(TrnsfrXrefTable[[#This Row],[Details Object Code]])&\"|\"&TRIM(TrnsfrXrefTable[[#This Row],[Details Program]])&\"|\"&TRIM(TrnsfrXrefTable[[#This Row],[Details Category]])","v":"3000|Title II, Part A, Transferability|Technology - PS"},"Title II, Part A - APE60017","Private School Set-Aside ",{"$f":"TRIM(TrnsfrXrefTable[[#This Row],[Summary Program]])&\"|\"&TRIM(TrnsfrXrefTable[[#This Row],[Summary Expenditure]])","v":"Title II, Part A - APE60017|Private School Set-Aside"}]
[2000,"Title I, Part C","Title I C Private School",{"$f":"TRIM(BdgtXrefTable[[#This Row],[Details Object Code]])&\"|\"&TRIM(BdgtXrefTable[[#This Row],[Details Program]])&\"|\"&TRIM(BdgtXrefTable[[#This Row],[Details Category]])","v":"2000|Title I, Part C|Title I C Private School"},"Title I, Part C","Private School Set-Aside ",{"$f":"TRIM(BdgtXrefTable[[#This Row],[Summary Program]])&\"|\"&TRIM(BdgtXrefTable[[#This Row],[Summary Expenditure]])","v":"Title I, Part C|Private School Set-Aside"},null,3000,"Title II, Part A, Transferability","Technology - Admin",{"$f":"TRIM(TrnsfrXrefTable[[#This Row],[Details Object Code]])&\"|\"&TRIM(TrnsfrXrefTable[[#This Row],[Details Program]])&\"|\"&TRIM(TrnsfrXrefTable[[#This Row],[Details Category]])","v":"3000|Title II, Part A, Transferability|Technology - Admin"},"Title II, Part A - APE60017","Administrative",{"$f":"TRIM(TrnsfrXrefTable[[#This Row],[Summary Program]])&\"|\"&TRIM(TrnsfrXrefTable[[#This Row],[Summary Expenditure]])","v":"Title II, Part A - APE60017|Administrative"}]
[2000,"Title I, Part C","Migrant",{"$f":"TRIM(BdgtXrefTable[[#This Row],[Details Object Code]])&\"|\"&TRIM(BdgtXrefTable[[#This Row],[Details Program]])&\"|\"&TRIM(BdgtXrefTable[[#This Row],[Details Category]])","v":"2000|Title I, Part C|Migrant"},"Title I, Part C","Non Set-Aside",{"$f":"TRIM(BdgtXrefTable[[#This Row],[Summary Program]])&\"|\"&TRIM(BdgtXrefTable[[#This Row],[Summary Expenditure]])","v":"Title I, Part C|Non Set-Aside"},null,3000,"Title II, Part A, Transferability","Technology",{"$f":"TRIM(TrnsfrXrefTable[[#This Row],[Details Object Code]])&\"|\"&TRIM(TrnsfrXrefTable[[#This Row],[Details Program]])&\"|\"&TRIM(TrnsfrXrefTable[[#This Row],[Details Category]])","v":"3000|Title II, Part A, Transferability|Technology"},"Title II, Part A - APE60017","Non-Administrative",{"$f":"TRIM(TrnsfrXrefTable[[#This Row],[Summary Program]])&\"|\"&TRIM(TrnsfrXrefTable[[#This Row],[Summary Expenditure]])","v":"Title II, Part A - APE60017|Non-Administrative"}]
[3000,"Title I, Part C","Title I C Private School",{"$f":"TRIM(BdgtXrefTable[[#This Row],[Details Object Code]])&\"|\"&TRIM(BdgtXrefTable[[#This Row],[Details Program]])&\"|\"&TRIM(BdgtXrefTable[[#This Row],[Details Category]])","v":"3000|Title I, Part C|Title I C Private School"},"Title I, Part C","Private School Set-Aside ",{"$f":"TRIM(BdgtXrefTable[[#This Row],[Summary Program]])&\"|\"&TRIM(BdgtXrefTable[[#This Row],[Summary Expenditure]])","v":"Title I, Part C|Private School Set-Aside"},null,3000,"Title II, Part A, Transferability","Title I C Private School",{"$f":"TRIM(TrnsfrXrefTable[[#This Row],[Details Object Code]])&\"|\"&TRIM(TrnsfrXrefTable[[#This Row],[Details Program]])&\"|\"&TRIM(TrnsfrXrefTable[[#This Row],[Details Category]])","v":"3000|Title II, Part A, Transferability|Title I C Private School"},"Title II, Part A - APE60014","Private School Set-Aside ",{"$f":"TRIM(TrnsfrXrefTable[[#This Row],[Summary Program]])&\"|\"&TRIM(TrnsfrXrefTable[[#This Row],[Summary Expenditure]])","v":"Title II, Part A - APE60014|Private School Set-Aside"}]
[3000,"Title I, Part C","Migrant",{"$f":"TRIM(BdgtXrefTable[[#This Row],[Details Object Code]])&\"|\"&TRIM(BdgtXrefTable[[#This Row],[Details Program]])&\"|\"&TRIM(BdgtXrefTable[[#This Row],[Details Category]])","v":"3000|Title I, Part C|Migrant"},"Title I, Part C","Non Set-Aside",{"$f":"TRIM(BdgtXrefTable[[#This Row],[Summary Program]])&\"|\"&TRIM(BdgtXrefTable[[#This Row],[Summary Expenditure]])","v":"Title I, Part C|Non Set-Aside"},null,3000,"Title II, Part A, Transferability","Title I Private School",{"$f":"TRIM(TrnsfrXrefTable[[#This Row],[Details Object Code]])&\"|\"&TRIM(TrnsfrXrefTable[[#This Row],[Details Program]])&\"|\"&TRIM(TrnsfrXrefTable[[#This Row],[Details Category]])","v":"3000|Title II, Part A, Transferability|Title I Private School"},"Title II, Part A - APE61481","Private School Set-Aside ",{"$f":"TRIM(TrnsfrXrefTable[[#This Row],[Summary Program]])&\"|\"&TRIM(TrnsfrXrefTable[[#This Row],[Summary Expenditure]])","v":"Title II, Part A - APE61481|Private School Set-Aside"}]
[null,null,null,{"$f":"TRIM(BdgtXrefTable[[#This Row],[Details Object Code]])&\"|\"&TRIM(BdgtXrefTable[[#This Row],[Details Program]])&\"|\"&TRIM(BdgtXrefTable[[#This Row],[Details Category]])","v":"||"},null,null,{"$f":"TRIM(BdgtXrefTable[[#This Row],[Summary Program]])&\"|\"&TRIM(BdgtXrefTable[[#This Row],[Summary Expenditure]])","v":"|"},null,3000,"Title II, Part A, Transferability","Well Rounded Students - PS",{"$f":"TRIM(TrnsfrXrefTable[[#This Row],[Details Object Code]])&\"|\"&TRIM(TrnsfrXrefTable[[#This Row],[Details Program]])&\"|\"&TRIM(TrnsfrXrefTable[[#This Row],[Details Category]])","v":"3000|Title II, Part A, Transferability|Well Rounded Students - PS"},"Title II, Part A - APE60017","Private School Set-Aside ",{"$f":"TRIM(TrnsfrXrefTable[[#This Row],[Summary Program]])&\"|\"&TRIM(TrnsfrXrefTable[[#This Row],[Summary Expenditure]])","v":"Title II, Part A - APE60017|Private School Set-Aside"}]
[4000,"Title I, Part C","Migrant",{"$f":"TRIM(BdgtXrefTable[[#This Row],[Details Object Code]])&\"|\"&TRIM(BdgtXrefTable[[#This Row],[Details Program]])&\"|\"&TRIM(BdgtXrefTable[[#This Row],[Details Category]])","v":"4000|Title I, Part C|Migrant"},"Title I, Part C","Non Set-Aside",{"$f":"TRIM(BdgtXrefTable[[#This Row],[Summary Program]])&\"|\"&TRIM(BdgtXrefTable[[#This Row],[Summary Expenditure]])","v":"Title I, Part C|Non Set-Aside"},null,3000,"Title II, Part A, Transferability","Well Rounded Students - Admin",{"$f":"TRIM(TrnsfrXrefTable[[#This Row],[Details Object Code]])&\"|\"&TRIM(TrnsfrXrefTable[[#This Row],[Details Program]])&\"|\"&TRIM(TrnsfrXrefTable[[#This Row],[Details Category]])","v":"3000|Title II, Part A, Transferability|Well Rounded Students - Admin"},"Title II, Part A - APE60017","Administrative",{"$f":"TRIM(TrnsfrXrefTable[[#This Row],[Summary Program]])&\"|\"&TRIM(TrnsfrXrefTable[[#This Row],[Summary Expenditure]])","v":"Title II, Part A - APE60017|Administrative"}]
[5000,"Title I, Part C","Title I C Private School",{"$f":"TRIM(BdgtXrefTable[[#This Row],[Details Object Code]])&\"|\"&TRIM(BdgtXrefTable[[#This Row],[Details Program]])&\"|\"&TRIM(BdgtXrefTable[[#This Row],[Details Category]])","v":"5000|Title I, Part C|Title I C Private School"},"Title I, Part C","Private School Set-Aside ",{"$f":"TRIM(BdgtXrefTable[[#This Row],[Summary Program]])&\"|\"&TRIM(BdgtXrefTable[[#This Row],[Summary Expenditure]])","v":"Title I, Part C|Private School Set-Aside"},null,3000,"Title II, Part A, Transferability","Well Rounded Students",{"$f":"TRIM(TrnsfrXrefTable[[#This Row],[Details Object Code]])&\"|\"&TRIM(TrnsfrXrefTable[[#This Row],[Details Program]])&\"|\"&TRIM(TrnsfrXrefTable[[#This Row],[Details Category]])","v":"3000|Title II, Part A, Transferability|Well Rounded Students"},"Title II, Part A - APE60017","Non-Administrative",{"$f":"TRIM(TrnsfrXrefTable[[#This Row],[Summary Program]])&\"|\"&TRIM(TrnsfrXrefTable[[#This Row],[Summary Expenditure]])","v":"Title II, Part A - APE60017|Non-Administrative"}]
[5000,"Title I, Part C","Migrant",{"$f":"TRIM(BdgtXrefTable[[#This Row],[Details Object Code]])&\"|\"&TRIM(BdgtXrefTable[[#This Row],[Details Program]])&\"|\"&TRIM(BdgtXrefTable[[#This Row],[Details Category]])","v":"5000|Title I, Part C|Migrant"},"Title I, Part C","Non Set-Aside",{"$f":"TRIM(BdgtXrefTable[[#This Row],[Summary Program]])&\"|\"&TRIM(BdgtXrefTable[[#This Row],[Summary Expenditure]])","v":"Title I, Part C|Non Set-Aside"},null,3000,"Title II, Part A, Transferability","Rural and Low Income",{"$f":"TRIM(TrnsfrXrefTable[[#This Row],[Details Object Code]])&\"|\"&TRIM(TrnsfrXrefTable[[#This Row],[Details Program]])&\"|\"&TRIM(TrnsfrXrefTable[[#This Row],[Details Category]])","v":"3000|Title II, Part A, Transferability|Rural and Low Income"},"Title II, Part A - APE60018","Non Set-Aside",{"$f":"TRIM(TrnsfrXrefTable[[#This Row],[Summary Program]])&\"|\"&TRIM(TrnsfrXrefTable[[#This Row],[Summary Expenditure]])","v":"Title II, Part A - APE60018|Non Set-Aside"}]
[6000,"Title I, Part C","Title I C Private School",{"$f":"TRIM(BdgtXrefTable[[#This Row],[Details Object Code]])&\"|\"&TRIM(BdgtXrefTable[[#This Row],[Details Program]])&\"|\"&TRIM(BdgtXrefTable[[#This Row],[Details Category]])","v":"6000|Title I, Part C|Title I C Private School"},"Title I, Part C","Private School Set-Aside ",{"$f":"TRIM(BdgtXrefTable[[#This Row],[Summary Program]])&\"|\"&TRIM(BdgtXrefTable[[#This Row],[Summary Expenditure]])","v":"Title I, Part C|Private School Set-Aside"},null,4000,"Title II, Part A, Transferability","CSI/TSI",{"$f":"TRIM(TrnsfrXrefTable[[#This Row],[Details Object Code]])&\"|\"&TRIM(TrnsfrXrefTable[[#This Row],[Details Program]])&\"|\"&TRIM(TrnsfrXrefTable[[#This Row],[Details Category]])","v":"4000|Title II, Part A, Transferability|CSI/TSI"},"Title II, Part A - APE61481","Set-Aside",{"$f":"TRIM(TrnsfrXrefTable[[#This Row],[Summary Program]])&\"|\"&TRIM(TrnsfrXrefTable[[#This Row],[Summary Expenditure]])","v":"Title II, Part A - APE61481|Set-Aside"}]
[6000,"Title I, Part C","Migrant",{"$f":"TRIM(BdgtXrefTable[[#This Row],[Details Object Code]])&\"|\"&TRIM(BdgtXrefTable[[#This Row],[Details Program]])&\"|\"&TRIM(BdgtXrefTable[[#This Row],[Details Category]])","v":"6000|Title I, Part C|Migrant"},"Title I, Part C","Non Set-Aside",{"$f":"TRIM(BdgtXrefTable[[#This Row],[Summary Program]])&\"|\"&TRIM(BdgtXrefTable[[#This Row],[Summary Expenditure]])","v":"Title I, Part C|Non Set-Aside"},null,4000,"Title II, Part A, Transferability","Delinquent",{"$f":"TRIM(TrnsfrXrefTable[[#This Row],[Details Object Code]])&\"|\"&TRIM(TrnsfrXrefTable[[#This Row],[Details Program]])&\"|\"&TRIM(TrnsfrXrefTable[[#This Row],[Details Category]])","v":"4000|Title II, Part A, Transferability|Delinquent"},"Title II, Part A - APE60015","Non Set-Aside",{"$f":"TRIM(TrnsfrXrefTable[[#This Row],[Summary Program]])&\"|\"&TRIM(TrnsfrXrefTable[[#This Row],[Summary Expenditure]])","v":"Title II, Part A - APE60015|Non Set-Aside"}]
[8000,"Title I, Part C","Title I C Private School",{"$f":"TRIM(BdgtXrefTable[[#This Row],[Details Object Code]])&\"|\"&TRIM(BdgtXrefTable[[#This Row],[Details Program]])&\"|\"&TRIM(BdgtXrefTable[[#This Row],[Details Category]])","v":"8000|Title I, Part C|Title I C Private School"},"Title I, Part C","Private School Set-Aside ",{"$f":"TRIM(BdgtXrefTable[[#This Row],[Summary Program]])&\"|\"&TRIM(BdgtXrefTable[[#This Row],[Summary Expenditure]])","v":"Title I, Part C|Private School Set-Aside"},null,4000,"Title II, Part A, Transferability","Division",{"$f":"TRIM(TrnsfrXrefTable[[#This Row],[Details Object Code]])&\"|\"&TRIM(TrnsfrXrefTable[[#This Row],[Details Program]])&\"|\"&TRIM(TrnsfrXrefTable[[#This Row],[Details Category]])","v":"4000|Title II, Part A, Transferability|Division"},"Title II, Part A - APE61481","Set-Aside",{"$f":"TRIM(TrnsfrXrefTable[[#This Row],[Summary Program]])&\"|\"&TRIM(TrnsfrXrefTable[[#This Row],[Summary Expenditure]])","v":"Title II, Part A - APE61481|Set-Aside"}]
[8000,"Title I, Part C","Migrant",{"$f":"TRIM(BdgtXrefTable[[#This Row],[Details Object Code]])&\"|\"&TRIM(BdgtXrefTable[[#This Row],[Details Program]])&\"|\"&TRIM(BdgtXrefTable[[#This Row],[Details Category]])","v":"8000|Title I, Part C|Migrant"},"Title I, Part C","Non Set-Aside",{"$f":"TRIM(BdgtXrefTable[[#This Row],[Summary Program]])&\"|\"&TRIM(BdgtXrefTable[[#This Row],[Summary Expenditure]])","v":"Title I, Part C|Non Set-Aside"},null,4000,"Title II, Part A, Transferability","Early Childhood",{"$f":"TRIM(TrnsfrXrefTable[[#This Row],[Details Object Code]])&\"|\"&TRIM(TrnsfrXrefTable[[#This Row],[Details Program]])&\"|\"&TRIM(TrnsfrXrefTable[[#This Row],[Details Category]])","v":"4000|Title II, Part A, Transferability|Early Childhood"},"Title II, Part A - APE61481","Set-Aside",{"$f":"TRIM(TrnsfrXrefTable[[#This Row],[Summary Program]])&\"|\"&TRIM(TrnsfrXrefTable[[#This Row],[Summary Expenditure]])","v":"Title II, Part A - APE61481|Set-Aside"}]
[1000,"Title I, Part D, Subpart 2 ","Delinquent",{"$f":"TRIM(BdgtXrefTable[[#This Row],[Details Object Code]])&\"|\"&TRIM(BdgtXrefTable[[#This Row],[Details Program]])&\"|\"&TRIM(BdgtXrefTable[[#This Row],[Details Category]])","v":"1000|Title I, Part D, Subpart 2|Delinquent"},"Title I, Part D","Non Set-Aside",{"$f":"TRIM(BdgtXrefTable[[#This Row],[Summary Program]])&\"|\"&TRIM(BdgtXrefTable[[#This Row],[Summary Expenditure]])","v":"Title I, Part D|Non Set-Aside"},null,null,null,null,null,null,null,{"$f":"TRIM(TrnsfrXrefTable[[#This Row],[Summary Program]])&\"|\"&TRIM(TrnsfrXrefTable[[#This Row],[Summary Expenditure]])","v":"|"}]
[2000,"Title I, Part D, Subpart 2 ","Delinquent",{"$f":"TRIM(BdgtXrefTable[[#This Row],[Details Object Code]])&\"|\"&TRIM(BdgtXrefTable[[#This Row],[Details Program]])&\"|\"&TRIM(BdgtXrefTable[[#This Row],[Details Category]])","v":"2000|Title I, Part D, Subpart 2|Delinquent"},"Title I, Part D","Non Set-Aside",{"$f":"TRIM(BdgtXrefTable[[#This Row],[Summary Program]])&\"|\"&TRIM(BdgtXrefTable[[#This Row],[Summary Expenditure]])","v":"Title I, Part D|Non Set-Aside"},null,4000,"Title II, Part A, Transferability","EL Subgrant",{"$f":"TRIM(TrnsfrXrefTable[[#This Row],[Details Object Code]])&\"|\"&TRIM(TrnsfrXrefTable[[#This Row],[Details Program]])&\"|\"&TRIM(TrnsfrXrefTable[[#This Row],[Details Category]])","v":"4000|Title II, Part A, Transferability|EL Subgrant"},"Title II, Part A - APE60016","Internal Services",{"$f":"TRIM(TrnsfrXrefTable[[#This Row],[Summary Program]])&\"|\"&TRIM(TrnsfrXrefTable[[#This Row],[Summary Expenditure]])","v":"Title II, Part A - APE60016|Internal Services"}]
[3000,"Title I, Part D, Subpart 2 ","Delinquent",{"$f":"TRIM(BdgtXrefTable[[#This Row],[Details Object Code]])&\"|\"&TRIM(BdgtXrefTable[[#This Row],[Details Program]])&\"|\"&TRIM(BdgtXrefTable[[#This Row],[Details Category]])","v":"3000|Title I, Part D, Subpart 2|Delinquent"},"Title I, Part D","Non Set-Aside",{"$f":"TRIM(BdgtXrefTable[[#This Row],[Summary Program]])&\"|\"&TRIM(BdgtXrefTable[[#This Row],[Summary Expenditure]])","v":"Title I, Part D|Non Set-Aside"},null,4000,"Title II, Part A, Transferability","Foster Care",{"$f":"TRIM(TrnsfrXrefTable[[#This Row],[Details Object Code]])&\"|\"&TRIM(TrnsfrXrefTable[[#This Row],[Details Program]])&\"|\"&TRIM(TrnsfrXrefTable[[#This Row],[Details Category]])","v":"4000|Title II, Part A, Transferability|Foster Care"},"Title II, Part A - APE61481","Set-Aside",{"$f":"TRIM(TrnsfrXrefTable[[#This Row],[Summary Program]])&\"|\"&TRIM(TrnsfrXrefTable[[#This Row],[Summary Expenditure]])","v":"Title II, Part A - APE61481|Set-Aside"}]
[4000,"Title I, Part D, Subpart 2 ","Delinquent",{"$f":"TRIM(BdgtXrefTable[[#This Row],[Details Object Code]])&\"|\"&TRIM(BdgtXrefTable[[#This Row],[Details Program]])&\"|\"&TRIM(BdgtXrefTable[[#This Row],[Details Category]])","v":"4000|Title I, Part D, Subpart 2|Delinquent"},"Title I, Part D","Non Set-Aside",{"$f":"TRIM(BdgtXrefTable[[#This Row],[Summary Program]])&\"|\"&TRIM(BdgtXrefTable[[#This Row],[Summary Expenditure]])","v":"Title I, Part D|Non Set-Aside"},null,4000,"Title II, Part A, Transferability","Homeless",{"$f":"TRIM(TrnsfrXrefTable[[#This Row],[Details Object Code]])&\"|\"&TRIM(TrnsfrXrefTable[[#This Row],[Details Program]])&\"|\"&TRIM(TrnsfrXrefTable[[#This Row],[Details Category]])","v":"4000|Title II, Part A, Transferability|Homeless"},"Title II, Part A - APE61481","Set-Aside",{"$f":"TRIM(TrnsfrXrefTable[[#This Row],[Summary Program]])&\"|\"&TRIM(TrnsfrXrefTable[[#This Row],[Summary Expenditure]])","v":"Title II, Part A - APE61481|Set-Aside"}]
[5000,"Title I, Part D, Subpart 2 ","Delinquent",{"$f":"TRIM(BdgtXrefTable[[#This Row],[Details Object Code]])&\"|\"&TRIM(BdgtXrefTable[[#This Row],[Details Program]])&\"|\"&TRIM(BdgtXrefTable[[#This Row],[Details Category]])","v":"5000|Title I, Part D, Subpart 2|Delinquent"},"Title I, Part D","Non Set-Aside",{"$f":"TRIM(BdgtXrefTable[[#This Row],[Summary Program]])&\"|\"&TRIM(BdgtXrefTable[[#This Row],[Summary Expenditure]])","v":"Title I, Part D|Non Set-Aside"},null,4000,"Title II, Part A, Transferability","IY Subgrant",{"$f":"TRIM(TrnsfrXrefTable[[#This Row],[Details Object Code]])&\"|\"&TRIM(TrnsfrXrefTable[[#This Row],[Details Program]])&\"|\"&TRIM(TrnsfrXrefTable[[#This Row],[Details Category]])","v":"4000|Title II, Part A, Transferability|IY Subgrant"},"Title II, Part A - APE60016","Internal Services",{"$f":"TRIM(TrnsfrXrefTable[[#This Row],[Summary Program]])&\"|\"&TRIM(TrnsfrXrefTable[[#This Row],[Summary Expenditure]])","v":"Title II, Part A - APE60016|Internal Services"}]
[6000,"Title I, Part D, Subpart 2 ","Delinquent",{"$f":"TRIM(BdgtXrefTable[[#This Row],[Details Object Code]])&\"|\"&TRIM(BdgtXrefTable[[#This Row],[Details Program]])&\"|\"&TRIM(BdgtXrefTable[[#This Row],[Details Category]])","v":"6000|Title I, Part D, Subpart 2|Delinquent"},"Title I, Part D","Non Set-Aside",{"$f":"TRIM(BdgtXrefTable[[#This Row],[Summary Program]])&\"|\"&TRIM(BdgtXrefTable[[#This Row],[Summary Expenditure]])","v":"Title I, Part D|Non Set-Aside"},null,4000,"Title II, Part A, Transferability","Migrant",{"$f":"TRIM(TrnsfrXrefTable[[#This Row],[Details Object Code]])&\"|\"&TRIM(TrnsfrXrefTable[[#This Row],[Details Program]])&\"|\"&TRIM(TrnsfrXrefTable[[#This Row],[Details Category]])","v":"4000|Title II, Part A, Transferability|Migrant"},"Title II, Part A - APE60014","Non Set-Aside",{"$f":"TRIM(TrnsfrXrefTable[[#This Row],[Summary Program]])&\"|\"&TRIM(TrnsfrXrefTable[[#This Row],[Summary Expenditure]])","v":"Title II, Part A - APE60014|Non Set-Aside"}]
[8000,"Title I, Part D, Subpart 2 ","Delinquent",{"$f":"TRIM(BdgtXrefTable[[#This Row],[Details Object Code]])&\"|\"&TRIM(BdgtXrefTable[[#This Row],[Details Program]])&\"|\"&TRIM(BdgtXrefTable[[#This Row],[Details Category]])","v":"8000|Title I, Part D, Subpart 2|Delinquent"},"Title I, Part D","Non Set-Aside",{"$f":"TRIM(BdgtXrefTable[[#This Row],[Summary Program]])&\"|\"&TRIM(BdgtXrefTable[[#This Row],[Summary Expenditure]])","v":"Title I, Part D|Non Set-Aside"},null,4000,"Title II, Part A, Transferability","Neglected",{"$f":"TRIM(TrnsfrXrefTable[[#This Row],[Details Object Code]])&\"|\"&TRIM(TrnsfrXrefTable[[#This Row],[Details Program]])&\"|\"&TRIM(TrnsfrXrefTable[[#This Row],[Details Category]])","v":"4000|Title II, Part A, Transferability|Neglected"},"Title II, Part A - APE61481","Set-Aside",{"$f":"TRIM(TrnsfrXrefTable[[#This Row],[Summary Program]])&\"|\"&TRIM(TrnsfrXrefTable[[#This Row],[Summary Expenditure]])","v":"Title II, Part A - APE61481|Set-Aside"}]
[1000,"Title II, Part A","Class size Reduction",{"$f":"TRIM(BdgtXrefTable[[#This Row],[Details Object Code]])&\"|\"&TRIM(BdgtXrefTable[[#This Row],[Details Program]])&\"|\"&TRIM(BdgtXrefTable[[#This Row],[Details Category]])","v":"1000|Title II, Part A|Class size Reduction"},"Title II, Part A","Non-Administrative",{"$f":"TRIM(BdgtXrefTable[[#This Row],[Summary Program]])&\"|\"&TRIM(BdgtXrefTable[[#This Row],[Summary Expenditure]])","v":"Title II, Part A|Non-Administrative"},null,4000,"Title II, Part A, Transferability","PFE (Division)",{"$f":"TRIM(TrnsfrXrefTable[[#This Row],[Details Object Code]])&\"|\"&TRIM(TrnsfrXrefTable[[#This Row],[Details Program]])&\"|\"&TRIM(TrnsfrXrefTable[[#This Row],[Details Category]])","v":"4000|Title II, Part A, Transferability|PFE (Division)"},"Title II, Part A - APE61481","Parent and Family Engagement Set-Aside",{"$f":"TRIM(TrnsfrXrefTable[[#This Row],[Summary Program]])&\"|\"&TRIM(TrnsfrXrefTable[[#This Row],[Summary Expenditure]])","v":"Title II, Part A - APE61481|Parent and Family Engagement Set-Aside"}]
[1000,"Title II, Part A","Evaluation",{"$f":"TRIM(BdgtXrefTable[[#This Row],[Details Object Code]])&\"|\"&TRIM(BdgtXrefTable[[#This Row],[Details Program]])&\"|\"&TRIM(BdgtXrefTable[[#This Row],[Details Category]])","v":"1000|Title II, Part A|Evaluation"},"Title II, Part A","Non-Administrative",{"$f":"TRIM(BdgtXrefTable[[#This Row],[Summary Program]])&\"|\"&TRIM(BdgtXrefTable[[#This Row],[Summary Expenditure]])","v":"Title II, Part A|Non-Administrative"},null,4000,"Title II, Part A, Transferability","PFE (School Level)",{"$f":"TRIM(TrnsfrXrefTable[[#This Row],[Details Object Code]])&\"|\"&TRIM(TrnsfrXrefTable[[#This Row],[Details Program]])&\"|\"&TRIM(TrnsfrXrefTable[[#This Row],[Details Category]])","v":"4000|Title II, Part A, Transferability|PFE (School Level)"},"Title II, Part A - APE61481","Parent and Family Engagement Set-Aside",{"$f":"TRIM(TrnsfrXrefTable[[#This Row],[Summary Program]])&\"|\"&TRIM(TrnsfrXrefTable[[#This Row],[Summary Expenditure]])","v":"Title II, Part A - APE61481|Parent and Family Engagement Set-Aside"}]
[1000,"Title II, Part A","Leadership",{"$f":"TRIM(BdgtXrefTable[[#This Row],[Details Object Code]])&\"|\"&TRIM(BdgtXrefTable[[#This Row],[Details Program]])&\"|\"&TRIM(BdgtXrefTable[[#This Row],[Details Category]])","v":"1000|Title II, Part A|Leadership"},"Title II, Part A","Administrative",{"$f":"TRIM(BdgtXrefTable[[#This Row],[Summary Program]])&\"|\"&TRIM(BdgtXrefTable[[#This Row],[Summary Expenditure]])","v":"Title II, Part A|Administrative"},null,4000,"Title II, Part A, Transferability","Safe & Healthy Students",{"$f":"TRIM(TrnsfrXrefTable[[#This Row],[Details Object Code]])&\"|\"&TRIM(TrnsfrXrefTable[[#This Row],[Details Program]])&\"|\"&TRIM(TrnsfrXrefTable[[#This Row],[Details Category]])","v":"4000|Title II, Part A, Transferability|Safe & Healthy Students"},"Title II, Part A - APE60017","Internal Services",{"$f":"TRIM(TrnsfrXrefTable[[#This Row],[Summary Program]])&\"|\"&TRIM(TrnsfrXrefTable[[#This Row],[Summary Expenditure]])","v":"Title II, Part A - APE60017|Internal Services"}]
[1000,"Title II, Part A","Mentoring/Induction",{"$f":"TRIM(BdgtXrefTable[[#This Row],[Details Object Code]])&\"|\"&TRIM(BdgtXrefTable[[#This Row],[Details Program]])&\"|\"&TRIM(BdgtXrefTable[[#This Row],[Details Category]])","v":"1000|Title II, Part A|Mentoring/Induction"},"Title II, Part A","Non-Administrative",{"$f":"TRIM(BdgtXrefTable[[#This Row],[Summary Program]])&\"|\"&TRIM(BdgtXrefTable[[#This Row],[Summary Expenditure]])","v":"Title II, Part A|Non-Administrative"},null,null,null,null,null,null,null,{"$f":"TRIM(TrnsfrXrefTable[[#This Row],[Summary Program]])&\"|\"&TRIM(TrnsfrXrefTable[[#This Row],[Summary Expenditure]])","v":"|"}]
[1000,"Title II, Part A","Other",{"$f":"TRIM(BdgtXrefTable[[#This Row],[Details Object Code]])&\"|\"&TRIM(BdgtXrefTable[[#This Row],[Details Program]])&\"|\"&TRIM(BdgtXrefTable[[#This Row],[Details Category]])","v":"1000|Title II, Part A|Other"},"Title II, Part A","Non-Administrative",{"$f":"TRIM(BdgtXrefTable[[#This Row],[Summary Program]])&\"|\"&TRIM(BdgtXrefTable[[#This Row],[Summary Expenditure]])","v":"Title II, Part A|Non-Administrative"},null,4000,"Title II, Part A, Transferability","Salary Differential",{"$f":"TRIM(TrnsfrXrefTable[[#This Row],[Details Object Code]])&\"|\"&TRIM(TrnsfrXrefTable[[#This Row],[Details Program]])&\"|\"&TRIM(TrnsfrXrefTable[[#This Row],[Details Category]])","v":"4000|Title II, Part A, Transferability|Salary Differential"},"Title II, Part A - APE61481","Set-Aside",{"$f":"TRIM(TrnsfrXrefTable[[#This Row],[Summary Program]])&\"|\"&TRIM(TrnsfrXrefTable[[#This Row],[Summary Expenditure]])","v":"Title II, Part A - APE61481|Set-Aside"}]
[1000,"Title II, Part A","Professional Development",{"$f":"TRIM(BdgtXrefTable[[#This Row],[Details Object Code]])&\"|\"&TRIM(BdgtXrefTable[[#This Row],[Details Program]])&\"|\"&TRIM(BdgtXrefTable[[#This Row],[Details Category]])","v":"1000|Title II, Part A|Professional Development"},"Title II, Part A","Non-Administrative",{"$f":"TRIM(BdgtXrefTable[[#This Row],[Summary Program]])&\"|\"&TRIM(BdgtXrefTable[[#This Row],[Summary Expenditure]])","v":"Title II, Part A|Non-Administrative"},null,4000,"Title II, Part A, Transferability","Technology",{"$f":"TRIM(TrnsfrXrefTable[[#This Row],[Details Object Code]])&\"|\"&TRIM(TrnsfrXrefTable[[#This Row],[Details Program]])&\"|\"&TRIM(TrnsfrXrefTable[[#This Row],[Details Category]])","v":"4000|Title II, Part A, Transferability|Technology"},"Title II, Part A - APE60017","Internal Services",{"$f":"TRIM(TrnsfrXrefTable[[#This Row],[Summary Program]])&\"|\"&TRIM(TrnsfrXrefTable[[#This Row],[Summary Expenditure]])","v":"Title II, Part A - APE60017|Internal Services"}]
[1000,"Title II, Part A","Recruitment/Retention",{"$f":"TRIM(BdgtXrefTable[[#This Row],[Details Object Code]])&\"|\"&TRIM(BdgtXrefTable[[#This Row],[Details Program]])&\"|\"&TRIM(BdgtXrefTable[[#This Row],[Details Category]])","v":"1000|Title II, Part A|Recruitment/Retention"},"Title II, Part A","Non-Administrative",{"$f":"TRIM(BdgtXrefTable[[#This Row],[Summary Program]])&\"|\"&TRIM(BdgtXrefTable[[#This Row],[Summary Expenditure]])","v":"Title II, Part A|Non-Administrative"},null,1000,"Title II, Part A, Transferability","Non Set-Aside",null,"Title IV, Part A - APE60019","Non Set-Aside",{"$f":"TRIM(TrnsfrXrefTable[[#This Row],[Summary Program]])&\"|\"&TRIM(TrnsfrXrefTable[[#This Row],[Summary Expenditure]])","v":"Title IV, Part A - APE60019|Non Set-Aside"}]
[1000,"Title II, Part A","Title IIA Administration",{"$f":"TRIM(BdgtXrefTable[[#This Row],[Details Object Code]])&\"|\"&TRIM(BdgtXrefTable[[#This Row],[Details Program]])&\"|\"&TRIM(BdgtXrefTable[[#This Row],[Details Category]])","v":"1000|Title II, Part A|Title IIA Administration"},"Title II, Part A","Administrative",{"$f":"TRIM(BdgtXrefTable[[#This Row],[Summary Program]])&\"|\"&TRIM(BdgtXrefTable[[#This Row],[Summary Expenditure]])","v":"Title II, Part A|Administrative"},null,null,null,null,null,null,null,{"$f":"TRIM(TrnsfrXrefTable[[#This Row],[Summary Program]])&\"|\"&TRIM(TrnsfrXrefTable[[#This Row],[Summary Expenditure]])","v":"|"}]
[2000,"Title II, Part A","Class size Reduction",{"$f":"TRIM(BdgtXrefTable[[#This Row],[Details Object Code]])&\"|\"&TRIM(BdgtXrefTable[[#This Row],[Details Program]])&\"|\"&TRIM(BdgtXrefTable[[#This Row],[Details Category]])","v":"2000|Title II, Part A|Class size Reduction"},"Title II, Part A","Non-Administrative",{"$f":"TRIM(BdgtXrefTable[[#This Row],[Summary Program]])&\"|\"&TRIM(BdgtXrefTable[[#This Row],[Summary Expenditure]])","v":"Title II, Part A|Non-Administrative"},null,null,null,null,null,null,null,{"$f":"TRIM(TrnsfrXrefTable[[#This Row],[Summary Program]])&\"|\"&TRIM(TrnsfrXrefTable[[#This Row],[Summary Expenditure]])","v":"|"}]
[2000,"Title II, Part A","Evaluation",{"$f":"TRIM(BdgtXrefTable[[#This Row],[Details Object Code]])&\"|\"&TRIM(BdgtXrefTable[[#This Row],[Details Program]])&\"|\"&TRIM(BdgtXrefTable[[#This Row],[Details Category]])","v":"2000|Title II, Part A|Evaluation"},"Title II, Part A","Non-Administrative",{"$f":"TRIM(BdgtXrefTable[[#This Row],[Summary Program]])&\"|\"&TRIM(BdgtXrefTable[[#This Row],[Summary Expenditure]])","v":"Title II, Part A|Non-Administrative"},null,4000,"Title II, Part A, Transferability","Well Rounded Students",{"$f":"TRIM(TrnsfrXrefTable[[#This Row],[Details Object Code]])&\"|\"&TRIM(TrnsfrXrefTable[[#This Row],[Details Program]])&\"|\"&TRIM(TrnsfrXrefTable[[#This Row],[Details Category]])","v":"4000|Title II, Part A, Transferability|Well Rounded Students"},"Title II, Part A - APE60017","Internal Services",{"$f":"TRIM(TrnsfrXrefTable[[#This Row],[Summary Program]])&\"|\"&TRIM(TrnsfrXrefTable[[#This Row],[Summary Expenditure]])","v":"Title II, Part A - APE60017|Internal Services"}]
[2000,"Title II, Part A","Leadership",{"$f":"TRIM(BdgtXrefTable[[#This Row],[Details Object Code]])&\"|\"&TRIM(BdgtXrefTable[[#This Row],[Details Program]])&\"|\"&TRIM(BdgtXrefTable[[#This Row],[Details Category]])","v":"2000|Title II, Part A|Leadership"},"Title II, Part A","Administrative",{"$f":"TRIM(BdgtXrefTable[[#This Row],[Summary Program]])&\"|\"&TRIM(BdgtXrefTable[[#This Row],[Summary Expenditure]])","v":"Title II, Part A|Administrative"},null,null,null,null,null,null,null,{"$f":"TRIM(TrnsfrXrefTable[[#This Row],[Summary Program]])&\"|\"&TRIM(TrnsfrXrefTable[[#This Row],[Summary Expenditure]])","v":"|"}]
[2000,"Title II, Part A","Mentoring/Induction",{"$f":"TRIM(BdgtXrefTable[[#This Row],[Details Object Code]])&\"|\"&TRIM(BdgtXrefTable[[#This Row],[Details Program]])&\"|\"&TRIM(BdgtXrefTable[[#This Row],[Details Category]])","v":"2000|Title II, Part A|Mentoring/Induction"},"Title II, Part A","Non-Administrative",{"$f":"TRIM(BdgtXrefTable[[#This Row],[Summary Program]])&\"|\"&TRIM(BdgtXrefTable[[#This Row],[Summary Expenditure]])","v":"Title II, Part A|Non-Administrative"},null,4000,"Title II, Part A, Transferability","Rural and Low Income",{"$f":"TRIM(TrnsfrXrefTable[[#This Row],[Details Object Code]])&\"|\"&TRIM(TrnsfrXrefTable[[#This Row],[Details Program]])&\"|\"&TRIM(TrnsfrXrefTable[[#This Row],[Details Category]])","v":"4000|Title II, Part A, Transferability|Rural and Low Income"},"Title II, Part A - APE60018","Non Set-Aside",{"$f":"TRIM(TrnsfrXrefTable[[#This Row],[Summary Program]])&\"|\"&TRIM(TrnsfrXrefTable[[#This Row],[Summary Expenditure]])","v":"Title II, Part A - APE60018|Non Set-Aside"}]
[2000,"Title II, Part A","Other",{"$f":"TRIM(BdgtXrefTable[[#This Row],[Details Object Code]])&\"|\"&TRIM(BdgtXrefTable[[#This Row],[Details Program]])&\"|\"&TRIM(BdgtXrefTable[[#This Row],[Details Category]])","v":"2000|Title II, Part A|Other"},"Title II, Part A","Non-Administrative",{"$f":"TRIM(BdgtXrefTable[[#This Row],[Summary Program]])&\"|\"&TRIM(BdgtXrefTable[[#This Row],[Summary Expenditure]])","v":"Title II, Part A|Non-Administrative"},null,5000,"Title II, Part A, Transferability","CSI/TSI",{"$f":"TRIM(TrnsfrXrefTable[[#This Row],[Details Object Code]])&\"|\"&TRIM(TrnsfrXrefTable[[#This Row],[Details Program]])&\"|\"&TRIM(TrnsfrXrefTable[[#This Row],[Details Category]])","v":"5000|Title II, Part A, Transferability|CSI/TSI"},"Title II, Part A - APE61481","Set-Aside",{"$f":"TRIM(TrnsfrXrefTable[[#This Row],[Summary Program]])&\"|\"&TRIM(TrnsfrXrefTable[[#This Row],[Summary Expenditure]])","v":"Title II, Part A - APE61481|Set-Aside"}]
[2000,"Title II, Part A","Professional Development",{"$f":"TRIM(BdgtXrefTable[[#This Row],[Details Object Code]])&\"|\"&TRIM(BdgtXrefTable[[#This Row],[Details Program]])&\"|\"&TRIM(BdgtXrefTable[[#This Row],[Details Category]])","v":"2000|Title II, Part A|Professional Development"},"Title II, Part A","Non-Administrative",{"$f":"TRIM(BdgtXrefTable[[#This Row],[Summary Program]])&\"|\"&TRIM(BdgtXrefTable[[#This Row],[Summary Expenditure]])","v":"Title II, Part A|Non-Administrative"},null,5000,"Title II, Part A, Transferability","Delinquent",{"$f":"TRIM(TrnsfrXrefTable[[#This Row],[Details Object Code]])&\"|\"&TRIM(TrnsfrXrefTable[[#This Row],[Details Program]])&\"|\"&TRIM(TrnsfrXrefTable[[#This Row],[Details Category]])","v":"5000|Title II, Part A, Transferability|Delinquent"},"Title II, Part A - APE60015","Non Set-Aside",{"$f":"TRIM(TrnsfrXrefTable[[#This Row],[Summary Program]])&\"|\"&TRIM(TrnsfrXrefTable[[#This Row],[Summary Expenditure]])","v":"Title II, Part A - APE60015|Non Set-Aside"}]
[2000,"Title II, Part A","Recruitment/Retention",{"$f":"TRIM(BdgtXrefTable[[#This Row],[Details Object Code]])&\"|\"&TRIM(BdgtXrefTable[[#This Row],[Details Program]])&\"|\"&TRIM(BdgtXrefTable[[#This Row],[Details Category]])","v":"2000|Title II, Part A|Recruitment/Retention"},"Title II, Part A","Non-Administrative",{"$f":"TRIM(BdgtXrefTable[[#This Row],[Summary Program]])&\"|\"&TRIM(BdgtXrefTable[[#This Row],[Summary Expenditure]])","v":"Title II, Part A|Non-Administrative"},null,5000,"Title II, Part A, Transferability","Division",{"$f":"TRIM(TrnsfrXrefTable[[#This Row],[Details Object Code]])&\"|\"&TRIM(TrnsfrXrefTable[[#This Row],[Details Program]])&\"|\"&TRIM(TrnsfrXrefTable[[#This Row],[Details Category]])","v":"5000|Title II, Part A, Transferability|Division"},"Title II, Part A - APE61481","Set-Aside",{"$f":"TRIM(TrnsfrXrefTable[[#This Row],[Summary Program]])&\"|\"&TRIM(TrnsfrXrefTable[[#This Row],[Summary Expenditure]])","v":"Title II, Part A - APE61481|Set-Aside"}]
[2000,"Title II, Part A","Title IIA Administration",{"$f":"TRIM(BdgtXrefTable[[#This Row],[Details Object Code]])&\"|\"&TRIM(BdgtXrefTable[[#This Row],[Details Program]])&\"|\"&TRIM(BdgtXrefTable[[#This Row],[Details Category]])","v":"2000|Title II, Part A|Title IIA Administration"},"Title II, Part A","Administrative",{"$f":"TRIM(BdgtXrefTable[[#This Row],[Summary Program]])&\"|\"&TRIM(BdgtXrefTable[[#This Row],[Summary Expenditure]])","v":"Title II, Part A|Administrative"},null,5000,"Title II, Part A, Transferability","Early Childhood",{"$f":"TRIM(TrnsfrXrefTable[[#This Row],[Details Object Code]])&\"|\"&TRIM(TrnsfrXrefTable[[#This Row],[Details Program]])&\"|\"&TRIM(TrnsfrXrefTable[[#This Row],[Details Category]])","v":"5000|Title II, Part A, Transferability|Early Childhood"},"Title II, Part A - APE61481","Set-Aside",{"$f":"TRIM(TrnsfrXrefTable[[#This Row],[Summary Program]])&\"|\"&TRIM(TrnsfrXrefTable[[#This Row],[Summary Expenditure]])","v":"Title II, Part A - APE61481|Set-Aside"}]
[3000,"Title II, Part A","Evaluation",{"$f":"TRIM(BdgtXrefTable[[#This Row],[Details Object Code]])&\"|\"&TRIM(BdgtXrefTable[[#This Row],[Details Program]])&\"|\"&TRIM(BdgtXrefTable[[#This Row],[Details Category]])","v":"3000|Title II, Part A|Evaluation"},"Title II, Part A","Non-Administrative",{"$f":"TRIM(BdgtXrefTable[[#This Row],[Summary Program]])&\"|\"&TRIM(BdgtXrefTable[[#This Row],[Summary Expenditure]])","v":"Title II, Part A|Non-Administrative"},null,5000,"Title II, Part A, Transferability","EL Indirect Costs",{"$f":"TRIM(TrnsfrXrefTable[[#This Row],[Details Object Code]])&\"|\"&TRIM(TrnsfrXrefTable[[#This Row],[Details Program]])&\"|\"&TRIM(TrnsfrXrefTable[[#This Row],[Details Category]])","v":"5000|Title II, Part A, Transferability|EL Indirect Costs"},"Title II, Part A - APE60016","Indirect Costs",{"$f":"TRIM(TrnsfrXrefTable[[#This Row],[Summary Program]])&\"|\"&TRIM(TrnsfrXrefTable[[#This Row],[Summary Expenditure]])","v":"Title II, Part A - APE60016|Indirect Costs"}]
[3000,"Title II, Part A","Leadership",{"$f":"TRIM(BdgtXrefTable[[#This Row],[Details Object Code]])&\"|\"&TRIM(BdgtXrefTable[[#This Row],[Details Program]])&\"|\"&TRIM(BdgtXrefTable[[#This Row],[Details Category]])","v":"3000|Title II, Part A|Leadership"},"Title II, Part A","Administrative",{"$f":"TRIM(BdgtXrefTable[[#This Row],[Summary Program]])&\"|\"&TRIM(BdgtXrefTable[[#This Row],[Summary Expenditure]])","v":"Title II, Part A|Administrative"},null,5000,"Title II, Part A, Transferability","EL Private School",{"$f":"TRIM(TrnsfrXrefTable[[#This Row],[Details Object Code]])&\"|\"&TRIM(TrnsfrXrefTable[[#This Row],[Details Program]])&\"|\"&TRIM(TrnsfrXrefTable[[#This Row],[Details Category]])","v":"5000|Title II, Part A, Transferability|EL Private School"},"Title II, Part A - APE60016","Private School Set-Aside ",{"$f":"TRIM(TrnsfrXrefTable[[#This Row],[Summary Program]])&\"|\"&TRIM(TrnsfrXrefTable[[#This Row],[Summary Expenditure]])","v":"Title II, Part A - APE60016|Private School Set-Aside"}]
[3000,"Title II, Part A","Mentoring/Induction",{"$f":"TRIM(BdgtXrefTable[[#This Row],[Details Object Code]])&\"|\"&TRIM(BdgtXrefTable[[#This Row],[Details Program]])&\"|\"&TRIM(BdgtXrefTable[[#This Row],[Details Category]])","v":"3000|Title II, Part A|Mentoring/Induction"},"Title II, Part A","Non-Administrative",{"$f":"TRIM(BdgtXrefTable[[#This Row],[Summary Program]])&\"|\"&TRIM(BdgtXrefTable[[#This Row],[Summary Expenditure]])","v":"Title II, Part A|Non-Administrative"},null,5000,"Title II, Part A, Transferability","EL Subgrant",{"$f":"TRIM(TrnsfrXrefTable[[#This Row],[Details Object Code]])&\"|\"&TRIM(TrnsfrXrefTable[[#This Row],[Details Program]])&\"|\"&TRIM(TrnsfrXrefTable[[#This Row],[Details Category]])","v":"5000|Title II, Part A, Transferability|EL Subgrant"},"Title II, Part A - APE60016","Non-Administrative",{"$f":"TRIM(TrnsfrXrefTable[[#This Row],[Summary Program]])&\"|\"&TRIM(TrnsfrXrefTable[[#This Row],[Summary Expenditure]])","v":"Title II, Part A - APE60016|Non-Administrative"}]
[3000,"Title II, Part A","Other",{"$f":"TRIM(BdgtXrefTable[[#This Row],[Details Object Code]])&\"|\"&TRIM(BdgtXrefTable[[#This Row],[Details Program]])&\"|\"&TRIM(BdgtXrefTable[[#This Row],[Details Category]])","v":"3000|Title II, Part A|Other"},"Title II, Part A","Non-Administrative",{"$f":"TRIM(BdgtXrefTable[[#This Row],[Summary Program]])&\"|\"&TRIM(BdgtXrefTable[[#This Row],[Summary Expenditure]])","v":"Title II, Part A|Non-Administrative"},null,5000,"Title II, Part A, Transferability","Foster Care",{"$f":"TRIM(TrnsfrXrefTable[[#This Row],[Details Object Code]])&\"|\"&TRIM(TrnsfrXrefTable[[#This Row],[Details Program]])&\"|\"&TRIM(TrnsfrXrefTable[[#This Row],[Details Category]])","v":"5000|Title II, Part A, Transferability|Foster Care"},"Title II, Part A - APE61481","Set-Aside",{"$f":"TRIM(TrnsfrXrefTable[[#This Row],[Summary Program]])&\"|\"&TRIM(TrnsfrXrefTable[[#This Row],[Summary Expenditure]])","v":"Title II, Part A - APE61481|Set-Aside"}]
[3000,"Title II, Part A","Professional Development",{"$f":"TRIM(BdgtXrefTable[[#This Row],[Details Object Code]])&\"|\"&TRIM(BdgtXrefTable[[#This Row],[Details Program]])&\"|\"&TRIM(BdgtXrefTable[[#This Row],[Details Category]])","v":"3000|Title II, Part A|Professional Development"},"Title II, Part A","Non-Administrative",{"$f":"TRIM(BdgtXrefTable[[#This Row],[Summary Program]])&\"|\"&TRIM(BdgtXrefTable[[#This Row],[Summary Expenditure]])","v":"Title II, Part A|Non-Administrative"},null,5000,"Title II, Part A, Transferability","Homeless",{"$f":"TRIM(TrnsfrXrefTable[[#This Row],[Details Object Code]])&\"|\"&TRIM(TrnsfrXrefTable[[#This Row],[Details Program]])&\"|\"&TRIM(TrnsfrXrefTable[[#This Row],[Details Category]])","v":"5000|Title II, Part A, Transferability|Homeless"},"Title II, Part A - APE61481","Set-Aside",{"$f":"TRIM(TrnsfrXrefTable[[#This Row],[Summary Program]])&\"|\"&TRIM(TrnsfrXrefTable[[#This Row],[Summary Expenditure]])","v":"Title II, Part A - APE61481|Set-Aside"}]
[3000,"Title II, Part A","Recruitment/Retention",{"$f":"TRIM(BdgtXrefTable[[#This Row],[Details Object Code]])&\"|\"&TRIM(BdgtXrefTable[[#This Row],[Details Program]])&\"|\"&TRIM(BdgtXrefTable[[#This Row],[Details Category]])","v":"3000|Title II, Part A|Recruitment/Retention"},"Title II, Part A","Non-Administrative",{"$f":"TRIM(BdgtXrefTable[[#This Row],[Summary Program]])&\"|\"&TRIM(BdgtXrefTable[[#This Row],[Summary Expenditure]])","v":"Title II, Part A|Non-Administrative"},null,5000,"Title II, Part A, Transferability","IY Subgrant",{"$f":"TRIM(TrnsfrXrefTable[[#This Row],[Details Object Code]])&\"|\"&TRIM(TrnsfrXrefTable[[#This Row],[Details Program]])&\"|\"&TRIM(TrnsfrXrefTable[[#This Row],[Details Category]])","v":"5000|Title II, Part A, Transferability|IY Subgrant"},"Title II, Part A - APE60016","Non-Administrative",{"$f":"TRIM(TrnsfrXrefTable[[#This Row],[Summary Program]])&\"|\"&TRIM(TrnsfrXrefTable[[#This Row],[Summary Expenditure]])","v":"Title II, Part A - APE60016|Non-Administrative"}]
[3000,"Title II, Part A","Teacher Quality (assessments)",{"$f":"TRIM(BdgtXrefTable[[#This Row],[Details Object Code]])&\"|\"&TRIM(BdgtXrefTable[[#This Row],[Details Program]])&\"|\"&TRIM(BdgtXrefTable[[#This Row],[Details Category]])","v":"3000|Title II, Part A|Teacher Quality (assessments)"},"Title II, Part A","Non-Administrative",{"$f":"TRIM(BdgtXrefTable[[#This Row],[Summary Program]])&\"|\"&TRIM(BdgtXrefTable[[#This Row],[Summary Expenditure]])","v":"Title II, Part A|Non-Administrative"},null,5000,"Title II, Part A, Transferability","IY Subgrant Indirect Cost",{"$f":"TRIM(TrnsfrXrefTable[[#This Row],[Details Object Code]])&\"|\"&TRIM(TrnsfrXrefTable[[#This Row],[Details Program]])&\"|\"&TRIM(TrnsfrXrefTable[[#This Row],[Details Category]])","v":"5000|Title II, Part A, Transferability|IY Subgrant Indirect Cost"},"Title II, Part A - APE60016","Indirect Costs",{"$f":"TRIM(TrnsfrXrefTable[[#This Row],[Summary Program]])&\"|\"&TRIM(TrnsfrXrefTable[[#This Row],[Summary Expenditure]])","v":"Title II, Part A - APE60016|Indirect Costs"}]
[3000,"Title II, Part A","Title IIA Administration",{"$f":"TRIM(BdgtXrefTable[[#This Row],[Details Object Code]])&\"|\"&TRIM(BdgtXrefTable[[#This Row],[Details Program]])&\"|\"&TRIM(BdgtXrefTable[[#This Row],[Details Category]])","v":"3000|Title II, Part A|Title IIA Administration"},"Title II, Part A","Administrative",{"$f":"TRIM(BdgtXrefTable[[#This Row],[Summary Program]])&\"|\"&TRIM(BdgtXrefTable[[#This Row],[Summary Expenditure]])","v":"Title II, Part A|Administrative"},null,5000,"Title II, Part A, Transferability","Migrant",{"$f":"TRIM(TrnsfrXrefTable[[#This Row],[Details Object Code]])&\"|\"&TRIM(TrnsfrXrefTable[[#This Row],[Details Program]])&\"|\"&TRIM(TrnsfrXrefTable[[#This Row],[Details Category]])","v":"5000|Title II, Part A, Transferability|Migrant"},"Title II, Part A - APE60014","Non Set-Aside",{"$f":"TRIM(TrnsfrXrefTable[[#This Row],[Summary Program]])&\"|\"&TRIM(TrnsfrXrefTable[[#This Row],[Summary Expenditure]])","v":"Title II, Part A - APE60014|Non Set-Aside"}]
[4000,"Title II, Part A","Other",{"$f":"TRIM(BdgtXrefTable[[#This Row],[Details Object Code]])&\"|\"&TRIM(BdgtXrefTable[[#This Row],[Details Program]])&\"|\"&TRIM(BdgtXrefTable[[#This Row],[Details Category]])","v":"4000|Title II, Part A|Other"},"Title II, Part A","Non-Administrative",{"$f":"TRIM(BdgtXrefTable[[#This Row],[Summary Program]])&\"|\"&TRIM(BdgtXrefTable[[#This Row],[Summary Expenditure]])","v":"Title II, Part A|Non-Administrative"},null,5000,"Title II, Part A, Transferability","Neglected",{"$f":"TRIM(TrnsfrXrefTable[[#This Row],[Details Object Code]])&\"|\"&TRIM(TrnsfrXrefTable[[#This Row],[Details Program]])&\"|\"&TRIM(TrnsfrXrefTable[[#This Row],[Details Category]])","v":"5000|Title II, Part A, Transferability|Neglected"},"Title II, Part A - APE61481","Set-Aside",{"$f":"TRIM(TrnsfrXrefTable[[#This Row],[Summary Program]])&\"|\"&TRIM(TrnsfrXrefTable[[#This Row],[Summary Expenditure]])","v":"Title II, Part A - APE61481|Set-Aside"}]
[4000,"Title II, Part A","Professional Development",{"$f":"TRIM(BdgtXrefTable[[#This Row],[Details Object Code]])&\"|\"&TRIM(BdgtXrefTable[[#This Row],[Details Program]])&\"|\"&TRIM(BdgtXrefTable[[#This Row],[Details Category]])","v":"4000|Title II, Part A|Professional Development"},"Title II, Part A","Non-Administrative",{"$f":"TRIM(BdgtXrefTable[[#This Row],[Summary Program]])&\"|\"&TRIM(BdgtXrefTable[[#This Row],[Summary Expenditure]])","v":"Title II, Part A|Non-Administrative"},null,5000,"Title II, Part A, Transferability","PFE (Division)",{"$f":"TRIM(TrnsfrXrefTable[[#This Row],[Details Object Code]])&\"|\"&TRIM(TrnsfrXrefTable[[#This Row],[Details Program]])&\"|\"&TRIM(TrnsfrXrefTable[[#This Row],[Details Category]])","v":"5000|Title II, Part A, Transferability|PFE (Division)"},"Title II, Part A - APE61481","Parent and Family Engagement Set-Aside",{"$f":"TRIM(TrnsfrXrefTable[[#This Row],[Summary Program]])&\"|\"&TRIM(TrnsfrXrefTable[[#This Row],[Summary Expenditure]])","v":"Title II, Part A - APE61481|Parent and Family Engagement Set-Aside"}]
[4000,"Title II, Part A","Recruitment/Retention",{"$f":"TRIM(BdgtXrefTable[[#This Row],[Details Object Code]])&\"|\"&TRIM(BdgtXrefTable[[#This Row],[Details Program]])&\"|\"&TRIM(BdgtXrefTable[[#This Row],[Details Category]])","v":"4000|Title II, Part A|Recruitment/Retention"},"Title II, Part A","Non-Administrative",{"$f":"TRIM(BdgtXrefTable[[#This Row],[Summary Program]])&\"|\"&TRIM(BdgtXrefTable[[#This Row],[Summary Expenditure]])","v":"Title II, Part A|Non-Administrative"},null,5000,"Title II, Part A, Transferability","PFE (School Level)",{"$f":"TRIM(TrnsfrXrefTable[[#This Row],[Details Object Code]])&\"|\"&TRIM(TrnsfrXrefTable[[#This Row],[Details Program]])&\"|\"&TRIM(TrnsfrXrefTable[[#This Row],[Details Category]])","v":"5000|Title II, Part A, Transferability|PFE (School Level)"},"Title II, Part A - APE61481","Parent and Family Engagement Set-Aside",{"$f":"TRIM(TrnsfrXrefTable[[#This Row],[Summary Program]])&\"|\"&TRIM(TrnsfrXrefTable[[#This Row],[Summary Expenditure]])","v":"Title II, Part A - APE61481|Parent and Family Engagement Set-Aside"}]
[5000,"Title II, Part A","Evaluation",{"$f":"TRIM(BdgtXrefTable[[#This Row],[Details Object Code]])&\"|\"&TRIM(BdgtXrefTable[[#This Row],[Details Program]])&\"|\"&TRIM(BdgtXrefTable[[#This Row],[Details Category]])","v":"5000|Title II, Part A|Evaluation"},"Title II, Part A","Non-Administrative",{"$f":"TRIM(BdgtXrefTable[[#This Row],[Summary Program]])&\"|\"&TRIM(BdgtXrefTable[[#This Row],[Summary Expenditure]])","v":"Title II, Part A|Non-Administrative"},null,5000,"Title II, Part A, Transferability","Safe & Healthy Students - PS",{"$f":"TRIM(TrnsfrXrefTable[[#This Row],[Details Object Code]])&\"|\"&TRIM(TrnsfrXrefTable[[#This Row],[Details Program]])&\"|\"&TRIM(TrnsfrXrefTable[[#This Row],[Details Category]])","v":"5000|Title II, Part A, Transferability|Safe & Healthy Students - PS"},"Title II, Part A - APE60017","Private School Set-Aside ",{"$f":"TRIM(TrnsfrXrefTable[[#This Row],[Summary Program]])&\"|\"&TRIM(TrnsfrXrefTable[[#This Row],[Summary Expenditure]])","v":"Title II, Part A - APE60017|Private School Set-Aside"}]
[5000,"Title II, Part A","Indirect Cost",{"$f":"TRIM(BdgtXrefTable[[#This Row],[Details Object Code]])&\"|\"&TRIM(BdgtXrefTable[[#This Row],[Details Program]])&\"|\"&TRIM(BdgtXrefTable[[#This Row],[Details Category]])","v":"5000|Title II, Part A|Indirect Cost"},"Title II, Part A","Indirect Costs",{"$f":"TRIM(BdgtXrefTable[[#This Row],[Summary Program]])&\"|\"&TRIM(BdgtXrefTable[[#This Row],[Summary Expenditure]])","v":"Title II, Part A|Indirect Costs"},null,5000,"Title II, Part A, Transferability","Safe & Healthy Students",{"$f":"TRIM(TrnsfrXrefTable[[#This Row],[Details Object Code]])&\"|\"&TRIM(TrnsfrXrefTable[[#This Row],[Details Program]])&\"|\"&TRIM(TrnsfrXrefTable[[#This Row],[Details Category]])","v":"5000|Title II, Part A, Transferability|Safe & Healthy Students"},"Title II, Part A - APE60017","Non-Administrative",{"$f":"TRIM(TrnsfrXrefTable[[#This Row],[Summary Program]])&\"|\"&TRIM(TrnsfrXrefTable[[#This Row],[Summary Expenditure]])","v":"Title II, Part A - APE60017|Non-Administrative"}]
[5000,"Title II, Part A","Other",{"$f":"TRIM(BdgtXrefTable[[#This Row],[Details Object Code]])&\"|\"&TRIM(BdgtXrefTable[[#This Row],[Details Program]])&\"|\"&TRIM(BdgtXrefTable[[#This Row],[Details Category]])","v":"5000|Title II, Part A|Other"},"Title II, Part A","Non-Administrative",{"$f":"TRIM(BdgtXrefTable[[#This Row],[Summary Program]])&\"|\"&TRIM(BdgtXrefTable[[#This Row],[Summary Expenditure]])","v":"Title II, Part A|Non-Administrative"},null,5000,"Title II, Part A, Transferability","Safe & Healthy Students - Indirect Costs",{"$f":"TRIM(TrnsfrXrefTable[[#This Row],[Details Object Code]])&\"|\"&TRIM(TrnsfrXrefTable[[#This Row],[Details Program]])&\"|\"&TRIM(TrnsfrXrefTable[[#This Row],[Details Category]])","v":"5000|Title II, Part A, Transferability|Safe & Healthy Students - Indirect Costs"},"Title II, Part A - APE60017","Indirect Costs",{"$f":"TRIM(TrnsfrXrefTable[[#This Row],[Summary Program]])&\"|\"&TRIM(TrnsfrXrefTable[[#This Row],[Summary Expenditure]])","v":"Title II, Part A - APE60017|Indirect Costs"}]
[5000,"Title II, Part A","Professional Development",{"$f":"TRIM(BdgtXrefTable[[#This Row],[Details Object Code]])&\"|\"&TRIM(BdgtXrefTable[[#This Row],[Details Program]])&\"|\"&TRIM(BdgtXrefTable[[#This Row],[Details Category]])","v":"5000|Title II, Part A|Professional Development"},"Title II, Part A","Non-Administrative",{"$f":"TRIM(BdgtXrefTable[[#This Row],[Summary Program]])&\"|\"&TRIM(BdgtXrefTable[[#This Row],[Summary Expenditure]])","v":"Title II, Part A|Non-Administrative"},null,5000,"Title II, Part A, Transferability","Salary Differential",{"$f":"TRIM(TrnsfrXrefTable[[#This Row],[Details Object Code]])&\"|\"&TRIM(TrnsfrXrefTable[[#This Row],[Details Program]])&\"|\"&TRIM(TrnsfrXrefTable[[#This Row],[Details Category]])","v":"5000|Title II, Part A, Transferability|Salary Differential"},"Title II, Part A - APE61481","Set-Aside",{"$f":"TRIM(TrnsfrXrefTable[[#This Row],[Summary Program]])&\"|\"&TRIM(TrnsfrXrefTable[[#This Row],[Summary Expenditure]])","v":"Title II, Part A - APE61481|Set-Aside"}]
[5000,"Title II, Part A","Recruitment/Retention",{"$f":"TRIM(BdgtXrefTable[[#This Row],[Details Object Code]])&\"|\"&TRIM(BdgtXrefTable[[#This Row],[Details Program]])&\"|\"&TRIM(BdgtXrefTable[[#This Row],[Details Category]])","v":"5000|Title II, Part A|Recruitment/Retention"},"Title II, Part A","Non-Administrative",{"$f":"TRIM(BdgtXrefTable[[#This Row],[Summary Program]])&\"|\"&TRIM(BdgtXrefTable[[#This Row],[Summary Expenditure]])","v":"Title II, Part A|Non-Administrative"},null,5000,"Title II, Part A, Transferability","Technology - PS",{"$f":"TRIM(TrnsfrXrefTable[[#This Row],[Details Object Code]])&\"|\"&TRIM(TrnsfrXrefTable[[#This Row],[Details Program]])&\"|\"&TRIM(TrnsfrXrefTable[[#This Row],[Details Category]])","v":"5000|Title II, Part A, Transferability|Technology - PS"},"Title II, Part A - APE60017","Private School Set-Aside ",{"$f":"TRIM(TrnsfrXrefTable[[#This Row],[Summary Program]])&\"|\"&TRIM(TrnsfrXrefTable[[#This Row],[Summary Expenditure]])","v":"Title II, Part A - APE60017|Private School Set-Aside"}]
[5000,"Title II, Part A","Teacher Quality (assessments)",{"$f":"TRIM(BdgtXrefTable[[#This Row],[Details Object Code]])&\"|\"&TRIM(BdgtXrefTable[[#This Row],[Details Program]])&\"|\"&TRIM(BdgtXrefTable[[#This Row],[Details Category]])","v":"5000|Title II, Part A|Teacher Quality (assessments)"},"Title II, Part A","Non-Administrative",{"$f":"TRIM(BdgtXrefTable[[#This Row],[Summary Program]])&\"|\"&TRIM(BdgtXrefTable[[#This Row],[Summary Expenditure]])","v":"Title II, Part A|Non-Administrative"},null,5000,"Title II, Part A, Transferability","Technology",{"$f":"TRIM(TrnsfrXrefTable[[#This Row],[Details Object Code]])&\"|\"&TRIM(TrnsfrXrefTable[[#This Row],[Details Program]])&\"|\"&TRIM(TrnsfrXrefTable[[#This Row],[Details Category]])","v":"5000|Title II, Part A, Transferability|Technology"},"Title II, Part A - APE60017","Non-Administrative",{"$f":"TRIM(TrnsfrXrefTable[[#This Row],[Summary Program]])&\"|\"&TRIM(TrnsfrXrefTable[[#This Row],[Summary Expenditure]])","v":"Title II, Part A - APE60017|Non-Administrative"}]
[5000,"Title II, Part A","Title IIA Administration",{"$f":"TRIM(BdgtXrefTable[[#This Row],[Details Object Code]])&\"|\"&TRIM(BdgtXrefTable[[#This Row],[Details Program]])&\"|\"&TRIM(BdgtXrefTable[[#This Row],[Details Category]])","v":"5000|Title II, Part A|Title IIA Administration"},"Title II, Part A","Administrative",{"$f":"TRIM(BdgtXrefTable[[#This Row],[Summary Program]])&\"|\"&TRIM(BdgtXrefTable[[#This Row],[Summary Expenditure]])","v":"Title II, Part A|Administrative"},null,5000,"Title II, Part A, Transferability","Technology - Indirect Costs",{"$f":"TRIM(TrnsfrXrefTable[[#This Row],[Details Object Code]])&\"|\"&TRIM(TrnsfrXrefTable[[#This Row],[Details Program]])&\"|\"&TRIM(TrnsfrXrefTable[[#This Row],[Details Category]])","v":"5000|Title II, Part A, Transferability|Technology - Indirect Costs"},"Title II, Part A - APE60017","Indirect Costs",{"$f":"TRIM(TrnsfrXrefTable[[#This Row],[Summary Program]])&\"|\"&TRIM(TrnsfrXrefTable[[#This Row],[Summary Expenditure]])","v":"Title II, Part A - APE60017|Indirect Costs"}]
[6000,"Title II, Part A","Book Study",{"$f":"TRIM(BdgtXrefTable[[#This Row],[Details Object Code]])&\"|\"&TRIM(BdgtXrefTable[[#This Row],[Details Program]])&\"|\"&TRIM(BdgtXrefTable[[#This Row],[Details Category]])","v":"6000|Title II, Part A|Book Study"},"Title II, Part A","Non-Administrative",{"$f":"TRIM(BdgtXrefTable[[#This Row],[Summary Program]])&\"|\"&TRIM(BdgtXrefTable[[#This Row],[Summary Expenditure]])","v":"Title II, Part A|Non-Administrative"},null,5000,"Title II, Part A, Transferability","Title I C Private School",{"$f":"TRIM(TrnsfrXrefTable[[#This Row],[Details Object Code]])&\"|\"&TRIM(TrnsfrXrefTable[[#This Row],[Details Program]])&\"|\"&TRIM(TrnsfrXrefTable[[#This Row],[Details Category]])","v":"5000|Title II, Part A, Transferability|Title I C Private School"},"Title II, Part A - APE60014","Private School Set-Aside ",{"$f":"TRIM(TrnsfrXrefTable[[#This Row],[Summary Program]])&\"|\"&TRIM(TrnsfrXrefTable[[#This Row],[Summary Expenditure]])","v":"Title II, Part A - APE60014|Private School Set-Aside"}]
[6000,"Title II, Part A","Mentoring/Induction",{"$f":"TRIM(BdgtXrefTable[[#This Row],[Details Object Code]])&\"|\"&TRIM(BdgtXrefTable[[#This Row],[Details Program]])&\"|\"&TRIM(BdgtXrefTable[[#This Row],[Details Category]])","v":"6000|Title II, Part A|Mentoring/Induction"},"Title II, Part A","Non-Administrative",{"$f":"TRIM(BdgtXrefTable[[#This Row],[Summary Program]])&\"|\"&TRIM(BdgtXrefTable[[#This Row],[Summary Expenditure]])","v":"Title II, Part A|Non-Administrative"},null,5000,"Title II, Part A, Transferability","Title I Private School",{"$f":"TRIM(TrnsfrXrefTable[[#This Row],[Details Object Code]])&\"|\"&TRIM(TrnsfrXrefTable[[#This Row],[Details Program]])&\"|\"&TRIM(TrnsfrXrefTable[[#This Row],[Details Category]])","v":"5000|Title II, Part A, Transferability|Title I Private School"},"Title II, Part A - APE61481","Private School Set-Aside ",{"$f":"TRIM(TrnsfrXrefTable[[#This Row],[Summary Program]])&\"|\"&TRIM(TrnsfrXrefTable[[#This Row],[Summary Expenditure]])","v":"Title II, Part A - APE61481|Private School Set-Aside"}]
[6000,"Title II, Part A","Other",{"$f":"TRIM(BdgtXrefTable[[#This Row],[Details Object Code]])&\"|\"&TRIM(BdgtXrefTable[[#This Row],[Details Program]])&\"|\"&TRIM(BdgtXrefTable[[#This Row],[Details Category]])","v":"6000|Title II, Part A|Other"},"Title II, Part A","Non-Administrative",{"$f":"TRIM(BdgtXrefTable[[#This Row],[Summary Program]])&\"|\"&TRIM(BdgtXrefTable[[#This Row],[Summary Expenditure]])","v":"Title II, Part A|Non-Administrative"},null,5000,"Title II, Part A, Transferability","Well Rounded Students - PS",{"$f":"TRIM(TrnsfrXrefTable[[#This Row],[Details Object Code]])&\"|\"&TRIM(TrnsfrXrefTable[[#This Row],[Details Program]])&\"|\"&TRIM(TrnsfrXrefTable[[#This Row],[Details Category]])","v":"5000|Title II, Part A, Transferability|Well Rounded Students - PS"},"Title II, Part A - APE60017","Private School Set-Aside ",{"$f":"TRIM(TrnsfrXrefTable[[#This Row],[Summary Program]])&\"|\"&TRIM(TrnsfrXrefTable[[#This Row],[Summary Expenditure]])","v":"Title II, Part A - APE60017|Private School Set-Aside"}]
[6000,"Title II, Part A","Professional Development",{"$f":"TRIM(BdgtXrefTable[[#This Row],[Details Object Code]])&\"|\"&TRIM(BdgtXrefTable[[#This Row],[Details Program]])&\"|\"&TRIM(BdgtXrefTable[[#This Row],[Details Category]])","v":"6000|Title II, Part A|Professional Development"},"Title II, Part A","Non-Administrative",{"$f":"TRIM(BdgtXrefTable[[#This Row],[Summary Program]])&\"|\"&TRIM(BdgtXrefTable[[#This Row],[Summary Expenditure]])","v":"Title II, Part A|Non-Administrative"},null,5000,"Title II, Part A, Transferability","Well Rounded Students",{"$f":"TRIM(TrnsfrXrefTable[[#This Row],[Details Object Code]])&\"|\"&TRIM(TrnsfrXrefTable[[#This Row],[Details Program]])&\"|\"&TRIM(TrnsfrXrefTable[[#This Row],[Details Category]])","v":"5000|Title II, Part A, Transferability|Well Rounded Students"},"Title II, Part A - APE60017","Non-Administrative",{"$f":"TRIM(TrnsfrXrefTable[[#This Row],[Summary Program]])&\"|\"&TRIM(TrnsfrXrefTable[[#This Row],[Summary Expenditure]])","v":"Title II, Part A - APE60017|Non-Administrative"}]
[6000,"Title II, Part A","Recruitment/Retention",{"$f":"TRIM(BdgtXrefTable[[#This Row],[Details Object Code]])&\"|\"&TRIM(BdgtXrefTable[[#This Row],[Details Program]])&\"|\"&TRIM(BdgtXrefTable[[#This Row],[Details Category]])","v":"6000|Title II, Part A|Recruitment/Retention"},"Title II, Part A","Non-Administrative",{"$f":"TRIM(BdgtXrefTable[[#This Row],[Summary Program]])&\"|\"&TRIM(BdgtXrefTable[[#This Row],[Summary Expenditure]])","v":"Title II, Part A|Non-Administrative"},null,5000,"Title II, Part A, Transferability","Well Rounded Students - Indirect Costs",{"$f":"TRIM(TrnsfrXrefTable[[#This Row],[Details Object Code]])&\"|\"&TRIM(TrnsfrXrefTable[[#This Row],[Details Program]])&\"|\"&TRIM(TrnsfrXrefTable[[#This Row],[Details Category]])","v":"5000|Title II, Part A, Transferability|Well Rounded Students - Indirect Costs"},"Title II, Part A - APE60017","Indirect Costs",{"$f":"TRIM(TrnsfrXrefTable[[#This Row],[Summary Program]])&\"|\"&TRIM(TrnsfrXrefTable[[#This Row],[Summary Expenditure]])","v":"Title II, Part A - APE60017|Indirect Costs"}]
[6000,"Title II, Part A","Teacher Quality (assessments)",{"$f":"TRIM(BdgtXrefTable[[#This Row],[Details Object Code]])&\"|\"&TRIM(BdgtXrefTable[[#This Row],[Details Program]])&\"|\"&TRIM(BdgtXrefTable[[#This Row],[Details Category]])","v":"6000|Title II, Part A|Teacher Quality (assessments)"},"Title II, Part A","Non-Administrative",{"$f":"TRIM(BdgtXrefTable[[#This Row],[Summary Program]])&\"|\"&TRIM(BdgtXrefTable[[#This Row],[Summary Expenditure]])","v":"Title II, Part A|Non-Administrative"},null,5000,"Title II, Part A, Transferability","Rural and Low Income",{"$f":"TRIM(TrnsfrXrefTable[[#This Row],[Details Object Code]])&\"|\"&TRIM(TrnsfrXrefTable[[#This Row],[Details Program]])&\"|\"&TRIM(TrnsfrXrefTable[[#This Row],[Details Category]])","v":"5000|Title II, Part A, Transferability|Rural and Low Income"},"Title II, Part A - APE60018","Non Set-Aside",{"$f":"TRIM(TrnsfrXrefTable[[#This Row],[Summary Program]])&\"|\"&TRIM(TrnsfrXrefTable[[#This Row],[Summary Expenditure]])","v":"Title II, Part A - APE60018|Non Set-Aside"}]
[6000,"Title II, Part A","Title IIA Administration",{"$f":"TRIM(BdgtXrefTable[[#This Row],[Details Object Code]])&\"|\"&TRIM(BdgtXrefTable[[#This Row],[Details Program]])&\"|\"&TRIM(BdgtXrefTable[[#This Row],[Details Category]])","v":"6000|Title II, Part A|Title IIA Administration"},"Title II, Part A","Administrative",{"$f":"TRIM(BdgtXrefTable[[#This Row],[Summary Program]])&\"|\"&TRIM(BdgtXrefTable[[#This Row],[Summary Expenditure]])","v":"Title II, Part A|Administrative"},null,6000,"Title II, Part A, Transferability","CSI/TSI",{"$f":"TRIM(TrnsfrXrefTable[[#This Row],[Details Object Code]])&\"|\"&TRIM(TrnsfrXrefTable[[#This Row],[Details Program]])&\"|\"&TRIM(TrnsfrXrefTable[[#This Row],[Details Category]])","v":"6000|Title II, Part A, Transferability|CSI/TSI"},"Title II, Part A - APE61481","Set-Aside",{"$f":"TRIM(TrnsfrXrefTable[[#This Row],[Summary Program]])&\"|\"&TRIM(TrnsfrXrefTable[[#This Row],[Summary Expenditure]])","v":"Title II, Part A - APE61481|Set-Aside"}]
[8000,"Title II, Part A","Professional Development",{"$f":"TRIM(BdgtXrefTable[[#This Row],[Details Object Code]])&\"|\"&TRIM(BdgtXrefTable[[#This Row],[Details Program]])&\"|\"&TRIM(BdgtXrefTable[[#This Row],[Details Category]])","v":"8000|Title II, Part A|Professional Development"},"Title II, Part A","Non-Administrative",{"$f":"TRIM(BdgtXrefTable[[#This Row],[Summary Program]])&\"|\"&TRIM(BdgtXrefTable[[#This Row],[Summary Expenditure]])","v":"Title II, Part A|Non-Administrative"},null,6000,"Title II, Part A, Transferability","Delinquent",{"$f":"TRIM(TrnsfrXrefTable[[#This Row],[Details Object Code]])&\"|\"&TRIM(TrnsfrXrefTable[[#This Row],[Details Program]])&\"|\"&TRIM(TrnsfrXrefTable[[#This Row],[Details Category]])","v":"6000|Title II, Part A, Transferability|Delinquent"},"Title II, Part A - APE60015","Non Set-Aside",{"$f":"TRIM(TrnsfrXrefTable[[#This Row],[Summary Program]])&\"|\"&TRIM(TrnsfrXrefTable[[#This Row],[Summary Expenditure]])","v":"Title II, Part A - APE60015|Non Set-Aside"}]
[1000,"Title II, Part A","Title II Private School",{"$f":"TRIM(BdgtXrefTable[[#This Row],[Details Object Code]])&\"|\"&TRIM(BdgtXrefTable[[#This Row],[Details Program]])&\"|\"&TRIM(BdgtXrefTable[[#This Row],[Details Category]])","v":"1000|Title II, Part A|Title II Private School"},"Title II, Part A","Private School Set-Aside ",{"$f":"TRIM(BdgtXrefTable[[#This Row],[Summary Program]])&\"|\"&TRIM(BdgtXrefTable[[#This Row],[Summary Expenditure]])","v":"Title II, Part A|Private School Set-Aside"},null,6000,"Title II, Part A, Transferability","Division",{"$f":"TRIM(TrnsfrXrefTable[[#This Row],[Details Object Code]])&\"|\"&TRIM(TrnsfrXrefTable[[#This Row],[Details Program]])&\"|\"&TRIM(TrnsfrXrefTable[[#This Row],[Details Category]])","v":"6000|Title II, Part A, Transferability|Division"},"Title II, Part A - APE61481","Set-Aside",{"$f":"TRIM(TrnsfrXrefTable[[#This Row],[Summary Program]])&\"|\"&TRIM(TrnsfrXrefTable[[#This Row],[Summary Expenditure]])","v":"Title II, Part A - APE61481|Set-Aside"}]
[2000,"Title II, Part A","Title II Private School",{"$f":"TRIM(BdgtXrefTable[[#This Row],[Details Object Code]])&\"|\"&TRIM(BdgtXrefTable[[#This Row],[Details Program]])&\"|\"&TRIM(BdgtXrefTable[[#This Row],[Details Category]])","v":"2000|Title II, Part A|Title II Private School"},"Title II, Part A","Private School Set-Aside ",{"$f":"TRIM(BdgtXrefTable[[#This Row],[Summary Program]])&\"|\"&TRIM(BdgtXrefTable[[#This Row],[Summary Expenditure]])","v":"Title II, Part A|Private School Set-Aside"},null,6000,"Title II, Part A, Transferability","Early Childhood",{"$f":"TRIM(TrnsfrXrefTable[[#This Row],[Details Object Code]])&\"|\"&TRIM(TrnsfrXrefTable[[#This Row],[Details Program]])&\"|\"&TRIM(TrnsfrXrefTable[[#This Row],[Details Category]])","v":"6000|Title II, Part A, Transferability|Early Childhood"},"Title II, Part A - APE61481","Set-Aside",{"$f":"TRIM(TrnsfrXrefTable[[#This Row],[Summary Program]])&\"|\"&TRIM(TrnsfrXrefTable[[#This Row],[Summary Expenditure]])","v":"Title II, Part A - APE61481|Set-Aside"}]
[3000,"Title II, Part A","Title II Private School",{"$f":"TRIM(BdgtXrefTable[[#This Row],[Details Object Code]])&\"|\"&TRIM(BdgtXrefTable[[#This Row],[Details Program]])&\"|\"&TRIM(BdgtXrefTable[[#This Row],[Details Category]])","v":"3000|Title II, Part A|Title II Private School"},"Title II, Part A","Private School Set-Aside ",{"$f":"TRIM(BdgtXrefTable[[#This Row],[Summary Program]])&\"|\"&TRIM(BdgtXrefTable[[#This Row],[Summary Expenditure]])","v":"Title II, Part A|Private School Set-Aside"},null,6000,"Title II, Part A, Transferability","EL Administrative",{"$f":"TRIM(TrnsfrXrefTable[[#This Row],[Details Object Code]])&\"|\"&TRIM(TrnsfrXrefTable[[#This Row],[Details Program]])&\"|\"&TRIM(TrnsfrXrefTable[[#This Row],[Details Category]])","v":"6000|Title II, Part A, Transferability|EL Administrative"},"Title II, Part A - APE60016","Administrative",{"$f":"TRIM(TrnsfrXrefTable[[#This Row],[Summary Program]])&\"|\"&TRIM(TrnsfrXrefTable[[#This Row],[Summary Expenditure]])","v":"Title II, Part A - APE60016|Administrative"}]
[5000,"Title II, Part A","Title II Private School",{"$f":"TRIM(BdgtXrefTable[[#This Row],[Details Object Code]])&\"|\"&TRIM(BdgtXrefTable[[#This Row],[Details Program]])&\"|\"&TRIM(BdgtXrefTable[[#This Row],[Details Category]])","v":"5000|Title II, Part A|Title II Private School"},"Title II, Part A","Private School Set-Aside ",{"$f":"TRIM(BdgtXrefTable[[#This Row],[Summary Program]])&\"|\"&TRIM(BdgtXrefTable[[#This Row],[Summary Expenditure]])","v":"Title II, Part A|Private School Set-Aside"},null,6000,"Title II, Part A, Transferability","EL Private School",{"$f":"TRIM(TrnsfrXrefTable[[#This Row],[Details Object Code]])&\"|\"&TRIM(TrnsfrXrefTable[[#This Row],[Details Program]])&\"|\"&TRIM(TrnsfrXrefTable[[#This Row],[Details Category]])","v":"6000|Title II, Part A, Transferability|EL Private School"},"Title II, Part A - APE60016","Private School Set-Aside ",{"$f":"TRIM(TrnsfrXrefTable[[#This Row],[Summary Program]])&\"|\"&TRIM(TrnsfrXrefTable[[#This Row],[Summary Expenditure]])","v":"Title II, Part A - APE60016|Private School Set-Aside"}]
[6000,"Title II, Part A","Title II Private School",{"$f":"TRIM(BdgtXrefTable[[#This Row],[Details Object Code]])&\"|\"&TRIM(BdgtXrefTable[[#This Row],[Details Program]])&\"|\"&TRIM(BdgtXrefTable[[#This Row],[Details Category]])","v":"6000|Title II, Part A|Title II Private School"},"Title II, Part A","Private School Set-Aside ",{"$f":"TRIM(BdgtXrefTable[[#This Row],[Summary Program]])&\"|\"&TRIM(BdgtXrefTable[[#This Row],[Summary Expenditure]])","v":"Title II, Part A|Private School Set-Aside"},null,6000,"Title II, Part A, Transferability","EL Subgrant",{"$f":"TRIM(TrnsfrXrefTable[[#This Row],[Details Object Code]])&\"|\"&TRIM(TrnsfrXrefTable[[#This Row],[Details Program]])&\"|\"&TRIM(TrnsfrXrefTable[[#This Row],[Details Category]])","v":"6000|Title II, Part A, Transferability|EL Subgrant"},"Title II, Part A - APE60016","Materials",{"$f":"TRIM(TrnsfrXrefTable[[#This Row],[Summary Program]])&\"|\"&TRIM(TrnsfrXrefTable[[#This Row],[Summary Expenditure]])","v":"Title II, Part A - APE60016|Materials"}]
[8000,"Title II, Part A","Title II Private School",{"$f":"TRIM(BdgtXrefTable[[#This Row],[Details Object Code]])&\"|\"&TRIM(BdgtXrefTable[[#This Row],[Details Program]])&\"|\"&TRIM(BdgtXrefTable[[#This Row],[Details Category]])","v":"8000|Title II, Part A|Title II Private School"},"Title II, Part A","Private School Set-Aside ",{"$f":"TRIM(BdgtXrefTable[[#This Row],[Summary Program]])&\"|\"&TRIM(BdgtXrefTable[[#This Row],[Summary Expenditure]])","v":"Title II, Part A|Private School Set-Aside"},null,6000,"Title II, Part A, Transferability","Foster Care",{"$f":"TRIM(TrnsfrXrefTable[[#This Row],[Details Object Code]])&\"|\"&TRIM(TrnsfrXrefTable[[#This Row],[Details Program]])&\"|\"&TRIM(TrnsfrXrefTable[[#This Row],[Details Category]])","v":"6000|Title II, Part A, Transferability|Foster Care"},"Title II, Part A - APE61481","Set-Aside",{"$f":"TRIM(TrnsfrXrefTable[[#This Row],[Summary Program]])&\"|\"&TRIM(TrnsfrXrefTable[[#This Row],[Summary Expenditure]])","v":"Title II, Part A - APE61481|Set-Aside"}]
[1000,"Title III, Part A","EL Administrative",{"$f":"TRIM(BdgtXrefTable[[#This Row],[Details Object Code]])&\"|\"&TRIM(BdgtXrefTable[[#This Row],[Details Program]])&\"|\"&TRIM(BdgtXrefTable[[#This Row],[Details Category]])","v":"1000|Title III, Part A|EL Administrative"},"Title III, Part A - EL","Administrative",{"$f":"TRIM(BdgtXrefTable[[#This Row],[Summary Program]])&\"|\"&TRIM(BdgtXrefTable[[#This Row],[Summary Expenditure]])","v":"Title III, Part A - EL|Administrative"},null,6000,"Title II, Part A, Transferability","Homeless",{"$f":"TRIM(TrnsfrXrefTable[[#This Row],[Details Object Code]])&\"|\"&TRIM(TrnsfrXrefTable[[#This Row],[Details Program]])&\"|\"&TRIM(TrnsfrXrefTable[[#This Row],[Details Category]])","v":"6000|Title II, Part A, Transferability|Homeless"},"Title II, Part A - APE61481","Set-Aside",{"$f":"TRIM(TrnsfrXrefTable[[#This Row],[Summary Program]])&\"|\"&TRIM(TrnsfrXrefTable[[#This Row],[Summary Expenditure]])","v":"Title II, Part A - APE61481|Set-Aside"}]
[1000,"Title III, Part A","EL Private School",{"$f":"TRIM(BdgtXrefTable[[#This Row],[Details Object Code]])&\"|\"&TRIM(BdgtXrefTable[[#This Row],[Details Program]])&\"|\"&TRIM(BdgtXrefTable[[#This Row],[Details Category]])","v":"1000|Title III, Part A|EL Private School"},"Title III, Part A - EL","Private School Set-Aside ",{"$f":"TRIM(BdgtXrefTable[[#This Row],[Summary Program]])&\"|\"&TRIM(BdgtXrefTable[[#This Row],[Summary Expenditure]])","v":"Title III, Part A - EL|Private School Set-Aside"},null,6000,"Title II, Part A, Transferability","IY Subgrant",{"$f":"TRIM(TrnsfrXrefTable[[#This Row],[Details Object Code]])&\"|\"&TRIM(TrnsfrXrefTable[[#This Row],[Details Program]])&\"|\"&TRIM(TrnsfrXrefTable[[#This Row],[Details Category]])","v":"6000|Title II, Part A, Transferability|IY Subgrant"},"Title II, Part A - APE60016","Materials",{"$f":"TRIM(TrnsfrXrefTable[[#This Row],[Summary Program]])&\"|\"&TRIM(TrnsfrXrefTable[[#This Row],[Summary Expenditure]])","v":"Title II, Part A - APE60016|Materials"}]
[1000,"Title III, Part A","EL Subgrant",{"$f":"TRIM(BdgtXrefTable[[#This Row],[Details Object Code]])&\"|\"&TRIM(BdgtXrefTable[[#This Row],[Details Program]])&\"|\"&TRIM(BdgtXrefTable[[#This Row],[Details Category]])","v":"1000|Title III, Part A|EL Subgrant"},"Title III, Part A - EL","Non-Administrative",{"$f":"TRIM(BdgtXrefTable[[#This Row],[Summary Program]])&\"|\"&TRIM(BdgtXrefTable[[#This Row],[Summary Expenditure]])","v":"Title III, Part A - EL|Non-Administrative"},null,6000,"Title II, Part A, Transferability","Migrant",{"$f":"TRIM(TrnsfrXrefTable[[#This Row],[Details Object Code]])&\"|\"&TRIM(TrnsfrXrefTable[[#This Row],[Details Program]])&\"|\"&TRIM(TrnsfrXrefTable[[#This Row],[Details Category]])","v":"6000|Title II, Part A, Transferability|Migrant"},"Title II, Part A - APE60014","Non Set-Aside",{"$f":"TRIM(TrnsfrXrefTable[[#This Row],[Summary Program]])&\"|\"&TRIM(TrnsfrXrefTable[[#This Row],[Summary Expenditure]])","v":"Title II, Part A - APE60014|Non Set-Aside"}]
[1000,"Title III, Part A","IY Subgrant",{"$f":"TRIM(BdgtXrefTable[[#This Row],[Details Object Code]])&\"|\"&TRIM(BdgtXrefTable[[#This Row],[Details Program]])&\"|\"&TRIM(BdgtXrefTable[[#This Row],[Details Category]])","v":"1000|Title III, Part A|IY Subgrant"},"Title III, Part A - IY","Non-Administrative",{"$f":"TRIM(BdgtXrefTable[[#This Row],[Summary Program]])&\"|\"&TRIM(BdgtXrefTable[[#This Row],[Summary Expenditure]])","v":"Title III, Part A - IY|Non-Administrative"},null,6000,"Title II, Part A, Transferability","Neglected",{"$f":"TRIM(TrnsfrXrefTable[[#This Row],[Details Object Code]])&\"|\"&TRIM(TrnsfrXrefTable[[#This Row],[Details Program]])&\"|\"&TRIM(TrnsfrXrefTable[[#This Row],[Details Category]])","v":"6000|Title II, Part A, Transferability|Neglected"},"Title II, Part A - APE61481","Set-Aside",{"$f":"TRIM(TrnsfrXrefTable[[#This Row],[Summary Program]])&\"|\"&TRIM(TrnsfrXrefTable[[#This Row],[Summary Expenditure]])","v":"Title II, Part A - APE61481|Set-Aside"}]
[2000,"Title III, Part A","EL Administrative",{"$f":"TRIM(BdgtXrefTable[[#This Row],[Details Object Code]])&\"|\"&TRIM(BdgtXrefTable[[#This Row],[Details Program]])&\"|\"&TRIM(BdgtXrefTable[[#This Row],[Details Category]])","v":"2000|Title III, Part A|EL Administrative"},"Title III, Part A - EL","Administrative",{"$f":"TRIM(BdgtXrefTable[[#This Row],[Summary Program]])&\"|\"&TRIM(BdgtXrefTable[[#This Row],[Summary Expenditure]])","v":"Title III, Part A - EL|Administrative"},null,6000,"Title II, Part A, Transferability","PFE (Division)",{"$f":"TRIM(TrnsfrXrefTable[[#This Row],[Details Object Code]])&\"|\"&TRIM(TrnsfrXrefTable[[#This Row],[Details Program]])&\"|\"&TRIM(TrnsfrXrefTable[[#This Row],[Details Category]])","v":"6000|Title II, Part A, Transferability|PFE (Division)"},"Title II, Part A - APE61481","Parent and Family Engagement Set-Aside",{"$f":"TRIM(TrnsfrXrefTable[[#This Row],[Summary Program]])&\"|\"&TRIM(TrnsfrXrefTable[[#This Row],[Summary Expenditure]])","v":"Title II, Part A - APE61481|Parent and Family Engagement Set-Aside"}]
[2000,"Title III, Part A","EL Private School",{"$f":"TRIM(BdgtXrefTable[[#This Row],[Details Object Code]])&\"|\"&TRIM(BdgtXrefTable[[#This Row],[Details Program]])&\"|\"&TRIM(BdgtXrefTable[[#This Row],[Details Category]])","v":"2000|Title III, Part A|EL Private School"},"Title III, Part A - EL","Private School Set-Aside ",{"$f":"TRIM(BdgtXrefTable[[#This Row],[Summary Program]])&\"|\"&TRIM(BdgtXrefTable[[#This Row],[Summary Expenditure]])","v":"Title III, Part A - EL|Private School Set-Aside"},null,6000,"Title II, Part A, Transferability","PFE (School Level)",{"$f":"TRIM(TrnsfrXrefTable[[#This Row],[Details Object Code]])&\"|\"&TRIM(TrnsfrXrefTable[[#This Row],[Details Program]])&\"|\"&TRIM(TrnsfrXrefTable[[#This Row],[Details Category]])","v":"6000|Title II, Part A, Transferability|PFE (School Level)"},"Title II, Part A - APE61481","Parent and Family Engagement Set-Aside",{"$f":"TRIM(TrnsfrXrefTable[[#This Row],[Summary Program]])&\"|\"&TRIM(TrnsfrXrefTable[[#This Row],[Summary Expenditure]])","v":"Title II, Part A - APE61481|Parent and Family Engagement Set-Aside"}]
[2000,"Title III, Part A","EL Subgrant",{"$f":"TRIM(BdgtXrefTable[[#This Row],[Details Object Code]])&\"|\"&TRIM(BdgtXrefTable[[#This Row],[Details Program]])&\"|\"&TRIM(BdgtXrefTable[[#This Row],[Details Category]])","v":"2000|Title III, Part A|EL Subgrant"},"Title III, Part A - EL","Non-Administrative",{"$f":"TRIM(BdgtXrefTable[[#This Row],[Summary Program]])&\"|\"&TRIM(BdgtXrefTable[[#This Row],[Summary Expenditure]])","v":"Title III, Part A - EL|Non-Administrative"},null,6000,"Title II, Part A, Transferability","Safe & Healthy Students - PS",{"$f":"TRIM(TrnsfrXrefTable[[#This Row],[Details Object Code]])&\"|\"&TRIM(TrnsfrXrefTable[[#This Row],[Details Program]])&\"|\"&TRIM(TrnsfrXrefTable[[#This Row],[Details Category]])","v":"6000|Title II, Part A, Transferability|Safe & Healthy Students - PS"},"Title II, Part A - APE60017","Private School Set-Aside ",{"$f":"TRIM(TrnsfrXrefTable[[#This Row],[Summary Program]])&\"|\"&TRIM(TrnsfrXrefTable[[#This Row],[Summary Expenditure]])","v":"Title II, Part A - APE60017|Private School Set-Aside"}]
[2000,"Title III, Part A","IY Subgrant",{"$f":"TRIM(BdgtXrefTable[[#This Row],[Details Object Code]])&\"|\"&TRIM(BdgtXrefTable[[#This Row],[Details Program]])&\"|\"&TRIM(BdgtXrefTable[[#This Row],[Details Category]])","v":"2000|Title III, Part A|IY Subgrant"},"Title III, Part A - IY","Non-Administrative",{"$f":"TRIM(BdgtXrefTable[[#This Row],[Summary Program]])&\"|\"&TRIM(BdgtXrefTable[[#This Row],[Summary Expenditure]])","v":"Title III, Part A - IY|Non-Administrative"},null,6000,"Title II, Part A, Transferability","Safe & Healthy Students - Admin",{"$f":"TRIM(TrnsfrXrefTable[[#This Row],[Details Object Code]])&\"|\"&TRIM(TrnsfrXrefTable[[#This Row],[Details Program]])&\"|\"&TRIM(TrnsfrXrefTable[[#This Row],[Details Category]])","v":"6000|Title II, Part A, Transferability|Safe & Healthy Students - Admin"},"Title II, Part A - APE60017","Administrative",{"$f":"TRIM(TrnsfrXrefTable[[#This Row],[Summary Program]])&\"|\"&TRIM(TrnsfrXrefTable[[#This Row],[Summary Expenditure]])","v":"Title II, Part A - APE60017|Administrative"}]
[3000,"Title III, Part A","EL Administrative",{"$f":"TRIM(BdgtXrefTable[[#This Row],[Details Object Code]])&\"|\"&TRIM(BdgtXrefTable[[#This Row],[Details Program]])&\"|\"&TRIM(BdgtXrefTable[[#This Row],[Details Category]])","v":"3000|Title III, Part A|EL Administrative"},"Title III, Part A - EL","Administrative",{"$f":"TRIM(BdgtXrefTable[[#This Row],[Summary Program]])&\"|\"&TRIM(BdgtXrefTable[[#This Row],[Summary Expenditure]])","v":"Title III, Part A - EL|Administrative"},null,6000,"Title II, Part A, Transferability","Safe & Healthy Students",{"$f":"TRIM(TrnsfrXrefTable[[#This Row],[Details Object Code]])&\"|\"&TRIM(TrnsfrXrefTable[[#This Row],[Details Program]])&\"|\"&TRIM(TrnsfrXrefTable[[#This Row],[Details Category]])","v":"6000|Title II, Part A, Transferability|Safe & Healthy Students"},"Title II, Part A - APE60017","Non-Administrative",{"$f":"TRIM(TrnsfrXrefTable[[#This Row],[Summary Program]])&\"|\"&TRIM(TrnsfrXrefTable[[#This Row],[Summary Expenditure]])","v":"Title II, Part A - APE60017|Non-Administrative"}]
[3000,"Title III, Part A","EL Private School",{"$f":"TRIM(BdgtXrefTable[[#This Row],[Details Object Code]])&\"|\"&TRIM(BdgtXrefTable[[#This Row],[Details Program]])&\"|\"&TRIM(BdgtXrefTable[[#This Row],[Details Category]])","v":"3000|Title III, Part A|EL Private School"},"Title III, Part A - EL","Private School Set-Aside ",{"$f":"TRIM(BdgtXrefTable[[#This Row],[Summary Program]])&\"|\"&TRIM(BdgtXrefTable[[#This Row],[Summary Expenditure]])","v":"Title III, Part A - EL|Private School Set-Aside"},null,6000,"Title II, Part A, Transferability","Salary Differential",{"$f":"TRIM(TrnsfrXrefTable[[#This Row],[Details Object Code]])&\"|\"&TRIM(TrnsfrXrefTable[[#This Row],[Details Program]])&\"|\"&TRIM(TrnsfrXrefTable[[#This Row],[Details Category]])","v":"6000|Title II, Part A, Transferability|Salary Differential"},"Title II, Part A - APE61481","Set-Aside",{"$f":"TRIM(TrnsfrXrefTable[[#This Row],[Summary Program]])&\"|\"&TRIM(TrnsfrXrefTable[[#This Row],[Summary Expenditure]])","v":"Title II, Part A - APE61481|Set-Aside"}]
[3000,"Title III, Part A","EL Subgrant",{"$f":"TRIM(BdgtXrefTable[[#This Row],[Details Object Code]])&\"|\"&TRIM(BdgtXrefTable[[#This Row],[Details Program]])&\"|\"&TRIM(BdgtXrefTable[[#This Row],[Details Category]])","v":"3000|Title III, Part A|EL Subgrant"},"Title III, Part A - EL","Contracted Services",{"$f":"TRIM(BdgtXrefTable[[#This Row],[Summary Program]])&\"|\"&TRIM(BdgtXrefTable[[#This Row],[Summary Expenditure]])","v":"Title III, Part A - EL|Contracted Services"},null,6000,"Title II, Part A, Transferability","Title I C Private School",{"$f":"TRIM(TrnsfrXrefTable[[#This Row],[Details Object Code]])&\"|\"&TRIM(TrnsfrXrefTable[[#This Row],[Details Program]])&\"|\"&TRIM(TrnsfrXrefTable[[#This Row],[Details Category]])","v":"6000|Title II, Part A, Transferability|Title I C Private School"},"Title II, Part A - APE60014","Private School Set-Aside ",{"$f":"TRIM(TrnsfrXrefTable[[#This Row],[Summary Program]])&\"|\"&TRIM(TrnsfrXrefTable[[#This Row],[Summary Expenditure]])","v":"Title II, Part A - APE60014|Private School Set-Aside"}]
[3000,"Title III, Part A","IY Subgrant",{"$f":"TRIM(BdgtXrefTable[[#This Row],[Details Object Code]])&\"|\"&TRIM(BdgtXrefTable[[#This Row],[Details Program]])&\"|\"&TRIM(BdgtXrefTable[[#This Row],[Details Category]])","v":"3000|Title III, Part A|IY Subgrant"},"Title III, Part A - IY","Contracted Services",{"$f":"TRIM(BdgtXrefTable[[#This Row],[Summary Program]])&\"|\"&TRIM(BdgtXrefTable[[#This Row],[Summary Expenditure]])","v":"Title III, Part A - IY|Contracted Services"},null,6000,"Title II, Part A, Transferability","Title I Private School",{"$f":"TRIM(TrnsfrXrefTable[[#This Row],[Details Object Code]])&\"|\"&TRIM(TrnsfrXrefTable[[#This Row],[Details Program]])&\"|\"&TRIM(TrnsfrXrefTable[[#This Row],[Details Category]])","v":"6000|Title II, Part A, Transferability|Title I Private School"},"Title II, Part A - APE61481","Private School Set-Aside ",{"$f":"TRIM(TrnsfrXrefTable[[#This Row],[Summary Program]])&\"|\"&TRIM(TrnsfrXrefTable[[#This Row],[Summary Expenditure]])","v":"Title II, Part A - APE61481|Private School Set-Aside"}]
[null,null,null,{"$f":"TRIM(BdgtXrefTable[[#This Row],[Details Object Code]])&\"|\"&TRIM(BdgtXrefTable[[#This Row],[Details Program]])&\"|\"&TRIM(BdgtXrefTable[[#This Row],[Details Category]])","v":"||"},null,null,{"$f":"TRIM(BdgtXrefTable[[#This Row],[Summary Program]])&\"|\"&TRIM(BdgtXrefTable[[#This Row],[Summary Expenditure]])","v":"|"},null,8000,"Title II, Part A, Transferability","CSI/TSI",{"$f":"TRIM(TrnsfrXrefTable[[#This Row],[Details Object Code]])&\"|\"&TRIM(TrnsfrXrefTable[[#This Row],[Details Program]])&\"|\"&TRIM(TrnsfrXrefTable[[#This Row],[Details Category]])","v":"8000|Title II, Part A, Transferability|CSI/TSI"},"Title II, Part A - APE61481","Set-Aside",{"$f":"TRIM(TrnsfrXrefTable[[#This Row],[Summary Program]])&\"|\"&TRIM(TrnsfrXrefTable[[#This Row],[Summary Expenditure]])","v":"Title II, Part A - APE61481|Set-Aside"}]
[4000,"Title III, Part A","EL Subgrant",{"$f":"TRIM(BdgtXrefTable[[#This Row],[Details Object Code]])&\"|\"&TRIM(BdgtXrefTable[[#This Row],[Details Program]])&\"|\"&TRIM(BdgtXrefTable[[#This Row],[Details Category]])","v":"4000|Title III, Part A|EL Subgrant"},"Title III, Part A - EL","Internal Services",{"$f":"TRIM(BdgtXrefTable[[#This Row],[Summary Program]])&\"|\"&TRIM(BdgtXrefTable[[#This Row],[Summary Expenditure]])","v":"Title III, Part A - EL|Internal Services"},null,8000,"Title II, Part A, Transferability","Delinquent",{"$f":"TRIM(TrnsfrXrefTable[[#This Row],[Details Object Code]])&\"|\"&TRIM(TrnsfrXrefTable[[#This Row],[Details Program]])&\"|\"&TRIM(TrnsfrXrefTable[[#This Row],[Details Category]])","v":"8000|Title II, Part A, Transferability|Delinquent"},"Title II, Part A - APE60015","Non Set-Aside",{"$f":"TRIM(TrnsfrXrefTable[[#This Row],[Summary Program]])&\"|\"&TRIM(TrnsfrXrefTable[[#This Row],[Summary Expenditure]])","v":"Title II, Part A - APE60015|Non Set-Aside"}]
[4000,"Title III, Part A","IY Subgrant",{"$f":"TRIM(BdgtXrefTable[[#This Row],[Details Object Code]])&\"|\"&TRIM(BdgtXrefTable[[#This Row],[Details Program]])&\"|\"&TRIM(BdgtXrefTable[[#This Row],[Details Category]])","v":"4000|Title III, Part A|IY Subgrant"},"Title III, Part A - IY","Internal Services",{"$f":"TRIM(BdgtXrefTable[[#This Row],[Summary Program]])&\"|\"&TRIM(BdgtXrefTable[[#This Row],[Summary Expenditure]])","v":"Title III, Part A - IY|Internal Services"},null,8000,"Title II, Part A, Transferability","Division",{"$f":"TRIM(TrnsfrXrefTable[[#This Row],[Details Object Code]])&\"|\"&TRIM(TrnsfrXrefTable[[#This Row],[Details Program]])&\"|\"&TRIM(TrnsfrXrefTable[[#This Row],[Details Category]])","v":"8000|Title II, Part A, Transferability|Division"},"Title II, Part A - APE61481","Set-Aside",{"$f":"TRIM(TrnsfrXrefTable[[#This Row],[Summary Program]])&\"|\"&TRIM(TrnsfrXrefTable[[#This Row],[Summary Expenditure]])","v":"Title II, Part A - APE61481|Set-Aside"}]
[5000,"Title III, Part A","EL Indirect Costs",{"$f":"TRIM(BdgtXrefTable[[#This Row],[Details Object Code]])&\"|\"&TRIM(BdgtXrefTable[[#This Row],[Details Program]])&\"|\"&TRIM(BdgtXrefTable[[#This Row],[Details Category]])","v":"5000|Title III, Part A|EL Indirect Costs"},"Title III, Part A - EL","Indirect Costs",{"$f":"TRIM(BdgtXrefTable[[#This Row],[Summary Program]])&\"|\"&TRIM(BdgtXrefTable[[#This Row],[Summary Expenditure]])","v":"Title III, Part A - EL|Indirect Costs"},null,8000,"Title II, Part A, Transferability","Early Childhood",{"$f":"TRIM(TrnsfrXrefTable[[#This Row],[Details Object Code]])&\"|\"&TRIM(TrnsfrXrefTable[[#This Row],[Details Program]])&\"|\"&TRIM(TrnsfrXrefTable[[#This Row],[Details Category]])","v":"8000|Title II, Part A, Transferability|Early Childhood"},"Title II, Part A - APE61481","Set-Aside",{"$f":"TRIM(TrnsfrXrefTable[[#This Row],[Summary Program]])&\"|\"&TRIM(TrnsfrXrefTable[[#This Row],[Summary Expenditure]])","v":"Title II, Part A - APE61481|Set-Aside"}]
[5000,"Title III, Part A","EL Private School",{"$f":"TRIM(BdgtXrefTable[[#This Row],[Details Object Code]])&\"|\"&TRIM(BdgtXrefTable[[#This Row],[Details Program]])&\"|\"&TRIM(BdgtXrefTable[[#This Row],[Details Category]])","v":"5000|Title III, Part A|EL Private School"},"Title III, Part A - EL","Private School Set-Aside ",{"$f":"TRIM(BdgtXrefTable[[#This Row],[Summary Program]])&\"|\"&TRIM(BdgtXrefTable[[#This Row],[Summary Expenditure]])","v":"Title III, Part A - EL|Private School Set-Aside"},null,8000,"Title II, Part A, Transferability","EL Subgrant",{"$f":"TRIM(TrnsfrXrefTable[[#This Row],[Details Object Code]])&\"|\"&TRIM(TrnsfrXrefTable[[#This Row],[Details Program]])&\"|\"&TRIM(TrnsfrXrefTable[[#This Row],[Details Category]])","v":"8000|Title II, Part A, Transferability|EL Subgrant"},"Title II, Part A - APE60016","Non-Administrative",{"$f":"TRIM(TrnsfrXrefTable[[#This Row],[Summary Program]])&\"|\"&TRIM(TrnsfrXrefTable[[#This Row],[Summary Expenditure]])","v":"Title II, Part A - APE60016|Non-Administrative"}]
[5000,"Title III, Part A","EL Subgrant",{"$f":"TRIM(BdgtXrefTable[[#This Row],[Details Object Code]])&\"|\"&TRIM(BdgtXrefTable[[#This Row],[Details Program]])&\"|\"&TRIM(BdgtXrefTable[[#This Row],[Details Category]])","v":"5000|Title III, Part A|EL Subgrant"},"Title III, Part A - EL","Non-Administrative",{"$f":"TRIM(BdgtXrefTable[[#This Row],[Summary Program]])&\"|\"&TRIM(BdgtXrefTable[[#This Row],[Summary Expenditure]])","v":"Title III, Part A - EL|Non-Administrative"},null,8000,"Title II, Part A, Transferability","Foster Care",{"$f":"TRIM(TrnsfrXrefTable[[#This Row],[Details Object Code]])&\"|\"&TRIM(TrnsfrXrefTable[[#This Row],[Details Program]])&\"|\"&TRIM(TrnsfrXrefTable[[#This Row],[Details Category]])","v":"8000|Title II, Part A, Transferability|Foster Care"},"Title II, Part A - APE61481","Set-Aside",{"$f":"TRIM(TrnsfrXrefTable[[#This Row],[Summary Program]])&\"|\"&TRIM(TrnsfrXrefTable[[#This Row],[Summary Expenditure]])","v":"Title II, Part A - APE61481|Set-Aside"}]
[5000,"Title III, Part A","IY Subgrant",{"$f":"TRIM(BdgtXrefTable[[#This Row],[Details Object Code]])&\"|\"&TRIM(BdgtXrefTable[[#This Row],[Details Program]])&\"|\"&TRIM(BdgtXrefTable[[#This Row],[Details Category]])","v":"5000|Title III, Part A|IY Subgrant"},"Title III, Part A - IY","Non-Administrative",{"$f":"TRIM(BdgtXrefTable[[#This Row],[Summary Program]])&\"|\"&TRIM(BdgtXrefTable[[#This Row],[Summary Expenditure]])","v":"Title III, Part A - IY|Non-Administrative"},null,8000,"Title II, Part A, Transferability","Homeless",{"$f":"TRIM(TrnsfrXrefTable[[#This Row],[Details Object Code]])&\"|\"&TRIM(TrnsfrXrefTable[[#This Row],[Details Program]])&\"|\"&TRIM(TrnsfrXrefTable[[#This Row],[Details Category]])","v":"8000|Title II, Part A, Transferability|Homeless"},"Title II, Part A - APE61481","Set-Aside",{"$f":"TRIM(TrnsfrXrefTable[[#This Row],[Summary Program]])&\"|\"&TRIM(TrnsfrXrefTable[[#This Row],[Summary Expenditure]])","v":"Title II, Part A - APE61481|Set-Aside"}]
[5000,"Title III, Part A","IY Subgrant Indirect Cost",{"$f":"TRIM(BdgtXrefTable[[#This Row],[Details Object Code]])&\"|\"&TRIM(BdgtXrefTable[[#This Row],[Details Program]])&\"|\"&TRIM(BdgtXrefTable[[#This Row],[Details Category]])","v":"5000|Title III, Part A|IY Subgrant Indirect Cost"},"Title III, Part A - IY","Indirect Costs",{"$f":"TRIM(BdgtXrefTable[[#This Row],[Summary Program]])&\"|\"&TRIM(BdgtXrefTable[[#This Row],[Summary Expenditure]])","v":"Title III, Part A - IY|Indirect Costs"},null,8000,"Title II, Part A, Transferability","IY Subgrant",{"$f":"TRIM(TrnsfrXrefTable[[#This Row],[Details Object Code]])&\"|\"&TRIM(TrnsfrXrefTable[[#This Row],[Details Program]])&\"|\"&TRIM(TrnsfrXrefTable[[#This Row],[Details Category]])","v":"8000|Title II, Part A, Transferability|IY Subgrant"},"Title II, Part A - APE60016","Non-Administrative",{"$f":"TRIM(TrnsfrXrefTable[[#This Row],[Summary Program]])&\"|\"&TRIM(TrnsfrXrefTable[[#This Row],[Summary Expenditure]])","v":"Title II, Part A - APE60016|Non-Administrative"}]
[6000,"Title III, Part A","EL Private School",{"$f":"TRIM(BdgtXrefTable[[#This Row],[Details Object Code]])&\"|\"&TRIM(BdgtXrefTable[[#This Row],[Details Program]])&\"|\"&TRIM(BdgtXrefTable[[#This Row],[Details Category]])","v":"6000|Title III, Part A|EL Private School"},"Title III, Part A - EL","Private School Set-Aside ",{"$f":"TRIM(BdgtXrefTable[[#This Row],[Summary Program]])&\"|\"&TRIM(BdgtXrefTable[[#This Row],[Summary Expenditure]])","v":"Title III, Part A - EL|Private School Set-Aside"},null,8000,"Title II, Part A, Transferability","Migrant",{"$f":"TRIM(TrnsfrXrefTable[[#This Row],[Details Object Code]])&\"|\"&TRIM(TrnsfrXrefTable[[#This Row],[Details Program]])&\"|\"&TRIM(TrnsfrXrefTable[[#This Row],[Details Category]])","v":"8000|Title II, Part A, Transferability|Migrant"},"Title II, Part A - APE60014","Non Set-Aside",{"$f":"TRIM(TrnsfrXrefTable[[#This Row],[Summary Program]])&\"|\"&TRIM(TrnsfrXrefTable[[#This Row],[Summary Expenditure]])","v":"Title II, Part A - APE60014|Non Set-Aside"}]
[6000,"Title III, Part A","EL Administrative",{"$f":"TRIM(BdgtXrefTable[[#This Row],[Details Object Code]])&\"|\"&TRIM(BdgtXrefTable[[#This Row],[Details Program]])&\"|\"&TRIM(BdgtXrefTable[[#This Row],[Details Category]])","v":"6000|Title III, Part A|EL Administrative"},"Title III, Part A - EL","Administrative",{"$f":"TRIM(BdgtXrefTable[[#This Row],[Summary Program]])&\"|\"&TRIM(BdgtXrefTable[[#This Row],[Summary Expenditure]])","v":"Title III, Part A - EL|Administrative"},null,8000,"Title II, Part A, Transferability","Neglected",{"$f":"TRIM(TrnsfrXrefTable[[#This Row],[Details Object Code]])&\"|\"&TRIM(TrnsfrXrefTable[[#This Row],[Details Program]])&\"|\"&TRIM(TrnsfrXrefTable[[#This Row],[Details Category]])","v":"8000|Title II, Part A, Transferability|Neglected"},"Title II, Part A - APE61481","Set-Aside",{"$f":"TRIM(TrnsfrXrefTable[[#This Row],[Summary Program]])&\"|\"&TRIM(TrnsfrXrefTable[[#This Row],[Summary Expenditure]])","v":"Title II, Part A - APE61481|Set-Aside"}]
[6000,"Title III, Part A","EL Subgrant",{"$f":"TRIM(BdgtXrefTable[[#This Row],[Details Object Code]])&\"|\"&TRIM(BdgtXrefTable[[#This Row],[Details Program]])&\"|\"&TRIM(BdgtXrefTable[[#This Row],[Details Category]])","v":"6000|Title III, Part A|EL Subgrant"},"Title III, Part A - EL","Materials",{"$f":"TRIM(BdgtXrefTable[[#This Row],[Summary Program]])&\"|\"&TRIM(BdgtXrefTable[[#This Row],[Summary Expenditure]])","v":"Title III, Part A - EL|Materials"},null,8000,"Title II, Part A, Transferability","PFE (Division)",{"$f":"TRIM(TrnsfrXrefTable[[#This Row],[Details Object Code]])&\"|\"&TRIM(TrnsfrXrefTable[[#This Row],[Details Program]])&\"|\"&TRIM(TrnsfrXrefTable[[#This Row],[Details Category]])","v":"8000|Title II, Part A, Transferability|PFE (Division)"},"Title II, Part A - APE61481","Parent and Family Engagement Set-Aside",{"$f":"TRIM(TrnsfrXrefTable[[#This Row],[Summary Program]])&\"|\"&TRIM(TrnsfrXrefTable[[#This Row],[Summary Expenditure]])","v":"Title II, Part A - APE61481|Parent and Family Engagement Set-Aside"}]
[6000,"Title III, Part A","IY Subgrant",{"$f":"TRIM(BdgtXrefTable[[#This Row],[Details Object Code]])&\"|\"&TRIM(BdgtXrefTable[[#This Row],[Details Program]])&\"|\"&TRIM(BdgtXrefTable[[#This Row],[Details Category]])","v":"6000|Title III, Part A|IY Subgrant"},"Title III, Part A - IY","Materials",{"$f":"TRIM(BdgtXrefTable[[#This Row],[Summary Program]])&\"|\"&TRIM(BdgtXrefTable[[#This Row],[Summary Expenditure]])","v":"Title III, Part A - IY|Materials"},null,8000,"Title II, Part A, Transferability","PFE (School Level)",{"$f":"TRIM(TrnsfrXrefTable[[#This Row],[Details Object Code]])&\"|\"&TRIM(TrnsfrXrefTable[[#This Row],[Details Program]])&\"|\"&TRIM(TrnsfrXrefTable[[#This Row],[Details Category]])","v":"8000|Title II, Part A, Transferability|PFE (School Level)"},"Title II, Part A - APE61481","Parent and Family Engagement Set-Aside",{"$f":"TRIM(TrnsfrXrefTable[[#This Row],[Summary Program]])&\"|\"&TRIM(TrnsfrXrefTable[[#This Row],[Summary Expenditure]])","v":"Title II, Part A - APE61481|Parent and Family Engagement Set-Aside"}]
[8000,"Title III, Part A","EL Subgrant",{"$f":"TRIM(BdgtXrefTable[[#This Row],[Details Object Code]])&\"|\"&TRIM(BdgtXrefTable[[#This Row],[Details Program]])&\"|\"&TRIM(BdgtXrefTable[[#This Row],[Details Category]])","v":"8000|Title III, Part A|EL Subgrant"},"Title III, Part A - EL","Non-Administrative",{"$f":"TRIM(BdgtXrefTable[[#This Row],[Summary Program]])&\"|\"&TRIM(BdgtXrefTable[[#This Row],[Summary Expenditure]])","v":"Title III, Part A - EL|Non-Administrative"},null,8000,"Title II, Part A, Transferability","Salary Differential",{"$f":"TRIM(TrnsfrXrefTable[[#This Row],[Details Object Code]])&\"|\"&TRIM(TrnsfrXrefTable[[#This Row],[Details Program]])&\"|\"&TRIM(TrnsfrXrefTable[[#This Row],[Details Category]])","v":"8000|Title II, Part A, Transferability|Salary Differential"},"Title II, Part A - APE61481","Set-Aside",{"$f":"TRIM(TrnsfrXrefTable[[#This Row],[Summary Program]])&\"|\"&TRIM(TrnsfrXrefTable[[#This Row],[Summary Expenditure]])","v":"Title II, Part A - APE61481|Set-Aside"}]
[8000,"Title III, Part A","IY Subgrant",{"$f":"TRIM(BdgtXrefTable[[#This Row],[Details Object Code]])&\"|\"&TRIM(BdgtXrefTable[[#This Row],[Details Program]])&\"|\"&TRIM(BdgtXrefTable[[#This Row],[Details Category]])","v":"8000|Title III, Part A|IY Subgrant"},"Title III, Part A - IY","Non-Administrative",{"$f":"TRIM(BdgtXrefTable[[#This Row],[Summary Program]])&\"|\"&TRIM(BdgtXrefTable[[#This Row],[Summary Expenditure]])","v":"Title III, Part A - IY|Non-Administrative"},null,8000,"Title II, Part A, Transferability","Title I C Private School",{"$f":"TRIM(TrnsfrXrefTable[[#This Row],[Details Object Code]])&\"|\"&TRIM(TrnsfrXrefTable[[#This Row],[Details Program]])&\"|\"&TRIM(TrnsfrXrefTable[[#This Row],[Details Category]])","v":"8000|Title II, Part A, Transferability|Title I C Private School"},"Title II, Part A - APE60014","Private School Set-Aside ",{"$f":"TRIM(TrnsfrXrefTable[[#This Row],[Summary Program]])&\"|\"&TRIM(TrnsfrXrefTable[[#This Row],[Summary Expenditure]])","v":"Title II, Part A - APE60014|Private School Set-Aside"}]
[1000,"Title IV, Part A","Well Rounded Students - PS",{"$f":"TRIM(BdgtXrefTable[[#This Row],[Details Object Code]])&\"|\"&TRIM(BdgtXrefTable[[#This Row],[Details Program]])&\"|\"&TRIM(BdgtXrefTable[[#This Row],[Details Category]])","v":"1000|Title IV, Part A|Well Rounded Students - PS"},"Title IV, Part A - Well-Rounded Education","Private School Set-Aside ",{"$f":"TRIM(BdgtXrefTable[[#This Row],[Summary Program]])&\"|\"&TRIM(BdgtXrefTable[[#This Row],[Summary Expenditure]])","v":"Title IV, Part A - Well-Rounded Education|Private School Set-Aside"},null,8000,"Title II, Part A, Transferability","Title I Private School",{"$f":"TRIM(TrnsfrXrefTable[[#This Row],[Details Object Code]])&\"|\"&TRIM(TrnsfrXrefTable[[#This Row],[Details Program]])&\"|\"&TRIM(TrnsfrXrefTable[[#This Row],[Details Category]])","v":"8000|Title II, Part A, Transferability|Title I Private School"},"Title II, Part A - APE61481","Private School Set-Aside ",{"$f":"TRIM(TrnsfrXrefTable[[#This Row],[Summary Program]])&\"|\"&TRIM(TrnsfrXrefTable[[#This Row],[Summary Expenditure]])","v":"Title II, Part A - APE61481|Private School Set-Aside"}]
[1000,"Title IV, Part A","Well Rounded Students - Admin",{"$f":"TRIM(BdgtXrefTable[[#This Row],[Details Object Code]])&\"|\"&TRIM(BdgtXrefTable[[#This Row],[Details Program]])&\"|\"&TRIM(BdgtXrefTable[[#This Row],[Details Category]])","v":"1000|Title IV, Part A|Well Rounded Students - Admin"},"Title IV, Part A - Well-Rounded Education","Administrative",{"$f":"TRIM(BdgtXrefTable[[#This Row],[Summary Program]])&\"|\"&TRIM(BdgtXrefTable[[#This Row],[Summary Expenditure]])","v":"Title IV, Part A - Well-Rounded Education|Administrative"},null,8000,"Title II, Part A, Transferability","Rural and Low Income",{"$f":"TRIM(TrnsfrXrefTable[[#This Row],[Details Object Code]])&\"|\"&TRIM(TrnsfrXrefTable[[#This Row],[Details Program]])&\"|\"&TRIM(TrnsfrXrefTable[[#This Row],[Details Category]])","v":"8000|Title II, Part A, Transferability|Rural and Low Income"},"Title II, Part A - APE60018","Non Set-Aside",{"$f":"TRIM(TrnsfrXrefTable[[#This Row],[Summary Program]])&\"|\"&TRIM(TrnsfrXrefTable[[#This Row],[Summary Expenditure]])","v":"Title II, Part A - APE60018|Non Set-Aside"}]
[1000,"Title IV, Part A","Well Rounded Students",{"$f":"TRIM(BdgtXrefTable[[#This Row],[Details Object Code]])&\"|\"&TRIM(BdgtXrefTable[[#This Row],[Details Program]])&\"|\"&TRIM(BdgtXrefTable[[#This Row],[Details Category]])","v":"1000|Title IV, Part A|Well Rounded Students"},"Title IV, Part A - Well-Rounded Education","Non-Administrative",{"$f":"TRIM(BdgtXrefTable[[#This Row],[Summary Program]])&\"|\"&TRIM(BdgtXrefTable[[#This Row],[Summary Expenditure]])","v":"Title IV, Part A - Well-Rounded Education|Non-Administrative"},null,1000,"Title IV, Part A, Transferability","Class size Reduction",{"$f":"TRIM(TrnsfrXrefTable[[#This Row],[Details Object Code]])&\"|\"&TRIM(TrnsfrXrefTable[[#This Row],[Details Program]])&\"|\"&TRIM(TrnsfrXrefTable[[#This Row],[Details Category]])","v":"1000|Title IV, Part A, Transferability|Class size Reduction"},"Title IV, Part A - APE60022","Non-Administrative",{"$f":"TRIM(TrnsfrXrefTable[[#This Row],[Summary Program]])&\"|\"&TRIM(TrnsfrXrefTable[[#This Row],[Summary Expenditure]])","v":"Title IV, Part A - APE60022|Non-Administrative"}]
[2000,"Title IV, Part A","Well Rounded Students - PS",{"$f":"TRIM(BdgtXrefTable[[#This Row],[Details Object Code]])&\"|\"&TRIM(BdgtXrefTable[[#This Row],[Details Program]])&\"|\"&TRIM(BdgtXrefTable[[#This Row],[Details Category]])","v":"2000|Title IV, Part A|Well Rounded Students - PS"},"Title IV, Part A - Well-Rounded Education","Private School Set-Aside ",{"$f":"TRIM(BdgtXrefTable[[#This Row],[Summary Program]])&\"|\"&TRIM(BdgtXrefTable[[#This Row],[Summary Expenditure]])","v":"Title IV, Part A - Well-Rounded Education|Private School Set-Aside"},null,1000,"Title IV, Part A, Transferability","CSI/TSI",{"$f":"TRIM(TrnsfrXrefTable[[#This Row],[Details Object Code]])&\"|\"&TRIM(TrnsfrXrefTable[[#This Row],[Details Program]])&\"|\"&TRIM(TrnsfrXrefTable[[#This Row],[Details Category]])","v":"1000|Title IV, Part A, Transferability|CSI/TSI"},"Title IV, Part A - APE60019","Set-Aside",{"$f":"TRIM(TrnsfrXrefTable[[#This Row],[Summary Program]])&\"|\"&TRIM(TrnsfrXrefTable[[#This Row],[Summary Expenditure]])","v":"Title IV, Part A - APE60019|Set-Aside"}]
[2000,"Title IV, Part A","Well Rounded Students - Admin",{"$f":"TRIM(BdgtXrefTable[[#This Row],[Details Object Code]])&\"|\"&TRIM(BdgtXrefTable[[#This Row],[Details Program]])&\"|\"&TRIM(BdgtXrefTable[[#This Row],[Details Category]])","v":"2000|Title IV, Part A|Well Rounded Students - Admin"},"Title IV, Part A - Well-Rounded Education","Administrative",{"$f":"TRIM(BdgtXrefTable[[#This Row],[Summary Program]])&\"|\"&TRIM(BdgtXrefTable[[#This Row],[Summary Expenditure]])","v":"Title IV, Part A - Well-Rounded Education|Administrative"},null,1000,"Title IV, Part A, Transferability","Delinquent",{"$f":"TRIM(TrnsfrXrefTable[[#This Row],[Details Object Code]])&\"|\"&TRIM(TrnsfrXrefTable[[#This Row],[Details Program]])&\"|\"&TRIM(TrnsfrXrefTable[[#This Row],[Details Category]])","v":"1000|Title IV, Part A, Transferability|Delinquent"},"Title IV, Part A - APE60021","Non Set-Aside",{"$f":"TRIM(TrnsfrXrefTable[[#This Row],[Summary Program]])&\"|\"&TRIM(TrnsfrXrefTable[[#This Row],[Summary Expenditure]])","v":"Title IV, Part A - APE60021|Non Set-Aside"}]
[2000,"Title IV, Part A","Well Rounded Students",{"$f":"TRIM(BdgtXrefTable[[#This Row],[Details Object Code]])&\"|\"&TRIM(BdgtXrefTable[[#This Row],[Details Program]])&\"|\"&TRIM(BdgtXrefTable[[#This Row],[Details Category]])","v":"2000|Title IV, Part A|Well Rounded Students"},"Title IV, Part A - Well-Rounded Education","Non-Administrative",{"$f":"TRIM(BdgtXrefTable[[#This Row],[Summary Program]])&\"|\"&TRIM(BdgtXrefTable[[#This Row],[Summary Expenditure]])","v":"Title IV, Part A - Well-Rounded Education|Non-Administrative"},null,1000,"Title IV, Part A, Transferability","Division",{"$f":"TRIM(TrnsfrXrefTable[[#This Row],[Details Object Code]])&\"|\"&TRIM(TrnsfrXrefTable[[#This Row],[Details Program]])&\"|\"&TRIM(TrnsfrXrefTable[[#This Row],[Details Category]])","v":"1000|Title IV, Part A, Transferability|Division"},"Title IV, Part A - APE60019","Set-Aside",{"$f":"TRIM(TrnsfrXrefTable[[#This Row],[Summary Program]])&\"|\"&TRIM(TrnsfrXrefTable[[#This Row],[Summary Expenditure]])","v":"Title IV, Part A - APE60019|Set-Aside"}]
[3000,"Title IV, Part A","Well Rounded Students - PS",{"$f":"TRIM(BdgtXrefTable[[#This Row],[Details Object Code]])&\"|\"&TRIM(BdgtXrefTable[[#This Row],[Details Program]])&\"|\"&TRIM(BdgtXrefTable[[#This Row],[Details Category]])","v":"3000|Title IV, Part A|Well Rounded Students - PS"},"Title IV, Part A - Well-Rounded Education","Private School Set-Aside ",{"$f":"TRIM(BdgtXrefTable[[#This Row],[Summary Program]])&\"|\"&TRIM(BdgtXrefTable[[#This Row],[Summary Expenditure]])","v":"Title IV, Part A - Well-Rounded Education|Private School Set-Aside"},null,1000,"Title IV, Part A, Transferability","Early Childhood",{"$f":"TRIM(TrnsfrXrefTable[[#This Row],[Details Object Code]])&\"|\"&TRIM(TrnsfrXrefTable[[#This Row],[Details Program]])&\"|\"&TRIM(TrnsfrXrefTable[[#This Row],[Details Category]])","v":"1000|Title IV, Part A, Transferability|Early Childhood"},"Title IV, Part A - APE60019","Set-Aside",{"$f":"TRIM(TrnsfrXrefTable[[#This Row],[Summary Program]])&\"|\"&TRIM(TrnsfrXrefTable[[#This Row],[Summary Expenditure]])","v":"Title IV, Part A - APE60019|Set-Aside"}]
[3000,"Title IV, Part A","Well Rounded Students - Admin",{"$f":"TRIM(BdgtXrefTable[[#This Row],[Details Object Code]])&\"|\"&TRIM(BdgtXrefTable[[#This Row],[Details Program]])&\"|\"&TRIM(BdgtXrefTable[[#This Row],[Details Category]])","v":"3000|Title IV, Part A|Well Rounded Students - Admin"},"Title IV, Part A - Well-Rounded Education","Administrative",{"$f":"TRIM(BdgtXrefTable[[#This Row],[Summary Program]])&\"|\"&TRIM(BdgtXrefTable[[#This Row],[Summary Expenditure]])","v":"Title IV, Part A - Well-Rounded Education|Administrative"},null,1000,"Title IV, Part A, Transferability","EL Administrative",{"$f":"TRIM(TrnsfrXrefTable[[#This Row],[Details Object Code]])&\"|\"&TRIM(TrnsfrXrefTable[[#This Row],[Details Program]])&\"|\"&TRIM(TrnsfrXrefTable[[#This Row],[Details Category]])","v":"1000|Title IV, Part A, Transferability|EL Administrative"},"Title IV, Part A - APE60023","Administrative",{"$f":"TRIM(TrnsfrXrefTable[[#This Row],[Summary Program]])&\"|\"&TRIM(TrnsfrXrefTable[[#This Row],[Summary Expenditure]])","v":"Title IV, Part A - APE60023|Administrative"}]
[3000,"Title IV, Part A","Well Rounded Students",{"$f":"TRIM(BdgtXrefTable[[#This Row],[Details Object Code]])&\"|\"&TRIM(BdgtXrefTable[[#This Row],[Details Program]])&\"|\"&TRIM(BdgtXrefTable[[#This Row],[Details Category]])","v":"3000|Title IV, Part A|Well Rounded Students"},"Title IV, Part A - Well-Rounded Education","Non-Administrative",{"$f":"TRIM(BdgtXrefTable[[#This Row],[Summary Program]])&\"|\"&TRIM(BdgtXrefTable[[#This Row],[Summary Expenditure]])","v":"Title IV, Part A - Well-Rounded Education|Non-Administrative"},null,1000,"Title IV, Part A, Transferability","EL Private School",{"$f":"TRIM(TrnsfrXrefTable[[#This Row],[Details Object Code]])&\"|\"&TRIM(TrnsfrXrefTable[[#This Row],[Details Program]])&\"|\"&TRIM(TrnsfrXrefTable[[#This Row],[Details Category]])","v":"1000|Title IV, Part A, Transferability|EL Private School"},"Title IV, Part A - APE60023","Private School Set-Aside ",{"$f":"TRIM(TrnsfrXrefTable[[#This Row],[Summary Program]])&\"|\"&TRIM(TrnsfrXrefTable[[#This Row],[Summary Expenditure]])","v":"Title IV, Part A - APE60023|Private School Set-Aside"}]
[null,null,null,{"$f":"TRIM(BdgtXrefTable[[#This Row],[Details Object Code]])&\"|\"&TRIM(BdgtXrefTable[[#This Row],[Details Program]])&\"|\"&TRIM(BdgtXrefTable[[#This Row],[Details Category]])","v":"||"},null,null,{"$f":"TRIM(BdgtXrefTable[[#This Row],[Summary Program]])&\"|\"&TRIM(BdgtXrefTable[[#This Row],[Summary Expenditure]])","v":"|"},null,1000,"Title IV, Part A, Transferability","EL Subgrant",{"$f":"TRIM(TrnsfrXrefTable[[#This Row],[Details Object Code]])&\"|\"&TRIM(TrnsfrXrefTable[[#This Row],[Details Program]])&\"|\"&TRIM(TrnsfrXrefTable[[#This Row],[Details Category]])","v":"1000|Title IV, Part A, Transferability|EL Subgrant"},"Title IV, Part A - APE60023","Non-Administrative",{"$f":"TRIM(TrnsfrXrefTable[[#This Row],[Summary Program]])&\"|\"&TRIM(TrnsfrXrefTable[[#This Row],[Summary Expenditure]])","v":"Title IV, Part A - APE60023|Non-Administrative"}]
[4000,"Title IV, Part A","Well Rounded Students",{"$f":"TRIM(BdgtXrefTable[[#This Row],[Details Object Code]])&\"|\"&TRIM(BdgtXrefTable[[#This Row],[Details Program]])&\"|\"&TRIM(BdgtXrefTable[[#This Row],[Details Category]])","v":"4000|Title IV, Part A|Well Rounded Students"},"Title IV, Part A - Well-Rounded Education","Internal Services",{"$f":"TRIM(BdgtXrefTable[[#This Row],[Summary Program]])&\"|\"&TRIM(BdgtXrefTable[[#This Row],[Summary Expenditure]])","v":"Title IV, Part A - Well-Rounded Education|Internal Services"},null,1000,"Title IV, Part A, Transferability","Evaluation",{"$f":"TRIM(TrnsfrXrefTable[[#This Row],[Details Object Code]])&\"|\"&TRIM(TrnsfrXrefTable[[#This Row],[Details Program]])&\"|\"&TRIM(TrnsfrXrefTable[[#This Row],[Details Category]])","v":"1000|Title IV, Part A, Transferability|Evaluation"},"Title IV, Part A - APE60022","Non-Administrative",{"$f":"TRIM(TrnsfrXrefTable[[#This Row],[Summary Program]])&\"|\"&TRIM(TrnsfrXrefTable[[#This Row],[Summary Expenditure]])","v":"Title IV, Part A - APE60022|Non-Administrative"}]
[5000,"Title IV, Part A","Well Rounded Students - PS",{"$f":"TRIM(BdgtXrefTable[[#This Row],[Details Object Code]])&\"|\"&TRIM(BdgtXrefTable[[#This Row],[Details Program]])&\"|\"&TRIM(BdgtXrefTable[[#This Row],[Details Category]])","v":"5000|Title IV, Part A|Well Rounded Students - PS"},"Title IV, Part A - Well-Rounded Education","Private School Set-Aside ",{"$f":"TRIM(BdgtXrefTable[[#This Row],[Summary Program]])&\"|\"&TRIM(BdgtXrefTable[[#This Row],[Summary Expenditure]])","v":"Title IV, Part A - Well-Rounded Education|Private School Set-Aside"},null,1000,"Title IV, Part A, Transferability","Foster Care",{"$f":"TRIM(TrnsfrXrefTable[[#This Row],[Details Object Code]])&\"|\"&TRIM(TrnsfrXrefTable[[#This Row],[Details Program]])&\"|\"&TRIM(TrnsfrXrefTable[[#This Row],[Details Category]])","v":"1000|Title IV, Part A, Transferability|Foster Care"},"Title IV, Part A - APE60019","Set-Aside",{"$f":"TRIM(TrnsfrXrefTable[[#This Row],[Summary Program]])&\"|\"&TRIM(TrnsfrXrefTable[[#This Row],[Summary Expenditure]])","v":"Title IV, Part A - APE60019|Set-Aside"}]
[5000,"Title IV, Part A","Well Rounded Students",{"$f":"TRIM(BdgtXrefTable[[#This Row],[Details Object Code]])&\"|\"&TRIM(BdgtXrefTable[[#This Row],[Details Program]])&\"|\"&TRIM(BdgtXrefTable[[#This Row],[Details Category]])","v":"5000|Title IV, Part A|Well Rounded Students"},"Title IV, Part A - Well-Rounded Education","Non-Administrative",{"$f":"TRIM(BdgtXrefTable[[#This Row],[Summary Program]])&\"|\"&TRIM(BdgtXrefTable[[#This Row],[Summary Expenditure]])","v":"Title IV, Part A - Well-Rounded Education|Non-Administrative"},null,1000,"Title IV, Part A, Transferability","Homeless",{"$f":"TRIM(TrnsfrXrefTable[[#This Row],[Details Object Code]])&\"|\"&TRIM(TrnsfrXrefTable[[#This Row],[Details Program]])&\"|\"&TRIM(TrnsfrXrefTable[[#This Row],[Details Category]])","v":"1000|Title IV, Part A, Transferability|Homeless"},"Title IV, Part A - APE60019","Set-Aside",{"$f":"TRIM(TrnsfrXrefTable[[#This Row],[Summary Program]])&\"|\"&TRIM(TrnsfrXrefTable[[#This Row],[Summary Expenditure]])","v":"Title IV, Part A - APE60019|Set-Aside"}]
[5000,"Title IV, Part A","Well Rounded Students - Indirect Costs",{"$f":"TRIM(BdgtXrefTable[[#This Row],[Details Object Code]])&\"|\"&TRIM(BdgtXrefTable[[#This Row],[Details Program]])&\"|\"&TRIM(BdgtXrefTable[[#This Row],[Details Category]])","v":"5000|Title IV, Part A|Well Rounded Students - Indirect Costs"},"Title IV, Part A - Well-Rounded Education","Indirect Costs",{"$f":"TRIM(BdgtXrefTable[[#This Row],[Summary Program]])&\"|\"&TRIM(BdgtXrefTable[[#This Row],[Summary Expenditure]])","v":"Title IV, Part A - Well-Rounded Education|Indirect Costs"},null,1000,"Title IV, Part A, Transferability","IY Subgrant",{"$f":"TRIM(TrnsfrXrefTable[[#This Row],[Details Object Code]])&\"|\"&TRIM(TrnsfrXrefTable[[#This Row],[Details Program]])&\"|\"&TRIM(TrnsfrXrefTable[[#This Row],[Details Category]])","v":"1000|Title IV, Part A, Transferability|IY Subgrant"},"Title IV, Part A - APE60023","Non-Administrative",{"$f":"TRIM(TrnsfrXrefTable[[#This Row],[Summary Program]])&\"|\"&TRIM(TrnsfrXrefTable[[#This Row],[Summary Expenditure]])","v":"Title IV, Part A - APE60023|Non-Administrative"}]
[6000,"Title IV, Part A","Well Rounded Students - PS",{"$f":"TRIM(BdgtXrefTable[[#This Row],[Details Object Code]])&\"|\"&TRIM(BdgtXrefTable[[#This Row],[Details Program]])&\"|\"&TRIM(BdgtXrefTable[[#This Row],[Details Category]])","v":"6000|Title IV, Part A|Well Rounded Students - PS"},"Title IV, Part A - Well-Rounded Education","Private School Set-Aside ",{"$f":"TRIM(BdgtXrefTable[[#This Row],[Summary Program]])&\"|\"&TRIM(BdgtXrefTable[[#This Row],[Summary Expenditure]])","v":"Title IV, Part A - Well-Rounded Education|Private School Set-Aside"},null,1000,"Title IV, Part A, Transferability","Leadership",{"$f":"TRIM(TrnsfrXrefTable[[#This Row],[Details Object Code]])&\"|\"&TRIM(TrnsfrXrefTable[[#This Row],[Details Program]])&\"|\"&TRIM(TrnsfrXrefTable[[#This Row],[Details Category]])","v":"1000|Title IV, Part A, Transferability|Leadership"},"Title IV, Part A - APE60022","Administrative",{"$f":"TRIM(TrnsfrXrefTable[[#This Row],[Summary Program]])&\"|\"&TRIM(TrnsfrXrefTable[[#This Row],[Summary Expenditure]])","v":"Title IV, Part A - APE60022|Administrative"}]
[6000,"Title IV, Part A","Well Rounded Students - Admin",{"$f":"TRIM(BdgtXrefTable[[#This Row],[Details Object Code]])&\"|\"&TRIM(BdgtXrefTable[[#This Row],[Details Program]])&\"|\"&TRIM(BdgtXrefTable[[#This Row],[Details Category]])","v":"6000|Title IV, Part A|Well Rounded Students - Admin"},"Title IV, Part A - Well-Rounded Education","Administrative",{"$f":"TRIM(BdgtXrefTable[[#This Row],[Summary Program]])&\"|\"&TRIM(BdgtXrefTable[[#This Row],[Summary Expenditure]])","v":"Title IV, Part A - Well-Rounded Education|Administrative"},null,1000,"Title IV, Part A, Transferability","Mentoring/Induction",{"$f":"TRIM(TrnsfrXrefTable[[#This Row],[Details Object Code]])&\"|\"&TRIM(TrnsfrXrefTable[[#This Row],[Details Program]])&\"|\"&TRIM(TrnsfrXrefTable[[#This Row],[Details Category]])","v":"1000|Title IV, Part A, Transferability|Mentoring/Induction"},"Title IV, Part A - APE60022","Non-Administrative",{"$f":"TRIM(TrnsfrXrefTable[[#This Row],[Summary Program]])&\"|\"&TRIM(TrnsfrXrefTable[[#This Row],[Summary Expenditure]])","v":"Title IV, Part A - APE60022|Non-Administrative"}]
[6000,"Title IV, Part A","Well Rounded Students",{"$f":"TRIM(BdgtXrefTable[[#This Row],[Details Object Code]])&\"|\"&TRIM(BdgtXrefTable[[#This Row],[Details Program]])&\"|\"&TRIM(BdgtXrefTable[[#This Row],[Details Category]])","v":"6000|Title IV, Part A|Well Rounded Students"},"Title IV, Part A - Well-Rounded Education","Non-Administrative",{"$f":"TRIM(BdgtXrefTable[[#This Row],[Summary Program]])&\"|\"&TRIM(BdgtXrefTable[[#This Row],[Summary Expenditure]])","v":"Title IV, Part A - Well-Rounded Education|Non-Administrative"},null,1000,"Title IV, Part A, Transferability","Migrant",{"$f":"TRIM(TrnsfrXrefTable[[#This Row],[Details Object Code]])&\"|\"&TRIM(TrnsfrXrefTable[[#This Row],[Details Program]])&\"|\"&TRIM(TrnsfrXrefTable[[#This Row],[Details Category]])","v":"1000|Title IV, Part A, Transferability|Migrant"},"Title IV, Part A - APE60020","Non Set-Aside",{"$f":"TRIM(TrnsfrXrefTable[[#This Row],[Summary Program]])&\"|\"&TRIM(TrnsfrXrefTable[[#This Row],[Summary Expenditure]])","v":"Title IV, Part A - APE60020|Non Set-Aside"}]
[8000,"Title IV, Part A","Well Rounded Students - PS",{"$f":"TRIM(BdgtXrefTable[[#This Row],[Details Object Code]])&\"|\"&TRIM(BdgtXrefTable[[#This Row],[Details Program]])&\"|\"&TRIM(BdgtXrefTable[[#This Row],[Details Category]])","v":"8000|Title IV, Part A|Well Rounded Students - PS"},"Title IV, Part A - Well-Rounded Education","Private School Set-Aside ",{"$f":"TRIM(BdgtXrefTable[[#This Row],[Summary Program]])&\"|\"&TRIM(BdgtXrefTable[[#This Row],[Summary Expenditure]])","v":"Title IV, Part A - Well-Rounded Education|Private School Set-Aside"},null,1000,"Title IV, Part A, Transferability","Neglected",{"$f":"TRIM(TrnsfrXrefTable[[#This Row],[Details Object Code]])&\"|\"&TRIM(TrnsfrXrefTable[[#This Row],[Details Program]])&\"|\"&TRIM(TrnsfrXrefTable[[#This Row],[Details Category]])","v":"1000|Title IV, Part A, Transferability|Neglected"},"Title IV, Part A - APE60019","Set-Aside",{"$f":"TRIM(TrnsfrXrefTable[[#This Row],[Summary Program]])&\"|\"&TRIM(TrnsfrXrefTable[[#This Row],[Summary Expenditure]])","v":"Title IV, Part A - APE60019|Set-Aside"}]
[8000,"Title IV, Part A","Well Rounded Students",{"$f":"TRIM(BdgtXrefTable[[#This Row],[Details Object Code]])&\"|\"&TRIM(BdgtXrefTable[[#This Row],[Details Program]])&\"|\"&TRIM(BdgtXrefTable[[#This Row],[Details Category]])","v":"8000|Title IV, Part A|Well Rounded Students"},"Title IV, Part A - Well-Rounded Education","Non-Administrative",{"$f":"TRIM(BdgtXrefTable[[#This Row],[Summary Program]])&\"|\"&TRIM(BdgtXrefTable[[#This Row],[Summary Expenditure]])","v":"Title IV, Part A - Well-Rounded Education|Non-Administrative"},null,1000,"Title IV, Part A, Transferability","Other",{"$f":"TRIM(TrnsfrXrefTable[[#This Row],[Details Object Code]])&\"|\"&TRIM(TrnsfrXrefTable[[#This Row],[Details Program]])&\"|\"&TRIM(TrnsfrXrefTable[[#This Row],[Details Category]])","v":"1000|Title IV, Part A, Transferability|Other"},"Title IV, Part A - APE60022","Non-Administrative",{"$f":"TRIM(TrnsfrXrefTable[[#This Row],[Summary Program]])&\"|\"&TRIM(TrnsfrXrefTable[[#This Row],[Summary Expenditure]])","v":"Title IV, Part A - APE60022|Non-Administrative"}]
[1000,"Title IV, Part A","Safe & Healthy Students - PS",{"$f":"TRIM(BdgtXrefTable[[#This Row],[Details Object Code]])&\"|\"&TRIM(BdgtXrefTable[[#This Row],[Details Program]])&\"|\"&TRIM(BdgtXrefTable[[#This Row],[Details Category]])","v":"1000|Title IV, Part A|Safe & Healthy Students - PS"},"Title IV, Part A - Safe & Healthy Students","Private School Set-Aside ",{"$f":"TRIM(BdgtXrefTable[[#This Row],[Summary Program]])&\"|\"&TRIM(BdgtXrefTable[[#This Row],[Summary Expenditure]])","v":"Title IV, Part A - Safe & Healthy Students|Private School Set-Aside"},null,1000,"Title IV, Part A, Transferability","PFE (Division)",{"$f":"TRIM(TrnsfrXrefTable[[#This Row],[Details Object Code]])&\"|\"&TRIM(TrnsfrXrefTable[[#This Row],[Details Program]])&\"|\"&TRIM(TrnsfrXrefTable[[#This Row],[Details Category]])","v":"1000|Title IV, Part A, Transferability|PFE (Division)"},"Title IV, Part A - APE60019","Parent and Family Engagement Set-Aside",{"$f":"TRIM(TrnsfrXrefTable[[#This Row],[Summary Program]])&\"|\"&TRIM(TrnsfrXrefTable[[#This Row],[Summary Expenditure]])","v":"Title IV, Part A - APE60019|Parent and Family Engagement Set-Aside"}]
[1000,"Title IV, Part A","Safe & Healthy Students - Admin",{"$f":"TRIM(BdgtXrefTable[[#This Row],[Details Object Code]])&\"|\"&TRIM(BdgtXrefTable[[#This Row],[Details Program]])&\"|\"&TRIM(BdgtXrefTable[[#This Row],[Details Category]])","v":"1000|Title IV, Part A|Safe & Healthy Students - Admin"},"Title IV, Part A - Safe & Healthy Students","Administrative",{"$f":"TRIM(BdgtXrefTable[[#This Row],[Summary Program]])&\"|\"&TRIM(BdgtXrefTable[[#This Row],[Summary Expenditure]])","v":"Title IV, Part A - Safe & Healthy Students|Administrative"},null,1000,"Title IV, Part A, Transferability","PFE (School Level)",{"$f":"TRIM(TrnsfrXrefTable[[#This Row],[Details Object Code]])&\"|\"&TRIM(TrnsfrXrefTable[[#This Row],[Details Program]])&\"|\"&TRIM(TrnsfrXrefTable[[#This Row],[Details Category]])","v":"1000|Title IV, Part A, Transferability|PFE (School Level)"},"Title IV, Part A - APE60019","Parent and Family Engagement Set-Aside",{"$f":"TRIM(TrnsfrXrefTable[[#This Row],[Summary Program]])&\"|\"&TRIM(TrnsfrXrefTable[[#This Row],[Summary Expenditure]])","v":"Title IV, Part A - APE60019|Parent and Family Engagement Set-Aside"}]
[1000,"Title IV, Part A","Safe & Healthy Students",{"$f":"TRIM(BdgtXrefTable[[#This Row],[Details Object Code]])&\"|\"&TRIM(BdgtXrefTable[[#This Row],[Details Program]])&\"|\"&TRIM(BdgtXrefTable[[#This Row],[Details Category]])","v":"1000|Title IV, Part A|Safe & Healthy Students"},"Title IV, Part A - Safe & Healthy Students","Non-Administrative",{"$f":"TRIM(BdgtXrefTable[[#This Row],[Summary Program]])&\"|\"&TRIM(BdgtXrefTable[[#This Row],[Summary Expenditure]])","v":"Title IV, Part A - Safe & Healthy Students|Non-Administrative"},null,1000,"Title IV, Part A, Transferability","Private School",{"$f":"TRIM(TrnsfrXrefTable[[#This Row],[Details Object Code]])&\"|\"&TRIM(TrnsfrXrefTable[[#This Row],[Details Program]])&\"|\"&TRIM(TrnsfrXrefTable[[#This Row],[Details Category]])","v":"1000|Title IV, Part A, Transferability|Private School"},"Title IV, Part A - APE60022","Private School Set-Aside ",{"$f":"TRIM(TrnsfrXrefTable[[#This Row],[Summary Program]])&\"|\"&TRIM(TrnsfrXrefTable[[#This Row],[Summary Expenditure]])","v":"Title IV, Part A - APE60022|Private School Set-Aside"}]
[2000,"Title IV, Part A","Safe & Healthy Students - PS",{"$f":"TRIM(BdgtXrefTable[[#This Row],[Details Object Code]])&\"|\"&TRIM(BdgtXrefTable[[#This Row],[Details Program]])&\"|\"&TRIM(BdgtXrefTable[[#This Row],[Details Category]])","v":"2000|Title IV, Part A|Safe & Healthy Students - PS"},"Title IV, Part A - Safe & Healthy Students","Private School Set-Aside ",{"$f":"TRIM(BdgtXrefTable[[#This Row],[Summary Program]])&\"|\"&TRIM(BdgtXrefTable[[#This Row],[Summary Expenditure]])","v":"Title IV, Part A - Safe & Healthy Students|Private School Set-Aside"},null,1000,"Title IV, Part A, Transferability","Professional Development",{"$f":"TRIM(TrnsfrXrefTable[[#This Row],[Details Object Code]])&\"|\"&TRIM(TrnsfrXrefTable[[#This Row],[Details Program]])&\"|\"&TRIM(TrnsfrXrefTable[[#This Row],[Details Category]])","v":"1000|Title IV, Part A, Transferability|Professional Development"},"Title IV, Part A - APE60022","Non-Administrative",{"$f":"TRIM(TrnsfrXrefTable[[#This Row],[Summary Program]])&\"|\"&TRIM(TrnsfrXrefTable[[#This Row],[Summary Expenditure]])","v":"Title IV, Part A - APE60022|Non-Administrative"}]
[2000,"Title IV, Part A","Safe & Healthy Students - Admin",{"$f":"TRIM(BdgtXrefTable[[#This Row],[Details Object Code]])&\"|\"&TRIM(BdgtXrefTable[[#This Row],[Details Program]])&\"|\"&TRIM(BdgtXrefTable[[#This Row],[Details Category]])","v":"2000|Title IV, Part A|Safe & Healthy Students - Admin"},"Title IV, Part A - Safe & Healthy Students","Administrative",{"$f":"TRIM(BdgtXrefTable[[#This Row],[Summary Program]])&\"|\"&TRIM(BdgtXrefTable[[#This Row],[Summary Expenditure]])","v":"Title IV, Part A - Safe & Healthy Students|Administrative"},null,1000,"Title IV, Part A, Transferability","Recruitment/Retention",{"$f":"TRIM(TrnsfrXrefTable[[#This Row],[Details Object Code]])&\"|\"&TRIM(TrnsfrXrefTable[[#This Row],[Details Program]])&\"|\"&TRIM(TrnsfrXrefTable[[#This Row],[Details Category]])","v":"1000|Title IV, Part A, Transferability|Recruitment/Retention"},"Title IV, Part A - APE60022","Non-Administrative",{"$f":"TRIM(TrnsfrXrefTable[[#This Row],[Summary Program]])&\"|\"&TRIM(TrnsfrXrefTable[[#This Row],[Summary Expenditure]])","v":"Title IV, Part A - APE60022|Non-Administrative"}]
[2000,"Title IV, Part A","Safe & Healthy Students",{"$f":"TRIM(BdgtXrefTable[[#This Row],[Details Object Code]])&\"|\"&TRIM(BdgtXrefTable[[#This Row],[Details Program]])&\"|\"&TRIM(BdgtXrefTable[[#This Row],[Details Category]])","v":"2000|Title IV, Part A|Safe & Healthy Students"},"Title IV, Part A - Safe & Healthy Students","Non-Administrative",{"$f":"TRIM(BdgtXrefTable[[#This Row],[Summary Program]])&\"|\"&TRIM(BdgtXrefTable[[#This Row],[Summary Expenditure]])","v":"Title IV, Part A - Safe & Healthy Students|Non-Administrative"},null,1000,"Title IV, Part A, Transferability","Salary Differential",{"$f":"TRIM(TrnsfrXrefTable[[#This Row],[Details Object Code]])&\"|\"&TRIM(TrnsfrXrefTable[[#This Row],[Details Program]])&\"|\"&TRIM(TrnsfrXrefTable[[#This Row],[Details Category]])","v":"1000|Title IV, Part A, Transferability|Salary Differential"},"Title IV, Part A - APE60019","Set-Aside",{"$f":"TRIM(TrnsfrXrefTable[[#This Row],[Summary Program]])&\"|\"&TRIM(TrnsfrXrefTable[[#This Row],[Summary Expenditure]])","v":"Title IV, Part A - APE60019|Set-Aside"}]
[3000,"Title IV, Part A","Safe & Healthy Students - PS",{"$f":"TRIM(BdgtXrefTable[[#This Row],[Details Object Code]])&\"|\"&TRIM(BdgtXrefTable[[#This Row],[Details Program]])&\"|\"&TRIM(BdgtXrefTable[[#This Row],[Details Category]])","v":"3000|Title IV, Part A|Safe & Healthy Students - PS"},"Title IV, Part A - Safe & Healthy Students","Private School Set-Aside ",{"$f":"TRIM(BdgtXrefTable[[#This Row],[Summary Program]])&\"|\"&TRIM(BdgtXrefTable[[#This Row],[Summary Expenditure]])","v":"Title IV, Part A - Safe & Healthy Students|Private School Set-Aside"},null,1000,"Title IV, Part A, Transferability","Title I C Private School",null,"Title IV, Part A - APE60020","Private School Set-Aside ",{"$f":"TRIM(TrnsfrXrefTable[[#This Row],[Summary Program]])&\"|\"&TRIM(TrnsfrXrefTable[[#This Row],[Summary Expenditure]])","v":"Title IV, Part A - APE60020|Private School Set-Aside"}]
[3000,"Title IV, Part A","Safe & Healthy Students - Admin",{"$f":"TRIM(BdgtXrefTable[[#This Row],[Details Object Code]])&\"|\"&TRIM(BdgtXrefTable[[#This Row],[Details Program]])&\"|\"&TRIM(BdgtXrefTable[[#This Row],[Details Category]])","v":"3000|Title IV, Part A|Safe & Healthy Students - Admin"},"Title IV, Part A - Safe & Healthy Students","Administrative",{"$f":"TRIM(BdgtXrefTable[[#This Row],[Summary Program]])&\"|\"&TRIM(BdgtXrefTable[[#This Row],[Summary Expenditure]])","v":"Title IV, Part A - Safe & Healthy Students|Administrative"},null,1000,"Title IV, Part A, Transferability","Title I Private School",{"$f":"TRIM(TrnsfrXrefTable[[#This Row],[Details Object Code]])&\"|\"&TRIM(TrnsfrXrefTable[[#This Row],[Details Program]])&\"|\"&TRIM(TrnsfrXrefTable[[#This Row],[Details Category]])","v":"1000|Title IV, Part A, Transferability|Title I Private School"},"Title IV, Part A - APE60019","Private School Set-Aside ",{"$f":"TRIM(TrnsfrXrefTable[[#This Row],[Summary Program]])&\"|\"&TRIM(TrnsfrXrefTable[[#This Row],[Summary Expenditure]])","v":"Title IV, Part A - APE60019|Private School Set-Aside"}]
[3000,"Title IV, Part A","Safe & Healthy Students",{"$f":"TRIM(BdgtXrefTable[[#This Row],[Details Object Code]])&\"|\"&TRIM(BdgtXrefTable[[#This Row],[Details Program]])&\"|\"&TRIM(BdgtXrefTable[[#This Row],[Details Category]])","v":"3000|Title IV, Part A|Safe & Healthy Students"},"Title IV, Part A - Safe & Healthy Students","Non-Administrative",{"$f":"TRIM(BdgtXrefTable[[#This Row],[Summary Program]])&\"|\"&TRIM(BdgtXrefTable[[#This Row],[Summary Expenditure]])","v":"Title IV, Part A - Safe & Healthy Students|Non-Administrative"},null,1000,"Title IV, Part A, Transferability","Title IIA Administration",{"$f":"TRIM(TrnsfrXrefTable[[#This Row],[Details Object Code]])&\"|\"&TRIM(TrnsfrXrefTable[[#This Row],[Details Program]])&\"|\"&TRIM(TrnsfrXrefTable[[#This Row],[Details Category]])","v":"1000|Title IV, Part A, Transferability|Title IIA Administration"},"Title IV, Part A - APE60022","Administrative",{"$f":"TRIM(TrnsfrXrefTable[[#This Row],[Summary Program]])&\"|\"&TRIM(TrnsfrXrefTable[[#This Row],[Summary Expenditure]])","v":"Title IV, Part A - APE60022|Administrative"}]
[null,null,null,{"$f":"TRIM(BdgtXrefTable[[#This Row],[Details Object Code]])&\"|\"&TRIM(BdgtXrefTable[[#This Row],[Details Program]])&\"|\"&TRIM(BdgtXrefTable[[#This Row],[Details Category]])","v":"||"},null,null,{"$f":"TRIM(BdgtXrefTable[[#This Row],[Summary Program]])&\"|\"&TRIM(BdgtXrefTable[[#This Row],[Summary Expenditure]])","v":"|"},null,1000,"Title IV, Part A, Transferability","Non Set-Aside",null,"Title II, Part A - APE61481","Non Set-Aside",{"$f":"TRIM(TrnsfrXrefTable[[#This Row],[Summary Program]])&\"|\"&TRIM(TrnsfrXrefTable[[#This Row],[Summary Expenditure]])","v":"Title II, Part A - APE61481|Non Set-Aside"}]
[4000,"Title IV, Part A","Safe & Healthy Students",{"$f":"TRIM(BdgtXrefTable[[#This Row],[Details Object Code]])&\"|\"&TRIM(BdgtXrefTable[[#This Row],[Details Program]])&\"|\"&TRIM(BdgtXrefTable[[#This Row],[Details Category]])","v":"4000|Title IV, Part A|Safe & Healthy Students"},"Title IV, Part A - Safe & Healthy Students","Internal Services",{"$f":"TRIM(BdgtXrefTable[[#This Row],[Summary Program]])&\"|\"&TRIM(BdgtXrefTable[[#This Row],[Summary Expenditure]])","v":"Title IV, Part A - Safe & Healthy Students|Internal Services"},null,1000,"Title IV, Part A, Transferability","Title II Private School",{"$f":"TRIM(TrnsfrXrefTable[[#This Row],[Details Object Code]])&\"|\"&TRIM(TrnsfrXrefTable[[#This Row],[Details Program]])&\"|\"&TRIM(TrnsfrXrefTable[[#This Row],[Details Category]])","v":"1000|Title IV, Part A, Transferability|Title II Private School"},"Title IV, Part A - APE60022","Private School Set-Aside ",{"$f":"TRIM(TrnsfrXrefTable[[#This Row],[Summary Program]])&\"|\"&TRIM(TrnsfrXrefTable[[#This Row],[Summary Expenditure]])","v":"Title IV, Part A - APE60022|Private School Set-Aside"}]
[5000,"Title IV, Part A","Safe & Healthy Students - PS",{"$f":"TRIM(BdgtXrefTable[[#This Row],[Details Object Code]])&\"|\"&TRIM(BdgtXrefTable[[#This Row],[Details Program]])&\"|\"&TRIM(BdgtXrefTable[[#This Row],[Details Category]])","v":"5000|Title IV, Part A|Safe & Healthy Students - PS"},"Title IV, Part A - Safe & Healthy Students","Private School Set-Aside ",{"$f":"TRIM(BdgtXrefTable[[#This Row],[Summary Program]])&\"|\"&TRIM(BdgtXrefTable[[#This Row],[Summary Expenditure]])","v":"Title IV, Part A - Safe & Healthy Students|Private School Set-Aside"},null,1000,"Title IV, Part A, Transferability","Rural and Low Income",{"$f":"TRIM(TrnsfrXrefTable[[#This Row],[Details Object Code]])&\"|\"&TRIM(TrnsfrXrefTable[[#This Row],[Details Program]])&\"|\"&TRIM(TrnsfrXrefTable[[#This Row],[Details Category]])","v":"1000|Title IV, Part A, Transferability|Rural and Low Income"},"Title IV, Part A - APE60024","Non Set-Aside",{"$f":"TRIM(TrnsfrXrefTable[[#This Row],[Summary Program]])&\"|\"&TRIM(TrnsfrXrefTable[[#This Row],[Summary Expenditure]])","v":"Title IV, Part A - APE60024|Non Set-Aside"}]
[5000,"Title IV, Part A","Safe & Healthy Students",{"$f":"TRIM(BdgtXrefTable[[#This Row],[Details Object Code]])&\"|\"&TRIM(BdgtXrefTable[[#This Row],[Details Program]])&\"|\"&TRIM(BdgtXrefTable[[#This Row],[Details Category]])","v":"5000|Title IV, Part A|Safe & Healthy Students"},"Title IV, Part A - Safe & Healthy Students","Non-Administrative",{"$f":"TRIM(BdgtXrefTable[[#This Row],[Summary Program]])&\"|\"&TRIM(BdgtXrefTable[[#This Row],[Summary Expenditure]])","v":"Title IV, Part A - Safe & Healthy Students|Non-Administrative"},null,2000,"Title IV, Part A, Transferability","Class size Reduction",{"$f":"TRIM(TrnsfrXrefTable[[#This Row],[Details Object Code]])&\"|\"&TRIM(TrnsfrXrefTable[[#This Row],[Details Program]])&\"|\"&TRIM(TrnsfrXrefTable[[#This Row],[Details Category]])","v":"2000|Title IV, Part A, Transferability|Class size Reduction"},"Title IV, Part A - APE60022","Non-Administrative",{"$f":"TRIM(TrnsfrXrefTable[[#This Row],[Summary Program]])&\"|\"&TRIM(TrnsfrXrefTable[[#This Row],[Summary Expenditure]])","v":"Title IV, Part A - APE60022|Non-Administrative"}]
[5000,"Title IV, Part A","Safe & Healthy Students - Indirect Costs",{"$f":"TRIM(BdgtXrefTable[[#This Row],[Details Object Code]])&\"|\"&TRIM(BdgtXrefTable[[#This Row],[Details Program]])&\"|\"&TRIM(BdgtXrefTable[[#This Row],[Details Category]])","v":"5000|Title IV, Part A|Safe & Healthy Students - Indirect Costs"},"Title IV, Part A - Safe & Healthy Students","Indirect Costs",{"$f":"TRIM(BdgtXrefTable[[#This Row],[Summary Program]])&\"|\"&TRIM(BdgtXrefTable[[#This Row],[Summary Expenditure]])","v":"Title IV, Part A - Safe & Healthy Students|Indirect Costs"},null,2000,"Title IV, Part A, Transferability","CSI/TSI",{"$f":"TRIM(TrnsfrXrefTable[[#This Row],[Details Object Code]])&\"|\"&TRIM(TrnsfrXrefTable[[#This Row],[Details Program]])&\"|\"&TRIM(TrnsfrXrefTable[[#This Row],[Details Category]])","v":"2000|Title IV, Part A, Transferability|CSI/TSI"},"Title IV, Part A - APE60019","Set-Aside",{"$f":"TRIM(TrnsfrXrefTable[[#This Row],[Summary Program]])&\"|\"&TRIM(TrnsfrXrefTable[[#This Row],[Summary Expenditure]])","v":"Title IV, Part A - APE60019|Set-Aside"}]
[6000,"Title IV, Part A","Safe & Healthy Students - PS",{"$f":"TRIM(BdgtXrefTable[[#This Row],[Details Object Code]])&\"|\"&TRIM(BdgtXrefTable[[#This Row],[Details Program]])&\"|\"&TRIM(BdgtXrefTable[[#This Row],[Details Category]])","v":"6000|Title IV, Part A|Safe & Healthy Students - PS"},"Title IV, Part A - Safe & Healthy Students","Private School Set-Aside ",{"$f":"TRIM(BdgtXrefTable[[#This Row],[Summary Program]])&\"|\"&TRIM(BdgtXrefTable[[#This Row],[Summary Expenditure]])","v":"Title IV, Part A - Safe & Healthy Students|Private School Set-Aside"},null,2000,"Title IV, Part A, Transferability","Delinquent",{"$f":"TRIM(TrnsfrXrefTable[[#This Row],[Details Object Code]])&\"|\"&TRIM(TrnsfrXrefTable[[#This Row],[Details Program]])&\"|\"&TRIM(TrnsfrXrefTable[[#This Row],[Details Category]])","v":"2000|Title IV, Part A, Transferability|Delinquent"},"Title IV, Part A - APE60021","Non Set-Aside",{"$f":"TRIM(TrnsfrXrefTable[[#This Row],[Summary Program]])&\"|\"&TRIM(TrnsfrXrefTable[[#This Row],[Summary Expenditure]])","v":"Title IV, Part A - APE60021|Non Set-Aside"}]
[6000,"Title IV, Part A","Safe & Healthy Students - Admin",{"$f":"TRIM(BdgtXrefTable[[#This Row],[Details Object Code]])&\"|\"&TRIM(BdgtXrefTable[[#This Row],[Details Program]])&\"|\"&TRIM(BdgtXrefTable[[#This Row],[Details Category]])","v":"6000|Title IV, Part A|Safe & Healthy Students - Admin"},"Title IV, Part A - Safe & Healthy Students","Administrative",{"$f":"TRIM(BdgtXrefTable[[#This Row],[Summary Program]])&\"|\"&TRIM(BdgtXrefTable[[#This Row],[Summary Expenditure]])","v":"Title IV, Part A - Safe & Healthy Students|Administrative"},null,2000,"Title IV, Part A, Transferability","Division",{"$f":"TRIM(TrnsfrXrefTable[[#This Row],[Details Object Code]])&\"|\"&TRIM(TrnsfrXrefTable[[#This Row],[Details Program]])&\"|\"&TRIM(TrnsfrXrefTable[[#This Row],[Details Category]])","v":"2000|Title IV, Part A, Transferability|Division"},"Title IV, Part A - APE60019","Set-Aside",{"$f":"TRIM(TrnsfrXrefTable[[#This Row],[Summary Program]])&\"|\"&TRIM(TrnsfrXrefTable[[#This Row],[Summary Expenditure]])","v":"Title IV, Part A - APE60019|Set-Aside"}]
[6000,"Title IV, Part A","Safe & Healthy Students",{"$f":"TRIM(BdgtXrefTable[[#This Row],[Details Object Code]])&\"|\"&TRIM(BdgtXrefTable[[#This Row],[Details Program]])&\"|\"&TRIM(BdgtXrefTable[[#This Row],[Details Category]])","v":"6000|Title IV, Part A|Safe & Healthy Students"},"Title IV, Part A - Safe & Healthy Students","Non-Administrative",{"$f":"TRIM(BdgtXrefTable[[#This Row],[Summary Program]])&\"|\"&TRIM(BdgtXrefTable[[#This Row],[Summary Expenditure]])","v":"Title IV, Part A - Safe & Healthy Students|Non-Administrative"},null,2000,"Title IV, Part A, Transferability","Early Childhood",{"$f":"TRIM(TrnsfrXrefTable[[#This Row],[Details Object Code]])&\"|\"&TRIM(TrnsfrXrefTable[[#This Row],[Details Program]])&\"|\"&TRIM(TrnsfrXrefTable[[#This Row],[Details Category]])","v":"2000|Title IV, Part A, Transferability|Early Childhood"},"Title IV, Part A - APE60019","Set-Aside",{"$f":"TRIM(TrnsfrXrefTable[[#This Row],[Summary Program]])&\"|\"&TRIM(TrnsfrXrefTable[[#This Row],[Summary Expenditure]])","v":"Title IV, Part A - APE60019|Set-Aside"}]
[8000,"Title IV, Part A","Safe & Healthy Students - PS",{"$f":"TRIM(BdgtXrefTable[[#This Row],[Details Object Code]])&\"|\"&TRIM(BdgtXrefTable[[#This Row],[Details Program]])&\"|\"&TRIM(BdgtXrefTable[[#This Row],[Details Category]])","v":"8000|Title IV, Part A|Safe & Healthy Students - PS"},"Title IV, Part A - Safe & Healthy Students","Private School Set-Aside ",{"$f":"TRIM(BdgtXrefTable[[#This Row],[Summary Program]])&\"|\"&TRIM(BdgtXrefTable[[#This Row],[Summary Expenditure]])","v":"Title IV, Part A - Safe & Healthy Students|Private School Set-Aside"},null,2000,"Title IV, Part A, Transferability","EL Administrative",{"$f":"TRIM(TrnsfrXrefTable[[#This Row],[Details Object Code]])&\"|\"&TRIM(TrnsfrXrefTable[[#This Row],[Details Program]])&\"|\"&TRIM(TrnsfrXrefTable[[#This Row],[Details Category]])","v":"2000|Title IV, Part A, Transferability|EL Administrative"},"Title IV, Part A - APE60023","Administrative",{"$f":"TRIM(TrnsfrXrefTable[[#This Row],[Summary Program]])&\"|\"&TRIM(TrnsfrXrefTable[[#This Row],[Summary Expenditure]])","v":"Title IV, Part A - APE60023|Administrative"}]
[8000,"Title IV, Part A","Safe & Healthy Students",{"$f":"TRIM(BdgtXrefTable[[#This Row],[Details Object Code]])&\"|\"&TRIM(BdgtXrefTable[[#This Row],[Details Program]])&\"|\"&TRIM(BdgtXrefTable[[#This Row],[Details Category]])","v":"8000|Title IV, Part A|Safe & Healthy Students"},"Title IV, Part A - Safe & Healthy Students","Non-Administrative",{"$f":"TRIM(BdgtXrefTable[[#This Row],[Summary Program]])&\"|\"&TRIM(BdgtXrefTable[[#This Row],[Summary Expenditure]])","v":"Title IV, Part A - Safe & Healthy Students|Non-Administrative"},null,2000,"Title IV, Part A, Transferability","EL Private School",{"$f":"TRIM(TrnsfrXrefTable[[#This Row],[Details Object Code]])&\"|\"&TRIM(TrnsfrXrefTable[[#This Row],[Details Program]])&\"|\"&TRIM(TrnsfrXrefTable[[#This Row],[Details Category]])","v":"2000|Title IV, Part A, Transferability|EL Private School"},"Title IV, Part A - APE60023","Private School Set-Aside ",{"$f":"TRIM(TrnsfrXrefTable[[#This Row],[Summary Program]])&\"|\"&TRIM(TrnsfrXrefTable[[#This Row],[Summary Expenditure]])","v":"Title IV, Part A - APE60023|Private School Set-Aside"}]
[1000,"Title IV, Part A","Technology - PS",{"$f":"TRIM(BdgtXrefTable[[#This Row],[Details Object Code]])&\"|\"&TRIM(BdgtXrefTable[[#This Row],[Details Program]])&\"|\"&TRIM(BdgtXrefTable[[#This Row],[Details Category]])","v":"1000|Title IV, Part A|Technology - PS"},"Title IV, Part A - Technology","Private School Set-Aside ",{"$f":"TRIM(BdgtXrefTable[[#This Row],[Summary Program]])&\"|\"&TRIM(BdgtXrefTable[[#This Row],[Summary Expenditure]])","v":"Title IV, Part A - Technology|Private School Set-Aside"},null,2000,"Title IV, Part A, Transferability","EL Subgrant",{"$f":"TRIM(TrnsfrXrefTable[[#This Row],[Details Object Code]])&\"|\"&TRIM(TrnsfrXrefTable[[#This Row],[Details Program]])&\"|\"&TRIM(TrnsfrXrefTable[[#This Row],[Details Category]])","v":"2000|Title IV, Part A, Transferability|EL Subgrant"},"Title IV, Part A - APE60023","Non-Administrative",{"$f":"TRIM(TrnsfrXrefTable[[#This Row],[Summary Program]])&\"|\"&TRIM(TrnsfrXrefTable[[#This Row],[Summary Expenditure]])","v":"Title IV, Part A - APE60023|Non-Administrative"}]
[1000,"Title IV, Part A","Technology - Admin",{"$f":"TRIM(BdgtXrefTable[[#This Row],[Details Object Code]])&\"|\"&TRIM(BdgtXrefTable[[#This Row],[Details Program]])&\"|\"&TRIM(BdgtXrefTable[[#This Row],[Details Category]])","v":"1000|Title IV, Part A|Technology - Admin"},"Title IV, Part A - Technology","Administrative",{"$f":"TRIM(BdgtXrefTable[[#This Row],[Summary Program]])&\"|\"&TRIM(BdgtXrefTable[[#This Row],[Summary Expenditure]])","v":"Title IV, Part A - Technology|Administrative"},null,2000,"Title IV, Part A, Transferability","Evaluation",{"$f":"TRIM(TrnsfrXrefTable[[#This Row],[Details Object Code]])&\"|\"&TRIM(TrnsfrXrefTable[[#This Row],[Details Program]])&\"|\"&TRIM(TrnsfrXrefTable[[#This Row],[Details Category]])","v":"2000|Title IV, Part A, Transferability|Evaluation"},"Title IV, Part A - APE60022","Non-Administrative",{"$f":"TRIM(TrnsfrXrefTable[[#This Row],[Summary Program]])&\"|\"&TRIM(TrnsfrXrefTable[[#This Row],[Summary Expenditure]])","v":"Title IV, Part A - APE60022|Non-Administrative"}]
[1000,"Title IV, Part A","Technology",{"$f":"TRIM(BdgtXrefTable[[#This Row],[Details Object Code]])&\"|\"&TRIM(BdgtXrefTable[[#This Row],[Details Program]])&\"|\"&TRIM(BdgtXrefTable[[#This Row],[Details Category]])","v":"1000|Title IV, Part A|Technology"},"Title IV, Part A - Technology","Non-Administrative",{"$f":"TRIM(BdgtXrefTable[[#This Row],[Summary Program]])&\"|\"&TRIM(BdgtXrefTable[[#This Row],[Summary Expenditure]])","v":"Title IV, Part A - Technology|Non-Administrative"},null,2000,"Title IV, Part A, Transferability","Foster Care",{"$f":"TRIM(TrnsfrXrefTable[[#This Row],[Details Object Code]])&\"|\"&TRIM(TrnsfrXrefTable[[#This Row],[Details Program]])&\"|\"&TRIM(TrnsfrXrefTable[[#This Row],[Details Category]])","v":"2000|Title IV, Part A, Transferability|Foster Care"},"Title IV, Part A - APE60019","Set-Aside",{"$f":"TRIM(TrnsfrXrefTable[[#This Row],[Summary Program]])&\"|\"&TRIM(TrnsfrXrefTable[[#This Row],[Summary Expenditure]])","v":"Title IV, Part A - APE60019|Set-Aside"}]
[2000,"Title IV, Part A","Technology - PS",{"$f":"TRIM(BdgtXrefTable[[#This Row],[Details Object Code]])&\"|\"&TRIM(BdgtXrefTable[[#This Row],[Details Program]])&\"|\"&TRIM(BdgtXrefTable[[#This Row],[Details Category]])","v":"2000|Title IV, Part A|Technology - PS"},"Title IV, Part A - Technology","Private School Set-Aside ",{"$f":"TRIM(BdgtXrefTable[[#This Row],[Summary Program]])&\"|\"&TRIM(BdgtXrefTable[[#This Row],[Summary Expenditure]])","v":"Title IV, Part A - Technology|Private School Set-Aside"},null,2000,"Title IV, Part A, Transferability","Homeless",{"$f":"TRIM(TrnsfrXrefTable[[#This Row],[Details Object Code]])&\"|\"&TRIM(TrnsfrXrefTable[[#This Row],[Details Program]])&\"|\"&TRIM(TrnsfrXrefTable[[#This Row],[Details Category]])","v":"2000|Title IV, Part A, Transferability|Homeless"},"Title IV, Part A - APE60019","Set-Aside",{"$f":"TRIM(TrnsfrXrefTable[[#This Row],[Summary Program]])&\"|\"&TRIM(TrnsfrXrefTable[[#This Row],[Summary Expenditure]])","v":"Title IV, Part A - APE60019|Set-Aside"}]
[2000,"Title IV, Part A","Technology - Admin",{"$f":"TRIM(BdgtXrefTable[[#This Row],[Details Object Code]])&\"|\"&TRIM(BdgtXrefTable[[#This Row],[Details Program]])&\"|\"&TRIM(BdgtXrefTable[[#This Row],[Details Category]])","v":"2000|Title IV, Part A|Technology - Admin"},"Title IV, Part A - Technology","Administrative",{"$f":"TRIM(BdgtXrefTable[[#This Row],[Summary Program]])&\"|\"&TRIM(BdgtXrefTable[[#This Row],[Summary Expenditure]])","v":"Title IV, Part A - Technology|Administrative"},null,2000,"Title IV, Part A, Transferability","IY Subgrant",{"$f":"TRIM(TrnsfrXrefTable[[#This Row],[Details Object Code]])&\"|\"&TRIM(TrnsfrXrefTable[[#This Row],[Details Program]])&\"|\"&TRIM(TrnsfrXrefTable[[#This Row],[Details Category]])","v":"2000|Title IV, Part A, Transferability|IY Subgrant"},"Title IV, Part A - APE60023","Non-Administrative",{"$f":"TRIM(TrnsfrXrefTable[[#This Row],[Summary Program]])&\"|\"&TRIM(TrnsfrXrefTable[[#This Row],[Summary Expenditure]])","v":"Title IV, Part A - APE60023|Non-Administrative"}]
[2000,"Title IV, Part A","Technology",{"$f":"TRIM(BdgtXrefTable[[#This Row],[Details Object Code]])&\"|\"&TRIM(BdgtXrefTable[[#This Row],[Details Program]])&\"|\"&TRIM(BdgtXrefTable[[#This Row],[Details Category]])","v":"2000|Title IV, Part A|Technology"},"Title IV, Part A - Technology","Non-Administrative",{"$f":"TRIM(BdgtXrefTable[[#This Row],[Summary Program]])&\"|\"&TRIM(BdgtXrefTable[[#This Row],[Summary Expenditure]])","v":"Title IV, Part A - Technology|Non-Administrative"},null,2000,"Title IV, Part A, Transferability","Leadership",{"$f":"TRIM(TrnsfrXrefTable[[#This Row],[Details Object Code]])&\"|\"&TRIM(TrnsfrXrefTable[[#This Row],[Details Program]])&\"|\"&TRIM(TrnsfrXrefTable[[#This Row],[Details Category]])","v":"2000|Title IV, Part A, Transferability|Leadership"},"Title IV, Part A - APE60022","Administrative",{"$f":"TRIM(TrnsfrXrefTable[[#This Row],[Summary Program]])&\"|\"&TRIM(TrnsfrXrefTable[[#This Row],[Summary Expenditure]])","v":"Title IV, Part A - APE60022|Administrative"}]
[3000,"Title IV, Part A","Technology - PS",{"$f":"TRIM(BdgtXrefTable[[#This Row],[Details Object Code]])&\"|\"&TRIM(BdgtXrefTable[[#This Row],[Details Program]])&\"|\"&TRIM(BdgtXrefTable[[#This Row],[Details Category]])","v":"3000|Title IV, Part A|Technology - PS"},"Title IV, Part A - Technology","Private School Set-Aside ",{"$f":"TRIM(BdgtXrefTable[[#This Row],[Summary Program]])&\"|\"&TRIM(BdgtXrefTable[[#This Row],[Summary Expenditure]])","v":"Title IV, Part A - Technology|Private School Set-Aside"},null,2000,"Title IV, Part A, Transferability","Mentoring/Induction",{"$f":"TRIM(TrnsfrXrefTable[[#This Row],[Details Object Code]])&\"|\"&TRIM(TrnsfrXrefTable[[#This Row],[Details Program]])&\"|\"&TRIM(TrnsfrXrefTable[[#This Row],[Details Category]])","v":"2000|Title IV, Part A, Transferability|Mentoring/Induction"},"Title IV, Part A - APE60022","Non-Administrative",{"$f":"TRIM(TrnsfrXrefTable[[#This Row],[Summary Program]])&\"|\"&TRIM(TrnsfrXrefTable[[#This Row],[Summary Expenditure]])","v":"Title IV, Part A - APE60022|Non-Administrative"}]
[3000,"Title IV, Part A","Technology - Admin",{"$f":"TRIM(BdgtXrefTable[[#This Row],[Details Object Code]])&\"|\"&TRIM(BdgtXrefTable[[#This Row],[Details Program]])&\"|\"&TRIM(BdgtXrefTable[[#This Row],[Details Category]])","v":"3000|Title IV, Part A|Technology - Admin"},"Title IV, Part A - Technology","Administrative",{"$f":"TRIM(BdgtXrefTable[[#This Row],[Summary Program]])&\"|\"&TRIM(BdgtXrefTable[[#This Row],[Summary Expenditure]])","v":"Title IV, Part A - Technology|Administrative"},null,2000,"Title IV, Part A, Transferability","Migrant",{"$f":"TRIM(TrnsfrXrefTable[[#This Row],[Details Object Code]])&\"|\"&TRIM(TrnsfrXrefTable[[#This Row],[Details Program]])&\"|\"&TRIM(TrnsfrXrefTable[[#This Row],[Details Category]])","v":"2000|Title IV, Part A, Transferability|Migrant"},"Title IV, Part A - APE60020","Non Set-Aside",{"$f":"TRIM(TrnsfrXrefTable[[#This Row],[Summary Program]])&\"|\"&TRIM(TrnsfrXrefTable[[#This Row],[Summary Expenditure]])","v":"Title IV, Part A - APE60020|Non Set-Aside"}]
[3000,"Title IV, Part A","Technology",{"$f":"TRIM(BdgtXrefTable[[#This Row],[Details Object Code]])&\"|\"&TRIM(BdgtXrefTable[[#This Row],[Details Program]])&\"|\"&TRIM(BdgtXrefTable[[#This Row],[Details Category]])","v":"3000|Title IV, Part A|Technology"},"Title IV, Part A - Technology","Non-Administrative",{"$f":"TRIM(BdgtXrefTable[[#This Row],[Summary Program]])&\"|\"&TRIM(BdgtXrefTable[[#This Row],[Summary Expenditure]])","v":"Title IV, Part A - Technology|Non-Administrative"},null,2000,"Title IV, Part A, Transferability","Neglected",{"$f":"TRIM(TrnsfrXrefTable[[#This Row],[Details Object Code]])&\"|\"&TRIM(TrnsfrXrefTable[[#This Row],[Details Program]])&\"|\"&TRIM(TrnsfrXrefTable[[#This Row],[Details Category]])","v":"2000|Title IV, Part A, Transferability|Neglected"},"Title IV, Part A - APE60019","Set-Aside",{"$f":"TRIM(TrnsfrXrefTable[[#This Row],[Summary Program]])&\"|\"&TRIM(TrnsfrXrefTable[[#This Row],[Summary Expenditure]])","v":"Title IV, Part A - APE60019|Set-Aside"}]
[" "," "," ",{"$f":"TRIM(BdgtXrefTable[[#This Row],[Details Object Code]])&\"|\"&TRIM(BdgtXrefTable[[#This Row],[Details Program]])&\"|\"&TRIM(BdgtXrefTable[[#This Row],[Details Category]])","v":" | | "}," "," ",{"$f":"TRIM(BdgtXrefTable[[#This Row],[Summary Program]])&\"|\"&TRIM(BdgtXrefTable[[#This Row],[Summary Expenditure]])","v":" | "},null,2000,"Title IV, Part A, Transferability","Other",{"$f":"TRIM(TrnsfrXrefTable[[#This Row],[Details Object Code]])&\"|\"&TRIM(TrnsfrXrefTable[[#This Row],[Details Program]])&\"|\"&TRIM(TrnsfrXrefTable[[#This Row],[Details Category]])","v":"2000|Title IV, Part A, Transferability|Other"},"Title IV, Part A - APE60022","Non-Administrative",{"$f":"TRIM(TrnsfrXrefTable[[#This Row],[Summary Program]])&\"|\"&TRIM(TrnsfrXrefTable[[#This Row],[Summary Expenditure]])","v":"Title IV, Part A - APE60022|Non-Administrative"}]
[4000,"Title IV, Part A","Technology",{"$f":"TRIM(BdgtXrefTable[[#This Row],[Details Object Code]])&\"|\"&TRIM(BdgtXrefTable[[#This Row],[Details Program]])&\"|\"&TRIM(BdgtXrefTable[[#This Row],[Details Category]])","v":"4000|Title IV, Part A|Technology"},"Title IV, Part A - Technology","Internal Services",{"$f":"TRIM(BdgtXrefTable[[#This Row],[Summary Program]])&\"|\"&TRIM(BdgtXrefTable[[#This Row],[Summary Expenditure]])","v":"Title IV, Part A - Technology|Internal Services"},null,2000,"Title IV, Part A, Transferability","PFE (Division)",{"$f":"TRIM(TrnsfrXrefTable[[#This Row],[Details Object Code]])&\"|\"&TRIM(TrnsfrXrefTable[[#This Row],[Details Program]])&\"|\"&TRIM(TrnsfrXrefTable[[#This Row],[Details Category]])","v":"2000|Title IV, Part A, Transferability|PFE (Division)"},"Title IV, Part A - APE60019","Parent and Family Engagement Set-Aside",{"$f":"TRIM(TrnsfrXrefTable[[#This Row],[Summary Program]])&\"|\"&TRIM(TrnsfrXrefTable[[#This Row],[Summary Expenditure]])","v":"Title IV, Part A - APE60019|Parent and Family Engagement Set-Aside"}]
[5000,"Title IV, Part A","Technology - PS",{"$f":"TRIM(BdgtXrefTable[[#This Row],[Details Object Code]])&\"|\"&TRIM(BdgtXrefTable[[#This Row],[Details Program]])&\"|\"&TRIM(BdgtXrefTable[[#This Row],[Details Category]])","v":"5000|Title IV, Part A|Technology - PS"},"Title IV, Part A - Technology","Private School Set-Aside ",{"$f":"TRIM(BdgtXrefTable[[#This Row],[Summary Program]])&\"|\"&TRIM(BdgtXrefTable[[#This Row],[Summary Expenditure]])","v":"Title IV, Part A - Technology|Private School Set-Aside"},null,2000,"Title IV, Part A, Transferability","PFE (School Level)",{"$f":"TRIM(TrnsfrXrefTable[[#This Row],[Details Object Code]])&\"|\"&TRIM(TrnsfrXrefTable[[#This Row],[Details Program]])&\"|\"&TRIM(TrnsfrXrefTable[[#This Row],[Details Category]])","v":"2000|Title IV, Part A, Transferability|PFE (School Level)"},"Title IV, Part A - APE60019","Parent and Family Engagement Set-Aside",{"$f":"TRIM(TrnsfrXrefTable[[#This Row],[Summary Program]])&\"|\"&TRIM(TrnsfrXrefTable[[#This Row],[Summary Expenditure]])","v":"Title IV, Part A - APE60019|Parent and Family Engagement Set-Aside"}]
[5000,"Title IV, Part A","Technology",{"$f":"TRIM(BdgtXrefTable[[#This Row],[Details Object Code]])&\"|\"&TRIM(BdgtXrefTable[[#This Row],[Details Program]])&\"|\"&TRIM(BdgtXrefTable[[#This Row],[Details Category]])","v":"5000|Title IV, Part A|Technology"},"Title IV, Part A - Technology","Non-Administrative",{"$f":"TRIM(BdgtXrefTable[[#This Row],[Summary Program]])&\"|\"&TRIM(BdgtXrefTable[[#This Row],[Summary Expenditure]])","v":"Title IV, Part A - Technology|Non-Administrative"},null,2000,"Title IV, Part A, Transferability","Private School",{"$f":"TRIM(TrnsfrXrefTable[[#This Row],[Details Object Code]])&\"|\"&TRIM(TrnsfrXrefTable[[#This Row],[Details Program]])&\"|\"&TRIM(TrnsfrXrefTable[[#This Row],[Details Category]])","v":"2000|Title IV, Part A, Transferability|Private School"},"Title IV, Part A - APE60022","Private School Set-Aside ",{"$f":"TRIM(TrnsfrXrefTable[[#This Row],[Summary Program]])&\"|\"&TRIM(TrnsfrXrefTable[[#This Row],[Summary Expenditure]])","v":"Title IV, Part A - APE60022|Private School Set-Aside"}]
[5000,"Title IV, Part A","Technology - Indirect Costs",{"$f":"TRIM(BdgtXrefTable[[#This Row],[Details Object Code]])&\"|\"&TRIM(BdgtXrefTable[[#This Row],[Details Program]])&\"|\"&TRIM(BdgtXrefTable[[#This Row],[Details Category]])","v":"5000|Title IV, Part A|Technology - Indirect Costs"},"Title IV, Part A - Technology","Indirect Costs",{"$f":"TRIM(BdgtXrefTable[[#This Row],[Summary Program]])&\"|\"&TRIM(BdgtXrefTable[[#This Row],[Summary Expenditure]])","v":"Title IV, Part A - Technology|Indirect Costs"},null,2000,"Title IV, Part A, Transferability","Professional Development",{"$f":"TRIM(TrnsfrXrefTable[[#This Row],[Details Object Code]])&\"|\"&TRIM(TrnsfrXrefTable[[#This Row],[Details Program]])&\"|\"&TRIM(TrnsfrXrefTable[[#This Row],[Details Category]])","v":"2000|Title IV, Part A, Transferability|Professional Development"},"Title IV, Part A - APE60022","Non-Administrative",{"$f":"TRIM(TrnsfrXrefTable[[#This Row],[Summary Program]])&\"|\"&TRIM(TrnsfrXrefTable[[#This Row],[Summary Expenditure]])","v":"Title IV, Part A - APE60022|Non-Administrative"}]
[6000,"Title IV, Part A","Technology - PS",{"$f":"TRIM(BdgtXrefTable[[#This Row],[Details Object Code]])&\"|\"&TRIM(BdgtXrefTable[[#This Row],[Details Program]])&\"|\"&TRIM(BdgtXrefTable[[#This Row],[Details Category]])","v":"6000|Title IV, Part A|Technology - PS"},"Title IV, Part A - Technology","Private School Set-Aside ",{"$f":"TRIM(BdgtXrefTable[[#This Row],[Summary Program]])&\"|\"&TRIM(BdgtXrefTable[[#This Row],[Summary Expenditure]])","v":"Title IV, Part A - Technology|Private School Set-Aside"},null,2000,"Title IV, Part A, Transferability","Recruitment/Retention",{"$f":"TRIM(TrnsfrXrefTable[[#This Row],[Details Object Code]])&\"|\"&TRIM(TrnsfrXrefTable[[#This Row],[Details Program]])&\"|\"&TRIM(TrnsfrXrefTable[[#This Row],[Details Category]])","v":"2000|Title IV, Part A, Transferability|Recruitment/Retention"},"Title IV, Part A - APE60022","Non-Administrative",{"$f":"TRIM(TrnsfrXrefTable[[#This Row],[Summary Program]])&\"|\"&TRIM(TrnsfrXrefTable[[#This Row],[Summary Expenditure]])","v":"Title IV, Part A - APE60022|Non-Administrative"}]
[6000,"Title IV, Part A","Technology - Admin",{"$f":"TRIM(BdgtXrefTable[[#This Row],[Details Object Code]])&\"|\"&TRIM(BdgtXrefTable[[#This Row],[Details Program]])&\"|\"&TRIM(BdgtXrefTable[[#This Row],[Details Category]])","v":"6000|Title IV, Part A|Technology - Admin"},"Title IV, Part A - Technology","Administrative",{"$f":"TRIM(BdgtXrefTable[[#This Row],[Summary Program]])&\"|\"&TRIM(BdgtXrefTable[[#This Row],[Summary Expenditure]])","v":"Title IV, Part A - Technology|Administrative"},null,2000,"Title IV, Part A, Transferability","Salary Differential",{"$f":"TRIM(TrnsfrXrefTable[[#This Row],[Details Object Code]])&\"|\"&TRIM(TrnsfrXrefTable[[#This Row],[Details Program]])&\"|\"&TRIM(TrnsfrXrefTable[[#This Row],[Details Category]])","v":"2000|Title IV, Part A, Transferability|Salary Differential"},"Title IV, Part A - APE60019","Set-Aside",{"$f":"TRIM(TrnsfrXrefTable[[#This Row],[Summary Program]])&\"|\"&TRIM(TrnsfrXrefTable[[#This Row],[Summary Expenditure]])","v":"Title IV, Part A - APE60019|Set-Aside"}]
[6000,"Title IV, Part A","Technology",{"$f":"TRIM(BdgtXrefTable[[#This Row],[Details Object Code]])&\"|\"&TRIM(BdgtXrefTable[[#This Row],[Details Program]])&\"|\"&TRIM(BdgtXrefTable[[#This Row],[Details Category]])","v":"6000|Title IV, Part A|Technology"},"Title IV, Part A - Technology","Non-Administrative",{"$f":"TRIM(BdgtXrefTable[[#This Row],[Summary Program]])&\"|\"&TRIM(BdgtXrefTable[[#This Row],[Summary Expenditure]])","v":"Title IV, Part A - Technology|Non-Administrative"},null,2000,"Title IV, Part A, Transferability","Title II Private School",null,"Title IV, Part A - APE60022","Private School Set-Aside ",{"$f":"TRIM(TrnsfrXrefTable[[#This Row],[Summary Program]])&\"|\"&TRIM(TrnsfrXrefTable[[#This Row],[Summary Expenditure]])","v":"Title IV, Part A - APE60022|Private School Set-Aside"}]
[8000,"Title IV, Part A","Technology - PS",{"$f":"TRIM(BdgtXrefTable[[#This Row],[Details Object Code]])&\"|\"&TRIM(BdgtXrefTable[[#This Row],[Details Program]])&\"|\"&TRIM(BdgtXrefTable[[#This Row],[Details Category]])","v":"8000|Title IV, Part A|Technology - PS"},"Title IV, Part A - Technology","Private School Set-Aside ",{"$f":"TRIM(BdgtXrefTable[[#This Row],[Summary Program]])&\"|\"&TRIM(BdgtXrefTable[[#This Row],[Summary Expenditure]])","v":"Title IV, Part A - Technology|Private School Set-Aside"},null,2000,"Title IV, Part A, Transferability","Title I C Private School",{"$f":"TRIM(TrnsfrXrefTable[[#This Row],[Details Object Code]])&\"|\"&TRIM(TrnsfrXrefTable[[#This Row],[Details Program]])&\"|\"&TRIM(TrnsfrXrefTable[[#This Row],[Details Category]])","v":"2000|Title IV, Part A, Transferability|Title I C Private School"},"Title IV, Part A - APE60020","Private School Set-Aside ",{"$f":"TRIM(TrnsfrXrefTable[[#This Row],[Summary Program]])&\"|\"&TRIM(TrnsfrXrefTable[[#This Row],[Summary Expenditure]])","v":"Title IV, Part A - APE60020|Private School Set-Aside"}]
[8000,"Title IV, Part A","Technology",{"$f":"TRIM(BdgtXrefTable[[#This Row],[Details Object Code]])&\"|\"&TRIM(BdgtXrefTable[[#This Row],[Details Program]])&\"|\"&TRIM(BdgtXrefTable[[#This Row],[Details Category]])","v":"8000|Title IV, Part A|Technology"},"Title IV, Part A - Technology","Non-Administrative",{"$f":"TRIM(BdgtXrefTable[[#This Row],[Summary Program]])&\"|\"&TRIM(BdgtXrefTable[[#This Row],[Summary Expenditure]])","v":"Title IV, Part A - Technology|Non-Administrative"},null,2000,"Title IV, Part A, Transferability","Title I Private School",{"$f":"TRIM(TrnsfrXrefTable[[#This Row],[Details Object Code]])&\"|\"&TRIM(TrnsfrXrefTable[[#This Row],[Details Program]])&\"|\"&TRIM(TrnsfrXrefTable[[#This Row],[Details Category]])","v":"2000|Title IV, Part A, Transferability|Title I Private School"},"Title IV, Part A - APE60019","Private School Set-Aside ",{"$f":"TRIM(TrnsfrXrefTable[[#This Row],[Summary Program]])&\"|\"&TRIM(TrnsfrXrefTable[[#This Row],[Summary Expenditure]])","v":"Title IV, Part A - APE60019|Private School Set-Aside"}]
[1000,"Title V, Part B, Subpart 2","Rural and Low Income",{"$f":"TRIM(BdgtXrefTable[[#This Row],[Details Object Code]])&\"|\"&TRIM(BdgtXrefTable[[#This Row],[Details Program]])&\"|\"&TRIM(BdgtXrefTable[[#This Row],[Details Category]])","v":"1000|Title V, Part B, Subpart 2|Rural and Low Income"},"Title V, Part B","Non Set-Aside",{"$f":"TRIM(BdgtXrefTable[[#This Row],[Summary Program]])&\"|\"&TRIM(BdgtXrefTable[[#This Row],[Summary Expenditure]])","v":"Title V, Part B|Non Set-Aside"},null,2000,"Title IV, Part A, Transferability","Title IIA Administration",{"$f":"TRIM(TrnsfrXrefTable[[#This Row],[Details Object Code]])&\"|\"&TRIM(TrnsfrXrefTable[[#This Row],[Details Program]])&\"|\"&TRIM(TrnsfrXrefTable[[#This Row],[Details Category]])","v":"2000|Title IV, Part A, Transferability|Title IIA Administration"},"Title IV, Part A - APE60022","Administrative",{"$f":"TRIM(TrnsfrXrefTable[[#This Row],[Summary Program]])&\"|\"&TRIM(TrnsfrXrefTable[[#This Row],[Summary Expenditure]])","v":"Title IV, Part A - APE60022|Administrative"}]
[2000,"Title V, Part B, Subpart 2","Rural and Low Income",{"$f":"TRIM(BdgtXrefTable[[#This Row],[Details Object Code]])&\"|\"&TRIM(BdgtXrefTable[[#This Row],[Details Program]])&\"|\"&TRIM(BdgtXrefTable[[#This Row],[Details Category]])","v":"2000|Title V, Part B, Subpart 2|Rural and Low Income"},"Title V, Part B","Non Set-Aside",{"$f":"TRIM(BdgtXrefTable[[#This Row],[Summary Program]])&\"|\"&TRIM(BdgtXrefTable[[#This Row],[Summary Expenditure]])","v":"Title V, Part B|Non Set-Aside"},null,2000,"Title IV, Part A, Transferability","Title II Private School",{"$f":"TRIM(TrnsfrXrefTable[[#This Row],[Details Object Code]])&\"|\"&TRIM(TrnsfrXrefTable[[#This Row],[Details Program]])&\"|\"&TRIM(TrnsfrXrefTable[[#This Row],[Details Category]])","v":"2000|Title IV, Part A, Transferability|Title II Private School"},"Title IV, Part A - APE60022","Private School Set-Aside ",{"$f":"TRIM(TrnsfrXrefTable[[#This Row],[Summary Program]])&\"|\"&TRIM(TrnsfrXrefTable[[#This Row],[Summary Expenditure]])","v":"Title IV, Part A - APE60022|Private School Set-Aside"}]
[3000,"Title V, Part B, Subpart 2","Rural and Low Income",{"$f":"TRIM(BdgtXrefTable[[#This Row],[Details Object Code]])&\"|\"&TRIM(BdgtXrefTable[[#This Row],[Details Program]])&\"|\"&TRIM(BdgtXrefTable[[#This Row],[Details Category]])","v":"3000|Title V, Part B, Subpart 2|Rural and Low Income"},"Title V, Part B","Non Set-Aside",{"$f":"TRIM(BdgtXrefTable[[#This Row],[Summary Program]])&\"|\"&TRIM(BdgtXrefTable[[#This Row],[Summary Expenditure]])","v":"Title V, Part B|Non Set-Aside"},null,2000,"Title IV, Part A, Transferability","Non Set-Aside",{"$f":"TRIM(TrnsfrXrefTable[[#This Row],[Details Object Code]])&\"|\"&TRIM(TrnsfrXrefTable[[#This Row],[Details Program]])&\"|\"&TRIM(TrnsfrXrefTable[[#This Row],[Details Category]])","v":"2000|Title IV, Part A, Transferability|Non Set-Aside"},"Title IV, Part A - APE60019","Non Set-Aside",{"$f":"TRIM(TrnsfrXrefTable[[#This Row],[Summary Program]])&\"|\"&TRIM(TrnsfrXrefTable[[#This Row],[Summary Expenditure]])","v":"Title IV, Part A - APE60019|Non Set-Aside"}]
[4000,"Title V, Part B, Subpart 2","Rural and Low Income",{"$f":"TRIM(BdgtXrefTable[[#This Row],[Details Object Code]])&\"|\"&TRIM(BdgtXrefTable[[#This Row],[Details Program]])&\"|\"&TRIM(BdgtXrefTable[[#This Row],[Details Category]])","v":"4000|Title V, Part B, Subpart 2|Rural and Low Income"},"Title V, Part B","Non Set-Aside",{"$f":"TRIM(BdgtXrefTable[[#This Row],[Summary Program]])&\"|\"&TRIM(BdgtXrefTable[[#This Row],[Summary Expenditure]])","v":"Title V, Part B|Non Set-Aside"},null,2000,"Title IV, Part A, Transferability","Rural and Low Income",{"$f":"TRIM(TrnsfrXrefTable[[#This Row],[Details Object Code]])&\"|\"&TRIM(TrnsfrXrefTable[[#This Row],[Details Program]])&\"|\"&TRIM(TrnsfrXrefTable[[#This Row],[Details Category]])","v":"2000|Title IV, Part A, Transferability|Rural and Low Income"},"Title IV, Part A - APE60024","Non Set-Aside",{"$f":"TRIM(TrnsfrXrefTable[[#This Row],[Summary Program]])&\"|\"&TRIM(TrnsfrXrefTable[[#This Row],[Summary Expenditure]])","v":"Title IV, Part A - APE60024|Non Set-Aside"}]
[5000,"Title V, Part B, Subpart 2","Rural and Low Income",{"$f":"TRIM(BdgtXrefTable[[#This Row],[Details Object Code]])&\"|\"&TRIM(BdgtXrefTable[[#This Row],[Details Program]])&\"|\"&TRIM(BdgtXrefTable[[#This Row],[Details Category]])","v":"5000|Title V, Part B, Subpart 2|Rural and Low Income"},"Title V, Part B","Non Set-Aside",{"$f":"TRIM(BdgtXrefTable[[#This Row],[Summary Program]])&\"|\"&TRIM(BdgtXrefTable[[#This Row],[Summary Expenditure]])","v":"Title V, Part B|Non Set-Aside"},null,3000,"Title IV, Part A, Transferability","CSI/TSI",{"$f":"TRIM(TrnsfrXrefTable[[#This Row],[Details Object Code]])&\"|\"&TRIM(TrnsfrXrefTable[[#This Row],[Details Program]])&\"|\"&TRIM(TrnsfrXrefTable[[#This Row],[Details Category]])","v":"3000|Title IV, Part A, Transferability|CSI/TSI"},"Title IV, Part A - APE60019","Set-Aside",{"$f":"TRIM(TrnsfrXrefTable[[#This Row],[Summary Program]])&\"|\"&TRIM(TrnsfrXrefTable[[#This Row],[Summary Expenditure]])","v":"Title IV, Part A - APE60019|Set-Aside"}]
[6000,"Title V, Part B, Subpart 2","Rural and Low Income",{"$f":"TRIM(BdgtXrefTable[[#This Row],[Details Object Code]])&\"|\"&TRIM(BdgtXrefTable[[#This Row],[Details Program]])&\"|\"&TRIM(BdgtXrefTable[[#This Row],[Details Category]])","v":"6000|Title V, Part B, Subpart 2|Rural and Low Income"},"Title V, Part B","Non Set-Aside",{"$f":"TRIM(BdgtXrefTable[[#This Row],[Summary Program]])&\"|\"&TRIM(BdgtXrefTable[[#This Row],[Summary Expenditure]])","v":"Title V, Part B|Non Set-Aside"},null,3000,"Title IV, Part A, Transferability","Delinquent",{"$f":"TRIM(TrnsfrXrefTable[[#This Row],[Details Object Code]])&\"|\"&TRIM(TrnsfrXrefTable[[#This Row],[Details Program]])&\"|\"&TRIM(TrnsfrXrefTable[[#This Row],[Details Category]])","v":"3000|Title IV, Part A, Transferability|Delinquent"},"Title IV, Part A - APE60021","Non Set-Aside",{"$f":"TRIM(TrnsfrXrefTable[[#This Row],[Summary Program]])&\"|\"&TRIM(TrnsfrXrefTable[[#This Row],[Summary Expenditure]])","v":"Title IV, Part A - APE60021|Non Set-Aside"}]
[8000,"Title V, Part B, Subpart 2","Rural and Low Income",{"$f":"TRIM(BdgtXrefTable[[#This Row],[Details Object Code]])&\"|\"&TRIM(BdgtXrefTable[[#This Row],[Details Program]])&\"|\"&TRIM(BdgtXrefTable[[#This Row],[Details Category]])","v":"8000|Title V, Part B, Subpart 2|Rural and Low Income"},"Title V, Part B","Non Set-Aside",{"$f":"TRIM(BdgtXrefTable[[#This Row],[Summary Program]])&\"|\"&TRIM(BdgtXrefTable[[#This Row],[Summary Expenditure]])","v":"Title V, Part B|Non Set-Aside"},null,3000,"Title IV, Part A, Transferability","Division",{"$f":"TRIM(TrnsfrXrefTable[[#This Row],[Details Object Code]])&\"|\"&TRIM(TrnsfrXrefTable[[#This Row],[Details Program]])&\"|\"&TRIM(TrnsfrXrefTable[[#This Row],[Details Category]])","v":"3000|Title IV, Part A, Transferability|Division"},"Title IV, Part A - APE60019","Set-Aside",{"$f":"TRIM(TrnsfrXrefTable[[#This Row],[Summary Program]])&\"|\"&TRIM(TrnsfrXrefTable[[#This Row],[Summary Expenditure]])","v":"Title IV, Part A - APE60019|Set-Aside"}]
[8000,"Title V, Part B, Subpart 2","Rural and Low Income",{"$f":"TRIM(BdgtXrefTable[[#This Row],[Details Object Code]])&\"|\"&TRIM(BdgtXrefTable[[#This Row],[Details Program]])&\"|\"&TRIM(BdgtXrefTable[[#This Row],[Details Category]])","v":"8000|Title V, Part B, Subpart 2|Rural and Low Income"},"Title V, Part B","Non Set-Aside",{"$f":"TRIM(BdgtXrefTable[[#This Row],[Summary Program]])&\"|\"&TRIM(BdgtXrefTable[[#This Row],[Summary Expenditure]])","v":"Title V, Part B|Non Set-Aside"},null,3000,"Title IV, Part A, Transferability","Early Childhood",{"$f":"TRIM(TrnsfrXrefTable[[#This Row],[Details Object Code]])&\"|\"&TRIM(TrnsfrXrefTable[[#This Row],[Details Program]])&\"|\"&TRIM(TrnsfrXrefTable[[#This Row],[Details Category]])","v":"3000|Title IV, Part A, Transferability|Early Childhood"},"Title IV, Part A - APE60019","Set-Aside",{"$f":"TRIM(TrnsfrXrefTable[[#This Row],[Summary Program]])&\"|\"&TRIM(TrnsfrXrefTable[[#This Row],[Summary Expenditure]])","v":"Title IV, Part A - APE60019|Set-Aside"}]
[4000,"Title II, Part A","Title IIA Administration",{"$f":"TRIM(BdgtXrefTable[[#This Row],[Details Object Code]])&\"|\"&TRIM(BdgtXrefTable[[#This Row],[Details Program]])&\"|\"&TRIM(BdgtXrefTable[[#This Row],[Details Category]])","v":"4000|Title II, Part A|Title IIA Administration"},"Title II, Part A","Administrative",{"$f":"TRIM(BdgtXrefTable[[#This Row],[Summary Program]])&\"|\"&TRIM(BdgtXrefTable[[#This Row],[Summary Expenditure]])","v":"Title II, Part A|Administrative"},null,3000,"Title IV, Part A, Transferability","EL Administrative",{"$f":"TRIM(TrnsfrXrefTable[[#This Row],[Details Object Code]])&\"|\"&TRIM(TrnsfrXrefTable[[#This Row],[Details Program]])&\"|\"&TRIM(TrnsfrXrefTable[[#This Row],[Details Category]])","v":"3000|Title IV, Part A, Transferability|EL Administrative"},"Title IV, Part A - APE60023","Administrative",{"$f":"TRIM(TrnsfrXrefTable[[#This Row],[Summary Program]])&\"|\"&TRIM(TrnsfrXrefTable[[#This Row],[Summary Expenditure]])","v":"Title IV, Part A - APE60023|Administrative"}]
[null,null,null,null,null,null,null,null,3000,"Title IV, Part A, Transferability","EL Private School",{"$f":"TRIM(TrnsfrXrefTable[[#This Row],[Details Object Code]])&\"|\"&TRIM(TrnsfrXrefTable[[#This Row],[Details Program]])&\"|\"&TRIM(TrnsfrXrefTable[[#This Row],[Details Category]])","v":"3000|Title IV, Part A, Transferability|EL Private School"},"Title IV, Part A - APE60023","Private School Set-Aside ",{"$f":"TRIM(TrnsfrXrefTable[[#This Row],[Summary Program]])&\"|\"&TRIM(TrnsfrXrefTable[[#This Row],[Summary Expenditure]])","v":"Title IV, Part A - APE60023|Private School Set-Aside"}]
[null,null,null,null,null,null,null,null,3000,"Title IV, Part A, Transferability","EL Subgrant",{"$f":"TRIM(TrnsfrXrefTable[[#This Row],[Details Object Code]])&\"|\"&TRIM(TrnsfrXrefTable[[#This Row],[Details Program]])&\"|\"&TRIM(TrnsfrXrefTable[[#This Row],[Details Category]])","v":"3000|Title IV, Part A, Transferability|EL Subgrant"},"Title IV, Part A - APE60023","Contracted Services",{"$f":"TRIM(TrnsfrXrefTable[[#This Row],[Summary Program]])&\"|\"&TRIM(TrnsfrXrefTable[[#This Row],[Summary Expenditure]])","v":"Title IV, Part A - APE60023|Contracted Services"}]
[null,null,null,null,null,null,null,null,3000,"Title IV, Part A, Transferability","Evaluation",{"$f":"TRIM(TrnsfrXrefTable[[#This Row],[Details Object Code]])&\"|\"&TRIM(TrnsfrXrefTable[[#This Row],[Details Program]])&\"|\"&TRIM(TrnsfrXrefTable[[#This Row],[Details Category]])","v":"3000|Title IV, Part A, Transferability|Evaluation"},"Title IV, Part A - APE60022","Non-Administrative",{"$f":"TRIM(TrnsfrXrefTable[[#This Row],[Summary Program]])&\"|\"&TRIM(TrnsfrXrefTable[[#This Row],[Summary Expenditure]])","v":"Title IV, Part A - APE60022|Non-Administrative"}]
[null,null,null,null,null,null,null,null,3000,"Title IV, Part A, Transferability","Foster Care",{"$f":"TRIM(TrnsfrXrefTable[[#This Row],[Details Object Code]])&\"|\"&TRIM(TrnsfrXrefTable[[#This Row],[Details Program]])&\"|\"&TRIM(TrnsfrXrefTable[[#This Row],[Details Category]])","v":"3000|Title IV, Part A, Transferability|Foster Care"},"Title IV, Part A - APE60019","Set-Aside",{"$f":"TRIM(TrnsfrXrefTable[[#This Row],[Summary Program]])&\"|\"&TRIM(TrnsfrXrefTable[[#This Row],[Summary Expenditure]])","v":"Title IV, Part A - APE60019|Set-Aside"}]
[null,null,null,null,null,null,null,null,3000,"Title IV, Part A, Transferability","Homeless",{"$f":"TRIM(TrnsfrXrefTable[[#This Row],[Details Object Code]])&\"|\"&TRIM(TrnsfrXrefTable[[#This Row],[Details Program]])&\"|\"&TRIM(TrnsfrXrefTable[[#This Row],[Details Category]])","v":"3000|Title IV, Part A, Transferability|Homeless"},"Title IV, Part A - APE60019","Set-Aside",{"$f":"TRIM(TrnsfrXrefTable[[#This Row],[Summary Program]])&\"|\"&TRIM(TrnsfrXrefTable[[#This Row],[Summary Expenditure]])","v":"Title IV, Part A - APE60019|Set-Aside"}]
[null,null,null,null,null,null,null,null,3000,"Title IV, Part A, Transferability","IY Subgrant",{"$f":"TRIM(TrnsfrXrefTable[[#This Row],[Details Object Code]])&\"|\"&TRIM(TrnsfrXrefTable[[#This Row],[Details Program]])&\"|\"&TRIM(TrnsfrXrefTable[[#This Row],[Details Category]])","v":"3000|Title IV, Part A, Transferability|IY Subgrant"},"Title IV, Part A - APE60023","Contracted Services",{"$f":"TRIM(TrnsfrXrefTable[[#This Row],[Summary Program]])&\"|\"&TRIM(TrnsfrXrefTable[[#This Row],[Summary Expenditure]])","v":"Title IV, Part A - APE60023|Contracted Services"}]
[null,null,null,null,null,null,null,null,3000,"Title IV, Part A, Transferability","Leadership",{"$f":"TRIM(TrnsfrXrefTable[[#This Row],[Details Object Code]])&\"|\"&TRIM(TrnsfrXrefTable[[#This Row],[Details Program]])&\"|\"&TRIM(TrnsfrXrefTable[[#This Row],[Details Category]])","v":"3000|Title IV, Part A, Transferability|Leadership"},"Title IV, Part A - APE60022","Administrative",{"$f":"TRIM(TrnsfrXrefTable[[#This Row],[Summary Program]])&\"|\"&TRIM(TrnsfrXrefTable[[#This Row],[Summary Expenditure]])","v":"Title IV, Part A - APE60022|Administrative"}]
[null,null,null,null,null,null,null,null,3000,"Title IV, Part A, Transferability","Mentoring/Induction",{"$f":"TRIM(TrnsfrXrefTable[[#This Row],[Details Object Code]])&\"|\"&TRIM(TrnsfrXrefTable[[#This Row],[Details Program]])&\"|\"&TRIM(TrnsfrXrefTable[[#This Row],[Details Category]])","v":"3000|Title IV, Part A, Transferability|Mentoring/Induction"},"Title IV, Part A - APE60022","Non-Administrative",{"$f":"TRIM(TrnsfrXrefTable[[#This Row],[Summary Program]])&\"|\"&TRIM(TrnsfrXrefTable[[#This Row],[Summary Expenditure]])","v":"Title IV, Part A - APE60022|Non-Administrative"}]
[null,null,null,null,null,null,null,null,3000,"Title IV, Part A, Transferability","Migrant",{"$f":"TRIM(TrnsfrXrefTable[[#This Row],[Details Object Code]])&\"|\"&TRIM(TrnsfrXrefTable[[#This Row],[Details Program]])&\"|\"&TRIM(TrnsfrXrefTable[[#This Row],[Details Category]])","v":"3000|Title IV, Part A, Transferability|Migrant"},"Title IV, Part A - APE60020","Non Set-Aside",{"$f":"TRIM(TrnsfrXrefTable[[#This Row],[Summary Program]])&\"|\"&TRIM(TrnsfrXrefTable[[#This Row],[Summary Expenditure]])","v":"Title IV, Part A - APE60020|Non Set-Aside"}]
[null,null,null,null,null,null,null,null,3000,"Title IV, Part A, Transferability","Neglected",{"$f":"TRIM(TrnsfrXrefTable[[#This Row],[Details Object Code]])&\"|\"&TRIM(TrnsfrXrefTable[[#This Row],[Details Program]])&\"|\"&TRIM(TrnsfrXrefTable[[#This Row],[Details Category]])","v":"3000|Title IV, Part A, Transferability|Neglected"},"Title IV, Part A - APE60019","Set-Aside",{"$f":"TRIM(TrnsfrXrefTable[[#This Row],[Summary Program]])&\"|\"&TRIM(TrnsfrXrefTable[[#This Row],[Summary Expenditure]])","v":"Title IV, Part A - APE60019|Set-Aside"}]
[null,null,null,null,null,null,null,null,3000,"Title IV, Part A, Transferability","Other",{"$f":"TRIM(TrnsfrXrefTable[[#This Row],[Details Object Code]])&\"|\"&TRIM(TrnsfrXrefTable[[#This Row],[Details Program]])&\"|\"&TRIM(TrnsfrXrefTable[[#This Row],[Details Category]])","v":"3000|Title IV, Part A, Transferability|Other"},"Title IV, Part A - APE60022","Non-Administrative",{"$f":"TRIM(TrnsfrXrefTable[[#This Row],[Summary Program]])&\"|\"&TRIM(TrnsfrXrefTable[[#This Row],[Summary Expenditure]])","v":"Title IV, Part A - APE60022|Non-Administrative"}]
[null,null,null,null,null,null,null,null,3000,"Title IV, Part A, Transferability","PFE (Division)",{"$f":"TRIM(TrnsfrXrefTable[[#This Row],[Details Object Code]])&\"|\"&TRIM(TrnsfrXrefTable[[#This Row],[Details Program]])&\"|\"&TRIM(TrnsfrXrefTable[[#This Row],[Details Category]])","v":"3000|Title IV, Part A, Transferability|PFE (Division)"},"Title IV, Part A - APE60019","Parent and Family Engagement Set-Aside",{"$f":"TRIM(TrnsfrXrefTable[[#This Row],[Summary Program]])&\"|\"&TRIM(TrnsfrXrefTable[[#This Row],[Summary Expenditure]])","v":"Title IV, Part A - APE60019|Parent and Family Engagement Set-Aside"}]
[null,null,null,null,null,null,null,null,3000,"Title IV, Part A, Transferability","PFE (School Level)",{"$f":"TRIM(TrnsfrXrefTable[[#This Row],[Details Object Code]])&\"|\"&TRIM(TrnsfrXrefTable[[#This Row],[Details Program]])&\"|\"&TRIM(TrnsfrXrefTable[[#This Row],[Details Category]])","v":"3000|Title IV, Part A, Transferability|PFE (School Level)"},"Title IV, Part A - APE60019","Parent and Family Engagement Set-Aside",{"$f":"TRIM(TrnsfrXrefTable[[#This Row],[Summary Program]])&\"|\"&TRIM(TrnsfrXrefTable[[#This Row],[Summary Expenditure]])","v":"Title IV, Part A - APE60019|Parent and Family Engagement Set-Aside"}]
[null,null,null,null,null,null,null,null,3000,"Title IV, Part A, Transferability","Private School",{"$f":"TRIM(TrnsfrXrefTable[[#This Row],[Details Object Code]])&\"|\"&TRIM(TrnsfrXrefTable[[#This Row],[Details Program]])&\"|\"&TRIM(TrnsfrXrefTable[[#This Row],[Details Category]])","v":"3000|Title IV, Part A, Transferability|Private School"},"Title IV, Part A - APE60022","Private School Set-Aside ",{"$f":"TRIM(TrnsfrXrefTable[[#This Row],[Summary Program]])&\"|\"&TRIM(TrnsfrXrefTable[[#This Row],[Summary Expenditure]])","v":"Title IV, Part A - APE60022|Private School Set-Aside"}]
[null,null,null,null,null,null,null,null,3000,"Title IV, Part A, Transferability","Professional Development",{"$f":"TRIM(TrnsfrXrefTable[[#This Row],[Details Object Code]])&\"|\"&TRIM(TrnsfrXrefTable[[#This Row],[Details Program]])&\"|\"&TRIM(TrnsfrXrefTable[[#This Row],[Details Category]])","v":"3000|Title IV, Part A, Transferability|Professional Development"},"Title IV, Part A - APE60022","Non-Administrative",{"$f":"TRIM(TrnsfrXrefTable[[#This Row],[Summary Program]])&\"|\"&TRIM(TrnsfrXrefTable[[#This Row],[Summary Expenditure]])","v":"Title IV, Part A - APE60022|Non-Administrative"}]
[null,null,null,null,null,null,null,null,3000,"Title IV, Part A, Transferability","Recruitment/Retention",{"$f":"TRIM(TrnsfrXrefTable[[#This Row],[Details Object Code]])&\"|\"&TRIM(TrnsfrXrefTable[[#This Row],[Details Program]])&\"|\"&TRIM(TrnsfrXrefTable[[#This Row],[Details Category]])","v":"3000|Title IV, Part A, Transferability|Recruitment/Retention"},"Title IV, Part A - APE60022","Non-Administrative",{"$f":"TRIM(TrnsfrXrefTable[[#This Row],[Summary Program]])&\"|\"&TRIM(TrnsfrXrefTable[[#This Row],[Summary Expenditure]])","v":"Title IV, Part A - APE60022|Non-Administrative"}]
[null,null,null,null,null,null,null,null,3000,"Title IV, Part A, Transferability","Salary Differential",{"$f":"TRIM(TrnsfrXrefTable[[#This Row],[Details Object Code]])&\"|\"&TRIM(TrnsfrXrefTable[[#This Row],[Details Program]])&\"|\"&TRIM(TrnsfrXrefTable[[#This Row],[Details Category]])","v":"3000|Title IV, Part A, Transferability|Salary Differential"},"Title IV, Part A - APE60019","Set-Aside",{"$f":"TRIM(TrnsfrXrefTable[[#This Row],[Summary Program]])&\"|\"&TRIM(TrnsfrXrefTable[[#This Row],[Summary Expenditure]])","v":"Title IV, Part A - APE60019|Set-Aside"}]
[null,null,null,null,null,null,null,null,3000,"Title IV, Part A, Transferability","Teacher Quality (assessments)",{"$f":"TRIM(TrnsfrXrefTable[[#This Row],[Details Object Code]])&\"|\"&TRIM(TrnsfrXrefTable[[#This Row],[Details Program]])&\"|\"&TRIM(TrnsfrXrefTable[[#This Row],[Details Category]])","v":"3000|Title IV, Part A, Transferability|Teacher Quality (assessments)"},"Title IV, Part A - APE60022","Non-Administrative",{"$f":"TRIM(TrnsfrXrefTable[[#This Row],[Summary Program]])&\"|\"&TRIM(TrnsfrXrefTable[[#This Row],[Summary Expenditure]])","v":"Title IV, Part A - APE60022|Non-Administrative"}]
[null,null,null,null,null,null,null,null,3000,"Title IV, Part A, Transferability","Title I C Private School",{"$f":"TRIM(TrnsfrXrefTable[[#This Row],[Details Object Code]])&\"|\"&TRIM(TrnsfrXrefTable[[#This Row],[Details Program]])&\"|\"&TRIM(TrnsfrXrefTable[[#This Row],[Details Category]])","v":"3000|Title IV, Part A, Transferability|Title I C Private School"},"Title IV, Part A - APE60020","Private School Set-Aside ",{"$f":"TRIM(TrnsfrXrefTable[[#This Row],[Summary Program]])&\"|\"&TRIM(TrnsfrXrefTable[[#This Row],[Summary Expenditure]])","v":"Title IV, Part A - APE60020|Private School Set-Aside"}]
[null,null,null,null,null,null,null,null,3000,"Title IV, Part A, Transferability","Title I Private School",{"$f":"TRIM(TrnsfrXrefTable[[#This Row],[Details Object Code]])&\"|\"&TRIM(TrnsfrXrefTable[[#This Row],[Details Program]])&\"|\"&TRIM(TrnsfrXrefTable[[#This Row],[Details Category]])","v":"3000|Title IV, Part A, Transferability|Title I Private School"},"Title IV, Part A - APE60019","Private School Set-Aside ",{"$f":"TRIM(TrnsfrXrefTable[[#This Row],[Summary Program]])&\"|\"&TRIM(TrnsfrXrefTable[[#This Row],[Summary Expenditure]])","v":"Title IV, Part A - APE60019|Private School Set-Aside"}]
[null,null,null,null,null,null,null,null,3000,"Title IV, Part A, Transferability","Title IIA Administration",{"$f":"TRIM(TrnsfrXrefTable[[#This Row],[Details Object Code]])&\"|\"&TRIM(TrnsfrXrefTable[[#This Row],[Details Program]])&\"|\"&TRIM(TrnsfrXrefTable[[#This Row],[Details Category]])","v":"3000|Title IV, Part A, Transferability|Title IIA Administration"},"Title IV, Part A - APE60022","Administrative",{"$f":"TRIM(TrnsfrXrefTable[[#This Row],[Summary Program]])&\"|\"&TRIM(TrnsfrXrefTable[[#This Row],[Summary Expenditure]])","v":"Title IV, Part A - APE60022|Administrative"}]
[null,null,null,null,null,null,null,null,3000,"Title IV, Part A, Transferability","Title II Private School",{"$f":"TRIM(TrnsfrXrefTable[[#This Row],[Details Object Code]])&\"|\"&TRIM(TrnsfrXrefTable[[#This Row],[Details Program]])&\"|\"&TRIM(TrnsfrXrefTable[[#This Row],[Details Category]])","v":"3000|Title IV, Part A, Transferability|Title II Private School"},"Title IV, Part A - APE60022","Private School Set-Aside ",{"$f":"TRIM(TrnsfrXrefTable[[#This Row],[Summary Program]])&\"|\"&TRIM(TrnsfrXrefTable[[#This Row],[Summary Expenditure]])","v":"Title IV, Part A - APE60022|Private School Set-Aside"}]
[null,null,null,null,null,null,null,null,3000,"Title IV, Part A, Transferability","Rural and Low Income",{"$f":"TRIM(TrnsfrXrefTable[[#This Row],[Details Object Code]])&\"|\"&TRIM(TrnsfrXrefTable[[#This Row],[Details Program]])&\"|\"&TRIM(TrnsfrXrefTable[[#This Row],[Details Category]])","v":"3000|Title IV, Part A, Transferability|Rural and Low Income"},"Title IV, Part A - APE60024","Non Set-Aside",{"$f":"TRIM(TrnsfrXrefTable[[#This Row],[Summary Program]])&\"|\"&TRIM(TrnsfrXrefTable[[#This Row],[Summary Expenditure]])","v":"Title IV, Part A - APE60024|Non Set-Aside"}]
[null,null,null,null,null,null,null,null,3000,"Title IV, Part A, Transferability","Non Set-Aside",{"$f":"TRIM(TrnsfrXrefTable[[#This Row],[Details Object Code]])&\"|\"&TRIM(TrnsfrXrefTable[[#This Row],[Details Program]])&\"|\"&TRIM(TrnsfrXrefTable[[#This Row],[Details Category]])","v":"3000|Title IV, Part A, Transferability|Non Set-Aside"},"Title IV, Part A - APE60019","Non Set-Aside",{"$f":"TRIM(TrnsfrXrefTable[[#This Row],[Summary Program]])&\"|\"&TRIM(TrnsfrXrefTable[[#This Row],[Summary Expenditure]])","v":"Title IV, Part A - APE60019|Non Set-Aside"}]
[null,null,null,null,null,null,null,null,4000,"Title IV, Part A, Transferability","CSI/TSI",{"$f":"TRIM(TrnsfrXrefTable[[#This Row],[Details Object Code]])&\"|\"&TRIM(TrnsfrXrefTable[[#This Row],[Details Program]])&\"|\"&TRIM(TrnsfrXrefTable[[#This Row],[Details Category]])","v":"4000|Title IV, Part A, Transferability|CSI/TSI"},"Title IV, Part A - APE60019","Set-Aside",{"$f":"TRIM(TrnsfrXrefTable[[#This Row],[Summary Program]])&\"|\"&TRIM(TrnsfrXrefTable[[#This Row],[Summary Expenditure]])","v":"Title IV, Part A - APE60019|Set-Aside"}]
[null,null,null,null,null,null,null,null,4000,"Title IV, Part A, Transferability","Delinquent",{"$f":"TRIM(TrnsfrXrefTable[[#This Row],[Details Object Code]])&\"|\"&TRIM(TrnsfrXrefTable[[#This Row],[Details Program]])&\"|\"&TRIM(TrnsfrXrefTable[[#This Row],[Details Category]])","v":"4000|Title IV, Part A, Transferability|Delinquent"},"Title IV, Part A - APE60021","Non Set-Aside",{"$f":"TRIM(TrnsfrXrefTable[[#This Row],[Summary Program]])&\"|\"&TRIM(TrnsfrXrefTable[[#This Row],[Summary Expenditure]])","v":"Title IV, Part A - APE60021|Non Set-Aside"}]
[null,null,null,null,null,null,null,null,4000,"Title IV, Part A, Transferability","Division",{"$f":"TRIM(TrnsfrXrefTable[[#This Row],[Details Object Code]])&\"|\"&TRIM(TrnsfrXrefTable[[#This Row],[Details Program]])&\"|\"&TRIM(TrnsfrXrefTable[[#This Row],[Details Category]])","v":"4000|Title IV, Part A, Transferability|Division"},"Title IV, Part A - APE60019","Set-Aside",{"$f":"TRIM(TrnsfrXrefTable[[#This Row],[Summary Program]])&\"|\"&TRIM(TrnsfrXrefTable[[#This Row],[Summary Expenditure]])","v":"Title IV, Part A - APE60019|Set-Aside"}]
[null,null,null,null,null,null,null,null,4000,"Title IV, Part A, Transferability","Early Childhood",{"$f":"TRIM(TrnsfrXrefTable[[#This Row],[Details Object Code]])&\"|\"&TRIM(TrnsfrXrefTable[[#This Row],[Details Program]])&\"|\"&TRIM(TrnsfrXrefTable[[#This Row],[Details Category]])","v":"4000|Title IV, Part A, Transferability|Early Childhood"},"Title IV, Part A - APE60019","Set-Aside",{"$f":"TRIM(TrnsfrXrefTable[[#This Row],[Summary Program]])&\"|\"&TRIM(TrnsfrXrefTable[[#This Row],[Summary Expenditure]])","v":"Title IV, Part A - APE60019|Set-Aside"}]
[null,null,null,null,null,null,null,null,1000,"Title IV, Part A, Transferability","Non Set-Aside",null,"Title IV, Part A - APE60020","Non Set-Aside",{"$f":"TRIM(TrnsfrXrefTable[[#This Row],[Summary Program]])&\"|\"&TRIM(TrnsfrXrefTable[[#This Row],[Summary Expenditure]])","v":"Title IV, Part A - APE60020|Non Set-Aside"}]
[null,null,null,null,null,null,null,null,4000,"Title IV, Part A, Transferability","EL Subgrant",{"$f":"TRIM(TrnsfrXrefTable[[#This Row],[Details Object Code]])&\"|\"&TRIM(TrnsfrXrefTable[[#This Row],[Details Program]])&\"|\"&TRIM(TrnsfrXrefTable[[#This Row],[Details Category]])","v":"4000|Title IV, Part A, Transferability|EL Subgrant"},"Title IV, Part A - APE60023","Internal Services",{"$f":"TRIM(TrnsfrXrefTable[[#This Row],[Summary Program]])&\"|\"&TRIM(TrnsfrXrefTable[[#This Row],[Summary Expenditure]])","v":"Title IV, Part A - APE60023|Internal Services"}]
[null,null,null,null,null,null,null,null,4000,"Title IV, Part A, Transferability","Foster Care",{"$f":"TRIM(TrnsfrXrefTable[[#This Row],[Details Object Code]])&\"|\"&TRIM(TrnsfrXrefTable[[#This Row],[Details Program]])&\"|\"&TRIM(TrnsfrXrefTable[[#This Row],[Details Category]])","v":"4000|Title IV, Part A, Transferability|Foster Care"},"Title IV, Part A - APE60019","Set-Aside",{"$f":"TRIM(TrnsfrXrefTable[[#This Row],[Summary Program]])&\"|\"&TRIM(TrnsfrXrefTable[[#This Row],[Summary Expenditure]])","v":"Title IV, Part A - APE60019|Set-Aside"}]
[null,null,null,null,null,null,null,null,4000,"Title IV, Part A, Transferability","Homeless",{"$f":"TRIM(TrnsfrXrefTable[[#This Row],[Details Object Code]])&\"|\"&TRIM(TrnsfrXrefTable[[#This Row],[Details Program]])&\"|\"&TRIM(TrnsfrXrefTable[[#This Row],[Details Category]])","v":"4000|Title IV, Part A, Transferability|Homeless"},"Title IV, Part A - APE60019","Set-Aside",{"$f":"TRIM(TrnsfrXrefTable[[#This Row],[Summary Program]])&\"|\"&TRIM(TrnsfrXrefTable[[#This Row],[Summary Expenditure]])","v":"Title IV, Part A - APE60019|Set-Aside"}]
[null,null,null,null,null,null,null,null,4000,"Title IV, Part A, Transferability","IY Subgrant",{"$f":"TRIM(TrnsfrXrefTable[[#This Row],[Details Object Code]])&\"|\"&TRIM(TrnsfrXrefTable[[#This Row],[Details Program]])&\"|\"&TRIM(TrnsfrXrefTable[[#This Row],[Details Category]])","v":"4000|Title IV, Part A, Transferability|IY Subgrant"},"Title IV, Part A - APE60023","Internal Services",{"$f":"TRIM(TrnsfrXrefTable[[#This Row],[Summary Program]])&\"|\"&TRIM(TrnsfrXrefTable[[#This Row],[Summary Expenditure]])","v":"Title IV, Part A - APE60023|Internal Services"}]
[null,null,null,null,null,null,null,null,4000,"Title IV, Part A, Transferability","Migrant",{"$f":"TRIM(TrnsfrXrefTable[[#This Row],[Details Object Code]])&\"|\"&TRIM(TrnsfrXrefTable[[#This Row],[Details Program]])&\"|\"&TRIM(TrnsfrXrefTable[[#This Row],[Details Category]])","v":"4000|Title IV, Part A, Transferability|Migrant"},"Title IV, Part A - APE60020","Non Set-Aside",{"$f":"TRIM(TrnsfrXrefTable[[#This Row],[Summary Program]])&\"|\"&TRIM(TrnsfrXrefTable[[#This Row],[Summary Expenditure]])","v":"Title IV, Part A - APE60020|Non Set-Aside"}]
[null,null,null,null,null,null,null,null,4000,"Title IV, Part A, Transferability","Neglected",{"$f":"TRIM(TrnsfrXrefTable[[#This Row],[Details Object Code]])&\"|\"&TRIM(TrnsfrXrefTable[[#This Row],[Details Program]])&\"|\"&TRIM(TrnsfrXrefTable[[#This Row],[Details Category]])","v":"4000|Title IV, Part A, Transferability|Neglected"},"Title IV, Part A - APE60019","Set-Aside",{"$f":"TRIM(TrnsfrXrefTable[[#This Row],[Summary Program]])&\"|\"&TRIM(TrnsfrXrefTable[[#This Row],[Summary Expenditure]])","v":"Title IV, Part A - APE60019|Set-Aside"}]
[null,null,null,null,null,null,null,null,4000,"Title IV, Part A, Transferability","Other",{"$f":"TRIM(TrnsfrXrefTable[[#This Row],[Details Object Code]])&\"|\"&TRIM(TrnsfrXrefTable[[#This Row],[Details Program]])&\"|\"&TRIM(TrnsfrXrefTable[[#This Row],[Details Category]])","v":"4000|Title IV, Part A, Transferability|Other"},"Title IV, Part A - APE60022","Internal Services",{"$f":"TRIM(TrnsfrXrefTable[[#This Row],[Summary Program]])&\"|\"&TRIM(TrnsfrXrefTable[[#This Row],[Summary Expenditure]])","v":"Title IV, Part A - APE60022|Internal Services"}]
[null,null,null,null,null,null,null,null,4000,"Title IV, Part A, Transferability","PFE (Division)",{"$f":"TRIM(TrnsfrXrefTable[[#This Row],[Details Object Code]])&\"|\"&TRIM(TrnsfrXrefTable[[#This Row],[Details Program]])&\"|\"&TRIM(TrnsfrXrefTable[[#This Row],[Details Category]])","v":"4000|Title IV, Part A, Transferability|PFE (Division)"},"Title IV, Part A - APE60019","Parent and Family Engagement Set-Aside",{"$f":"TRIM(TrnsfrXrefTable[[#This Row],[Summary Program]])&\"|\"&TRIM(TrnsfrXrefTable[[#This Row],[Summary Expenditure]])","v":"Title IV, Part A - APE60019|Parent and Family Engagement Set-Aside"}]
[null,null,null,null,null,null,null,null,4000,"Title IV, Part A, Transferability","PFE (School Level)",{"$f":"TRIM(TrnsfrXrefTable[[#This Row],[Details Object Code]])&\"|\"&TRIM(TrnsfrXrefTable[[#This Row],[Details Program]])&\"|\"&TRIM(TrnsfrXrefTable[[#This Row],[Details Category]])","v":"4000|Title IV, Part A, Transferability|PFE (School Level)"},"Title IV, Part A - APE60019","Parent and Family Engagement Set-Aside",{"$f":"TRIM(TrnsfrXrefTable[[#This Row],[Summary Program]])&\"|\"&TRIM(TrnsfrXrefTable[[#This Row],[Summary Expenditure]])","v":"Title IV, Part A - APE60019|Parent and Family Engagement Set-Aside"}]
[null,null,null,null,null,null,null,null,4000,"Title IV, Part A, Transferability","Professional Development",{"$f":"TRIM(TrnsfrXrefTable[[#This Row],[Details Object Code]])&\"|\"&TRIM(TrnsfrXrefTable[[#This Row],[Details Program]])&\"|\"&TRIM(TrnsfrXrefTable[[#This Row],[Details Category]])","v":"4000|Title IV, Part A, Transferability|Professional Development"},"Title IV, Part A - APE60022","Internal Services",{"$f":"TRIM(TrnsfrXrefTable[[#This Row],[Summary Program]])&\"|\"&TRIM(TrnsfrXrefTable[[#This Row],[Summary Expenditure]])","v":"Title IV, Part A - APE60022|Internal Services"}]
[null,null,null,null,null,null,null,null,4000,"Title IV, Part A, Transferability","Recruitment/Retention",{"$f":"TRIM(TrnsfrXrefTable[[#This Row],[Details Object Code]])&\"|\"&TRIM(TrnsfrXrefTable[[#This Row],[Details Program]])&\"|\"&TRIM(TrnsfrXrefTable[[#This Row],[Details Category]])","v":"4000|Title IV, Part A, Transferability|Recruitment/Retention"},"Title IV, Part A - APE60022","Administrative",{"$f":"TRIM(TrnsfrXrefTable[[#This Row],[Summary Program]])&\"|\"&TRIM(TrnsfrXrefTable[[#This Row],[Summary Expenditure]])","v":"Title IV, Part A - APE60022|Administrative"}]
[null,null,null,null,null,null,null,null,4000,"Title IV, Part A, Transferability","Salary Differential",{"$f":"TRIM(TrnsfrXrefTable[[#This Row],[Details Object Code]])&\"|\"&TRIM(TrnsfrXrefTable[[#This Row],[Details Program]])&\"|\"&TRIM(TrnsfrXrefTable[[#This Row],[Details Category]])","v":"4000|Title IV, Part A, Transferability|Salary Differential"},"Title IV, Part A - APE60019","Set-Aside",{"$f":"TRIM(TrnsfrXrefTable[[#This Row],[Summary Program]])&\"|\"&TRIM(TrnsfrXrefTable[[#This Row],[Summary Expenditure]])","v":"Title IV, Part A - APE60019|Set-Aside"}]
[null,null,null,null,null,null,null,null,null,null,null,null,null,null,{"$f":"TRIM(TrnsfrXrefTable[[#This Row],[Summary Program]])&\"|\"&TRIM(TrnsfrXrefTable[[#This Row],[Summary Expenditure]])","v":"|"}]
[null,null,null,null,null,null,null,null,null,null,null,null,null,null,{"$f":"TRIM(TrnsfrXrefTable[[#This Row],[Summary Program]])&\"|\"&TRIM(TrnsfrXrefTable[[#This Row],[Summary Expenditure]])","v":"|"}]
[null,null,null,null,null,null,null,null,4000,"Title IV, Part A, Transferability","Rural and Low Income",{"$f":"TRIM(TrnsfrXrefTable[[#This Row],[Details Object Code]])&\"|\"&TRIM(TrnsfrXrefTable[[#This Row],[Details Program]])&\"|\"&TRIM(TrnsfrXrefTable[[#This Row],[Details Category]])","v":"4000|Title IV, Part A, Transferability|Rural and Low Income"},"Title IV, Part A - APE60024","Non Set-Aside",{"$f":"TRIM(TrnsfrXrefTable[[#This Row],[Summary Program]])&\"|\"&TRIM(TrnsfrXrefTable[[#This Row],[Summary Expenditure]])","v":"Title IV, Part A - APE60024|Non Set-Aside"}]
[null,null,null,null,null,null,null,null,null,null,null,null,null,null,{"$f":"TRIM(TrnsfrXrefTable[[#This Row],[Summary Program]])&\"|\"&TRIM(TrnsfrXrefTable[[#This Row],[Summary Expenditure]])","v":"|"}]
[null,null,null,null,null,null,null,null,null,null,null,null,null,null,{"$f":"TRIM(TrnsfrXrefTable[[#This Row],[Summary Program]])&\"|\"&TRIM(TrnsfrXrefTable[[#This Row],[Summary Expenditure]])","v":"|"}]
[null,null,null,null,null,null,null,null,5000,"Title IV, Part A, Transferability","CSI/TSI",{"$f":"TRIM(TrnsfrXrefTable[[#This Row],[Details Object Code]])&\"|\"&TRIM(TrnsfrXrefTable[[#This Row],[Details Program]])&\"|\"&TRIM(TrnsfrXrefTable[[#This Row],[Details Category]])","v":"5000|Title IV, Part A, Transferability|CSI/TSI"},"Title IV, Part A - APE60019","Set-Aside",{"$f":"TRIM(TrnsfrXrefTable[[#This Row],[Summary Program]])&\"|\"&TRIM(TrnsfrXrefTable[[#This Row],[Summary Expenditure]])","v":"Title IV, Part A - APE60019|Set-Aside"}]
[null,null,null,null,null,null,null,null,5000,"Title IV, Part A, Transferability","Delinquent",{"$f":"TRIM(TrnsfrXrefTable[[#This Row],[Details Object Code]])&\"|\"&TRIM(TrnsfrXrefTable[[#This Row],[Details Program]])&\"|\"&TRIM(TrnsfrXrefTable[[#This Row],[Details Category]])","v":"5000|Title IV, Part A, Transferability|Delinquent"},"Title IV, Part A - APE60021","Non Set-Aside",{"$f":"TRIM(TrnsfrXrefTable[[#This Row],[Summary Program]])&\"|\"&TRIM(TrnsfrXrefTable[[#This Row],[Summary Expenditure]])","v":"Title IV, Part A - APE60021|Non Set-Aside"}]
[null,null,null,null,null,null,null,null,5000,"Title IV, Part A, Transferability","Division",{"$f":"TRIM(TrnsfrXrefTable[[#This Row],[Details Object Code]])&\"|\"&TRIM(TrnsfrXrefTable[[#This Row],[Details Program]])&\"|\"&TRIM(TrnsfrXrefTable[[#This Row],[Details Category]])","v":"5000|Title IV, Part A, Transferability|Division"},"Title IV, Part A - APE60019","Set-Aside",{"$f":"TRIM(TrnsfrXrefTable[[#This Row],[Summary Program]])&\"|\"&TRIM(TrnsfrXrefTable[[#This Row],[Summary Expenditure]])","v":"Title IV, Part A - APE60019|Set-Aside"}]
[null,null,null,null,null,null,null,null,5000,"Title IV, Part A, Transferability","Early Childhood",{"$f":"TRIM(TrnsfrXrefTable[[#This Row],[Details Object Code]])&\"|\"&TRIM(TrnsfrXrefTable[[#This Row],[Details Program]])&\"|\"&TRIM(TrnsfrXrefTable[[#This Row],[Details Category]])","v":"5000|Title IV, Part A, Transferability|Early Childhood"},"Title IV, Part A - APE60019","Set-Aside",{"$f":"TRIM(TrnsfrXrefTable[[#This Row],[Summary Program]])&\"|\"&TRIM(TrnsfrXrefTable[[#This Row],[Summary Expenditure]])","v":"Title IV, Part A - APE60019|Set-Aside"}]
[null,null,null,null,null,null,null,null,5000,"Title IV, Part A, Transferability","EL Indirect Costs",{"$f":"TRIM(TrnsfrXrefTable[[#This Row],[Details Object Code]])&\"|\"&TRIM(TrnsfrXrefTable[[#This Row],[Details Program]])&\"|\"&TRIM(TrnsfrXrefTable[[#This Row],[Details Category]])","v":"5000|Title IV, Part A, Transferability|EL Indirect Costs"},"Title IV, Part A - APE60023","Indirect Costs",{"$f":"TRIM(TrnsfrXrefTable[[#This Row],[Summary Program]])&\"|\"&TRIM(TrnsfrXrefTable[[#This Row],[Summary Expenditure]])","v":"Title IV, Part A - APE60023|Indirect Costs"}]
[null,null,null,null,null,null,null,null,5000,"Title IV, Part A, Transferability","EL Private School",{"$f":"TRIM(TrnsfrXrefTable[[#This Row],[Details Object Code]])&\"|\"&TRIM(TrnsfrXrefTable[[#This Row],[Details Program]])&\"|\"&TRIM(TrnsfrXrefTable[[#This Row],[Details Category]])","v":"5000|Title IV, Part A, Transferability|EL Private School"},"Title IV, Part A - APE60023","Private School Set-Aside ",{"$f":"TRIM(TrnsfrXrefTable[[#This Row],[Summary Program]])&\"|\"&TRIM(TrnsfrXrefTable[[#This Row],[Summary Expenditure]])","v":"Title IV, Part A - APE60023|Private School Set-Aside"}]
[null,null,null,null,null,null,null,null,5000,"Title IV, Part A, Transferability","EL Subgrant",{"$f":"TRIM(TrnsfrXrefTable[[#This Row],[Details Object Code]])&\"|\"&TRIM(TrnsfrXrefTable[[#This Row],[Details Program]])&\"|\"&TRIM(TrnsfrXrefTable[[#This Row],[Details Category]])","v":"5000|Title IV, Part A, Transferability|EL Subgrant"},"Title IV, Part A - APE60023","Non-Administrative",{"$f":"TRIM(TrnsfrXrefTable[[#This Row],[Summary Program]])&\"|\"&TRIM(TrnsfrXrefTable[[#This Row],[Summary Expenditure]])","v":"Title IV, Part A - APE60023|Non-Administrative"}]
[null,null,null,null,null,null,null,null,5000,"Title IV, Part A, Transferability","Evaluation",{"$f":"TRIM(TrnsfrXrefTable[[#This Row],[Details Object Code]])&\"|\"&TRIM(TrnsfrXrefTable[[#This Row],[Details Program]])&\"|\"&TRIM(TrnsfrXrefTable[[#This Row],[Details Category]])","v":"5000|Title IV, Part A, Transferability|Evaluation"},"Title IV, Part A - APE60022","Non-Administrative",{"$f":"TRIM(TrnsfrXrefTable[[#This Row],[Summary Program]])&\"|\"&TRIM(TrnsfrXrefTable[[#This Row],[Summary Expenditure]])","v":"Title IV, Part A - APE60022|Non-Administrative"}]
[null,null,null,null,null,null,null,null,5000,"Title IV, Part A, Transferability","Foster Care",{"$f":"TRIM(TrnsfrXrefTable[[#This Row],[Details Object Code]])&\"|\"&TRIM(TrnsfrXrefTable[[#This Row],[Details Program]])&\"|\"&TRIM(TrnsfrXrefTable[[#This Row],[Details Category]])","v":"5000|Title IV, Part A, Transferability|Foster Care"},"Title IV, Part A - APE60019","Set-Aside",{"$f":"TRIM(TrnsfrXrefTable[[#This Row],[Summary Program]])&\"|\"&TRIM(TrnsfrXrefTable[[#This Row],[Summary Expenditure]])","v":"Title IV, Part A - APE60019|Set-Aside"}]
[null,null,null,null,null,null,null,null,5000,"Title IV, Part A, Transferability","Homeless",{"$f":"TRIM(TrnsfrXrefTable[[#This Row],[Details Object Code]])&\"|\"&TRIM(TrnsfrXrefTable[[#This Row],[Details Program]])&\"|\"&TRIM(TrnsfrXrefTable[[#This Row],[Details Category]])","v":"5000|Title IV, Part A, Transferability|Homeless"},"Title IV, Part A - APE60019","Set-Aside",{"$f":"TRIM(TrnsfrXrefTable[[#This Row],[Summary Program]])&\"|\"&TRIM(TrnsfrXrefTable[[#This Row],[Summary Expenditure]])","v":"Title IV, Part A - APE60019|Set-Aside"}]
[null,null,null,null,null,null,null,null,5000,"Title IV, Part A, Transferability","Indirect Cost",{"$f":"TRIM(TrnsfrXrefTable[[#This Row],[Details Object Code]])&\"|\"&TRIM(TrnsfrXrefTable[[#This Row],[Details Program]])&\"|\"&TRIM(TrnsfrXrefTable[[#This Row],[Details Category]])","v":"5000|Title IV, Part A, Transferability|Indirect Cost"},"Title IV, Part A - APE60022","Indirect Costs",{"$f":"TRIM(TrnsfrXrefTable[[#This Row],[Summary Program]])&\"|\"&TRIM(TrnsfrXrefTable[[#This Row],[Summary Expenditure]])","v":"Title IV, Part A - APE60022|Indirect Costs"}]
[null,null,null,null,null,null,null,null,5000,"Title IV, Part A, Transferability","IY Subgrant",{"$f":"TRIM(TrnsfrXrefTable[[#This Row],[Details Object Code]])&\"|\"&TRIM(TrnsfrXrefTable[[#This Row],[Details Program]])&\"|\"&TRIM(TrnsfrXrefTable[[#This Row],[Details Category]])","v":"5000|Title IV, Part A, Transferability|IY Subgrant"},"Title IV, Part A - APE60023","Non-Administrative",{"$f":"TRIM(TrnsfrXrefTable[[#This Row],[Summary Program]])&\"|\"&TRIM(TrnsfrXrefTable[[#This Row],[Summary Expenditure]])","v":"Title IV, Part A - APE60023|Non-Administrative"}]
[null,null,null,null,null,null,null,null,5000,"Title IV, Part A, Transferability","IY Subgrant Indirect Cost",{"$f":"TRIM(TrnsfrXrefTable[[#This Row],[Details Object Code]])&\"|\"&TRIM(TrnsfrXrefTable[[#This Row],[Details Program]])&\"|\"&TRIM(TrnsfrXrefTable[[#This Row],[Details Category]])","v":"5000|Title IV, Part A, Transferability|IY Subgrant Indirect Cost"},"Title IV, Part A - APE60023","Indirect Costs",{"$f":"TRIM(TrnsfrXrefTable[[#This Row],[Summary Program]])&\"|\"&TRIM(TrnsfrXrefTable[[#This Row],[Summary Expenditure]])","v":"Title IV, Part A - APE60023|Indirect Costs"}]
[null,null,null,null,null,null,null,null,5000,"Title IV, Part A, Transferability","Migrant",{"$f":"TRIM(TrnsfrXrefTable[[#This Row],[Details Object Code]])&\"|\"&TRIM(TrnsfrXrefTable[[#This Row],[Details Program]])&\"|\"&TRIM(TrnsfrXrefTable[[#This Row],[Details Category]])","v":"5000|Title IV, Part A, Transferability|Migrant"},"Title IV, Part A - APE60020","Non Set-Aside",{"$f":"TRIM(TrnsfrXrefTable[[#This Row],[Summary Program]])&\"|\"&TRIM(TrnsfrXrefTable[[#This Row],[Summary Expenditure]])","v":"Title IV, Part A - APE60020|Non Set-Aside"}]
[null,null,null,null,null,null,null,null,5000,"Title IV, Part A, Transferability","Neglected",{"$f":"TRIM(TrnsfrXrefTable[[#This Row],[Details Object Code]])&\"|\"&TRIM(TrnsfrXrefTable[[#This Row],[Details Program]])&\"|\"&TRIM(TrnsfrXrefTable[[#This Row],[Details Category]])","v":"5000|Title IV, Part A, Transferability|Neglected"},"Title IV, Part A - APE60019","Set-Aside",{"$f":"TRIM(TrnsfrXrefTable[[#This Row],[Summary Program]])&\"|\"&TRIM(TrnsfrXrefTable[[#This Row],[Summary Expenditure]])","v":"Title IV, Part A - APE60019|Set-Aside"}]
[null,null,null,null,null,null,null,null,5000,"Title IV, Part A, Transferability","Other",{"$f":"TRIM(TrnsfrXrefTable[[#This Row],[Details Object Code]])&\"|\"&TRIM(TrnsfrXrefTable[[#This Row],[Details Program]])&\"|\"&TRIM(TrnsfrXrefTable[[#This Row],[Details Category]])","v":"5000|Title IV, Part A, Transferability|Other"},"Title IV, Part A - APE60022","Non-Administrative",{"$f":"TRIM(TrnsfrXrefTable[[#This Row],[Summary Program]])&\"|\"&TRIM(TrnsfrXrefTable[[#This Row],[Summary Expenditure]])","v":"Title IV, Part A - APE60022|Non-Administrative"}]
[null,null,null,null,null,null,null,null,5000,"Title IV, Part A, Transferability","PFE (Division)",{"$f":"TRIM(TrnsfrXrefTable[[#This Row],[Details Object Code]])&\"|\"&TRIM(TrnsfrXrefTable[[#This Row],[Details Program]])&\"|\"&TRIM(TrnsfrXrefTable[[#This Row],[Details Category]])","v":"5000|Title IV, Part A, Transferability|PFE (Division)"},"Title IV, Part A - APE60019","Parent and Family Engagement Set-Aside",{"$f":"TRIM(TrnsfrXrefTable[[#This Row],[Summary Program]])&\"|\"&TRIM(TrnsfrXrefTable[[#This Row],[Summary Expenditure]])","v":"Title IV, Part A - APE60019|Parent and Family Engagement Set-Aside"}]
[null,null,null,null,null,null,null,null,5000,"Title IV, Part A, Transferability","PFE (School Level)",{"$f":"TRIM(TrnsfrXrefTable[[#This Row],[Details Object Code]])&\"|\"&TRIM(TrnsfrXrefTable[[#This Row],[Details Program]])&\"|\"&TRIM(TrnsfrXrefTable[[#This Row],[Details Category]])","v":"5000|Title IV, Part A, Transferability|PFE (School Level)"},"Title IV, Part A - APE60019","Parent and Family Engagement Set-Aside",{"$f":"TRIM(TrnsfrXrefTable[[#This Row],[Summary Program]])&\"|\"&TRIM(TrnsfrXrefTable[[#This Row],[Summary Expenditure]])","v":"Title IV, Part A - APE60019|Parent and Family Engagement Set-Aside"}]
[null,null,null,null,null,null,null,null,5000,"Title IV, Part A, Transferability","Private School",{"$f":"TRIM(TrnsfrXrefTable[[#This Row],[Details Object Code]])&\"|\"&TRIM(TrnsfrXrefTable[[#This Row],[Details Program]])&\"|\"&TRIM(TrnsfrXrefTable[[#This Row],[Details Category]])","v":"5000|Title IV, Part A, Transferability|Private School"},"Title IV, Part A - APE60022","Private School Set-Aside ",{"$f":"TRIM(TrnsfrXrefTable[[#This Row],[Summary Program]])&\"|\"&TRIM(TrnsfrXrefTable[[#This Row],[Summary Expenditure]])","v":"Title IV, Part A - APE60022|Private School Set-Aside"}]
[null,null,null,null,null,null,null,null,5000,"Title IV, Part A, Transferability","Professional Development",{"$f":"TRIM(TrnsfrXrefTable[[#This Row],[Details Object Code]])&\"|\"&TRIM(TrnsfrXrefTable[[#This Row],[Details Program]])&\"|\"&TRIM(TrnsfrXrefTable[[#This Row],[Details Category]])","v":"5000|Title IV, Part A, Transferability|Professional Development"},"Title IV, Part A - APE60022","Non-Administrative",{"$f":"TRIM(TrnsfrXrefTable[[#This Row],[Summary Program]])&\"|\"&TRIM(TrnsfrXrefTable[[#This Row],[Summary Expenditure]])","v":"Title IV, Part A - APE60022|Non-Administrative"}]
[null,null,null,null,null,null,null,null,5000,"Title IV, Part A, Transferability","Recruitment/Retention",{"$f":"TRIM(TrnsfrXrefTable[[#This Row],[Details Object Code]])&\"|\"&TRIM(TrnsfrXrefTable[[#This Row],[Details Program]])&\"|\"&TRIM(TrnsfrXrefTable[[#This Row],[Details Category]])","v":"5000|Title IV, Part A, Transferability|Recruitment/Retention"},"Title IV, Part A - APE60022","Non-Administrative",{"$f":"TRIM(TrnsfrXrefTable[[#This Row],[Summary Program]])&\"|\"&TRIM(TrnsfrXrefTable[[#This Row],[Summary Expenditure]])","v":"Title IV, Part A - APE60022|Non-Administrative"}]
[null,null,null,null,null,null,null,null,5000,"Title IV, Part A, Transferability","Salary Differential",{"$f":"TRIM(TrnsfrXrefTable[[#This Row],[Details Object Code]])&\"|\"&TRIM(TrnsfrXrefTable[[#This Row],[Details Program]])&\"|\"&TRIM(TrnsfrXrefTable[[#This Row],[Details Category]])","v":"5000|Title IV, Part A, Transferability|Salary Differential"},"Title IV, Part A - APE60019","Set-Aside",{"$f":"TRIM(TrnsfrXrefTable[[#This Row],[Summary Program]])&\"|\"&TRIM(TrnsfrXrefTable[[#This Row],[Summary Expenditure]])","v":"Title IV, Part A - APE60019|Set-Aside"}]
[null,null,null,null,null,null,null,null,5000,"Title IV, Part A, Transferability","Teacher Quality (assessments)",{"$f":"TRIM(TrnsfrXrefTable[[#This Row],[Details Object Code]])&\"|\"&TRIM(TrnsfrXrefTable[[#This Row],[Details Program]])&\"|\"&TRIM(TrnsfrXrefTable[[#This Row],[Details Category]])","v":"5000|Title IV, Part A, Transferability|Teacher Quality (assessments)"},"Title IV, Part A - APE60022","Non-Administrative",{"$f":"TRIM(TrnsfrXrefTable[[#This Row],[Summary Program]])&\"|\"&TRIM(TrnsfrXrefTable[[#This Row],[Summary Expenditure]])","v":"Title IV, Part A - APE60022|Non-Administrative"}]
[null,null,null,null,null,null,null,null,5000,"Title IV, Part A, Transferability","Title I C Private School",{"$f":"TRIM(TrnsfrXrefTable[[#This Row],[Details Object Code]])&\"|\"&TRIM(TrnsfrXrefTable[[#This Row],[Details Program]])&\"|\"&TRIM(TrnsfrXrefTable[[#This Row],[Details Category]])","v":"5000|Title IV, Part A, Transferability|Title I C Private School"},"Title IV, Part A - APE60020","Private School Set-Aside ",{"$f":"TRIM(TrnsfrXrefTable[[#This Row],[Summary Program]])&\"|\"&TRIM(TrnsfrXrefTable[[#This Row],[Summary Expenditure]])","v":"Title IV, Part A - APE60020|Private School Set-Aside"}]
[null,null,null,null,null,null,null,null,5000,"Title IV, Part A, Transferability","Title I Private School",{"$f":"TRIM(TrnsfrXrefTable[[#This Row],[Details Object Code]])&\"|\"&TRIM(TrnsfrXrefTable[[#This Row],[Details Program]])&\"|\"&TRIM(TrnsfrXrefTable[[#This Row],[Details Category]])","v":"5000|Title IV, Part A, Transferability|Title I Private School"},"Title IV, Part A - APE60019","Private School Set-Aside ",{"$f":"TRIM(TrnsfrXrefTable[[#This Row],[Summary Program]])&\"|\"&TRIM(TrnsfrXrefTable[[#This Row],[Summary Expenditure]])","v":"Title IV, Part A - APE60019|Private School Set-Aside"}]
[null,null,null,null,null,null,null,null,5000,"Title IV, Part A, Transferability","Title IIA Administration",{"$f":"TRIM(TrnsfrXrefTable[[#This Row],[Details Object Code]])&\"|\"&TRIM(TrnsfrXrefTable[[#This Row],[Details Program]])&\"|\"&TRIM(TrnsfrXrefTable[[#This Row],[Details Category]])","v":"5000|Title IV, Part A, Transferability|Title IIA Administration"},"Title IV, Part A - APE60022","Administrative",{"$f":"TRIM(TrnsfrXrefTable[[#This Row],[Summary Program]])&\"|\"&TRIM(TrnsfrXrefTable[[#This Row],[Summary Expenditure]])","v":"Title IV, Part A - APE60022|Administrative"}]
[null,null,null,null,null,null,null,null,5000,"Title IV, Part A, Transferability","Title II Private School",{"$f":"TRIM(TrnsfrXrefTable[[#This Row],[Details Object Code]])&\"|\"&TRIM(TrnsfrXrefTable[[#This Row],[Details Program]])&\"|\"&TRIM(TrnsfrXrefTable[[#This Row],[Details Category]])","v":"5000|Title IV, Part A, Transferability|Title II Private School"},"Title IV, Part A - APE60022","Private School Set-Aside ",{"$f":"TRIM(TrnsfrXrefTable[[#This Row],[Summary Program]])&\"|\"&TRIM(TrnsfrXrefTable[[#This Row],[Summary Expenditure]])","v":"Title IV, Part A - APE60022|Private School Set-Aside"}]
[null,null,null,null,null,null,null,null,5000,"Title IV, Part A, Transferability","Rural and Low Income",{"$f":"TRIM(TrnsfrXrefTable[[#This Row],[Details Object Code]])&\"|\"&TRIM(TrnsfrXrefTable[[#This Row],[Details Program]])&\"|\"&TRIM(TrnsfrXrefTable[[#This Row],[Details Category]])","v":"5000|Title IV, Part A, Transferability|Rural and Low Income"},"Title IV, Part A - APE60024","Non Set-Aside",{"$f":"TRIM(TrnsfrXrefTable[[#This Row],[Summary Program]])&\"|\"&TRIM(TrnsfrXrefTable[[#This Row],[Summary Expenditure]])","v":"Title IV, Part A - APE60024|Non Set-Aside"}]
[null,null,null,null,null,null,null,null,6000,"Title IV, Part A, Transferability","Title II Private School",{"$f":"TRIM(TrnsfrXrefTable[[#This Row],[Details Object Code]])&\"|\"&TRIM(TrnsfrXrefTable[[#This Row],[Details Program]])&\"|\"&TRIM(TrnsfrXrefTable[[#This Row],[Details Category]])","v":"6000|Title IV, Part A, Transferability|Title II Private School"},"Title IV, Part A - APE60022","Private School Set-Aside ",{"$f":"TRIM(TrnsfrXrefTable[[#This Row],[Summary Program]])&\"|\"&TRIM(TrnsfrXrefTable[[#This Row],[Summary Expenditure]])","v":"Title IV, Part A - APE60022|Private School Set-Aside"}]
[null,null,null,null,null,null,null,null,6000,"Title IV, Part A, Transferability","Book Study",{"$f":"TRIM(TrnsfrXrefTable[[#This Row],[Details Object Code]])&\"|\"&TRIM(TrnsfrXrefTable[[#This Row],[Details Program]])&\"|\"&TRIM(TrnsfrXrefTable[[#This Row],[Details Category]])","v":"6000|Title IV, Part A, Transferability|Book Study"},"Title IV, Part A - APE60022","Non-Administrative",{"$f":"TRIM(TrnsfrXrefTable[[#This Row],[Summary Program]])&\"|\"&TRIM(TrnsfrXrefTable[[#This Row],[Summary Expenditure]])","v":"Title IV, Part A - APE60022|Non-Administrative"}]
[null,null,null,null,null,null,null,null,6000,"Title IV, Part A, Transferability","CSI/TSI",{"$f":"TRIM(TrnsfrXrefTable[[#This Row],[Details Object Code]])&\"|\"&TRIM(TrnsfrXrefTable[[#This Row],[Details Program]])&\"|\"&TRIM(TrnsfrXrefTable[[#This Row],[Details Category]])","v":"6000|Title IV, Part A, Transferability|CSI/TSI"},"Title IV, Part A - APE60019","Set-Aside",{"$f":"TRIM(TrnsfrXrefTable[[#This Row],[Summary Program]])&\"|\"&TRIM(TrnsfrXrefTable[[#This Row],[Summary Expenditure]])","v":"Title IV, Part A - APE60019|Set-Aside"}]
[null,null,null,null,null,null,null,null,6000,"Title IV, Part A, Transferability","Delinquent",{"$f":"TRIM(TrnsfrXrefTable[[#This Row],[Details Object Code]])&\"|\"&TRIM(TrnsfrXrefTable[[#This Row],[Details Program]])&\"|\"&TRIM(TrnsfrXrefTable[[#This Row],[Details Category]])","v":"6000|Title IV, Part A, Transferability|Delinquent"},"Title IV, Part A - APE60021","Non Set-Aside",{"$f":"TRIM(TrnsfrXrefTable[[#This Row],[Summary Program]])&\"|\"&TRIM(TrnsfrXrefTable[[#This Row],[Summary Expenditure]])","v":"Title IV, Part A - APE60021|Non Set-Aside"}]
[null,null,null,null,null,null,null,null,6000,"Title IV, Part A, Transferability","Division",{"$f":"TRIM(TrnsfrXrefTable[[#This Row],[Details Object Code]])&\"|\"&TRIM(TrnsfrXrefTable[[#This Row],[Details Program]])&\"|\"&TRIM(TrnsfrXrefTable[[#This Row],[Details Category]])","v":"6000|Title IV, Part A, Transferability|Division"},"Title IV, Part A - APE60019","Set-Aside",{"$f":"TRIM(TrnsfrXrefTable[[#This Row],[Summary Program]])&\"|\"&TRIM(TrnsfrXrefTable[[#This Row],[Summary Expenditure]])","v":"Title IV, Part A - APE60019|Set-Aside"}]
[null,null,null,null,null,null,null,null,6000,"Title IV, Part A, Transferability","Early Childhood",{"$f":"TRIM(TrnsfrXrefTable[[#This Row],[Details Object Code]])&\"|\"&TRIM(TrnsfrXrefTable[[#This Row],[Details Program]])&\"|\"&TRIM(TrnsfrXrefTable[[#This Row],[Details Category]])","v":"6000|Title IV, Part A, Transferability|Early Childhood"},"Title IV, Part A - APE60019","Set-Aside",{"$f":"TRIM(TrnsfrXrefTable[[#This Row],[Summary Program]])&\"|\"&TRIM(TrnsfrXrefTable[[#This Row],[Summary Expenditure]])","v":"Title IV, Part A - APE60019|Set-Aside"}]
[null,null,null,null,null,null,null,null,6000,"Title IV, Part A, Transferability","EL Administrative",{"$f":"TRIM(TrnsfrXrefTable[[#This Row],[Details Object Code]])&\"|\"&TRIM(TrnsfrXrefTable[[#This Row],[Details Program]])&\"|\"&TRIM(TrnsfrXrefTable[[#This Row],[Details Category]])","v":"6000|Title IV, Part A, Transferability|EL Administrative"},"Title IV, Part A - APE60023","Administrative",{"$f":"TRIM(TrnsfrXrefTable[[#This Row],[Summary Program]])&\"|\"&TRIM(TrnsfrXrefTable[[#This Row],[Summary Expenditure]])","v":"Title IV, Part A - APE60023|Administrative"}]
[null,null,null,null,null,null,null,null,6000,"Title IV, Part A, Transferability","EL Private School",{"$f":"TRIM(TrnsfrXrefTable[[#This Row],[Details Object Code]])&\"|\"&TRIM(TrnsfrXrefTable[[#This Row],[Details Program]])&\"|\"&TRIM(TrnsfrXrefTable[[#This Row],[Details Category]])","v":"6000|Title IV, Part A, Transferability|EL Private School"},"Title IV, Part A - APE60023","Private School Set-Aside ",{"$f":"TRIM(TrnsfrXrefTable[[#This Row],[Summary Program]])&\"|\"&TRIM(TrnsfrXrefTable[[#This Row],[Summary Expenditure]])","v":"Title IV, Part A - APE60023|Private School Set-Aside"}]
[null,null,null,null,null,null,null,null,6000,"Title IV, Part A, Transferability","EL Subgrant",{"$f":"TRIM(TrnsfrXrefTable[[#This Row],[Details Object Code]])&\"|\"&TRIM(TrnsfrXrefTable[[#This Row],[Details Program]])&\"|\"&TRIM(TrnsfrXrefTable[[#This Row],[Details Category]])","v":"6000|Title IV, Part A, Transferability|EL Subgrant"},"Title IV, Part A - APE60023","Materials",{"$f":"TRIM(TrnsfrXrefTable[[#This Row],[Summary Program]])&\"|\"&TRIM(TrnsfrXrefTable[[#This Row],[Summary Expenditure]])","v":"Title IV, Part A - APE60023|Materials"}]
[null,null,null,null,null,null,null,null,6000,"Title IV, Part A, Transferability","Foster Care",{"$f":"TRIM(TrnsfrXrefTable[[#This Row],[Details Object Code]])&\"|\"&TRIM(TrnsfrXrefTable[[#This Row],[Details Program]])&\"|\"&TRIM(TrnsfrXrefTable[[#This Row],[Details Category]])","v":"6000|Title IV, Part A, Transferability|Foster Care"},"Title IV, Part A - APE60019","Set-Aside",{"$f":"TRIM(TrnsfrXrefTable[[#This Row],[Summary Program]])&\"|\"&TRIM(TrnsfrXrefTable[[#This Row],[Summary Expenditure]])","v":"Title IV, Part A - APE60019|Set-Aside"}]
[null,null,null,null,null,null,null,null,6000,"Title IV, Part A, Transferability","Homeless",{"$f":"TRIM(TrnsfrXrefTable[[#This Row],[Details Object Code]])&\"|\"&TRIM(TrnsfrXrefTable[[#This Row],[Details Program]])&\"|\"&TRIM(TrnsfrXrefTable[[#This Row],[Details Category]])","v":"6000|Title IV, Part A, Transferability|Homeless"},"Title IV, Part A - APE60019","Set-Aside",{"$f":"TRIM(TrnsfrXrefTable[[#This Row],[Summary Program]])&\"|\"&TRIM(TrnsfrXrefTable[[#This Row],[Summary Expenditure]])","v":"Title IV, Part A - APE60019|Set-Aside"}]
[null,null,null,null,null,null,null,null,6000,"Title IV, Part A, Transferability","IY Subgrant",{"$f":"TRIM(TrnsfrXrefTable[[#This Row],[Details Object Code]])&\"|\"&TRIM(TrnsfrXrefTable[[#This Row],[Details Program]])&\"|\"&TRIM(TrnsfrXrefTable[[#This Row],[Details Category]])","v":"6000|Title IV, Part A, Transferability|IY Subgrant"},"Title IV, Part A - APE60023","Materials",{"$f":"TRIM(TrnsfrXrefTable[[#This Row],[Summary Program]])&\"|\"&TRIM(TrnsfrXrefTable[[#This Row],[Summary Expenditure]])","v":"Title IV, Part A - APE60023|Materials"}]
[null,null,null,null,null,null,null,null,6000,"Title IV, Part A, Transferability","Mentoring/Induction",{"$f":"TRIM(TrnsfrXrefTable[[#This Row],[Details Object Code]])&\"|\"&TRIM(TrnsfrXrefTable[[#This Row],[Details Program]])&\"|\"&TRIM(TrnsfrXrefTable[[#This Row],[Details Category]])","v":"6000|Title IV, Part A, Transferability|Mentoring/Induction"},"Title IV, Part A - APE60022","Non-Administrative",{"$f":"TRIM(TrnsfrXrefTable[[#This Row],[Summary Program]])&\"|\"&TRIM(TrnsfrXrefTable[[#This Row],[Summary Expenditure]])","v":"Title IV, Part A - APE60022|Non-Administrative"}]
[null,null,null,null,null,null,null,null,6000,"Title IV, Part A, Transferability","Migrant",{"$f":"TRIM(TrnsfrXrefTable[[#This Row],[Details Object Code]])&\"|\"&TRIM(TrnsfrXrefTable[[#This Row],[Details Program]])&\"|\"&TRIM(TrnsfrXrefTable[[#This Row],[Details Category]])","v":"6000|Title IV, Part A, Transferability|Migrant"},"Title IV, Part A - APE60020","Non Set-Aside",{"$f":"TRIM(TrnsfrXrefTable[[#This Row],[Summary Program]])&\"|\"&TRIM(TrnsfrXrefTable[[#This Row],[Summary Expenditure]])","v":"Title IV, Part A - APE60020|Non Set-Aside"}]
[null,null,null,null,null,null,null,null,6000,"Title IV, Part A, Transferability","Neglected",{"$f":"TRIM(TrnsfrXrefTable[[#This Row],[Details Object Code]])&\"|\"&TRIM(TrnsfrXrefTable[[#This Row],[Details Program]])&\"|\"&TRIM(TrnsfrXrefTable[[#This Row],[Details Category]])","v":"6000|Title IV, Part A, Transferability|Neglected"},"Title IV, Part A - APE60019","Set-Aside",{"$f":"TRIM(TrnsfrXrefTable[[#This Row],[Summary Program]])&\"|\"&TRIM(TrnsfrXrefTable[[#This Row],[Summary Expenditure]])","v":"Title IV, Part A - APE60019|Set-Aside"}]
[null,null,null,null,null,null,null,null,6000,"Title IV, Part A, Transferability","Other",{"$f":"TRIM(TrnsfrXrefTable[[#This Row],[Details Object Code]])&\"|\"&TRIM(TrnsfrXrefTable[[#This Row],[Details Program]])&\"|\"&TRIM(TrnsfrXrefTable[[#This Row],[Details Category]])","v":"6000|Title IV, Part A, Transferability|Other"},"Title IV, Part A - APE60022","Non-Administrative",{"$f":"TRIM(TrnsfrXrefTable[[#This Row],[Summary Program]])&\"|\"&TRIM(TrnsfrXrefTable[[#This Row],[Summary Expenditure]])","v":"Title IV, Part A - APE60022|Non-Administrative"}]
[null,null,null,null,null,null,null,null,6000,"Title IV, Part A, Transferability","PFE (Division)",{"$f":"TRIM(TrnsfrXrefTable[[#This Row],[Details Object Code]])&\"|\"&TRIM(TrnsfrXrefTable[[#This Row],[Details Program]])&\"|\"&TRIM(TrnsfrXrefTable[[#This Row],[Details Category]])","v":"6000|Title IV, Part A, Transferability|PFE (Division)"},"Title IV, Part A - APE60019","Parent and Family Engagement Set-Aside",{"$f":"TRIM(TrnsfrXrefTable[[#This Row],[Summary Program]])&\"|\"&TRIM(TrnsfrXrefTable[[#This Row],[Summary Expenditure]])","v":"Title IV, Part A - APE60019|Parent and Family Engagement Set-Aside"}]
[null,null,null,null,null,null,null,null,6000,"Title IV, Part A, Transferability","PFE (School Level)",{"$f":"TRIM(TrnsfrXrefTable[[#This Row],[Details Object Code]])&\"|\"&TRIM(TrnsfrXrefTable[[#This Row],[Details Program]])&\"|\"&TRIM(TrnsfrXrefTable[[#This Row],[Details Category]])","v":"6000|Title IV, Part A, Transferability|PFE (School Level)"},"Title IV, Part A - APE60019","Parent and Family Engagement Set-Aside",{"$f":"TRIM(TrnsfrXrefTable[[#This Row],[Summary Program]])&\"|\"&TRIM(TrnsfrXrefTable[[#This Row],[Summary Expenditure]])","v":"Title IV, Part A - APE60019|Parent and Family Engagement Set-Aside"}]
[null,null,null,null,null,null,null,null,6000,"Title IV, Part A, Transferability","Private School",{"$f":"TRIM(TrnsfrXrefTable[[#This Row],[Details Object Code]])&\"|\"&TRIM(TrnsfrXrefTable[[#This Row],[Details Program]])&\"|\"&TRIM(TrnsfrXrefTable[[#This Row],[Details Category]])","v":"6000|Title IV, Part A, Transferability|Private School"},"Title IV, Part A - APE60022","Private School Set-Aside ",{"$f":"TRIM(TrnsfrXrefTable[[#This Row],[Summary Program]])&\"|\"&TRIM(TrnsfrXrefTable[[#This Row],[Summary Expenditure]])","v":"Title IV, Part A - APE60022|Private School Set-Aside"}]
[null,null,null,null,null,null,null,null,6000,"Title IV, Part A, Transferability","Professional Development",{"$f":"TRIM(TrnsfrXrefTable[[#This Row],[Details Object Code]])&\"|\"&TRIM(TrnsfrXrefTable[[#This Row],[Details Program]])&\"|\"&TRIM(TrnsfrXrefTable[[#This Row],[Details Category]])","v":"6000|Title IV, Part A, Transferability|Professional Development"},"Title IV, Part A - APE60022","Non-Administrative",{"$f":"TRIM(TrnsfrXrefTable[[#This Row],[Summary Program]])&\"|\"&TRIM(TrnsfrXrefTable[[#This Row],[Summary Expenditure]])","v":"Title IV, Part A - APE60022|Non-Administrative"}]
[null,null,null,null,null,null,null,null,6000,"Title IV, Part A, Transferability","Recruitment/Retention",{"$f":"TRIM(TrnsfrXrefTable[[#This Row],[Details Object Code]])&\"|\"&TRIM(TrnsfrXrefTable[[#This Row],[Details Program]])&\"|\"&TRIM(TrnsfrXrefTable[[#This Row],[Details Category]])","v":"6000|Title IV, Part A, Transferability|Recruitment/Retention"},"Title IV, Part A - APE60022","Non-Administrative",{"$f":"TRIM(TrnsfrXrefTable[[#This Row],[Summary Program]])&\"|\"&TRIM(TrnsfrXrefTable[[#This Row],[Summary Expenditure]])","v":"Title IV, Part A - APE60022|Non-Administrative"}]
[null,null,null,null,null,null,null,null,6000,"Title IV, Part A, Transferability","Salary Differential",{"$f":"TRIM(TrnsfrXrefTable[[#This Row],[Details Object Code]])&\"|\"&TRIM(TrnsfrXrefTable[[#This Row],[Details Program]])&\"|\"&TRIM(TrnsfrXrefTable[[#This Row],[Details Category]])","v":"6000|Title IV, Part A, Transferability|Salary Differential"},"Title IV, Part A - APE60019","Set-Aside",{"$f":"TRIM(TrnsfrXrefTable[[#This Row],[Summary Program]])&\"|\"&TRIM(TrnsfrXrefTable[[#This Row],[Summary Expenditure]])","v":"Title IV, Part A - APE60019|Set-Aside"}]
[null,null,null,null,null,null,null,null,6000,"Title IV, Part A, Transferability","Teacher Quality (assessments)",{"$f":"TRIM(TrnsfrXrefTable[[#This Row],[Details Object Code]])&\"|\"&TRIM(TrnsfrXrefTable[[#This Row],[Details Program]])&\"|\"&TRIM(TrnsfrXrefTable[[#This Row],[Details Category]])","v":"6000|Title IV, Part A, Transferability|Teacher Quality (assessments)"},"Title IV, Part A - APE60022","Non-Administrative",{"$f":"TRIM(TrnsfrXrefTable[[#This Row],[Summary Program]])&\"|\"&TRIM(TrnsfrXrefTable[[#This Row],[Summary Expenditure]])","v":"Title IV, Part A - APE60022|Non-Administrative"}]
[null,null,null,null,null,null,null,null,null,null,null,null,null,null,{"$f":"TRIM(TrnsfrXrefTable[[#This Row],[Summary Program]])&\"|\"&TRIM(TrnsfrXrefTable[[#This Row],[Summary Expenditure]])","v":"|"}]
[null,null,null,null,null,null,null,null,null,null,null,null,null,null,{"$f":"TRIM(TrnsfrXrefTable[[#This Row],[Summary Program]])&\"|\"&TRIM(TrnsfrXrefTable[[#This Row],[Summary Expenditure]])","v":"|"}]
[null,null,null,null,null,null,null,null,null,null,null,null,null,null,{"$f":"TRIM(TrnsfrXrefTable[[#This Row],[Summary Program]])&\"|\"&TRIM(TrnsfrXrefTable[[#This Row],[Summary Expenditure]])","v":"|"}]
[null,null,null,null,null,null,null,null,6000,"Title IV, Part A, Transferability","Title I C Private School",{"$f":"TRIM(TrnsfrXrefTable[[#This Row],[Details Object Code]])&\"|\"&TRIM(TrnsfrXrefTable[[#This Row],[Details Program]])&\"|\"&TRIM(TrnsfrXrefTable[[#This Row],[Details Category]])","v":"6000|Title IV, Part A, Transferability|Title I C Private School"},"Title IV, Part A - APE60020","Private School Set-Aside ",{"$f":"TRIM(TrnsfrXrefTable[[#This Row],[Summary Program]])&\"|\"&TRIM(TrnsfrXrefTable[[#This Row],[Summary Expenditure]])","v":"Title IV, Part A - APE60020|Private School Set-Aside"}]
[null,null,null,null,null,null,null,null,6000,"Title IV, Part A, Transferability","Title I Private School",{"$f":"TRIM(TrnsfrXrefTable[[#This Row],[Details Object Code]])&\"|\"&TRIM(TrnsfrXrefTable[[#This Row],[Details Program]])&\"|\"&TRIM(TrnsfrXrefTable[[#This Row],[Details Category]])","v":"6000|Title IV, Part A, Transferability|Title I Private School"},"Title IV, Part A - APE60019","Private School Set-Aside ",{"$f":"TRIM(TrnsfrXrefTable[[#This Row],[Summary Program]])&\"|\"&TRIM(TrnsfrXrefTable[[#This Row],[Summary Expenditure]])","v":"Title IV, Part A - APE60019|Private School Set-Aside"}]
[null,null,null,null,null,null,null,null,6000,"Title IV, Part A, Transferability","Title IIA Administration",{"$f":"TRIM(TrnsfrXrefTable[[#This Row],[Details Object Code]])&\"|\"&TRIM(TrnsfrXrefTable[[#This Row],[Details Program]])&\"|\"&TRIM(TrnsfrXrefTable[[#This Row],[Details Category]])","v":"6000|Title IV, Part A, Transferability|Title IIA Administration"},"Title IV, Part A - APE60022","Administrative",{"$f":"TRIM(TrnsfrXrefTable[[#This Row],[Summary Program]])&\"|\"&TRIM(TrnsfrXrefTable[[#This Row],[Summary Expenditure]])","v":"Title IV, Part A - APE60022|Administrative"}]
[null,null,null,null,null,null,null,null,6000,"Title II, Part A, Transferability","Well Rounded Students - PS",{"$f":"TRIM(TrnsfrXrefTable[[#This Row],[Details Object Code]])&\"|\"&TRIM(TrnsfrXrefTable[[#This Row],[Details Program]])&\"|\"&TRIM(TrnsfrXrefTable[[#This Row],[Details Category]])","v":"6000|Title II, Part A, Transferability|Well Rounded Students - PS"},"Title II, Part A - APE60017","Private School Set-Aside ",{"$f":"TRIM(TrnsfrXrefTable[[#This Row],[Summary Program]])&\"|\"&TRIM(TrnsfrXrefTable[[#This Row],[Summary Expenditure]])","v":"Title II, Part A - APE60017|Private School Set-Aside"}]
[null,null,null,null,null,null,null,null,6000,"Title II, Part A, Transferability","Well Rounded Students - Admin",{"$f":"TRIM(TrnsfrXrefTable[[#This Row],[Details Object Code]])&\"|\"&TRIM(TrnsfrXrefTable[[#This Row],[Details Program]])&\"|\"&TRIM(TrnsfrXrefTable[[#This Row],[Details Category]])","v":"6000|Title II, Part A, Transferability|Well Rounded Students - Admin"},"Title II, Part A - APE60017","Administrative",{"$f":"TRIM(TrnsfrXrefTable[[#This Row],[Summary Program]])&\"|\"&TRIM(TrnsfrXrefTable[[#This Row],[Summary Expenditure]])","v":"Title II, Part A - APE60017|Administrative"}]
[null,null,null,null,null,null,null,null,6000,"Title II, Part A, Transferability","Well Rounded Students",{"$f":"TRIM(TrnsfrXrefTable[[#This Row],[Details Object Code]])&\"|\"&TRIM(TrnsfrXrefTable[[#This Row],[Details Program]])&\"|\"&TRIM(TrnsfrXrefTable[[#This Row],[Details Category]])","v":"6000|Title II, Part A, Transferability|Well Rounded Students"},"Title II, Part A - APE60017","Non-Administrative",{"$f":"TRIM(TrnsfrXrefTable[[#This Row],[Summary Program]])&\"|\"&TRIM(TrnsfrXrefTable[[#This Row],[Summary Expenditure]])","v":"Title II, Part A - APE60017|Non-Administrative"}]
[null,null,null,null,null,null,null,null,null,null,null,null,null,null,{"$f":"TRIM(TrnsfrXrefTable[[#This Row],[Summary Program]])&\"|\"&TRIM(TrnsfrXrefTable[[#This Row],[Summary Expenditure]])","v":"|"}]
[null,null,null,null,null,null,null,null,null,null,null,null,null,null,{"$f":"TRIM(TrnsfrXrefTable[[#This Row],[Summary Program]])&\"|\"&TRIM(TrnsfrXrefTable[[#This Row],[Summary Expenditure]])","v":"|"}]
[null,null,null,null,null,null,null,null,6000,"Title II, Part A, Transferability","Rural and Low Income",{"$f":"TRIM(TrnsfrXrefTable[[#This Row],[Details Object Code]])&\"|\"&TRIM(TrnsfrXrefTable[[#This Row],[Details Program]])&\"|\"&TRIM(TrnsfrXrefTable[[#This Row],[Details Category]])","v":"6000|Title II, Part A, Transferability|Rural and Low Income"},"Title II, Part A - APE60018","Non Set-Aside",{"$f":"TRIM(TrnsfrXrefTable[[#This Row],[Summary Program]])&\"|\"&TRIM(TrnsfrXrefTable[[#This Row],[Summary Expenditure]])","v":"Title II, Part A - APE60018|Non Set-Aside"}]
[null,null,null,null,null,null,null,null,6000,"Title IV, Part A, Transferability","Rural and Low Income",{"$f":"TRIM(TrnsfrXrefTable[[#This Row],[Details Object Code]])&\"|\"&TRIM(TrnsfrXrefTable[[#This Row],[Details Program]])&\"|\"&TRIM(TrnsfrXrefTable[[#This Row],[Details Category]])","v":"6000|Title IV, Part A, Transferability|Rural and Low Income"},"Title IV, Part A - APE60024","Non Set-Aside",{"$f":"TRIM(TrnsfrXrefTable[[#This Row],[Summary Program]])&\"|\"&TRIM(TrnsfrXrefTable[[#This Row],[Summary Expenditure]])","v":"Title IV, Part A - APE60024|Non Set-Aside"}]
[null,null,null,null,null,null,null,null,8000,"Title IV, Part A, Transferability","CSI/TSI",{"$f":"TRIM(TrnsfrXrefTable[[#This Row],[Details Object Code]])&\"|\"&TRIM(TrnsfrXrefTable[[#This Row],[Details Program]])&\"|\"&TRIM(TrnsfrXrefTable[[#This Row],[Details Category]])","v":"8000|Title IV, Part A, Transferability|CSI/TSI"},"Title IV, Part A - APE60019","Set-Aside",{"$f":"TRIM(TrnsfrXrefTable[[#This Row],[Summary Program]])&\"|\"&TRIM(TrnsfrXrefTable[[#This Row],[Summary Expenditure]])","v":"Title IV, Part A - APE60019|Set-Aside"}]
[null,null,null,null,null,null,null,null,8000,"Title IV, Part A, Transferability","Delinquent",{"$f":"TRIM(TrnsfrXrefTable[[#This Row],[Details Object Code]])&\"|\"&TRIM(TrnsfrXrefTable[[#This Row],[Details Program]])&\"|\"&TRIM(TrnsfrXrefTable[[#This Row],[Details Category]])","v":"8000|Title IV, Part A, Transferability|Delinquent"},"Title IV, Part A - APE60021","Non Set-Aside",{"$f":"TRIM(TrnsfrXrefTable[[#This Row],[Summary Program]])&\"|\"&TRIM(TrnsfrXrefTable[[#This Row],[Summary Expenditure]])","v":"Title IV, Part A - APE60021|Non Set-Aside"}]
[null,null,null,null,null,null,null,null,8000,"Title IV, Part A, Transferability","Division",{"$f":"TRIM(TrnsfrXrefTable[[#This Row],[Details Object Code]])&\"|\"&TRIM(TrnsfrXrefTable[[#This Row],[Details Program]])&\"|\"&TRIM(TrnsfrXrefTable[[#This Row],[Details Category]])","v":"8000|Title IV, Part A, Transferability|Division"},"Title IV, Part A - APE60019","Set-Aside",{"$f":"TRIM(TrnsfrXrefTable[[#This Row],[Summary Program]])&\"|\"&TRIM(TrnsfrXrefTable[[#This Row],[Summary Expenditure]])","v":"Title IV, Part A - APE60019|Set-Aside"}]
[null,null,null,null,null,null,null,null,8000,"Title IV, Part A, Transferability","Early Childhood",{"$f":"TRIM(TrnsfrXrefTable[[#This Row],[Details Object Code]])&\"|\"&TRIM(TrnsfrXrefTable[[#This Row],[Details Program]])&\"|\"&TRIM(TrnsfrXrefTable[[#This Row],[Details Category]])","v":"8000|Title IV, Part A, Transferability|Early Childhood"},"Title IV, Part A - APE60019","Set-Aside",{"$f":"TRIM(TrnsfrXrefTable[[#This Row],[Summary Program]])&\"|\"&TRIM(TrnsfrXrefTable[[#This Row],[Summary Expenditure]])","v":"Title IV, Part A - APE60019|Set-Aside"}]
[null,null,null,null,null,null,null,null,8000,"Title IV, Part A, Transferability","EL Subgrant",{"$f":"TRIM(TrnsfrXrefTable[[#This Row],[Details Object Code]])&\"|\"&TRIM(TrnsfrXrefTable[[#This Row],[Details Program]])&\"|\"&TRIM(TrnsfrXrefTable[[#This Row],[Details Category]])","v":"8000|Title IV, Part A, Transferability|EL Subgrant"},"Title IV, Part A - APE60023","Non-Administrative",{"$f":"TRIM(TrnsfrXrefTable[[#This Row],[Summary Program]])&\"|\"&TRIM(TrnsfrXrefTable[[#This Row],[Summary Expenditure]])","v":"Title IV, Part A - APE60023|Non-Administrative"}]
[null,null,null,null,null,null,null,null,8000,"Title IV, Part A, Transferability","Foster Care",{"$f":"TRIM(TrnsfrXrefTable[[#This Row],[Details Object Code]])&\"|\"&TRIM(TrnsfrXrefTable[[#This Row],[Details Program]])&\"|\"&TRIM(TrnsfrXrefTable[[#This Row],[Details Category]])","v":"8000|Title IV, Part A, Transferability|Foster Care"},"Title IV, Part A - APE60019","Set-Aside",{"$f":"TRIM(TrnsfrXrefTable[[#This Row],[Summary Program]])&\"|\"&TRIM(TrnsfrXrefTable[[#This Row],[Summary Expenditure]])","v":"Title IV, Part A - APE60019|Set-Aside"}]
[null,null,null,null,null,null,null,null,8000,"Title IV, Part A, Transferability","Homeless",{"$f":"TRIM(TrnsfrXrefTable[[#This Row],[Details Object Code]])&\"|\"&TRIM(TrnsfrXrefTable[[#This Row],[Details Program]])&\"|\"&TRIM(TrnsfrXrefTable[[#This Row],[Details Category]])","v":"8000|Title IV, Part A, Transferability|Homeless"},"Title IV, Part A - APE60019","Set-Aside",{"$f":"TRIM(TrnsfrXrefTable[[#This Row],[Summary Program]])&\"|\"&TRIM(TrnsfrXrefTable[[#This Row],[Summary Expenditure]])","v":"Title IV, Part A - APE60019|Set-Aside"}]
[null,null,null,null,null,null,null,null,8000,"Title IV, Part A, Transferability","IY Subgrant",{"$f":"TRIM(TrnsfrXrefTable[[#This Row],[Details Object Code]])&\"|\"&TRIM(TrnsfrXrefTable[[#This Row],[Details Program]])&\"|\"&TRIM(TrnsfrXrefTable[[#This Row],[Details Category]])","v":"8000|Title IV, Part A, Transferability|IY Subgrant"},"Title IV, Part A - APE60023","Non-Administrative",{"$f":"TRIM(TrnsfrXrefTable[[#This Row],[Summary Program]])&\"|\"&TRIM(TrnsfrXrefTable[[#This Row],[Summary Expenditure]])","v":"Title IV, Part A - APE60023|Non-Administrative"}]
[null,null,null,null,null,null,null,null,8000,"Title IV, Part A, Transferability","Migrant",{"$f":"TRIM(TrnsfrXrefTable[[#This Row],[Details Object Code]])&\"|\"&TRIM(TrnsfrXrefTable[[#This Row],[Details Program]])&\"|\"&TRIM(TrnsfrXrefTable[[#This Row],[Details Category]])","v":"8000|Title IV, Part A, Transferability|Migrant"},"Title IV, Part A - APE60020","Non Set-Aside",{"$f":"TRIM(TrnsfrXrefTable[[#This Row],[Summary Program]])&\"|\"&TRIM(TrnsfrXrefTable[[#This Row],[Summary Expenditure]])","v":"Title IV, Part A - APE60020|Non Set-Aside"}]
[null,null,null,null,null,null,null,null,8000,"Title IV, Part A, Transferability","Neglected",{"$f":"TRIM(TrnsfrXrefTable[[#This Row],[Details Object Code]])&\"|\"&TRIM(TrnsfrXrefTable[[#This Row],[Details Program]])&\"|\"&TRIM(TrnsfrXrefTable[[#This Row],[Details Category]])","v":"8000|Title IV, Part A, Transferability|Neglected"},"Title IV, Part A - APE60019","Set-Aside",{"$f":"TRIM(TrnsfrXrefTable[[#This Row],[Summary Program]])&\"|\"&TRIM(TrnsfrXrefTable[[#This Row],[Summary Expenditure]])","v":"Title IV, Part A - APE60019|Set-Aside"}]
[null,null,null,null,null,null,null,null,8000,"Title IV, Part A, Transferability","PFE (Division)",{"$f":"TRIM(TrnsfrXrefTable[[#This Row],[Details Object Code]])&\"|\"&TRIM(TrnsfrXrefTable[[#This Row],[Details Program]])&\"|\"&TRIM(TrnsfrXrefTable[[#This Row],[Details Category]])","v":"8000|Title IV, Part A, Transferability|PFE (Division)"},"Title IV, Part A - APE60019","Parent and Family Engagement Set-Aside",{"$f":"TRIM(TrnsfrXrefTable[[#This Row],[Summary Program]])&\"|\"&TRIM(TrnsfrXrefTable[[#This Row],[Summary Expenditure]])","v":"Title IV, Part A - APE60019|Parent and Family Engagement Set-Aside"}]
[null,null,null,null,null,null,null,null,8000,"Title IV, Part A, Transferability","PFE (School Level)",{"$f":"TRIM(TrnsfrXrefTable[[#This Row],[Details Object Code]])&\"|\"&TRIM(TrnsfrXrefTable[[#This Row],[Details Program]])&\"|\"&TRIM(TrnsfrXrefTable[[#This Row],[Details Category]])","v":"8000|Title IV, Part A, Transferability|PFE (School Level)"},"Title IV, Part A - APE60019","Parent and Family Engagement Set-Aside",{"$f":"TRIM(TrnsfrXrefTable[[#This Row],[Summary Program]])&\"|\"&TRIM(TrnsfrXrefTable[[#This Row],[Summary Expenditure]])","v":"Title IV, Part A - APE60019|Parent and Family Engagement Set-Aside"}]
[null,null,null,null,null,null,null,null,null,null,null,null,null,null,{"$f":"TRIM(TrnsfrXrefTable[[#This Row],[Summary Program]])&\"|\"&TRIM(TrnsfrXrefTable[[#This Row],[Summary Expenditure]])","v":"|"}]
[null,null,null,null,null,null,null,null,null,null,null,null,null,null,{"$f":"TRIM(TrnsfrXrefTable[[#This Row],[Summary Program]])&\"|\"&TRIM(TrnsfrXrefTable[[#This Row],[Summary Expenditure]])","v":"|"}]
[null,null,null,null,null,null,null,null,8000,"Title II, Part A, Transferability","Safe & Healthy Students - PS",{"$f":"TRIM(TrnsfrXrefTable[[#This Row],[Details Object Code]])&\"|\"&TRIM(TrnsfrXrefTable[[#This Row],[Details Program]])&\"|\"&TRIM(TrnsfrXrefTable[[#This Row],[Details Category]])","v":"8000|Title II, Part A, Transferability|Safe & Healthy Students - PS"},"Title II, Part A - APE60017","Private School Set-Aside ",{"$f":"TRIM(TrnsfrXrefTable[[#This Row],[Summary Program]])&\"|\"&TRIM(TrnsfrXrefTable[[#This Row],[Summary Expenditure]])","v":"Title II, Part A - APE60017|Private School Set-Aside"}]
[null,null,null,null,null,null,null,null,8000,"Title IV, Part A, Transferability","Other",{"$f":"TRIM(TrnsfrXrefTable[[#This Row],[Details Object Code]])&\"|\"&TRIM(TrnsfrXrefTable[[#This Row],[Details Program]])&\"|\"&TRIM(TrnsfrXrefTable[[#This Row],[Details Category]])","v":"8000|Title IV, Part A, Transferability|Other"},"Title IV, Part A - APE60022","Non-Administrative",{"$f":"TRIM(TrnsfrXrefTable[[#This Row],[Summary Program]])&\"|\"&TRIM(TrnsfrXrefTable[[#This Row],[Summary Expenditure]])","v":"Title IV, Part A - APE60022|Non-Administrative"}]
[null,null,null,null,null,null,null,null,null,null,null,null,null,null,{"$f":"TRIM(TrnsfrXrefTable[[#This Row],[Summary Program]])&\"|\"&TRIM(TrnsfrXrefTable[[#This Row],[Summary Expenditure]])","v":"|"}]
[null,null,null,null,null,null,null,null,null,null,null,null,null,null,{"$f":"TRIM(TrnsfrXrefTable[[#This Row],[Summary Program]])&\"|\"&TRIM(TrnsfrXrefTable[[#This Row],[Summary Expenditure]])","v":"|"}]
[null,null,null,null,null,null,null,null,8000,"Title IV, Part A, Transferability","Title I C Private School",{"$f":"TRIM(TrnsfrXrefTable[[#This Row],[Details Object Code]])&\"|\"&TRIM(TrnsfrXrefTable[[#This Row],[Details Program]])&\"|\"&TRIM(TrnsfrXrefTable[[#This Row],[Details Category]])","v":"8000|Title IV, Part A, Transferability|Title I C Private School"},"Title IV, Part A - APE60020","Private School Set-Aside ",{"$f":"TRIM(TrnsfrXrefTable[[#This Row],[Summary Program]])&\"|\"&TRIM(TrnsfrXrefTable[[#This Row],[Summary Expenditure]])","v":"Title IV, Part A - APE60020|Private School Set-Aside"}]
[null,null,null,null,null,null,null,null,8000,"Title IV, Part A, Transferability","Title I Private School",{"$f":"TRIM(TrnsfrXrefTable[[#This Row],[Details Object Code]])&\"|\"&TRIM(TrnsfrXrefTable[[#This Row],[Details Program]])&\"|\"&TRIM(TrnsfrXrefTable[[#This Row],[Details Category]])","v":"8000|Title IV, Part A, Transferability|Title I Private School"},"Title IV, Part A - APE60019","Private School Set-Aside ",{"$f":"TRIM(TrnsfrXrefTable[[#This Row],[Summary Program]])&\"|\"&TRIM(TrnsfrXrefTable[[#This Row],[Summary Expenditure]])","v":"Title IV, Part A - APE60019|Private School Set-Aside"}]
[null,null,null,null,null,null,null,null,null,null,null,null,null,null,{"$f":"TRIM(TrnsfrXrefTable[[#This Row],[Summary Program]])&\"|\"&TRIM(TrnsfrXrefTable[[#This Row],[Summary Expenditure]])","v":"|"}]
[null,null,null,null,null,null,null,null,null,null,null,null,null,null,{"$f":"TRIM(TrnsfrXrefTable[[#This Row],[Summary Program]])&\"|\"&TRIM(TrnsfrXrefTable[[#This Row],[Summary Expenditure]])","v":"|"}]
[null,null,null,null,null,null,null,null,null,null,null,null,null,null,{"$f":"TRIM(TrnsfrXrefTable[[#This Row],[Summary Program]])&\"|\"&TRIM(TrnsfrXrefTable[[#This Row],[Summary Expenditure]])","v":"|"}]
[null,null,null,null,null,null,null,null,null,null,null,null,null,null,{"$f":"TRIM(TrnsfrXrefTable[[#This Row],[Summary Program]])&\"|\"&TRIM(TrnsfrXrefTable[[#This Row],[Summary Expenditure]])","v":"|"}]
[null,null,null,null,null,null,null,null,8000,"Title IV, Part A, Transferability","Rural and Low Income",{"$f":"TRIM(TrnsfrXrefTable[[#This Row],[Details Object Code]])&\"|\"&TRIM(TrnsfrXrefTable[[#This Row],[Details Program]])&\"|\"&TRIM(TrnsfrXrefTable[[#This Row],[Details Category]])","v":"8000|Title IV, Part A, Transferability|Rural and Low Income"},"Title IV, Part A - APE60024","Non Set-Aside",{"$f":"TRIM(TrnsfrXrefTable[[#This Row],[Summary Program]])&\"|\"&TRIM(TrnsfrXrefTable[[#This Row],[Summary Expenditure]])","v":"Title IV, Part A - APE60024|Non Set-Aside"}]
[null,null,null,null,null,null,null,null,2000,"Title II, Part A, Transferability","Employee Benefits Differential",{"$f":"TRIM(TrnsfrXrefTable[[#This Row],[Details Object Code]])&\"|\"&TRIM(TrnsfrXrefTable[[#This Row],[Details Program]])&\"|\"&TRIM(TrnsfrXrefTable[[#This Row],[Details Category]])","v":"2000|Title II, Part A, Transferability|Employee Benefits Differential"},"Title II, Part A - APE61481","Set-Aside",{"$f":"TRIM(TrnsfrXrefTable[[#This Row],[Summary Program]])&\"|\"&TRIM(TrnsfrXrefTable[[#This Row],[Summary Expenditure]])","v":"Title II, Part A - APE61481|Set-Aside"}]
[null,null,null,null,null,null,null,null,2000,"Title IV, Part A, Transferability","Employee Benefits Differential",{"$f":"TRIM(TrnsfrXrefTable[[#This Row],[Details Object Code]])&\"|\"&TRIM(TrnsfrXrefTable[[#This Row],[Details Program]])&\"|\"&TRIM(TrnsfrXrefTable[[#This Row],[Details Category]])","v":"2000|Title IV, Part A, Transferability|Employee Benefits Differential"},"Title IV, Part A - APE60019","Set-Aside",{"$f":"TRIM(TrnsfrXrefTable[[#This Row],[Summary Program]])&\"|\"&TRIM(TrnsfrXrefTable[[#This Row],[Summary Expenditure]])","v":"Title IV, Part A - APE60019|Set-Aside"}]
[null,null,null,null,null,null,null,null,6000,"Title II, Part A, Transferability","Non Set-Aside",{"$f":"TRIM(TrnsfrXrefTable[[#This Row],[Details Object Code]])&\"|\"&TRIM(TrnsfrXrefTable[[#This Row],[Details Program]])&\"|\"&TRIM(TrnsfrXrefTable[[#This Row],[Details Category]])","v":"6000|Title II, Part A, Transferability|Non Set-Aside"},"Title II, Part A - APE61481","Non Set-Aside",{"$f":"TRIM(TrnsfrXrefTable[[#This Row],[Summary Program]])&\"|\"&TRIM(TrnsfrXrefTable[[#This Row],[Summary Expenditure]])","v":"Title II, Part A - APE61481|Non Set-Aside"}]
[null,null,null,null,null,null,null,null,null,null,null,null,null,null,{"$f":"TRIM(TrnsfrXrefTable[[#This Row],[Summary Program]])&\"|\"&TRIM(TrnsfrXrefTable[[#This Row],[Summary Expenditure]])","v":"|"}]
[null,null,null,null,null,null,null,null,6000,"Title II, Part A, Transferability","Technology - Admin",{"$f":"TRIM(TrnsfrXrefTable[[#This Row],[Details Object Code]])&\"|\"&TRIM(TrnsfrXrefTable[[#This Row],[Details Program]])&\"|\"&TRIM(TrnsfrXrefTable[[#This Row],[Details Category]])","v":"6000|Title II, Part A, Transferability|Technology - Admin"},"Title II, Part A - APE60017","Administrative",{"$f":"TRIM(TrnsfrXrefTable[[#This Row],[Summary Program]])&\"|\"&TRIM(TrnsfrXrefTable[[#This Row],[Summary Expenditure]])","v":"Title II, Part A - APE60017|Administrative"}]
[null,null,null,null,null,null,null,null,6000,"Title II, Part A, Transferability","Technology - PS",{"$f":"TRIM(TrnsfrXrefTable[[#This Row],[Details Object Code]])&\"|\"&TRIM(TrnsfrXrefTable[[#This Row],[Details Program]])&\"|\"&TRIM(TrnsfrXrefTable[[#This Row],[Details Category]])","v":"6000|Title II, Part A, Transferability|Technology - PS"},"Title II, Part A - APE60017","Private School Set-Aside ",{"$f":"TRIM(TrnsfrXrefTable[[#This Row],[Summary Program]])&\"|\"&TRIM(TrnsfrXrefTable[[#This Row],[Summary Expenditure]])","v":"Title II, Part A - APE60017|Private School Set-Aside"}]
[null,null,null,null,null,null,null,null,6000,"Title II, Part A, Transferability","Technology",{"$f":"TRIM(TrnsfrXrefTable[[#This Row],[Details Object Code]])&\"|\"&TRIM(TrnsfrXrefTable[[#This Row],[Details Program]])&\"|\"&TRIM(TrnsfrXrefTable[[#This Row],[Details Category]])","v":"6000|Title II, Part A, Transferability|Technology"},"Title II, Part A - APE60017","Non-Administrative",{"$f":"TRIM(TrnsfrXrefTable[[#This Row],[Summary Program]])&\"|\"&TRIM(TrnsfrXrefTable[[#This Row],[Summary Expenditure]])","v":"Title II, Part A - APE60017|Non-Administrative"}]
[null,null,null,null,null,null,null,null,8000,"Title II, Part A, Transferability","Safe & Healthy Students",{"$f":"TRIM(TrnsfrXrefTable[[#This Row],[Details Object Code]])&\"|\"&TRIM(TrnsfrXrefTable[[#This Row],[Details Program]])&\"|\"&TRIM(TrnsfrXrefTable[[#This Row],[Details Category]])","v":"8000|Title II, Part A, Transferability|Safe & Healthy Students"},"Title II, Part A - APE60017","Non-Administrative",{"$f":"TRIM(TrnsfrXrefTable[[#This Row],[Summary Program]])&\"|\"&TRIM(TrnsfrXrefTable[[#This Row],[Summary Expenditure]])","v":"Title II, Part A - APE60017|Non-Administrative"}]
[null,null,null,null,null,null,null,null,8000,"Title II, Part A, Transferability","Technology",{"$f":"TRIM(TrnsfrXrefTable[[#This Row],[Details Object Code]])&\"|\"&TRIM(TrnsfrXrefTable[[#This Row],[Details Program]])&\"|\"&TRIM(TrnsfrXrefTable[[#This Row],[Details Category]])","v":"8000|Title II, Part A, Transferability|Technology"},"Title II, Part A - APE60017","Non-Administrative",{"$f":"TRIM(TrnsfrXrefTable[[#This Row],[Summary Program]])&\"|\"&TRIM(TrnsfrXrefTable[[#This Row],[Summary Expenditure]])","v":"Title II, Part A - APE60017|Non-Administrative"}]
[null,null,null,null,null,null,null,null,8000,"Title II, Part A, Transferability","Technology - PS",{"$f":"TRIM(TrnsfrXrefTable[[#This Row],[Details Object Code]])&\"|\"&TRIM(TrnsfrXrefTable[[#This Row],[Details Program]])&\"|\"&TRIM(TrnsfrXrefTable[[#This Row],[Details Category]])","v":"8000|Title II, Part A, Transferability|Technology - PS"},"Title II, Part A - APE60017","Private School Set-Aside ",{"$f":"TRIM(TrnsfrXrefTable[[#This Row],[Summary Program]])&\"|\"&TRIM(TrnsfrXrefTable[[#This Row],[Summary Expenditure]])","v":"Title II, Part A - APE60017|Private School Set-Aside"}]
[null,null,null,null,null,null,null,null,8000,"Title II, Part A, Transferability","Well Rounded Students",{"$f":"TRIM(TrnsfrXrefTable[[#This Row],[Details Object Code]])&\"|\"&TRIM(TrnsfrXrefTable[[#This Row],[Details Program]])&\"|\"&TRIM(TrnsfrXrefTable[[#This Row],[Details Category]])","v":"8000|Title II, Part A, Transferability|Well Rounded Students"},"Title II, Part A - APE60017","Non-Administrative",{"$f":"TRIM(TrnsfrXrefTable[[#This Row],[Summary Program]])&\"|\"&TRIM(TrnsfrXrefTable[[#This Row],[Summary Expenditure]])","v":"Title II, Part A - APE60017|Non-Administrative"}]
[null,null,null,null,null,null,null,null,8000,"Title II, Part A, Transferability","Well Rounded Students - PS",{"$f":"TRIM(TrnsfrXrefTable[[#This Row],[Details Object Code]])&\"|\"&TRIM(TrnsfrXrefTable[[#This Row],[Details Program]])&\"|\"&TRIM(TrnsfrXrefTable[[#This Row],[Details Category]])","v":"8000|Title II, Part A, Transferability|Well Rounded Students - PS"},"Title II, Part A - APE60017","Private School Set-Aside ",{"$f":"TRIM(TrnsfrXrefTable[[#This Row],[Summary Program]])&\"|\"&TRIM(TrnsfrXrefTable[[#This Row],[Summary Expenditure]])","v":"Title II, Part A - APE60017|Private School Set-Aside"}]
[null,null,null,null,null,null,null,null,6000,"Title IV, Part A, Transferability","Non Set-Aside",{"$f":"TRIM(TrnsfrXrefTable[[#This Row],[Details Object Code]])&\"|\"&TRIM(TrnsfrXrefTable[[#This Row],[Details Program]])&\"|\"&TRIM(TrnsfrXrefTable[[#This Row],[Details Category]])","v":"6000|Title IV, Part A, Transferability|Non Set-Aside"},"Title IV, Part A - APE60019","Non Set-Aside",{"$f":"TRIM(TrnsfrXrefTable[[#This Row],[Summary Program]])&\"|\"&TRIM(TrnsfrXrefTable[[#This Row],[Summary Expenditure]])","v":"Title IV, Part A - APE60019|Non Set-Aside"}]
[null,null,null,null,null,null,null,null,1000,"Title IV, Part A, Transferability","Non Set-Aside",{"$f":"TRIM(TrnsfrXrefTable[[#This Row],[Details Object Code]])&\"|\"&TRIM(TrnsfrXrefTable[[#This Row],[Details Program]])&\"|\"&TRIM(TrnsfrXrefTable[[#This Row],[Details Category]])","v":"1000|Title IV, Part A, Transferability|Non Set-Aside"},"Title IV, Part A - APE60019","Non Set-Aside",{"$f":"TRIM(TrnsfrXrefTable[[#This Row],[Summary Program]])&\"|\"&TRIM(TrnsfrXrefTable[[#This Row],[Summary Expenditure]])","v":"Title IV, Part A - APE60019|Non Set-Aside"}]
[null,null,null,null,null,null,null,null,1000,"Title II, Part A, Transferability","Non Set-Aside",{"$f":"TRIM(TrnsfrXrefTable[[#This Row],[Details Object Code]])&\"|\"&TRIM(TrnsfrXrefTable[[#This Row],[Details Program]])&\"|\"&TRIM(TrnsfrXrefTable[[#This Row],[Details Category]])","v":"1000|Title II, Part A, Transferability|Non Set-Aside"},"Title II, Part A - APE61481","Non Set-Aside",{"$f":"TRIM(TrnsfrXrefTable[[#This Row],[Summary Program]])&\"|\"&TRIM(TrnsfrXrefTable[[#This Row],[Summary Expenditure]])","v":"Title II, Part A - APE61481|Non Set-Aside"}]
[null,null,null,null,null,null,null,null,2000,"Title II, Part A, Transferability","Non Set-Aside",{"$f":"TRIM(TrnsfrXrefTable[[#This Row],[Details Object Code]])&\"|\"&TRIM(TrnsfrXrefTable[[#This Row],[Details Program]])&\"|\"&TRIM(TrnsfrXrefTable[[#This Row],[Details Category]])","v":"2000|Title II, Part A, Transferability|Non Set-Aside"},"Title II, Part A - APE61481","Non Set-Aside",{"$f":"TRIM(TrnsfrXrefTable[[#This Row],[Summary Program]])&\"|\"&TRIM(TrnsfrXrefTable[[#This Row],[Summary Expenditure]])","v":"Title II, Part A - APE61481|Non Set-Aside"}]
[null,null,null,null,null,null,null,null,3000,"Title II, Part A, Transferability","Non Set-Aside",{"$f":"TRIM(TrnsfrXrefTable[[#This Row],[Details Object Code]])&\"|\"&TRIM(TrnsfrXrefTable[[#This Row],[Details Program]])&\"|\"&TRIM(TrnsfrXrefTable[[#This Row],[Details Category]])","v":"3000|Title II, Part A, Transferability|Non Set-Aside"},"Title II, Part A - APE61481","Non Set-Aside",{"$f":"TRIM(TrnsfrXrefTable[[#This Row],[Summary Program]])&\"|\"&TRIM(TrnsfrXrefTable[[#This Row],[Summary Expenditure]])","v":"Title II, Part A - APE61481|Non Set-Aside"}]
[null,null,null,null,null,null,null,null,null,null,null,null,null,null,{"$f":"TRIM(TrnsfrXrefTable[[#This Row],[Summary Program]])&\"|\"&TRIM(TrnsfrXrefTable[[#This Row],[Summary Expenditure]])","v":"|"}]
[null,null,null,null,null,null,null,null,4000,"Title II, Part A, Transferability","Non Set-Aside",{"$f":"TRIM(TrnsfrXrefTable[[#This Row],[Details Object Code]])&\"|\"&TRIM(TrnsfrXrefTable[[#This Row],[Details Program]])&\"|\"&TRIM(TrnsfrXrefTable[[#This Row],[Details Category]])","v":"4000|Title II, Part A, Transferability|Non Set-Aside"},"Title II, Part A - APE61481","Non Set-Aside",{"$f":"TRIM(TrnsfrXrefTable[[#This Row],[Summary Program]])&\"|\"&TRIM(TrnsfrXrefTable[[#This Row],[Summary Expenditure]])","v":"Title II, Part A - APE61481|Non Set-Aside"}]
[null,null,null,null,null,null,null,null,4000,"Title IV, Part A, Transferability","Non Set-Aside",{"$f":"TRIM(TrnsfrXrefTable[[#This Row],[Details Object Code]])&\"|\"&TRIM(TrnsfrXrefTable[[#This Row],[Details Program]])&\"|\"&TRIM(TrnsfrXrefTable[[#This Row],[Details Category]])","v":"4000|Title IV, Part A, Transferability|Non Set-Aside"},"Title IV, Part A - APE60019","Non Set-Aside",{"$f":"TRIM(TrnsfrXrefTable[[#This Row],[Summary Program]])&\"|\"&TRIM(TrnsfrXrefTable[[#This Row],[Summary Expenditure]])","v":"Title IV, Part A - APE60019|Non Set-Aside"}]
[null,null,null,null,null,null,null,null,5000,"Title II, Part A, Transferability","Non Set-Aside",{"$f":"TRIM(TrnsfrXrefTable[[#This Row],[Details Object Code]])&\"|\"&TRIM(TrnsfrXrefTable[[#This Row],[Details Program]])&\"|\"&TRIM(TrnsfrXrefTable[[#This Row],[Details Category]])","v":"5000|Title II, Part A, Transferability|Non Set-Aside"},"Title II, Part A - APE61481","Non Set-Aside",{"$f":"TRIM(TrnsfrXrefTable[[#This Row],[Summary Program]])&\"|\"&TRIM(TrnsfrXrefTable[[#This Row],[Summary Expenditure]])","v":"Title II, Part A - APE61481|Non Set-Aside"}]
[null,null,null,null,null,null,null,null,5000,"Title IV, Part A, Transferability","Non Set-Aside",{"$f":"TRIM(TrnsfrXrefTable[[#This Row],[Details Object Code]])&\"|\"&TRIM(TrnsfrXrefTable[[#This Row],[Details Program]])&\"|\"&TRIM(TrnsfrXrefTable[[#This Row],[Details Category]])","v":"5000|Title IV, Part A, Transferability|Non Set-Aside"},"Title IV, Part A - APE60019","Non Set-Aside",{"$f":"TRIM(TrnsfrXrefTable[[#This Row],[Summary Program]])&\"|\"&TRIM(TrnsfrXrefTable[[#This Row],[Summary Expenditure]])","v":"Title IV, Part A - APE60019|Non Set-Aside"}]
[null,null,null,null,null,null,null,null,8000,"Title II, Part A, Transferability","Non Set-Aside",{"$f":"TRIM(TrnsfrXrefTable[[#This Row],[Details Object Code]])&\"|\"&TRIM(TrnsfrXrefTable[[#This Row],[Details Program]])&\"|\"&TRIM(TrnsfrXrefTable[[#This Row],[Details Category]])","v":"8000|Title II, Part A, Transferability|Non Set-Aside"},"Title II, Part A - APE61481","Non Set-Aside",{"$f":"TRIM(TrnsfrXrefTable[[#This Row],[Summary Program]])&\"|\"&TRIM(TrnsfrXrefTable[[#This Row],[Summary Expenditure]])","v":"Title II, Part A - APE61481|Non Set-Aside"}]
[null,null,null,null,null,null,null,null,8000,"Title IV, Part A, Transferability","Non Set-Aside",{"$f":"TRIM(TrnsfrXrefTable[[#This Row],[Details Object Code]])&\"|\"&TRIM(TrnsfrXrefTable[[#This Row],[Details Program]])&\"|\"&TRIM(TrnsfrXrefTable[[#This Row],[Details Category]])","v":"8000|Title IV, Part A, Transferability|Non Set-Aside"},"Title IV, Part A - APE60019","Non Set-Aside",{"$f":"TRIM(TrnsfrXrefTable[[#This Row],[Summary Program]])&\"|\"&TRIM(TrnsfrXrefTable[[#This Row],[Summary Expenditure]])","v":"Title IV, Part A - APE60019|Non Set-Aside"}]
[null,null,null,null,null,null,null,null,8000,"Title IV, Part A, Transferability","Professional Development",{"$f":"TRIM(TrnsfrXrefTable[[#This Row],[Details Object Code]])&\"|\"&TRIM(TrnsfrXrefTable[[#This Row],[Details Program]])&\"|\"&TRIM(TrnsfrXrefTable[[#This Row],[Details Category]])","v":"8000|Title IV, Part A, Transferability|Professional Development"},"Title II, Part A - APE60017","Non-Administrative",{"$f":"TRIM(TrnsfrXrefTable[[#This Row],[Summary Program]])&\"|\"&TRIM(TrnsfrXrefTable[[#This Row],[Summary Expenditure]])","v":"Title II, Part A - APE60017|Non-Administrative"}]
[null,null,null,null,null,null,null,null,null,null,null,null,null,null,{"$f":"TRIM(TrnsfrXrefTable[[#This Row],[Summary Program]])&\"|\"&TRIM(TrnsfrXrefTable[[#This Row],[Summary Expenditure]])","v":"|"}]
[null,null,null,null,null,null,null,null,4000,"Title IV, Part A, Transferability","Title IIA Administration",{"$f":"TRIM(TrnsfrXrefTable[[#This Row],[Details Object Code]])&\"|\"&TRIM(TrnsfrXrefTable[[#This Row],[Details Program]])&\"|\"&TRIM(TrnsfrXrefTable[[#This Row],[Details Category]])","v":"4000|Title IV, Part A, Transferability|Title IIA Administration"},"Title IV, Part A - APE60022","Administrative",{"$f":"TRIM(TrnsfrXrefTable[[#This Row],[Summary Program]])&\"|\"&TRIM(TrnsfrXrefTable[[#This Row],[Summary Expenditure]])","v":"Title IV, Part A - APE60022|Administrative"}]